{"text_format":"1","workbook":"xlsx","n_sheets":7,"sheets":["Start","Spellcasting","Tables","Character Sheet I","Character Sheet II","Character Sheet III","Character Sheet IV"],"not_rendered":{"charts":0,"images":1,"macros":1,"external_links":0,"defined_names":279,"comments":0,"pivot_tables":0},"unopened":[],"bounds":{"document_bytes":16777216,"sheet_cells":100000,"rows_first":2000,"rows_last":500,"rows_between":2000,"halvings":0,"cell_chars":16384,"cell_head_chars":4096},"cells_cut":0,"cells_raw":0,"read":"whole","date_system":"1900"}

{"sheet":"Start","index":0,"n_rows":171,"n_cols":88,"rows_kept":171,"cut":false,"hidden":false,"merged":[[37,2,38,24],[21,10,21,17],[23,10,23,17],[16,10,16,24],[22,10,22,12],[31,2,32,24],[27,2,27,24],[17,10,17,24],[19,10,19,24],[25,10,25,21],[29,2,30,24],[20,2,20,9],[18,10,18,24],[20,10,20,24],[24,10,24,24],[34,2,35,24],[2,19,2,38],[77,28,77,34],[78,28,78,34],[86,28,86,34],[87,28,87,34],[86,35,86,43],[87,35,87,43],[125,2,131,59],[98,2,107,24],[2,40,3,42],[4,40,4,42],[5,40,5,42],[6,40,6,42],[7,40,7,42],[8,40,8,42],[9,40,9,42],[4,43,4,45],[7,46,7,48],[7,43,7,45],[8,43,8,45],[9,10,9,12],[4,13,4,15],[5,13,5,15],[6,13,6,15],[9,13,9,15],[7,7,7,9],[15,47,15,48],[8,46,8,48],[9,46,9,48],[15,37,15,42],[11,13,11,15],[9,7,9,9],[15,10,15,24],[9,43,9,45],[15,31,15,36],[4,7,4,9],[2,16,3,18],[4,16,4,18],[8,7,8,9],[10,13,10,15],[10,8,10,12],[5,7,5,9],[6,7,6,9],[11,8,11,12],[5,16,5,18],[6,16,6,18],[7,16,7,18],[8,16,8,18],[9,16,9,18],[2,7,3,9],[2,10,3,12],[2,13,3,15],[4,10,4,12],[5,10,5,12],[6,10,6,12],[7,10,7,12],[8,10,8,12],[7,13,7,15],[8,13,8,15],[71,23,71,24],[72,23,72,24],[64,11,64,12],[65,11,65,12],[66,11,66,12],[67,11,67,12],[68,11,68,12],[69,11,69,12],[70,11,70,12],[71,11,71,12],[72,11,72,12],[64,23,64,24],[65,23,65,24],[66,23,66,24],[67,23,67,24],[72,20,72,22],[68,23,68,24],[69,23,69,24],[70,23,70,24],[69,8,69,10],[70,8,70,10],[72,8,72,10],[64,20,64,22],[65,20,65,22],[66,20,66,22],[67,20,67,22],[68,20,68,22],[69,20,69,22],[71,20,71,22],[71,8,71,10],[65,8,65,10],[66,8,66,10],[67,8,67,10],[68,8,68,10],[29,1,30,1],[31,1,32,1],[156,87,157,93],[141,79,142,85],[141,87,142,93],[149,63,149,69],[139,63,139,69],[137,47,137,53],[138,47,138,53],[138,55,138,61],[138,63,138,69],[135,63,135,69],[136,63,136,69],[66,47,66,48],[66,49,66,57],[70,49,70,57],[71,47,71,48],[135,87,135,93],[41,47,42,59],[49,47,53,59],[44,2,45,25],[70,20,70,22],[55,2,59,24],[64,8,64,10],[137,87,137,93],[29,55,29,59],[30,55,30,59],[118,28,118,34],[138,87,138,93],[135,47,135,53],[137,63,137,69],[137,55,137,61],[138,71,138,77],[137,71,137,77],[135,79,135,85],[135,71,135,77],[136,55,136,61],[137,79,137,85],[138,79,138,85],[136,87,136,93],[136,71,136,77],[136,79,136,85],[136,47,136,53],[36,31,36,34],[32,31,32,34],[35,28,35,30],[36,28,36,30],[35,31,35,34],[143,87,143,93],[148,87,148,93],[145,87,145,93],[146,87,146,93],[147,87,147,93],[139,87,139,93],[147,71,147,77],[139,79,139,85],[144,87,144,93],[144,71,144,77],[144,79,144,85],[145,79,145,85],[141,71,142,77],[139,71,139,77],[146,79,146,85],[147,79,147,85],[143,79,143,85],[148,47,148,53],[147,47,147,53],[148,55,148,61],[147,55,147,61],[144,32,144,38],[146,32,146,38],[141,42,142,46],[141,47,142,53],[139,55,139,61],[143,47,143,53],[139,47,139,53],[144,47,144,53],[145,55,145,61],[141,55,142,61],[144,55,144,61],[146,55,146,61],[148,32,151,38],[160,87,160,93],[159,47,159,53],[145,47,145,53],[168,2,168,14],[171,2,171,14],[165,87,169,93],[164,47,164,53],[165,71,169,77],[165,79,169,85],[165,47,169,53],[164,55,164,61],[165,55,169,61],[164,87,164,93],[165,63,169,69],[164,71,164,77],[167,24,167,30],[168,24,168,30],[169,24,169,30],[164,63,164,69],[164,79,164,85],[160,47,160,53],[156,79,157,85],[149,87,149,93],[146,47,146,53],[162,87,162,93],[161,87,161,93],[161,47,161,53],[161,55,161,61],[161,63,161,69],[162,79,162,85],[163,79,163,85],[163,55,163,61],[163,87,163,93],[161,79,161,85],[162,71,162,77],[162,63,162,69],[161,71,161,77],[162,47,162,53],[162,55,162,61],[163,63,163,69],[163,71,163,77],[163,47,163,53],[159,87,159,93],[158,79,158,85],[158,63,158,69],[148,79,148,85],[160,71,160,77],[156,63,157,69],[160,55,160,61],[150,55,154,61],[148,63,148,69],[150,87,154,93],[159,55,159,61],[160,79,160,85],[159,79,159,85],[160,63,160,69],[158,87,158,93],[150,79,154,85],[150,71,154,77],[149,71,149,77],[149,79,149,85],[149,55,149,61],[156,71,157,77],[150,63,154,69],[158,55,158,61],[159,63,159,69],[159,71,159,77],[158,71,158,77],[146,63,146,69],[147,63,147,69],[145,63,145,69],[143,55,143,61],[143,63,143,69],[143,71,143,77],[145,71,145,77],[146,71,146,77],[148,71,148,77],[156,55,157,61],[144,63,144,69],[27,31,27,34],[30,36,30,37],[31,36,31,37],[141,63,142,69],[45,28,45,43],[52,28,52,34],[56,28,56,34],[51,28,51,34],[48,35,48,43],[62,28,62,34],[48,28,48,34],[44,47,45,58],[58,47,58,48],[28,31,28,34],[28,28,28,30],[68,35,68,43],[50,35,50,43],[70,35,70,43],[73,35,73,43],[69,35,69,43],[63,35,63,43],[53,35,53,43],[29,28,29,30],[29,31,29,34],[23,36,23,37],[58,49,58,57],[58,35,58,43],[57,35,57,43],[32,39,32,41],[29,36,29,37],[28,39,28,41],[1,62,132,94],[15,28,15,30],[31,28,31,30],[30,31,30,34],[30,28,30,30],[34,28,34,30],[34,31,34,34],[36,36,36,37],[34,39,34,41],[22,36,22,37],[22,39,22,41],[23,39,23,41],[33,31,33,34],[33,28,33,30],[32,28,32,30],[32,36,32,37],[33,36,33,37],[21,55,21,59],[24,47,24,48],[23,55,23,59],[20,55,20,59],[22,49,22,54],[23,49,23,54],[27,47,27,48],[16,28,16,30],[19,31,19,34],[20,31,20,34],[18,35,18,38],[16,31,16,36],[16,37,16,42],[26,39,26,41],[27,39,27,41],[22,31,22,34],[26,31,26,34],[27,28,27,30],[26,28,26,30],[27,36,27,37],[25,36,25,37],[23,31,23,34],[23,28,23,30],[24,28,24,30],[24,31,24,34],[24,36,24,37],[21,36,21,37],[20,28,20,30],[25,28,25,30],[21,49,21,54],[21,47,21,48],[19,47,19,48],[18,49,18,54],[19,49,19,54],[20,49,20,54],[18,31,18,34],[18,28,18,30],[19,36,19,37],[21,31,21,34],[20,47,20,48],[19,28,19,30],[18,47,18,48],[19,39,19,41],[18,39,18,41],[20,36,20,37],[21,28,21,30],[20,39,20,41],[21,39,21,41],[38,31,38,34],[40,35,40,38],[37,36,37,37],[42,35,43,38],[35,39,35,41],[38,39,38,41],[37,31,37,34],[35,36,35,37],[42,30,43,34],[37,39,37,41],[42,39,43,41],[37,28,37,30],[38,28,38,30],[41,35,41,38],[41,39,41,41],[49,28,49,34],[50,28,50,34],[65,28,65,34],[64,35,64,43],[65,35,65,43],[63,28,63,34],[56,35,56,43],[52,35,52,39],[52,40,52,43],[51,35,51,43],[49,35,49,43],[64,28,64,34],[53,28,53,34],[57,28,57,34],[58,28,58,34],[22,28,22,30],[25,31,25,34],[119,47,120,56],[31,31,31,34],[26,36,26,37],[106,35,106,43],[59,35,59,43],[59,28,59,34],[101,28,101,34],[97,28,97,34],[98,28,98,34],[59,49,59,57],[28,49,28,54],[29,49,29,54],[28,55,28,59],[30,49,30,54],[38,36,38,37],[38,47,39,59],[59,47,59,48],[42,42,43,44],[28,36,28,37],[26,55,26,59],[74,28,74,34],[62,35,62,43],[2,43,3,45],[16,55,16,59],[15,49,15,54],[17,49,17,54],[15,55,15,59],[16,49,16,54],[18,55,18,59],[19,55,19,59],[2,46,3,48],[4,46,4,48],[5,46,5,48],[6,46,6,48],[16,47,16,48],[17,47,17,48],[14,56,14,58],[17,55,17,59],[5,43,5,45],[6,43,6,45],[3,57,3,58],[4,57,4,58],[10,51,11,59],[22,55,22,59],[23,47,23,48],[22,47,22,48],[31,39,31,41],[34,36,34,37],[141,2,141,14],[117,35,117,43],[118,35,118,43],[119,35,119,43],[109,35,109,43],[108,35,108,43],[101,35,101,43],[119,28,119,34],[112,8,112,14],[113,8,113,14],[114,8,114,14],[115,8,115,14],[116,8,116,14],[117,8,117,14],[118,8,118,14],[119,8,119,14],[112,2,112,6],[113,2,113,6],[114,2,114,6],[40,2,41,24],[43,10,43,24],[52,2,53,25],[48,10,48,24],[49,10,49,24],[50,10,50,24],[51,10,51,24],[54,10,54,24],[46,10,46,24],[47,10,47,24],[42,10,42,24],[170,24,171,30],[124,10,124,15],[75,2,76,25],[109,28,109,34],[144,24,144,30],[102,28,102,34],[103,28,103,34],[138,2,138,14],[82,28,82,34],[83,28,83,34],[85,28,85,34],[112,28,112,34],[113,28,113,34],[84,28,84,34],[153,32,154,38],[158,24,158,30],[156,24,156,30],[147,32,147,38],[148,24,151,30],[78,2,79,25],[107,28,107,34],[78,35,78,43],[79,35,79,43],[80,35,80,43],[24,55,24,59],[29,47,29,48],[40,39,40,41],[36,39,36,41],[25,39,25,41],[28,47,28,48],[29,39,29,41],[25,55,25,59],[27,55,27,59],[33,39,33,41],[30,39,30,41],[25,47,25,48],[26,47,26,48],[30,47,30,48],[35,47,36,58],[24,39,24,41],[24,49,24,54],[25,49,25,54],[26,49,26,54],[27,49,27,54],[118,58,118,59],[118,51,118,53],[114,54,114,56],[114,51,114,53],[91,47,96,58],[117,54,117,56],[77,47,78,58],[62,47,62,48],[114,57,114,59],[115,57,115,59],[116,57,116,59],[117,57,117,59],[113,57,113,59],[68,49,68,57],[64,47,64,48],[72,49,72,57],[69,47,69,48],[67,47,67,48],[72,47,72,48],[62,49,62,57],[63,47,63,48],[64,49,64,57],[69,49,69,57],[63,49,63,57],[61,47,61,48],[60,49,60,57],[61,49,61,57],[71,49,71,57],[65,47,65,48],[65,49,65,57],[70,47,70,48],[67,49,67,57],[68,47,68,48],[60,47,60,48],[74,35,74,43],[69,28,69,34],[68,28,68,34],[118,54,118,56],[117,51,117,53],[115,54,115,56],[114,35,114,43],[116,54,116,56],[115,51,115,53],[116,51,116,53],[70,28,70,34],[80,28,80,34],[81,28,81,34],[103,35,103,43],[113,51,113,53],[113,54,113,56],[115,35,115,43],[116,35,116,43],[83,47,84,58],[77,35,77,43],[108,28,108,34],[106,28,106,34],[73,28,73,34],[79,28,79,34],[135,55,135,61],[90,28,90,34],[146,24,146,30],[97,40,97,43],[98,40,98,43],[85,35,85,43],[142,32,142,38],[137,24,137,30],[90,35,90,43],[93,35,93,43],[91,35,91,43],[96,35,96,39],[97,35,97,39],[135,32,135,38],[115,28,115,34],[116,28,116,34],[117,28,117,34],[136,24,136,30],[137,32,137,38],[141,24,141,30],[143,32,143,38],[136,32,136,38],[141,32,141,38],[86,47,87,59],[156,47,157,53],[158,47,158,53],[149,47,149,53],[150,47,154,53],[156,42,157,46],[80,47,81,58],[150,2,150,14],[153,2,153,14],[147,2,147,14],[144,2,144,14],[153,24,154,30],[81,2,88,25],[139,24,140,30],[145,32,145,38],[81,35,81,43],[82,35,82,43],[83,35,83,43],[139,32,140,38],[84,35,84,43],[147,24,147,30],[142,24,142,30],[143,24,143,30],[145,24,145,30],[90,2,96,24],[91,28,91,34],[96,28,96,34],[92,28,92,34],[92,35,92,43],[114,28,114,34],[115,2,115,6],[116,2,116,6],[117,2,117,6],[135,24,135,30],[102,35,102,43],[98,35,98,39],[107,35,107,43],[96,40,96,43],[112,35,112,43],[113,35,113,43],[118,2,118,6],[119,2,119,6],[124,2,124,8],[93,28,93,34],[162,32,165,38],[157,24,157,30],[160,32,160,38],[161,32,161,38],[155,32,155,38],[157,32,157,38],[165,2,165,14],[155,24,155,30],[160,24,160,30],[161,24,161,30],[162,2,162,14],[159,2,159,14],[162,24,165,30],[156,32,156,38],[156,2,156,14],[159,32,159,38],[158,32,158,38],[159,24,159,30]]}
[]
[null,"ABILITITY SCORES",null,null,null,null,null,null,null,null,null,null,null,null,null,null,null,null,null,null,null,null,null,null,null,null,null,null,null,null,null,null,null,null,null,null,null,null,null,null,null,null,null,null,null,null,null,null,null,null,null,"OPTIONS",null,null,null,null,null,null,null,null,{"$f":"IF(Race=\"\",\"\",\"RACE: \"&Race&\"\n\"&Tables!E3&\"\n\n\")","v":"RACE: Select…\n\n\n"},null,{"$f":"IF(CharacterLevel=\"\",\"\",BI2&BI3&BI4&BI5&BI6)","v":"RACE: Select…\n\n\nBACKGROUND: Select…\n• Feature: \n\n• Skills: none\n• Tools: none\n• Languages: none\n\n"}]
[null,null,null,null,null,null,null,"ABILITY\nROLL",null,null,"ABILITY\nMODIFIER",null,null,"RACIAL\nMODIFIER",null,null,"CLASS\nMODIFIER",null,null,"LEVEL GAINS",null,null,null,null,null,null,null,null,null,null,null,null,null,null,null,null,null,null,null,null,"MAGIC\nMODIFIER",null,null,"FINAL\nSCORE",null,null,"ABILITY\nMODIFIER",null,null,null,null,null,null,null,null,null,null,null,null,null,{"$f":"IF(OR(Subrace=\"\",Subrace=Tables!U4),\"\",IF(Race=Tables!A9,\"ANCESTRY: \",\"SUBRACE: \")&Subrace&\" \"&Race&\"\n\"&Tables!V2&\"\n\n\")","v":""}]
[null,null,null,null,null,null,null,null,null,null,null,null,null,null,null,null,null,null,null,1,2,3,4,5,6,7,8,9,10,11,12,13,14,15,16,17,18,19,20,null,null,null,null,null,null,null,null,null,null,null,null,{"$f":"IF(BF4=\"\",\"\",TRUE)","v":true},"COLOR CODE",null,null,null,null,"•",null,null,{"$f":"IF(CharacterBackground=\"\",\"\",\"BACKGROUND: \"&CharacterBackground&\"\n• Feature: \"&Tables!AF3&\"\n\"&Tables!AG3&IF(B27=\"\",\"\",\"\n\"&\"• \"&B27&CharacterBackgroundSpecialty)&\"\n• Skills: \"&Tables!AH3&\"\n• Tools: \"&Tables!AJ3&\"\n• Languages: \"&Tables!AL3&\"\n\n\")","v":"BACKGROUND: Select…\n• Feature: \n\n• Skills: none\n• Tools: none\n• Languages: none\n\n"}]
[null,null,"STRENGTH",null,null,null,null,0,null,null,{"$f":"IF(H5=\"\",\"\",INT((H5-10)/2))","v":-5},null,null,{"$f":"IF(OR(Race=\"\",Race=Tables!$A$4),\"\",Tables!L$3)","v":""},null,null,{"$f":"IF(BarbarianLevel>=20,4,\"\")","v":""},null,null,null,null,null,null,null,null,null,null,null,null,null,null,null,null,null,null,null,null,null,null,null,null,null,null,{"$f":"IF(H5=\"\",\"\",H5+SUM(N5:AQ5))","v":0},null,null,{"$f":"IF(AR5=\"\",\"\",INT((AR5-10)/2))","v":-5},null,null,null,null,{"$f":"IF(BF5=\"\",\"\",TRUE)","v":""},"VARIANT HUMAN",null,null,null,null,null,null,null,{"$f":"IF(Class=\"\",\"\",Tables!DJ2&\"\n\")","v":""}]
[null,null,"DEXTERITY",null,null,null,null,0,null,null,-5,null,null,{"$f":"IF(OR(Race=\"\",Race=Tables!$A$4),\"\",Tables!M$3)","v":""},null,null,null,null,null,null,null,null,null,null,null,null,null,null,null,null,null,null,null,null,null,null,null,null,null,null,null,null,null,0,null,null,-5,null,null,null,null,null,null,null,null,null,null,null,null,null,{"$f":"IF(OR(I113=\"\",I113=SelectText),\"\",\"ABILITY SCORE IMPROVEMENT & FEATS\"&\"\n\"&Tables!YJ1&\"\n\")","v":""}]
[null,null,"CONSTITUTION",null,null,null,null,0,null,null,-5,null,null,{"$f":"IF(OR(Race=\"\",Race=Tables!$A$4),\"\",Tables!N$3)","v":""},null,null,{"$f":"IF(BarbarianLevel>=20,4,\"\")","v":""},null,null,null,null,null,null,null,null,null,null,null,null,null,null,null,null,null,null,null,null,null,null,null,null,null,null,0,null,null,-5]
[null,null,"INTELLIGENCE",null,null,null,null,0,null,null,-5,null,null,{"$f":"IF(OR(Race=\"\",Race=Tables!$A$4),\"\",Tables!O$3)","v":""},null,null,null,null,null,null,null,null,null,null,null,null,null,null,null,null,null,null,null,null,null,null,null,null,null,null,null,null,null,0,null,null,-5]
[null,null,"WISDOM",null,null,null,null,0,null,null,-5,null,null,{"$f":"IF(OR(Race=\"\",Race=Tables!$A$4),\"\",Tables!P$3)","v":""},null,null,null,null,null,null,null,null,null,null,null,null,null,null,null,null,null,null,null,null,null,null,null,null,null,null,null,null,null,0,null,null,-5]
[null,null,"CHARISMA",null,null,null,null,0,null,null,-5,null,null,{"$f":"IF(OR(Race=\"\",Race=Tables!$A$4),\"\",Tables!Q$3)","v":""},null,null,null,null,null,null,null,null,null,null,null,null,null,null,null,null,null,null,null,null,null,null,null,null,null,null,null,null,null,0,null,null,-5]
[null,null,null,null,null,null,null,null,{"$f":"IF(Race=\"Half-Elf\",\"HALF-ELF ABILITY 1\",\"HUMAN ABILITY 1\")","v":"HUMAN ABILITY 1"},null,null,null,null,null,null,null,null,null,null,{"$f":"IF(ISERROR(VLOOKUP(T4,Tables!$YE$3:$YN$10,Tables!$YO$2,FALSE)),\"\",IF(VLOOKUP(T4,Tables!$YE$3:$YN$10,Tables!$YO$2,FALSE)=\"\",\"\",VLOOKUP(T4,Tables!$YE$3:$YN$10,Tables!$YO$2,FALSE)-SUM(T5:T10)))","v":""},{"$f":"IF(ISERROR(VLOOKUP(U4,Tables!$YE$3:$YN$10,Tables!$YO$2,FALSE)),\"\",IF(VLOOKUP(U4,Tables!$YE$3:$YN$10,Tables!$YO$2,FALSE)=\"\",\"\",VLOOKUP(U4,Tables!$YE$3:$YN$10,Tables!$YO$2,FALSE)-SUM(U5:U10)))","v":""},{"$f":"IF(ISERROR(VLOOKUP(V4,Tables!$YE$3:$YN$10,Tables!$YO$2,FALSE)),\"\",IF(VLOOKUP(V4,Tables!$YE$3:$YN$10,Tables!$YO$2,FALSE)=\"\",\"\",VLOOKUP(V4,Tables!$YE$3:$YN$10,Tables!$YO$2,FALSE)-SUM(V5:V10)))","v":""},{"$f":"IF(ISERROR(VLOOKUP(W4,Tables!$YE$3:$YN$10,Tables!$YO$2,FALSE)),\"\",IF(VLOOKUP(W4,Tables!$YE$3:$YN$10,Tables!$YO$2,FALSE)=\"\",\"\",VLOOKUP(W4,Tables!$YE$3:$YN$10,Tables!$YO$2,FALSE)-SUM(W5:W10)))","v":""},{"$f":"IF(ISERROR(VLOOKUP(X4,Tables!$YE$3:$YN$10,Tables!$YO$2,FALSE)),\"\",IF(VLOOKUP(X4,Tables!$YE$3:$YN$10,Tables!$YO$2,FALSE)=\"\",\"\",VLOOKUP(X4,Tables!$YE$3:$YN$10,Tables!$YO$2,FALSE)-SUM(X5:X10)))","v":""},{"$f":"IF(ISERROR(VLOOKUP(Y4,Tables!$YE$3:$YN$10,Tables!$YO$2,FALSE)),\"\",IF(VLOOKUP(Y4,Tables!$YE$3:$YN$10,Tables!$YO$2,FALSE)=\"\",\"\",VLOOKUP(Y4,Tables!$YE$3:$YN$10,Tables!$YO$2,FALSE)-SUM(Y5:Y10)))","v":""},{"$f":"IF(ISERROR(VLOOKUP(Z4,Tables!$YE$3:$YN$10,Tables!$YO$2,FALSE)),\"\",IF(VLOOKUP(Z4,Tables!$YE$3:$YN$10,Tables!$YO$2,FALSE)=\"\",\"\",VLOOKUP(Z4,Tables!$YE$3:$YN$10,Tables!$YO$2,FALSE)-SUM(Z5:Z10)))","v":""},{"$f":"IF(ISERROR(VLOOKUP(AA4,Tables!$YE$3:$YN$10,Tables!$YO$2,FALSE)),\"\",IF(VLOOKUP(AA4,Tables!$YE$3:$YN$10,Tables!$YO$2,FALSE)=\"\",\"\",VLOOKUP(AA4,Tables!$YE$3:$YN$10,Tables!$YO$2,FALSE)-SUM(AA5:AA10)))","v":""},{"$f":"IF(ISERROR(VLOOKUP(AB4,Tables!$YE$3:$YN$10,Tables!$YO$2,FALSE)),\"\",IF(VLOOKUP(AB4,Tables!$YE$3:$YN$10,Tables!$YO$2,FALSE)=\"\",\"\",VLOOKUP(AB4,Tables!$YE$3:$YN$10,Tables!$YO$2,FALSE)-SUM(AB5:AB10)))","v":""},{"$f":"IF(ISERROR(VLOOKUP(AC4,Tables!$YE$3:$YN$10,Tables!$YO$2,FALSE)),\"\",IF(VLOOKUP(AC4,Tables!$YE$3:$YN$10,Tables!$YO$2,FALSE)=\"\",\"\",VLOOKUP(AC4,Tables!$YE$3:$YN$10,Tables!$YO$2,FALSE)-SUM(AC5:AC10)))","v":""},{"$f":"IF(ISERROR(VLOOKUP(AD4,Tables!$YE$3:$YN$10,Tables!$YO$2,FALSE)),\"\",IF(VLOOKUP(AD4,Tables!$YE$3:$YN$10,Tables!$YO$2,FALSE)=\"\",\"\",VLOOKUP(AD4,Tables!$YE$3:$YN$10,Tables!$YO$2,FALSE)-SUM(AD5:AD10)))","v":""},{"$f":"IF(ISERROR(VLOOKUP(AE4,Tables!$YE$3:$YN$10,Tables!$YO$2,FALSE)),\"\",IF(VLOOKUP(AE4,Tables!$YE$3:$YN$10,Tables!$YO$2,FALSE)=\"\",\"\",VLOOKUP(AE4,Tables!$YE$3:$YN$10,Tables!$YO$2,FALSE)-SUM(AE5:AE10)))","v":""},{"$f":"IF(ISERROR(VLOOKUP(AF4,Tables!$YE$3:$YN$10,Tables!$YO$2,FALSE)),\"\",IF(VLOOKUP(AF4,Tables!$YE$3:$YN$10,Tables!$YO$2,FALSE)=\"\",\"\",VLOOKUP(AF4,Tables!$YE$3:$YN$10,Tables!$YO$2,FALSE)-SUM(AF5:AF10)))","v":""},{"$f":"IF(ISERROR(VLOOKUP(AG4,Tables!$YE$3:$YN$10,Tables!$YO$2,FALSE)),\"\",IF(VLOOKUP(AG4,Tables!$YE$3:$YN$10,Tables!$YO$2,FALSE)=\"\",\"\",VLOOKUP(AG4,Tables!$YE$3:$YN$10,Tables!$YO$2,FALSE)-SUM(AG5:AG10)))","v":""},{"$f":"IF(ISERROR(VLOOKUP(AH4,Tables!$YE$3:$YN$10,Tables!$YO$2,FALSE)),\"\",IF(VLOOKUP(AH4,Tables!$YE$3:$YN$10,Tables!$YO$2,FALSE)=\"\",\"\",VLOOKUP(AH4,Tables!$YE$3:$YN$10,Tables!$YO$2,FALSE)-SUM(AH5:AH10)))","v":""},{"$f":"IF(ISERROR(VLOOKUP(AI4,Tables!$YE$3:$YN$10,Tables!$YO$2,FALSE)),\"\",IF(VLOOKUP(AI4,Tables!$YE$3:$YN$10,Tables!$YO$2,FALSE)=\"\",\"\",VLOOKUP(AI4,Tables!$YE$3:$YN$10,Tables!$YO$2,FALSE)-SUM(AI5:AI10)))","v":""},{"$f":"IF(ISERROR(VLOOKUP(AJ4,Tables!$YE$3:$YN$10,Tables!$YO$2,FALSE)),\"\",IF(VLOOKUP(AJ4,Tables!$YE$3:$YN$10,Tables!$YO$2,FALSE)=\"\",\"\",VLOOKUP(AJ4,Tables!$YE$3:$YN$10,Tables!$YO$2,FALSE)-SUM(AJ5:AJ10)))","v":""},{"$f":"IF(ISERROR(VLOOKUP(AK4,Tables!$YE$3:$YN$10,Tables!$YO$2,FALSE)),\"\",IF(VLOOKUP(AK4,Tables!$YE$3:$YN$10,Tables!$YO$2,FALSE)=\"\",\"\",VLOOKUP(AK4,Tables!$YE$3:$YN$10,Tables!$YO$2,FALSE)-SUM(AK5:AK10)))","v":""},{"$f":"IF(ISERROR(VLOOKUP(AL4,Tables!$YE$3:$YN$10,Tables!$YO$2,FALSE)),\"\",IF(VLOOKUP(AL4,Tables!$YE$3:$YN$10,Tables!$YO$2,FALSE)=\"\",\"\",VLOOKUP(AL4,Tables!$YE$3:$YN$10,Tables!$YO$2,FALSE)-SUM(AL5:AL10)))","v":""},{"$f":"IF(ISERROR(VLOOKUP(AM4,Tables!$YE$3:$YN$10,Tables!$YO$2,FALSE)),\"\",IF(VLOOKUP(AM4,Tables!$YE$3:$YN$10,Tables!$YO$2,FALSE)=\"\",\"\",VLOOKUP(AM4,Tables!$YE$3:$YN$10,Tables!$YO$2,FALSE)-SUM(AM5:AM10)))","v":""},null,null,null,null,null,null,null,null,null,null,null,null," RESET ALL: CTRL+SHIFT+S\n REQUIRES EXCEL 2010-2013"]
[null,null,null,null,null,null,null,null,{"$f":"IF(Race=\"Half-Elf\",\"HALF-ELF ABILITY 2\",\"HUMAN ABILITY 2\")","v":"HUMAN ABILITY 2"},null,null,null,null,null,null,null,null,null,null,{"$f":"IF(ISERROR(VLOOKUP(T4,Tables!$YE$3:$YN$10,Tables!$YN$2,FALSE)),\"\",VLOOKUP(T4,Tables!$YE$3:$YN$10,Tables!$YN$2,FALSE))","v":""},{"$f":"IF(ISERROR(VLOOKUP(U4,Tables!$YE$3:$YN$10,Tables!$YN$2,FALSE)),\"\",VLOOKUP(U4,Tables!$YE$3:$YN$10,Tables!$YN$2,FALSE))","v":""},{"$f":"IF(ISERROR(VLOOKUP(V4,Tables!$YE$3:$YN$10,Tables!$YN$2,FALSE)),\"\",VLOOKUP(V4,Tables!$YE$3:$YN$10,Tables!$YN$2,FALSE))","v":""},{"$f":"IF(ISERROR(VLOOKUP(W4,Tables!$YE$3:$YN$10,Tables!$YN$2,FALSE)),\"\",VLOOKUP(W4,Tables!$YE$3:$YN$10,Tables!$YN$2,FALSE))","v":""},{"$f":"IF(ISERROR(VLOOKUP(X4,Tables!$YE$3:$YN$10,Tables!$YN$2,FALSE)),\"\",VLOOKUP(X4,Tables!$YE$3:$YN$10,Tables!$YN$2,FALSE))","v":""},{"$f":"IF(ISERROR(VLOOKUP(Y4,Tables!$YE$3:$YN$10,Tables!$YN$2,FALSE)),\"\",VLOOKUP(Y4,Tables!$YE$3:$YN$10,Tables!$YN$2,FALSE))","v":""},{"$f":"IF(ISERROR(VLOOKUP(Z4,Tables!$YE$3:$YN$10,Tables!$YN$2,FALSE)),\"\",VLOOKUP(Z4,Tables!$YE$3:$YN$10,Tables!$YN$2,FALSE))","v":""},{"$f":"IF(ISERROR(VLOOKUP(AA4,Tables!$YE$3:$YN$10,Tables!$YN$2,FALSE)),\"\",VLOOKUP(AA4,Tables!$YE$3:$YN$10,Tables!$YN$2,FALSE))","v":""},{"$f":"IF(ISERROR(VLOOKUP(AB4,Tables!$YE$3:$YN$10,Tables!$YN$2,FALSE)),\"\",VLOOKUP(AB4,Tables!$YE$3:$YN$10,Tables!$YN$2,FALSE))","v":""},{"$f":"IF(ISERROR(VLOOKUP(AC4,Tables!$YE$3:$YN$10,Tables!$YN$2,FALSE)),\"\",VLOOKUP(AC4,Tables!$YE$3:$YN$10,Tables!$YN$2,FALSE))","v":""},{"$f":"IF(ISERROR(VLOOKUP(AD4,Tables!$YE$3:$YN$10,Tables!$YN$2,FALSE)),\"\",VLOOKUP(AD4,Tables!$YE$3:$YN$10,Tables!$YN$2,FALSE))","v":""},{"$f":"IF(ISERROR(VLOOKUP(AE4,Tables!$YE$3:$YN$10,Tables!$YN$2,FALSE)),\"\",VLOOKUP(AE4,Tables!$YE$3:$YN$10,Tables!$YN$2,FALSE))","v":""},{"$f":"IF(ISERROR(VLOOKUP(AF4,Tables!$YE$3:$YN$10,Tables!$YN$2,FALSE)),\"\",VLOOKUP(AF4,Tables!$YE$3:$YN$10,Tables!$YN$2,FALSE))","v":""},{"$f":"IF(ISERROR(VLOOKUP(AG4,Tables!$YE$3:$YN$10,Tables!$YN$2,FALSE)),\"\",VLOOKUP(AG4,Tables!$YE$3:$YN$10,Tables!$YN$2,FALSE))","v":""},{"$f":"IF(ISERROR(VLOOKUP(AH4,Tables!$YE$3:$YN$10,Tables!$YN$2,FALSE)),\"\",VLOOKUP(AH4,Tables!$YE$3:$YN$10,Tables!$YN$2,FALSE))","v":""},{"$f":"IF(ISERROR(VLOOKUP(AI4,Tables!$YE$3:$YN$10,Tables!$YN$2,FALSE)),\"\",VLOOKUP(AI4,Tables!$YE$3:$YN$10,Tables!$YN$2,FALSE))","v":""},{"$f":"IF(ISERROR(VLOOKUP(AJ4,Tables!$YE$3:$YN$10,Tables!$YN$2,FALSE)),\"\",VLOOKUP(AJ4,Tables!$YE$3:$YN$10,Tables!$YN$2,FALSE))","v":""},{"$f":"IF(ISERROR(VLOOKUP(AK4,Tables!$YE$3:$YN$10,Tables!$YN$2,FALSE)),\"\",VLOOKUP(AK4,Tables!$YE$3:$YN$10,Tables!$YN$2,FALSE))","v":""},{"$f":"IF(ISERROR(VLOOKUP(AL4,Tables!$YE$3:$YN$10,Tables!$YN$2,FALSE)),\"\",VLOOKUP(AL4,Tables!$YE$3:$YN$10,Tables!$YN$2,FALSE))","v":""},{"$f":"IF(ISERROR(VLOOKUP(AM4,Tables!$YE$3:$YN$10,Tables!$YN$2,FALSE)),\"\",VLOOKUP(AM4,Tables!$YE$3:$YN$10,Tables!$YN$2,FALSE))","v":""}]
[]
[null,"CHARACTER DETAILS",null,null,null,null,null,null,null,null,null,null,null,null,null,null,null,null,null,null,null,null,null,null,null,null,null,"CLASS & LEVEL",null,null,null,null,null,null,null,null,null,null,null,null,null,null,null,null,null,null,"LANGUAGES"]
[null,null,null,null,null,null,null,null,null,null,null,null,null,null,null,null,null,null,null,null,null,null,null,null,null,null,null,null,null,null,null,null,null,null,null,null,null,null,null,null,null,null,null,null,null,null,null,null,null,null,null,null,null,null,null,null,{"$f":"IF(AX16=SelectText,\"\",\"SCRIPT\")","v":""}]
[null,null,"PLAYER NAME",null,null,null,null,null,null,null,null,null,null,null,null,null,null,null,null,null,null,null,null,null,null,null,null,null,"LEVEL",null,null,"EXPERIENCE",null,null,null,null,null,"NEXT LEVEL",null,null,null,null,null,null,null,null,null,1,null,"Select…",null,null,null,null,null,{"$f":"IF(AX16=SelectText,\"\",IF(ISERROR(VLOOKUP(AX16,Tables!$JD$2:$JE$20,2,FALSE)),\"\",VLOOKUP(AX16,Tables!$JD$2:$JE$20,2,FALSE)))","v":""}]
[null,null,"CAMPAIGN",null,null,null,null,null,null,null,null,null,null,null,null,null,null,null,null,null,null,null,null,null,null,null,null,null,{"$f":"IF(Experience=\"\",\"\",VLOOKUP(Experience,Tables!JI1:JJ21,2,TRUE))","v":1},null,null,0,null,null,null,null,null,{"$f":"IF(Experience=\"\",\"\",IF(CharacterLevel=20,\"Max LEVEL\",VLOOKUP(CharacterLevel+1,Tables!JH1:JK5000,2,FALSE)))","v":300},null,null,null,null,null,null,null,null,null,{"$f":"AV16+1","v":2},2,"Select…",null,null,null,null,null,{"$f":"IF(AX17=SelectText,\"\",IF(ISERROR(VLOOKUP(AX17,Tables!$JD$2:$JE$20,2,FALSE)),\"\",VLOOKUP(AX17,Tables!$JD$2:$JE$20,2,FALSE)))","v":""}]
[null,null,"REGION",null,null,null,null,null,null,null,null,null,null,null,null,null,null,null,null,null,null,null,null,null,null,null,null,null,null,null,null,null,null,null,null,null,null,null,null,null,null,null,null,null,null,null,null,3,3,"Select…",null,null,null,null,null,{"$f":"IF(AX18=SelectText,\"\",IF(ISERROR(VLOOKUP(AX18,Tables!$JD$2:$JE$20,2,FALSE)),\"\",VLOOKUP(AX18,Tables!$JD$2:$JE$20,2,FALSE)))","v":""}]
[null,null,"CHARACTER NAME",null,null,null,null,null,null,null,null,null,null,null,null,null,null,null,null,null,null,null,null,null,null,null,null,null,"LEVEL",null,null," CLASS ",null,null,null,"HIT DICE",null,null,null,"ROLL",null,null,null,null,null,null,null,4,4,"Select…",null,null,null,null,null,{"$f":"IF(AX19=SelectText,\"\",IF(ISERROR(VLOOKUP(AX19,Tables!$JD$2:$JE$20,2,FALSE)),\"\",VLOOKUP(AX19,Tables!$JD$2:$JE$20,2,FALSE)))","v":""}]
[null,null,"RACE",null,null,null,null,null,null,null,"Select…",null,null,null,null,null,null,null,null,null,null,null,null,null,null,null,null,null,1,null,null,"Select…",null,null,null,null,{"$f":"VLOOKUP(Start!AF20,Tables!$BI$6:$BJ$5003,2,FALSE)","v":""},null,null,{"$f":"VLOOKUP(Start!AF20,Tables!$BI$6:$BJ$5003,2,FALSE)","v":""},null,null,null,{"$f":"IF(OR(AF20=\"\",AF20=Tables!$BI$6),\"\",IF(COUNTIF($AF$20:$AF20,AF20)>1,\"\",MAX($AR$19:AR19)+1))","v":""},{"$f":"IF(AR20=\"\",\"\",AF20)","v":""},null,null,5,5,"Select…",null,null,null,null,null,{"$f":"IF(AX20=SelectText,\"\",IF(ISERROR(VLOOKUP(AX20,Tables!$JD$2:$JE$20,2,FALSE)),\"\",VLOOKUP(AX20,Tables!$JD$2:$JE$20,2,FALSE)))","v":""}]
[null,null,{"$f":"IF(Race=Tables!A9,\"ANCESTRY\",\"SUBRACE\")","v":"SUBRACE"},null,null,null,null,null,null,null,"Select…",null,null,null,null,null,null,null,null,null,null,null,null,null,null,null,null,null,2,null,null,"Select…",null,null,null,null,{"$f":"VLOOKUP(Start!AF21,Tables!$BI$6:$BJ$5003,2,FALSE)","v":""},null,null,null,null,null,null,{"$f":"IF(OR(AF21=\"\",AF21=Tables!$BI$6),\"\",IF(COUNTIF($AF$20:$AF21,AF21)>1,\"\",MAX($AR$19:AR20)+1))","v":""},"",null,null,6,6,"Select…",null,null,null,null,null,{"$f":"IF(AX21=SelectText,\"\",IF(ISERROR(VLOOKUP(AX21,Tables!$JD$2:$JE$20,2,FALSE)),\"\",VLOOKUP(AX21,Tables!$JD$2:$JE$20,2,FALSE)))","v":""}]
[null,null,"SIZE",null,null,null,null,null,null,null,{"$f":"Tables!B3","v":""},null,null,null,null,null,null,null,null,null,null,null,null,null,null,null,null,null,3,null,null,"Select…",null,null,null,null,{"$f":"VLOOKUP(Start!AF22,Tables!$BI$6:$BJ$5003,2,FALSE)","v":""},null,null,null,null,null,null,{"$f":"IF(OR(AF22=\"\",AF22=Tables!$BI$6),\"\",IF(COUNTIF($AF$20:$AF22,AF22)>1,\"\",MAX($AR$19:AR21)+1))","v":""},"",null,null,7,7,"Select…",null,null,null,null,null,{"$f":"IF(AX22=SelectText,\"\",IF(ISERROR(VLOOKUP(AX22,Tables!$JD$2:$JE$20,2,FALSE)),\"\",VLOOKUP(AX22,Tables!$JD$2:$JE$20,2,FALSE)))","v":""}]
[null,null,"SPEED",null,null,null,null,null,null,null,{"$f":"Tables!C3","v":""},null,null,{"$f":"IF(CharacterLevel=\"\",\"\",IF(Tables!$OZ$1>0,\"MOBILE FEAT\",\"\"))","v":""},null,null,null,null,null,null,null,null,null,null,null,null,null,null,4,null,null,"Select…",null,null,null,null,{"$f":"VLOOKUP(Start!AF23,Tables!$BI$6:$BJ$5003,2,FALSE)","v":""},null,null,null,null,null,null,{"$f":"IF(OR(AF23=\"\",AF23=Tables!$BI$6),\"\",IF(COUNTIF($AF$20:$AF23,AF23)>1,\"\",MAX($AR$19:AR22)+1))","v":""},"",null,null,8,8,"Select…",null,null,null,null,null,{"$f":"IF(AX23=SelectText,\"\",IF(ISERROR(VLOOKUP(AX23,Tables!$JD$2:$JE$20,2,FALSE)),\"\",VLOOKUP(AX23,Tables!$JD$2:$JE$20,2,FALSE)))","v":""}]
[null,null,"VISION",null,null,null,null,null,null,null,{"$f":"Tables!D3","v":""},null,null,null,null,null,null,null,null,null,null,null,null,null,null,null,null,null,5,null,null,"Select…",null,null,null,null,{"$f":"VLOOKUP(Start!AF24,Tables!$BI$6:$BJ$5003,2,FALSE)","v":""},null,null,null,null,null,null,{"$f":"IF(OR(AF24=\"\",AF24=Tables!$BI$6),\"\",IF(COUNTIF($AF$20:$AF24,AF24)>1,\"\",MAX($AR$19:AR23)+1))","v":""},"",null,null,9,9,"Select…",null,null,null,null,null,{"$f":"IF(AX24=SelectText,\"\",IF(ISERROR(VLOOKUP(AX24,Tables!$JD$2:$JE$20,2,FALSE)),\"\",VLOOKUP(AX24,Tables!$JD$2:$JE$20,2,FALSE)))","v":""}]
[null,null,"BACKGROUND",null,null,null,null,null,null,null,"Select…",null,null,null,null,null,null,null,null,null,null,null,null,null,null,null,null,null,6,null,null,"Select…",null,null,null,null,{"$f":"VLOOKUP(Start!AF25,Tables!$BI$6:$BJ$5003,2,FALSE)","v":""},null,null,null,null,null,null,{"$f":"IF(OR(AF25=\"\",AF25=Tables!$BI$6),\"\",IF(COUNTIF($AF$20:$AF25,AF25)>1,\"\",MAX($AR$19:AR24)+1))","v":""},"",null,null,10,10,"Select…",null,null,null,null,null,{"$f":"IF(AX25=SelectText,\"\",IF(ISERROR(VLOOKUP(AX25,Tables!$JD$2:$JE$20,2,FALSE)),\"\",VLOOKUP(AX25,Tables!$JD$2:$JE$20,2,FALSE)))","v":""}]
[null,null,"FEATURE",null,null,null,null,null,null,null,{"$f":"VLOOKUP(CharacterBackground,Tables!$AE$4:$AM$25,2,FALSE)","v":""},null,null,null,null,null,null,null,null,null,null,null,null,null,null,null,null,null,7,null,null,"Select…",null,null,null,null,{"$f":"VLOOKUP(Start!AF26,Tables!$BI$6:$BJ$5003,2,FALSE)","v":""},null,null,null,null,null,null,{"$f":"IF(OR(AF26=\"\",AF26=Tables!$BI$6),\"\",IF(COUNTIF($AF$20:$AF26,AF26)>1,\"\",MAX($AR$19:AR25)+1))","v":""},"",null,null,11,11,"Select…",null,null,null,null,null,{"$f":"IF(AX26=SelectText,\"\",IF(ISERROR(VLOOKUP(AX26,Tables!$JD$2:$JE$20,2,FALSE)),\"\",VLOOKUP(AX26,Tables!$JD$2:$JE$20,2,FALSE)))","v":""}]
[null,{"$f":"Tables!AP41","v":""},{"$f":"Tables!AP42","v":""},null,null,null,null,null,null,null,null,null,null,null,null,null,null,null,null,null,null,null,null,null,null,null,null,null,8,null,null,"Select…",null,null,null,null,{"$f":"VLOOKUP(Start!AF27,Tables!$BI$6:$BJ$5003,2,FALSE)","v":""},null,null,null,null,null,null,{"$f":"IF(OR(AF27=\"\",AF27=Tables!$BI$6),\"\",IF(COUNTIF($AF$20:$AF27,AF27)>1,\"\",MAX($AR$19:AR26)+1))","v":""},"",null,null,12,12,"Select…",null,null,null,null,null,{"$f":"IF(AX27=SelectText,\"\",IF(ISERROR(VLOOKUP(AX27,Tables!$JD$2:$JE$20,2,FALSE)),\"\",VLOOKUP(AX27,Tables!$JD$2:$JE$20,2,FALSE)))","v":""}]
[null,null,"Researcher",null,null,null,null,null,null,null,null,null,null,null,null,null,null,null,null,null,null,null,null,null,null,null,null,null,9,null,null,"Select…",null,null,null,null,{"$f":"VLOOKUP(Start!AF28,Tables!$BI$6:$BJ$5003,2,FALSE)","v":""},null,null,null,null,null,null,{"$f":"IF(OR(AF28=\"\",AF28=Tables!$BI$6),\"\",IF(COUNTIF($AF$20:$AF28,AF28)>1,\"\",MAX($AR$19:AR27)+1))","v":""},"",null,null,13,13,"Select…",null,null,null,null,null,{"$f":"IF(AX28=SelectText,\"\",IF(ISERROR(VLOOKUP(AX28,Tables!$JD$2:$JE$20,2,FALSE)),\"\",VLOOKUP(AX28,Tables!$JD$2:$JE$20,2,FALSE)))","v":""}]
[null,null,"PERSONALITY TRAITS",null,null,null,null,null,null,null,null,null,null,null,null,null,null,null,null,null,null,null,null,null,null,null,null,null,10,null,null,"Select…",null,null,null,null,{"$f":"VLOOKUP(Start!AF29,Tables!$BI$6:$BJ$5003,2,FALSE)","v":""},null,null,null,null,null,null,{"$f":"IF(OR(AF29=\"\",AF29=Tables!$BI$6),\"\",IF(COUNTIF($AF$20:$AF29,AF29)>1,\"\",MAX($AR$19:AR28)+1))","v":""},"",null,null,14,14,"Select…",null,null,null,null,null,{"$f":"IF(AX29=SelectText,\"\",IF(ISERROR(VLOOKUP(AX29,Tables!$JD$2:$JE$20,2,FALSE)),\"\",VLOOKUP(AX29,Tables!$JD$2:$JE$20,2,FALSE)))","v":""}]
[null,1,"Select…",null,null,null,null,null,null,null,null,null,null,null,null,null,null,null,null,null,null,null,null,null,null,null,null,null,11,null,null,"Select…",null,null,null,null,{"$f":"VLOOKUP(Start!AF30,Tables!$BI$6:$BJ$5003,2,FALSE)","v":""},null,null,null,null,null,null,{"$f":"IF(OR(AF30=\"\",AF30=Tables!$BI$6),\"\",IF(COUNTIF($AF$20:$AF30,AF30)>1,\"\",MAX($AR$19:AR29)+1))","v":""},"",null,null,15,15,"Select…",null,null,null,null,null,{"$f":"IF(AX30=SelectText,\"\",IF(ISERROR(VLOOKUP(AX30,Tables!$JD$2:$JE$20,2,FALSE)),\"\",VLOOKUP(AX30,Tables!$JD$2:$JE$20,2,FALSE)))","v":""}]
[null,null,null,null,null,null,null,null,null,null,null,null,null,null,null,null,null,null,null,null,null,null,null,null,null,null,null,null,12,null,null,"Select…",null,null,null,null,{"$f":"VLOOKUP(Start!AF31,Tables!$BI$6:$BJ$5003,2,FALSE)","v":""},null,null,null,null,null,null,{"$f":"IF(OR(AF31=\"\",AF31=Tables!$BI$6),\"\",IF(COUNTIF($AF$20:$AF31,AF31)>1,\"\",MAX($AR$19:AR30)+1))","v":""},"",null,null,16,16,"Select…",null,null,null,null,null,{"$f":"IF(AX31=SelectText,\"\",IF(ISERROR(VLOOKUP(AX31,Tables!$JD$2:$JE$20,2,FALSE)),\"\",VLOOKUP(AX31,Tables!$JD$2:$JE$20,2,FALSE)))","v":""}]
[null,2,"Select…",null,null,null,null,null,null,null,null,null,null,null,null,null,null,null,null,null,null,null,null,null,null,null,null,null,13,null,null,"Select…",null,null,null,null,{"$f":"VLOOKUP(Start!AF32,Tables!$BI$6:$BJ$5003,2,FALSE)","v":""},null,null,null,null,null,null,{"$f":"IF(OR(AF32=\"\",AF32=Tables!$BI$6),\"\",IF(COUNTIF($AF$20:$AF32,AF32)>1,\"\",MAX($AR$19:AR31)+1))","v":""},""]
[null,null,null,null,null,null,null,null,null,null,null,null,null,null,null,null,null,null,null,null,null,null,null,null,null,null,null,null,14,null,null,"Select…",null,null,null,null,{"$f":"VLOOKUP(Start!AF33,Tables!$BI$6:$BJ$5003,2,FALSE)","v":""},null,null,null,null,null,null,{"$f":"IF(OR(AF33=\"\",AF33=Tables!$BI$6),\"\",IF(COUNTIF($AF$20:$AF33,AF33)>1,\"\",MAX($AR$19:AR32)+1))","v":""},"",null,null,null,null,null,null,{"$f":"IF(CharacterLevel=\"\",\"\",\"SELECTED\")","v":"SELECTED"},{"$f":"IF(CharacterLevel=\"\",\"\",16-COUNTIF(AX16:BC31,\"Select…\"))","v":0},{"$f":"IF(CharacterLevel=\"\",\"\",\"OF\")","v":"OF"},{"$f":"IF(CharacterLevel=\"\",\"\",Tables!G3+Tables!AM3+Tables!EY6+Tables!BX2+AY47+Tables!YL3)","v":0}]
[null,null,"IDEAL",null,null,null,null,null,null,null,null,null,null,null,null,null,null,null,null,null,null,null,null,null,null,null,null,null,15,null,null,"Select…",null,null,null,null,{"$f":"VLOOKUP(Start!AF34,Tables!$BI$6:$BJ$5003,2,FALSE)","v":""},null,null,null,null,null,null,{"$f":"IF(OR(AF34=\"\",AF34=Tables!$BI$6),\"\",IF(COUNTIF($AF$20:$AF34,AF34)>1,\"\",MAX($AR$19:AR33)+1))","v":""},""]
[null,null,"Select…",null,null,null,null,null,null,null,null,null,null,null,null,null,null,null,null,null,null,null,null,null,null,null,null,null,16,null,null,"Select…",null,null,null,null,{"$f":"VLOOKUP(Start!AF35,Tables!$BI$6:$BJ$5003,2,FALSE)","v":""},null,null,null,null,null,null,{"$f":"IF(OR(AF35=\"\",AF35=Tables!$BI$6),\"\",IF(COUNTIF($AF$20:$AF35,AF35)>1,\"\",MAX($AR$19:AR34)+1))","v":""},"",null,{"$f":"IF(CharacterLevel=\"\",\"\",\"   RACE (\"&Tables!G3&\")\")","v":"   RACE (0)"}]
[null,null,null,null,null,null,null,null,null,null,null,null,null,null,null,null,null,null,null,null,null,null,null,null,null,null,null,null,17,null,null,"Select…",null,null,null,null,{"$f":"VLOOKUP(Start!AF36,Tables!$BI$6:$BJ$5003,2,FALSE)","v":""},null,null,null,null,null,null,{"$f":"IF(OR(AF36=\"\",AF36=Tables!$BI$6),\"\",IF(COUNTIF($AF$20:$AF36,AF36)>1,\"\",MAX($AR$19:AR35)+1))","v":""},"",null,null,{"$f":"IF(CharacterLevel=\"\",\"\",Tables!F3)","v":"none"}]
[null,null,"BOND",null,null,null,null,null,null,null,null,null,null,null,null,null,null,null,null,null,null,null,null,null,null,null,null,null,18,null,null,"Select…",null,null,null,null,{"$f":"VLOOKUP(Start!AF37,Tables!$BI$6:$BJ$5003,2,FALSE)","v":""},null,null,null,null,null,null,{"$f":"IF(OR(AF37=\"\",AF37=Tables!$BI$6),\"\",IF(COUNTIF($AF$20:$AF37,AF37)>1,\"\",MAX($AR$19:AR36)+1))","v":""},""]
[null,null,"Select…",null,null,null,null,null,null,null,null,null,null,null,null,null,null,null,null,null,null,null,null,null,null,null,null,null,19,null,null,"Select…",null,null,null,null,{"$f":"VLOOKUP(Start!AF38,Tables!$BI$6:$BJ$5003,2,FALSE)","v":""},null,null,null,null,null,null,{"$f":"IF(OR(AF38=\"\",AF38=Tables!$BI$6),\"\",IF(COUNTIF($AF$20:$AF38,AF38)>1,\"\",MAX($AR$19:AR37)+1))","v":""},"",null,{"$f":"IF(CharacterLevel=\"\",\"\",\"   CLASS (\"&Tables!BX2&\")\")","v":"   CLASS (0)"}]
[null,null,null,null,null,null,null,null,null,null,null,null,null,null,null,null,null,null,null,null,null,null,null,null,null,null,null,null,20,null,null,"Select…",null,null,null,null,{"$f":"VLOOKUP(Start!AF39,Tables!$BI$6:$BJ$5003,2,FALSE)","v":""},null,null,null,null,null,null,{"$f":"IF(OR(AF39=\"\",AF39=Tables!$BI$6),\"\",IF(COUNTIF($AF$20:$AF39,AF39)>1,\"\",MAX($AR$19:AR38)+1))","v":""},"",null,null,{"$f":"IF(CharacterLevel=\"\",\"\",Tables!BY2)","v":"none"}]
[null,null,"FLAW"]
[null,null,"Select…",null,null,null,null,null,null,null,null,null,null,null,null,null,null,null,null,null,null,null,null,null,null,null,null,null,null,null,null,null,null,null,null,"HIT",null,null,null,"HIT",null,null,null,null,null,null,{"$f":"IF(CharacterLevel=\"\",\"\",\"   SUBCLASS (\"&Tables!EY6&\")\")","v":"   SUBCLASS (0)"}]
[null,null,null,null,null,null,null,null,null,null,null,null,null,null,null,null,null,null,null,null,null,null,null,null,null,null,null,null,null,null,null,null,null,null,null,"DICE",null,null,null,"POINTS",null,null,null,null,null,null,null,{"$f":"IF(CharacterLevel=\"\",\"\",Tables!EX6)","v":"none"}]
[null,null,"GENDER",null,null,null,null,null,null,null,"Select…",null,null,null,null,null,null,null,null,null,null,null,null,null,null,null,null,null,null,null,"TOTALS",null,null,null,null,{"$f":"IF(CharacterLevel=\"\",\"\",CharacterLevel)","v":1},null,null,null,{"$f":"IF(OR(CharacterLevel=\"\",CONMod=\"\",Class1=\"\"),\"\",IF(SUM(Start!AN20:AN39)=0,\"\",SUM(Start!AN20:AN39)+CONMod*CharacterLevel+IF(Tables!ZT9=\"\",0,2*CharacterLevel)+SorcererDraconicBloodlineLevel+IF(Subrace=\"Hill\",CharacterLevel,0)))","v":""},null,null,{"$f":"IF(CharacterLevel=\"\",\"\",IF(Tables!ZT9=\"\",\"\",\"TOUGH\nFEAT\"))","v":""}]
[null,null,"AGE",null,null,null,null,null,null,null,0,null,null,null,null,null,null,null,null,null,null,null,null,null,null,null,null,null,null,null,null,null,null,null,null,null,null,null,null,null,null,null,null,null,null,null,{"$f":"IF(CharacterLevel=\"\",\"\",\"   BACKGROUND (\"&Tables!AM3&\")\")","v":"   BACKGROUND (0)"}]
[null,null,{"$f":"IF(Race=SelectText,\"\",Tables!R3)","v":""},null,null,null,null,null,null,null,null,null,null,null,null,null,null,null,null,null,null,null,null,null,null,null,null,null,"CLASS",null,null,null,null,null,null,null,null,null,null,null,null,null,null,null,null,null,null,{"$f":"IF(CharacterLevel=\"\",\"\",Tables!AL3)","v":"none"}]
[null,null,null,null,null,null,null,null,null,null,null,null,null,null,null,null,null,null,null,null,null,null,null,null,null,null,null,null,{"$f":"Tables!BI2","v":""}]
[null,null,"HEIGHT",null,null,null,{"$f":"IF(Race=SelectText,\"\",Tables!S3)","v":""},null,null,null,0,null,null,null,null,null,null,null,null,null,null,null,null,null,null,null,null,null,null,null,null,null,null,null,null,null,null,null,null,null,null,null,null,null,null,null,{"$f":"IF(CharacterLevel=\"\",\"\",\"   TRAINING    (\")","v":"   TRAINING    ("},null,null,null,null,{"$f":"IF(CharacterLevel=\"\",\"\",\")\")","v":")"}]
[null,null,"WEIGHT",null,null,null,{"$f":"IF(Race=SelectText,\"\",Tables!T3)","v":""},null,null,null,null,null,null,null,null,null,null,null,null,null,null,null,null,null,null,null,null,null,{"$f":"IF(Tables!BN2=\"SINGLE\",\"SUBCLASS\",\"SUBCLASSES\")","v":"SUBCLASS"}]
[null,null,"SKIN",null,null,null,null,null,null,null,null,null,null,null,null,null,null,null,null,null,null,null,null,null,null,null,null,null,{"$f":"IF(Tables!BS3=FALSE,\"SUBCLASS 1\",Tables!FD5)","v":"SUBCLASS 1"},null,null,null,null,null,null,"Evocation",null,null,null,null,null,null,null,null,null,null,{"$f":"IF(CharacterLevel=\"\",\"\",\"   FEATS (\"&IF(OR(AV50=\"\",AV50=\"none\"),0,3)&\")\")","v":"   FEATS (0)"}]
[null,null,"EYES",null,null,null,null,null,null,null,null,null,null,null,null,null,null,null,null,null,null,null,null,null,null,null,null,null,{"$f":"IF(Tables!BS4=FALSE,\"SUBCLASS 2\",Tables!FH5)","v":"SUBCLASS 2"},null,null,null,null,null,null,"Select…",null,null,null,null,null,null,null,null,null,null,null,{"$f":"IF(CharacterLevel=\"\",\"\",IF(Tables!ZT6=\"\",\"none\",Tables!ZT6))","v":"none"}]
[null,null,"HAIR",null,null,null,null,null,null,null,null,null,null,null,null,null,null,null,null,null,null,null,null,null,null,null,null,null,{"$f":"IF(Tables!BS5=FALSE,\"SUBCLASS 3\",Tables!FL5)","v":"SUBCLASS 3"},null,null,null,null,null,null,"Select…"]
[null,null,"ALIGNMENT",null,null,null,null,null,null,null,"Select…",null,null,null,null,null,null,null,null,null,null,null,null,null,null,null,null,{"$f":"IF(COUNTIF(Tables!$DN$3:$DN$5,\"=Land\")>0,TRUE,FALSE)","v":false},"Druid Land Origin",null,null,null,null,null,null,"Select…"]
[null,null,{"$f":"IF(ISERROR(VLOOKUP(Alignment,Tables!$IV$3:$IW$12,2,FALSE)),\"\",VLOOKUP(Alignment,Tables!$IV$3:$IW$12,2,FALSE))","v":"-"},null,null,null,null,null,null,null,null,null,null,null,null,null,null,null,null,null,null,null,null,null,null,null,null,{"$f":"IF(COUNTIF(Tables!$DN$3:$DN$5,\"=Draconic Bloodline\")>0,TRUE,FALSE)","v":false},"Draconic Ancestry",null,null,null,null,null,null,"Select…",null,null,null,null,{"$f":"VLOOKUP(AJ53,Tables!U15:W25,3,FALSE)","v":""}]
[null,null,null,null,null,null,null,null,null,null,null,null,null,null,null,null,null,null,null,null,null,null,null,null,null,null,null,{"$f":"IF(WarlockLevel>=3,TRUE,FALSE)","v":false},"Warlock Pact Boon",null,null,null,null,null,null,"Select…"]
[null,null,"DEITY",null,null,null,null,null,null,null,"Select…"]
[null,null,{"$f":"IF(ISERROR(VLOOKUP(Deity,Tables!IX3:$JB$5038,2,FALSE)),\"\",VLOOKUP(Deity,Tables!IX3:$JB$5038,2,FALSE)&\"\nAlignment: \"&VLOOKUP(Deity,Tables!IX3:$JB$5038,3,FALSE))&\"\nDomains: \"&VLOOKUP(Deity,Tables!IX3:$JB$5038,4,FALSE)&\"\nSymbol: \"&VLOOKUP(Deity,Tables!IX3:$JB$5038,5,FALSE)","v":"-\nAlignment: \nDomains: \nSymbol: "},null,null,null,null,null,null,null,null,null,null,null,null,null,null,null,null,null,null,null,null,null,null,null,null,null,"FIGHTING STYLES"]
[null,null,null,null,null,null,null,null,null,null,null,null,null,null,null,null,null,null,null,null,null,null,null,null,null,null,null,null,{"$f":"IF(Tables!FZ2=\"\",Tables!$FX$1&\" 1\",Tables!FZ2)","v":"FIGHTING STYLE 1"},null,null,null,null,null,null,"Select…",null,null,null,null,null,null,null,null,null,null,"TOOLS"]
[null,null,null,null,null,null,null,null,null,null,null,null,null,null,null,null,null,null,null,null,null,null,null,null,null,null,null,null,{"$f":"IF(Tables!FZ3=\"\",Tables!$FX$1&\" 2\",Tables!FZ3)","v":"FIGHTING STYLE 2"},null,null,null,null,null,null,"Select…"]
[null,null,null,null,null,null,null,null,null,null,null,null,null,null,null,null,null,null,null,null,null,null,null,null,null,null,null,null,{"$f":"IF(Tables!FZ4=\"\",Tables!$FX$1&\" 3\",Tables!FZ4)","v":"FIGHTING STYLE 3"},null,null,null,null,null,null,"Select…",null,null,null,null,null,null,null,null,null,null,null,1,null,"Select…"]
[null,null,null,null,null,null,null,null,null,null,null,null,null,null,null,null,null,null,null,null,null,null,null,null,null,null,null,null,{"$f":"IF(Tables!FZ5=\"\",Tables!$FX$1&\" 4\",Tables!FZ5)","v":"FIGHTING STYLE 4"},null,null,null,null,null,null,"Select…",null,null,null,null,null,null,null,null,null,null,null,{"$f":"AV59+1","v":2},2,"Select…"]
[null,null,null,null,null,null,null,null,null,null,null,null,null,null,null,null,null,null,null,null,null,null,null,null,null,null,null,null,null,null,null,null,null,null,null,null,null,null,null,null,null,null,null,null,null,null,null,3,3,"Select…"]
[null,null,null,null,null,null,null,null,null,null,null,null,null,null,null,null,null,null,null,null,null,null,null,null,null,null,null,null,"EXPERTISE",null,null,null,null,null,null,null,null,null,null,null,null,null,null,null,null,null,null,4,4,"Select…"]
[null,"SKILLS",null,null,null,null,null,null,null,null,null,null,null,null,null,null,null,null,null,null,null,null,null,null,null,null,null,null,{"$f":"Tables!FT3","v":"EXPERTISE 1"},null,null,null,null,null,null,"Select…",null,null,null,null,null,null,null,null,null,null,null,5,5,"Select…"]
[null,null,null,null,null,null,null,null,null,null,null,null,null,null,null,null,null,null,null,null,null,null,null,null,null,null,null,null,{"$f":"Tables!FT4","v":"EXPERTISE 2"},null,null,null,null,null,null,"Select…",null,null,null,null,null,null,null,null,null,null,null,6,6,"Select…"]
[null,null,"ACROBATICS",null,null,null,null,null,"DEX",null,null,null,null,null,"MEDICINE",null,null,null,null,null,"WIS",null,null,null,null,null,null,null,{"$f":"Tables!FT5","v":"EXPERTISE 3"},null,null,null,null,null,null,"Select…",null,null,null,null,null,null,null,null,null,null,null,7,7,"Select…"]
[null,null,"ANIMAL HANDLING",null,null,null,null,null,"WIS",null,null,null,null,null,"NATURE",null,null,null,null,null,"INT",null,null,null,null,null,null,null,{"$f":"Tables!FT6","v":"EXPERTISE 4"},null,null,null,null,null,null,"Select…",null,null,null,null,null,null,null,null,null,null,null,8,8,"Select…"]
[null,null,"ARCANA",null,null,null,null,null,"INT",null,null,null,null,null,"PERCEPTION",null,null,null,null,null,"WIS",null,null,null,null,null,null,null,null,null,null,null,null,null,null,null,null,null,null,null,null,null,null,null,null,null,null,9,9,"Select…"]
[null,null,"ATHLETICS",null,null,null,null,null,"STR",null,null,null,null,null,"PERFORMANCE",null,null,null,null,null,"CHA",null,null,null,null,null,null,null,"BARBARIAN TOTEM SPIRITS",null,null,null,null,null,null,null,null,null,null,null,null,null,null,null,null,null,null,10,10,"Select…"]
[null,null,"DECEPTION",null,null,null,null,null,"CHA",null,null,null,null,null,"PERSUASION",null,null,null,null,null,"CHA",null,null,null,null,null,null,null,{"$f":"Tables!HH4","v":"TOTEM SPIRIT 1"},null,null,null,null,null,null,"Select…",null,null,null,null,null,null,null,null,null,null,null,11,11,"Select…"]
[null,null,"HISTORY",null,null,null,null,null,"INT",null,null,null,null,null,"RELIGION",null,null,null,null,null,"INT",null,null,null,null,null,null,null,{"$f":"Tables!HH5","v":"TOTEM SPIRIT 2"},null,null,null,null,null,null,"Select…",null,null,null,null,null,null,null,null,null,null,null,12,12,"Select…"]
[null,null,"INSIGHT",null,null,null,null,null,"WIS",null,null,null,null,null,"SLEIGHT OF HAND",null,null,null,null,null,"DEX",null,null,null,null,null,null,null,{"$f":"Tables!HH6","v":"TOTEM SPIRIT 3"},null,null,null,null,null,null,"Select…",null,null,null,null,null,null,null,null,null,null,null,13,13,"Select…"]
[null,null,"INTIMIDATION",null,null,null,null,null,"CHA",null,null,null,null,null,"STEALTH",null,null,null,null,null,"DEX",null,null,null,null,null,null,null,null,null,null,null,null,null,null,null,null,null,null,null,null,null,null,null,null,null,null,14,14,"Select…"]
[null,null,"INVESTIGATION",null,null,null,null,null,"INT",null,null,null,null,null,"SURVIVAL",null,null,null,null,null,"WIS",null,null,null,null,null,null,null,"CLERIC KNOWLEDGE DOMAIN SKILLS",null,null,null,null,null,null,null,null,null,null,null,null,null,null,null,null,null,null,15,15,"Select…"]
[null,null,null,null,null,null,null,null,null,null,null,null,null,null,null,null,null,null,null,null,null,null,null,null,null,null,null,null,{"$f":"IF(ClericKnowledgeLevel>0,\"Knowledge Skill 1\",\"SKILL 1\")","v":"SKILL 1"},null,null,null,null,null,null,"Select…"]
[null,{"$f":"IF(CharacterLevel=\"\",\"\",\"   RACE (\"&Tables!I3&\")\")","v":"   RACE (0)"},null,null,null,null,null,null,null,null,null,null,null,null,null,null,null,null,null,null,null,{"$f":"IF(CharacterLevel=\"\",\"\",\"SELECTED\")","v":"SELECTED"},{"$f":"IF(CharacterLevel=\"\",\"\",COUNTIF(X65:X73,\"•\")+COUNTIF(L65:L73,\"•\"))","v":0},{"$f":"IF(CharacterLevel=\"\",\"\",\"OF\")","v":"OF"},{"$f":"IF(CharacterLevel=\"\",\"\",Tables!I3+Tables!AI3+Tables!CJ1+Tables!EW6+E98)","v":0},null,null,null,{"$f":"IF(ClericKnowledgeLevel>0,\"Knowledge Skill 2\",\"SKILL 2\")","v":"SKILL 2"},null,null,null,null,null,null,"Select…",null,null,null,null,null,null,null,null,null,null,null,null,null,null,null,null,null,null,{"$f":"IF(CharacterLevel=\"\",\"\",\"SELECTED\")","v":"SELECTED"},{"$f":"IF(CharacterLevel=\"\",\"\",MAX(AV59:AW73)-COUNTIF(AX59:BC73,\"Select…\"))","v":0},{"$f":"IF(CharacterLevel=\"\",\"\",\"OF\")","v":"OF"},{"$f":"IF(CharacterLevel=\"\",\"\",Tables!K3+Tables!AK3+Tables!CE3+Tables!CE4+Tables!CE5+Tables!EU6+AY89+AX91)","v":0}]
[null,null,{"$f":"IF(CharacterLevel=\"\",\"\",Tables!H3)","v":"none"}]
[null,null,null,null,null,null,null,null,null,null,null,null,null,null,null,null,null,null,null,null,null,null,null,null,null,null,null,null,"FIGHTER BATTLE MASTER MANEUVERS",null,null,null,null,null,null,null,null,null,null,null,null,null,null,null,null,null,{"$f":"IF(CharacterLevel=\"\",\"\",\"   RACE (\"&Tables!K3&\")\")","v":"   RACE (0)"}]
[null,{"$f":"IF(CharacterLevel=\"\",\"\",\"   BACKGROUND (\"&Tables!AI3&\")\")","v":"   BACKGROUND (0)"},null,null,null,null,null,null,null,null,null,null,null,null,null,null,null,null,null,null,null,null,null,null,null,null,null,null,{"$f":"Tables!GG3","v":"MANEUVER 1"},null,null,null,null,null,null,"Select…",null,null,null,null,null,null,null,null,null,null,null,{"$f":"IF(CharacterLevel=\"\",\"\",Tables!J3)","v":"none"}]
[null,null,{"$f":"IF(CharacterLevel=\"\",\"\",Tables!AH3)","v":"none"},null,null,null,null,null,null,null,null,null,null,null,null,null,null,null,null,null,null,null,null,null,null,null,null,null,{"$f":"Tables!GG4","v":"MANEUVER 2"},null,null,null,null,null,null,"Select…"]
[null,null,null,null,null,null,null,null,null,null,null,null,null,null,null,null,null,null,null,null,null,null,null,null,null,null,null,null,{"$f":"Tables!GG5","v":"MANEUVER 3"},null,null,null,null,null,null,"Select…",null,null,null,null,null,null,null,null,null,null,{"$f":"IF(CharacterLevel=\"\",\"\",\"   BACKGROUND (\"&Tables!AK3&\")\")","v":"   BACKGROUND (0)"}]
[null,{"$f":"IF(CharacterLevel=\"\",\"\",\"   CLASS (\"&Tables!CJ1&\")\")","v":"   CLASS (0)"},null,null,null,null,null,null,null,null,null,null,null,null,null,null,null,null,null,null,null,null,null,null,null,null,null,null,{"$f":"Tables!GG6","v":"MANEUVER 4"},null,null,null,null,null,null,"Select…",null,null,null,null,null,null,null,null,null,null,null,{"$f":"IF(CharacterLevel=\"\",\"\",Tables!AJ3)","v":"none"}]
[null,null,{"$f":"IF(CharacterLevel=\"\",\"\",Tables!DH2)","v":"none"},null,null,null,null,null,null,null,null,null,null,null,null,null,null,null,null,null,null,null,null,null,null,null,null,null,{"$f":"Tables!GG7","v":"MANEUVER 5"},null,null,null,null,null,null,"Select…"]
[null,null,null,null,null,null,null,null,null,null,null,null,null,null,null,null,null,null,null,null,null,null,null,null,null,null,null,null,{"$f":"Tables!GG8","v":"MANEUVER 6"},null,null,null,null,null,null,"Select…",null,null,null,null,null,null,null,null,null,null,{"$f":"IF(CharacterLevel=\"\",\"\",\"   CLASS (\"&Tables!CE1&\")\")","v":"   CLASS (0)"}]
[null,null,null,null,null,null,null,null,null,null,null,null,null,null,null,null,null,null,null,null,null,null,null,null,null,null,null,null,{"$f":"Tables!GG9","v":"MANEUVER 7"},null,null,null,null,null,null,"Select…",null,null,null,null,null,null,null,null,null,null,null,{"$f":"IF(CharacterLevel=\"\",\"\",Tables!KT3)","v":"none"}]
[null,null,null,null,null,null,null,null,null,null,null,null,null,null,null,null,null,null,null,null,null,null,null,null,null,null,null,null,{"$f":"Tables!GG10","v":"MANEUVER 8"},null,null,null,null,null,null,"Select…"]
[null,null,null,null,null,null,null,null,null,null,null,null,null,null,null,null,null,null,null,null,null,null,null,null,null,null,null,null,{"$f":"Tables!GG11","v":"MANEUVER 9"},null,null,null,null,null,null,"Select…",null,null,null,null,null,null,null,null,null,null,{"$f":"IF(CharacterLevel=\"\",\"\",\"   SUBCLASS (\"&Tables!EU6&\")\")","v":"   SUBCLASS (0)"}]
[null,null,null,null,null,null,null,null,null,null,null,null,null,null,null,null,null,null,null,null,null,null,null,null,null,null,null,null,{"$f":"Tables!GG12","v":"MANEUVER 10"},null,null,null,null,null,null,"Select…",null,null,null,null,null,null,null,null,null,null,null,{"$f":"IF(CharacterLevel=\"\",\"\",Tables!ET6)","v":"none"}]
[null,null,null,null,null,null,null,null,null,null,null,null,null,null,null,null,null,null,null,null,null,null,null,null,null,null,null,null,{"$f":"Tables!GG13","v":"MANEUVER 11"},null,null,null,null,null,null,"Select…"]
[null,null,null,null,null,null,null,null,null,null,null,null,null,null,null,null,null,null,null,null,null,null,null,null,null,null,null,null,null,null,null,null,null,null,null,null,null,null,null,null,null,null,null,null,null,null,{"$f":"IF(CharacterLevel=\"\",\"\",\"   TRAINING    (\")","v":"   TRAINING    ("},null,null,null,null,{"$f":"IF(CharacterLevel=\"\",\"\",\")\")","v":")"}]
[null,{"$f":"IF(CharacterLevel=\"\",\"\",\"   SUBCLASS (\"&Tables!EW6&\")\")","v":"   SUBCLASS (0)"},null,null,null,null,null,null,null,null,null,null,null,null,null,null,null,null,null,null,null,null,null,null,null,null,null,null,"MONK ELEMENTAL DISCIPLINES"]
[null,null,{"$f":"IF(CharacterLevel=\"\",\"\",Tables!EV6)","v":"none"},null,null,null,null,null,null,null,null,null,null,null,null,null,null,null,null,null,null,null,null,null,null,null,null,null,{"$f":"Tables!GZ4","v":"DISCIPLINE 1"},null,null,null,null,null,null,"Select…",null,null,null,null,null,null,null,null,null,null,{"$f":"IF(CharacterLevel=\"\",\"\",\"   FEATS   (\")","v":"   FEATS   ("},null,null,null,{"$f":"IF(CharacterLevel=\"\",\"\",IF(AV92=\"none\",\")\",\") max\"))","v":")"},null,{"$f":"IF(OR(CharacterLevel=\"\",AV92=\"none\"),\"\",3-E98)","v":""}]
[null,null,null,null,null,null,null,null,null,null,null,null,null,null,null,null,null,null,null,null,null,null,null,null,null,null,null,null,{"$f":"Tables!GZ5","v":"DISCIPLINE 2"},null,null,null,null,null,null,"Select…",null,null,null,null,null,null,null,null,null,null,null,{"$f":"IF(CharacterLevel=\"\",\"\",IF(Tables!ZT8=\"\",\"none\",Tables!ZT8))","v":"none"}]
[null,null,null,null,null,null,null,null,null,null,null,null,null,null,null,null,null,null,null,null,null,null,null,null,null,null,null,null,{"$f":"Tables!GZ6","v":"DISCIPLINE 3"},null,null,null,null,null,null,"Select…"]
[null,null,null,null,null,null,null,null,null,null,null,null,null,null,null,null,null,null,null,null,null,null,null,null,null,null,null,null,{"$f":"Tables!GZ7","v":"DISCIPLINE 4"},null,null,null,null,null,null,"Select…"]
[]
[null,null,null,null,null,null,null,null,null,null,null,null,null,null,null,null,null,null,null,null,null,null,null,null,null,null,null,null,"RANGER FAVORED ENEMIES"]
[null,null,null,null,null,null,null,null,null,null,null,null,null,null,null,null,null,null,null,null,null,null,null,null,null,null,null,null,{"$f":"Tables!HO4","v":"ENEMY 1"},null,null,null,null,null,null,"Select…",null,null,null,null,"Select…"]
[null,{"$f":"IF(CharacterLevel=\"\",\"\",\"   FEATS   (\")","v":"   FEATS   ("},null,null,null,{"$f":"IF(CharacterLevel=\"\",\"\",IF(C99=\"none\",\")\",\") max\"))","v":")"},null,{"$f":"IF(OR(CharacterLevel=\"\",C99=\"none\"),\"\",3-AX91)","v":""},null,null,null,null,null,null,null,null,null,null,null,null,null,null,null,null,null,null,null,null,{"$f":"Tables!HO5","v":"ENEMY 2"},null,null,null,null,null,null,"Select…",null,null,null,null,"Select…"]
[null,null,{"$f":"IF(CharacterLevel=\"\",\"\",IF(Tables!ZT8=\"\",\"none\",Tables!ZT8))","v":"none"},null,null,null,null,null,null,null,null,null,null,null,null,null,null,null,null,null,null,null,null,null,null,null,null,null,{"$f":"Tables!HO6","v":"ENEMY 3"},null,null,null,null,null,null,"Select…",null,null,null,null,"Select…"]
[]
[null,null,null,null,null,null,null,null,null,null,null,null,null,null,null,null,null,null,null,null,null,null,null,null,null,null,null,null,"RANGER NATURAL EXPLORER"]
[null,null,null,null,null,null,null,null,null,null,null,null,null,null,null,null,null,null,null,null,null,null,null,null,null,null,null,null,{"$f":"Tables!HV4","v":"TERRAIN 1"},null,null,null,null,null,null,"Select…"]
[null,null,null,null,null,null,null,null,null,null,null,null,null,null,null,null,null,null,null,null,null,null,null,null,null,null,null,null,{"$f":"Tables!HV5","v":"TERRAIN 2"},null,null,null,null,null,null,"Select…"]
[null,null,null,null,null,null,null,null,null,null,null,null,null,null,null,null,null,null,null,null,null,null,null,null,null,null,null,null,{"$f":"Tables!HV6","v":"TERRAIN 3"},null,null,null,null,null,null,"Select…"]
[]
[null,null,null,null,null,null,null,null,null,null,null,null,null,null,null,null,null,null,null,null,null,null,null,null,null,null,null,null,"RANGER HUNTER FEATURES"]
[null,null,null,null,null,null,null,null,null,null,null,null,null,null,null,null,null,null,null,null,null,null,null,null,null,null,null,null,{"$f":"Tables!HZ4","v":"FEATURE 1"},null,null,null,null,null,null,"Select…"]
[null,null,null,null,null,null,null,null,null,null,null,null,null,null,null,null,null,null,null,null,null,null,null,null,null,null,null,null,{"$f":"Tables!HZ5","v":"FEATURE 2"},null,null,null,null,null,null,"Select…"]
[null,null,null,null,null,null,null,null,null,null,null,null,null,null,null,null,null,null,null,null,null,null,null,null,null,null,null,null,{"$f":"Tables!HZ6","v":"FEATURE 3"},null,null,null,null,null,null,"Select…"]
[null,null,null,null,null,null,null,null,null,null,null,null,null,null,null,null,null,null,null,null,null,null,null,null,null,null,null,null,{"$f":"Tables!HZ7","v":"FEATURE 4"},null,null,null,null,null,null,"Select…"]
[null,"ABILITY SCORE IMPROVEMENT & FEATS"]
[null,null,null,null,null,null,null,null,null,null,null,null,null,null,null,null,null,null,null,null,null,null,null,null,null,null,null,null,"WARLOCK ELDRITCH INVOCATIONS"]
[null,{"$f":"IF(LEFT(C113,4)=\"FEAT\",FALSE,TRUE)","v":false},{"$f":"Tables!YG3","v":"FEAT 1"},null,null,null,null,null,"Select…",null,null,null,null,null,null,null,null,null,null,null,null,null,null,null,null,null,null,null,{"$f":"Tables!IP4","v":"INVOCATION 1"},null,null,null,null,null,null,"Select…",null,null,null,null,null,null,null,null,null,null,"COINAGE"]
[null,false,{"$f":"Tables!YG4","v":"FEAT 2"},null,null,null,null,null,"Select…",null,null,null,null,null,null,null,null,null,null,null,null,null,null,null,null,null,null,null,{"$f":"Tables!IP5","v":"INVOCATION 2"},null,null,null,null,null,null,"Select…",null,null,null,null,null,null,null,null,null,null,null,null,null,null,null,"CARRIED",null,null,"TOTAL",null,null,"EXCHANGE"]
[null,false,{"$f":"Tables!YG5","v":"FEAT 3"},null,null,null,null,null,"Select…",null,null,null,null,null,null,null,null,null,null,null,null,null,null,null,null,null,null,null,{"$f":"Tables!IP6","v":"INVOCATION 3"},null,null,null,null,null,null,"Select…",null,null,null,null,null,null,null,null,null,null,null,"Platinum (PP)",null,null,null,0,null,null,923,null,null,"1 PP = 10 GP"]
[null,false,{"$f":"Tables!YG6","v":"FEAT 4"},null,null,null,null,null,"Select…",null,null,null,null,null,null,null,null,null,null,null,null,null,null,null,null,null,null,null,{"$f":"Tables!IP7","v":"INVOCATION 4"},null,null,null,null,null,null,"Select…",null,null,null,null,null,null,null,null,null,null,null,"Gold (GP",null,null,null,0,null,null,167,null,null,"1 GP = 2 EP"]
[null,false,{"$f":"Tables!YG7","v":"FEAT 5"},null,null,null,null,null,"Select…",null,null,null,null,null,null,null,null,null,null,null,null,null,null,null,null,null,null,null,{"$f":"Tables!IP8","v":"INVOCATION 5"},null,null,null,null,null,null,"Select…",null,null,null,null,null,null,null,null,null,null,null,"Electrum (EP)",null,null,null,0,null,null,34,null,null,"1 EP = 5 SP"]
[null,false,{"$f":"Tables!YG8","v":"FEAT 6"},null,null,null,null,null,"Select…",null,null,null,null,null,null,null,null,null,null,null,null,null,null,null,null,null,null,null,{"$f":"Tables!IP9","v":"INVOCATION 6"},null,null,null,null,null,null,"Select…",null,null,null,null,null,null,null,null,null,null,null,"Silver (SP)",null,null,null,0,null,null,183,null,null,"1 SP = 10 CP"]
[null,false,{"$f":"Tables!YG9","v":"FEAT 7"},null,null,null,null,null,"Select…",null,null,null,null,null,null,null,null,null,null,null,null,null,null,null,null,null,null,null,{"$f":"Tables!IP10","v":"INVOCATION 7"},null,null,null,null,null,null,"Select…",null,null,null,null,null,null,null,null,null,null,null,"Copper (CP)",null,null,null,0,null,null,145]
[null,false,{"$f":"Tables!YG10","v":"FEAT 8"},null,null,null,null,null,"Select…",null,null,null,null,null,null,null,null,null,null,null,null,null,null,null,null,null,null,null,{"$f":"Tables!IP11","v":"INVOCATION 8"},null,null,null,null,null,null,"Select…",null,null,null,null,null,null,null,null,null,null,null,{"$f":"IF(CharacterLevel=\"\",\"\",\"Carrying \"&SUM(AZ115:BB119)&\" coins (\"&ROUND(SUM(AZ115:BB119)/50,1)&\" lbs)\")","v":"Carrying 0 coins (0 lbs)"}]
[]
[]
[null,"FEAT LOOKUP"]
[]
[null,null,"Select…",null,null,null,null,null,null,null,"PREREQUISITE:",null,null,null,null,null,{"$f":"IF(OR(C125=\"\",C125=SelectText),\"\",VLOOKUP(C125,Tables!YG14:YJ78,2,FALSE))","v":""}]
[null,null,{"$f":"IF($C$125=\"\",\"\",VLOOKUP($C$125,Tables!$YG$13:$YJ$70,3,FALSE))","v":""}]
[]
[]
[]
[]
[]
[]
[]
[]
[null,"EQUIPMENT WORN",null,null,null,null,null,null,null,null,null,null,null,null,null,null,null,"ARMOR & SHIELD",null,null,null,null,null,null,null,null,null,null,null,null,null,null,null,null,null,null,null,null,null,null,null,"ATTACKS"]
[null,null,null,null,null,null,null,null,null,null,null,null,null,null,null,null,null,null,null,null,null,null,null,null,"ARMOR",null,null,null,null,null,null,null,"SHIELD",null,null,null,null,null,null,null,null,null,null,null,null,null,null,"ATTACK 1",null,null,null,null,null,null,null,"ATTACK 2",null,null,null,null,null,null,null,"ATTACK 3",null,null,null,null,null,null,null,"ATTACK 4",null,null,null,null,null,null,null,"ATTACK 5",null,null,null,null,null,null,null,"ATTACK 6"]
[null,"HEAD",null,null,null,null,null,null,null,null,null,null,null,null,null,null,null,null,null,null,null,null,null,null,"Select…",null,null,null,null,null,null,null,"Select…",null,null,null,null,null,null,null,null,null,null,null,null,null,"WEAPON","Select…",null,null,null,null,null,null,null,"Select…",null,null,null,null,null,null,null,"Select…",null,null,null,null,null,null,null,"Select…",null,null,null,null,null,null,null,"Select…",null,null,null,null,null,null,null,"Select…"]
[null,"HEADBAND, HAT, HELMET, OR PHYLACTERY",null,null,null,null,null,null,null,null,null,null,null,null,null,null,null,null,null,null,null,null,null,"BONUS",null,null,null,null,null,null,null,null,null,null,null,null,null,null,null,null,null,null,null,null,null,null,"BONUS"]
[null,null,null,null,null,null,null,null,null,null,null,null,null,null,null,null,null,null,null,null,null,null,null,null,null,null,null,null,null,null,null,null,null,null,null,null,null,null,null,null,null,null,null,null,null,null,"AMMUNITION",{"$f":"IF(AV140>0,VLOOKUP(AV137,Tables!$PZ$3:$QR$500,19,FALSE)&\" +\"&AV140,VLOOKUP(AV137,Tables!$PZ$3:$QR$500,19,FALSE))","v":""},null,null,null,null,null,null,null,{"$f":"IF(BD140>0,VLOOKUP(BD137,Tables!$PZ$3:$QR$500,19,FALSE)&\" +\"&BD140,VLOOKUP(BD137,Tables!$PZ$3:$QR$500,19,FALSE))","v":""},null,null,null,null,null,null,null,{"$f":"IF(BL140>0,VLOOKUP(BL137,Tables!$PZ$3:$QR$500,19,FALSE)&\" +\"&BL140,VLOOKUP(BL137,Tables!$PZ$3:$QR$500,19,FALSE))","v":""},null,null,null,null,null,null,null,{"$f":"IF(BT140>0,VLOOKUP(BT137,Tables!$PZ$3:$QR$500,19,FALSE)&\" +\"&BT140,VLOOKUP(BT137,Tables!$PZ$3:$QR$500,19,FALSE))","v":""},null,null,null,null,null,null,null,{"$f":"IF(CB140>0,VLOOKUP(CB137,Tables!$PZ$3:$QR$500,19,FALSE)&\" +\"&CB140,VLOOKUP(CB137,Tables!$PZ$3:$QR$500,19,FALSE))","v":""},null,null,null,null,null,null,null,{"$f":"IF(CJ140>0,VLOOKUP(CJ137,Tables!$PZ$3:$QR$500,19,FALSE)&\" +\"&CJ140,VLOOKUP(CJ137,Tables!$PZ$3:$QR$500,19,FALSE))","v":""}]
[null,"EYES",null,null,null,null,null,null,null,null,null,null,null,null,null,null,null,null,null,null,null,null,null,"NAME",{"$f":"IF(Y$137=Tables!$SR$3,\"\",IF(Y154=\"\",Y$137&IF(Y138=\"\",\"\",\" +\"&Y138),Y154))","v":""},null,null,null,null,null,null,null,{"$f":"IF(AG$137=Tables!$SR$3,\"\",IF(AG154=\"\",AG$137&IF(AG138=\"\",\"\",\" +\"&AG138),AG154))","v":""},null,null,null,null,null,null,null,null,null,null,null,null,null,"BONUS"]
[null,"EYE LENSES OR GOGGLES"]
[null,null,null,null,null,null,null,null,null,null,null,null,null,null,null,null,2,null,null,null,null,null,null,"GROUP",{"$f":"IF(Y$137=Tables!$SR$3,\"\",IF(Y156=\"\",VLOOKUP(Y$137,Tables!$SR$2:$SZ$500,$Q142,FALSE),Y156))","v":""},null,null,null,null,null,null,null,{"$f":"IF(AG$137=Tables!$SR$3,\"\",IF(AG156=\"\",VLOOKUP(AG$137,Tables!$TA$2:$TI$500,$Q142,FALSE),AG156))","v":""},null,null,null,null,null,null,null,null,null,"NAME",null,null,null,null,{"$f":"IF(AV$137=Tables!$PZ$3,\"\",IF(AV157=\"\",AV$137&IF(AV138=\"\",\"\",\" +\"&AV138),AV157))","v":""},null,null,null,null,null,null,null,{"$f":"IF(BD$137=Tables!$PZ$3,\"\",IF(BD157=\"\",BD$137&IF(BD138=\"\",\"\",\" +\"&BD138),BD157))","v":""},null,null,null,null,null,null,null,{"$f":"IF(BL$137=Tables!$PZ$3,\"\",IF(BL157=\"\",BL$137&IF(BL138=\"\",\"\",\" +\"&BL138),BL157))","v":""},null,null,null,null,null,null,null,{"$f":"IF(BT$137=Tables!$PZ$3,\"\",IF(BT157=\"\",BT$137&IF(BT138=\"\",\"\",\" +\"&BT138),BT157))","v":""},null,null,null,null,null,null,null,{"$f":"IF(CB$137=Tables!$PZ$3,\"\",IF(CB157=\"\",CB$137&IF(CB138=\"\",\"\",\" +\"&CB138),CB157))","v":""},null,null,null,null,null,null,null,{"$f":"IF(CJ$137=Tables!$PZ$3,\"\",IF(CJ157=\"\",CJ$137&IF(CJ138=\"\",\"\",\" +\"&CJ138),CJ157))","v":""}]
[null,"NECK",null,null,null,null,null,null,null,null,null,null,null,null,null,null,3,null,null,null,null,null,null,"PROFICENT",{"$f":"IF(Y$137=Tables!$PZ$3,\"\",IF(Y157=\"\",VLOOKUP(Y$137,Tables!$SR$2:$SZ$100,$Q143,FALSE),Y157))","v":""},null,null,null,null,null,null,null,{"$f":"IF(AG$137=Tables!$PZ$3,\"\",IF(AG157=\"\",VLOOKUP(AG$137,Tables!$TA$2:$TI$100,$Q143,FALSE),AG157))","v":""}]
[null,"AMULET, BROOCH, MEDALLION, PERIAPT",null,null,null,null,null,null,null,null,null,null,null,null,null,null,4,null,null,null,null,null,null,"ARMOR CLASS",{"$f":"IF(Y$137=Tables!$SR$3,\"\",IF(Y158=\"\",IF(Y138=\"\",0,Y138)+VLOOKUP(Y$137,Tables!$SR$2:$SZ$500,$Q144,FALSE),Y158))","v":""},null,null,null,null,null,null,null,{"$f":"IF(AG$137=Tables!$SR$3,\"\",IF(AG158=\"\",IF(AG138=\"\",0,AG138)+VLOOKUP(AG$137,Tables!$TA$2:$TI$500,$Q144,FALSE),AG158))","v":""},null,null,null,null,null,null,null,null,null,null,null,null,null,"GROUP",{"$f":"IF(AV$137=Tables!$PZ$3,\"\",IF(AV159=\"\",VLOOKUP(AV$137,Tables!$PZ$2:$QQ$500,Tables!$QT2,FALSE),AV159))","v":""},null,null,null,null,null,null,null,{"$f":"IF(BD$137=Tables!$PZ$3,\"\",IF(BD159=\"\",VLOOKUP(BD$137,Tables!$PZ$2:$QQ$500,Tables!$QT2,FALSE),BD159))","v":""},null,null,null,null,null,null,null,{"$f":"IF(BL$137=Tables!$PZ$3,\"\",IF(BL159=\"\",VLOOKUP(BL$137,Tables!$PZ$2:$QQ$500,Tables!$QT2,FALSE),BL159))","v":""},null,null,null,null,null,null,null,{"$f":"IF(BT$137=Tables!$PZ$3,\"\",IF(BT159=\"\",VLOOKUP(BT$137,Tables!$PZ$2:$QQ$500,Tables!$QT2,FALSE),BT159))","v":""},null,null,null,null,null,null,null,{"$f":"IF(CB$137=Tables!$PZ$3,\"\",IF(CB159=\"\",VLOOKUP(CB$137,Tables!$PZ$2:$QQ$500,Tables!$QT2,FALSE),CB159))","v":""},null,null,null,null,null,null,null,{"$f":"IF(CJ$137=Tables!$PZ$3,\"\",IF(CJ159=\"\",VLOOKUP(CJ$137,Tables!$PZ$2:$QQ$500,Tables!$QT2,FALSE),CJ159))","v":""}]
[null,null,null,null,null,null,null,null,null,null,null,null,null,null,null,null,5,null,null,null,null,null,null,"DEX MODIFIER",{"$f":"IF(Y$137=Tables!$SR$3,\"\",IF(Y159=\"\",VLOOKUP(Y$137,Tables!$SR$2:$SZ$500,$Q145,FALSE),Y159))","v":""},null,null,null,null,null,null,null,{"$f":"IF(AG$137=Tables!$SR$3,\"\",IF(AG159=\"\",VLOOKUP(AG$137,Tables!$TA$2:$TI$500,$Q145,FALSE),AG159))","v":""},null,null,null,null,null,null,null,null,null,null,null,null,null,"PROFICIENT",{"$f":"IF(AV$137=Tables!$PZ$3,\"\",IF(AV160=\"\",VLOOKUP(AV$137,Tables!$PZ$2:$QQ$500,Tables!$QT3,FALSE),AV160))","v":""},null,null,null,null,null,null,null,{"$f":"IF(BD$137=Tables!$PZ$3,\"\",IF(BD160=\"\",VLOOKUP(BD$137,Tables!$PZ$2:$QQ$500,Tables!$QT3,FALSE),BD160))","v":""},null,null,null,null,null,null,null,{"$f":"IF(BL$137=Tables!$PZ$3,\"\",IF(BL160=\"\",VLOOKUP(BL$137,Tables!$PZ$2:$QQ$500,Tables!$QT3,FALSE),BL160))","v":""},null,null,null,null,null,null,null,{"$f":"IF(BT$137=Tables!$PZ$3,\"\",IF(BT160=\"\",VLOOKUP(BT$137,Tables!$PZ$2:$QQ$500,Tables!$QT3,FALSE),BT160))","v":""},null,null,null,null,null,null,null,{"$f":"IF(CB$137=Tables!$PZ$3,\"\",IF(CB160=\"\",VLOOKUP(CB$137,Tables!$PZ$2:$QQ$500,Tables!$QT3,FALSE),CB160))","v":""},null,null,null,null,null,null,null,{"$f":"IF(CJ$137=Tables!$PZ$3,\"\",IF(CJ160=\"\",VLOOKUP(CJ$137,Tables!$PZ$2:$QQ$500,Tables!$QT3,FALSE),CJ160))","v":""}]
[null,"SHOULDERS",null,null,null,null,null,null,null,null,null,null,null,null,null,null,6,null,null,null,null,null,null,"STRENGTH",{"$f":"IF(Y$137=Tables!$SR$3,\"\",IF(Y160=\"\",VLOOKUP(Y$137,Tables!$SR$2:$SZ$500,$Q146,FALSE),Y160))","v":""},null,null,null,null,null,null,null,{"$f":"IF(AG$137=Tables!$SR$3,\"\",IF(AG160=\"\",VLOOKUP(AG$137,Tables!$TA$2:$TI$500,$Q146,FALSE),AG160))","v":""},null,null,null,null,null,null,null,null,null,null,null,null,null,"ATTACK BONUS",{"$f":"IF(OR(CharacterLevel=\"\",AV$137=SelectText),\"\",IF(AV161=\"\",IF(AV145=\"proficient\",ProfBonus,0)+IF(AND(COUNTIF($AJ$57:$AR$60,\"Archery\")>0,OR(AV144=\"Simple Ranged\",AV144=\"Martial Ranged\")),2,0)+IF(AV144=\"Spell\",INDIRECT(TEXT(MID(AV137,15,3)&\"Mod\",0)),IF(AV138=\"\",0,AV138)+IF(Tables!QZ9=Tables!$QH$2,MAX(DEXMod,STRMod),IF(Tables!QZ8=Tables!$QG$2,DEXMod+AV140,STRMod))),AV161))","v":""},null,null,null,null,null,null,null,{"$f":"IF(OR(CharacterLevel=\"\",BD$137=SelectText),\"\",IF(BD161=\"\",IF(BD145=\"proficient\",ProfBonus,0)+IF(AND(COUNTIF($AJ$57:$AR$60,\"Archery\")>0,OR(BD144=\"Simple Ranged\",BD144=\"Martial Ranged\")),2,0)+IF(BD144=\"Spell\",INDIRECT(TEXT(MID(BD137,15,3)&\"Mod\",0)),IF(BD138=\"\",0,BD138)+IF(Tables!RH9=Tables!$QH$2,MAX(DEXMod,STRMod),IF(Tables!RH8=Tables!$QG$2,DEXMod+BD140,STRMod))),BD161))","v":""},null,null,null,null,null,null,null,{"$f":"IF(OR(CharacterLevel=\"\",BL$137=SelectText),\"\",IF(BL161=\"\",IF(BL145=\"proficient\",ProfBonus,0)+IF(AND(COUNTIF($AJ$57:$AR$60,\"Archery\")>0,OR(BL144=\"Simple Ranged\",BL144=\"Martial Ranged\")),2,0)+IF(BL144=\"Spell\",INDIRECT(TEXT(MID(BL137,15,3)&\"Mod\",0)),IF(BL138=\"\",0,BL138)+IF(Tables!RP9=Tables!$QH$2,MAX(DEXMod,STRMod),IF(Tables!RP8=Tables!$QG$2,DEXMod+BL140,STRMod))),BL161))","v":""},null,null,null,null,null,null,null,{"$f":"IF(OR(CharacterLevel=\"\",BT$137=SelectText),\"\",IF(BT161=\"\",IF(BT145=\"proficient\",ProfBonus,0)+IF(AND(COUNTIF($AJ$57:$AR$60,\"Archery\")>0,OR(BT144=\"Simple Ranged\",BT144=\"Martial Ranged\")),2,0)+IF(BT144=\"Spell\",INDIRECT(TEXT(MID(BT137,15,3)&\"Mod\",0)),IF(BT138=\"\",0,BT138)+IF(Tables!RX9=Tables!$QH$2,MAX(DEXMod,STRMod),IF(Tables!RX8=Tables!$QG$2,DEXMod+BT140,STRMod))),BT161))","v":""},null,null,null,null,null,null,null,{"$f":"IF(OR(CharacterLevel=\"\",CB$137=SelectText),\"\",IF(CB161=\"\",IF(CB145=\"proficient\",ProfBonus,0)+IF(AND(COUNTIF($AJ$57:$AR$60,\"Archery\")>0,OR(CB144=\"Simple Ranged\",CB144=\"Martial Ranged\")),2,0)+IF(CB144=\"Spell\",INDIRECT(TEXT(MID(CB137,15,3)&\"Mod\",0)),IF(CB138=\"\",0,CB138)+IF(Tables!SF9=Tables!$QH$2,MAX(DEXMod,STRMod),IF(Tables!SF8=Tables!$QG$2,DEXMod+CB140,STRMod))),CB161))","v":""},null,null,null,null,null,null,null,{"$f":"IF(OR(CharacterLevel=\"\",CJ$137=SelectText),\"\",IF(CJ161=\"\",IF(CJ145=\"proficient\",ProfBonus,0)+IF(AND(COUNTIF($AJ$57:$AR$60,\"Archery\")>0,OR(CJ144=\"Simple Ranged\",CJ144=\"Martial Ranged\")),2,0)+IF(CJ144=\"Spell\",INDIRECT(TEXT(MID(CJ137,15,3)&\"Mod\",0)),IF(CJ138=\"\",0,CJ138)+IF(Tables!SN9=Tables!$QH$2,MAX(DEXMod,STRMod),IF(Tables!SN8=Tables!$QG$2,DEXMod+CJ140,STRMod))),CJ161))","v":""}]
[null,"CLOAK, CAPE OR MANTLE",null,null,null,null,null,null,null,null,null,null,null,null,null,null,7,null,null,null,null,null,null,"STEALTH",{"$f":"IF(Y$137=Tables!$SR$3,\"\",IF(Y161=\"\",VLOOKUP(Y$137,Tables!$SR$2:$SZ$500,$Q147,FALSE),Y161))","v":""},null,null,null,null,null,null,null,{"$f":"IF(AG$137=Tables!$SR$3,\"\",IF(AG161=\"\",VLOOKUP(AG$137,Tables!$TA$2:$TI$500,$Q147,FALSE),AG161))","v":""},null,null,null,null,null,null,null,null,null,null,null,null,null,"DAMAGE",{"$f":"IF(OR(CharacterLevel=\"\",AV$137=Tables!$PZ$3),\"\",IF(AV162=\"\",IF(AV137=Tables!$PZ$3,\"\",VLOOKUP(AV$137,Tables!$PZ$2:$QQ$500,Tables!$QT4,FALSE)&IF(AV145=\"proficient\",TEXT(AV146-ProfBonus,\"+0;-0\"),TEXT(AV146,\"+0;-0\"))),AV162))","v":""},null,null,null,null,null,null,null,{"$f":"IF(OR(CharacterLevel=\"\",BD$137=Tables!$PZ$3),\"\",IF(BD162=\"\",IF(BD137=Tables!$PZ$3,\"\",VLOOKUP(BD$137,Tables!$PZ$2:$QQ$500,Tables!$QT4,FALSE)&IF(BD145=\"proficient\",TEXT(BD146-ProfBonus,\"+0;-0\"),TEXT(BD146,\"+0;-0\"))),BD162))","v":""},null,null,null,null,null,null,null,{"$f":"IF(OR(CharacterLevel=\"\",BL$137=Tables!$PZ$3),\"\",IF(BL162=\"\",IF(BL137=Tables!$PZ$3,\"\",VLOOKUP(BL$137,Tables!$PZ$2:$QQ$500,Tables!$QT4,FALSE)&IF(BL145=\"proficient\",TEXT(BL146-ProfBonus,\"+0;-0\"),TEXT(BL146,\"+0;-0\"))),BL162))","v":""},null,null,null,null,null,null,null,{"$f":"IF(OR(CharacterLevel=\"\",BT$137=Tables!$PZ$3),\"\",IF(BT162=\"\",IF(BT137=Tables!$PZ$3,\"\",VLOOKUP(BT$137,Tables!$PZ$2:$QQ$500,Tables!$QT4,FALSE)&IF(BT145=\"proficient\",TEXT(BT146-ProfBonus,\"+0;-0\"),TEXT(BT146,\"+0;-0\"))),BT162))","v":""},null,null,null,null,null,null,null,{"$f":"IF(OR(CharacterLevel=\"\",CB$137=Tables!$PZ$3),\"\",IF(CB162=\"\",IF(CB137=Tables!$PZ$3,\"\",VLOOKUP(CB$137,Tables!$PZ$2:$QQ$500,Tables!$QT4,FALSE)&IF(CB145=\"proficient\",TEXT(CB146-ProfBonus,\"+0;-0\"),TEXT(CB146,\"+0;-0\"))),CB162))","v":""},null,null,null,null,null,null,null,{"$f":"IF(OR(CharacterLevel=\"\",CJ$137=Tables!$PZ$3),\"\",IF(CJ162=\"\",IF(CJ137=Tables!$PZ$3,\"\",VLOOKUP(CJ$137,Tables!$PZ$2:$QQ$500,Tables!$QT4,FALSE)&IF(CJ145=\"proficient\",TEXT(CJ146-ProfBonus,\"+0;-0\"),TEXT(CJ146,\"+0;-0\"))),CJ162))","v":""}]
[null,null,null,null,null,null,null,null,null,null,null,null,null,null,null,null,8,null,null,null,null,null,null,"WEIGHT",{"$f":"IF(Y$137=Tables!$SR$3,\"\",IF(Y162=\"\",VLOOKUP(Y$137,Tables!$SR$2:$SZ$500,$Q148,FALSE),Y162))","v":""},null,null,null,null,null,null,null,{"$f":"IF(AG$137=Tables!$SR$3,\"\",IF(AG162=\"\",VLOOKUP(AG$137,Tables!$TA$2:$TI$500,$Q148,FALSE),AG162))","v":""},null,null,null,null,null,null,null,null,null,null,null,null,null,"TYPE",{"$f":"IF(AV$137=Tables!$PZ$3,\"\",IF(AV163=\"\",VLOOKUP(AV$137,Tables!$PZ$2:$QQ$500,Tables!$QT5,FALSE),AV163))","v":""},null,null,null,null,null,null,null,{"$f":"IF(BD$137=Tables!$PZ$3,\"\",IF(BD163=\"\",VLOOKUP(BD$137,Tables!$PZ$2:$QQ$500,Tables!$QT5,FALSE),BD163))","v":""},null,null,null,null,null,null,null,{"$f":"IF(BL$137=Tables!$PZ$3,\"\",IF(BL163=\"\",VLOOKUP(BL$137,Tables!$PZ$2:$QQ$500,Tables!$QT5,FALSE),BL163))","v":""},null,null,null,null,null,null,null,{"$f":"IF(BT$137=Tables!$PZ$3,\"\",IF(BT163=\"\",VLOOKUP(BT$137,Tables!$PZ$2:$QQ$500,Tables!$QT5,FALSE),BT163))","v":""},null,null,null,null,null,null,null,{"$f":"IF(CB$137=Tables!$PZ$3,\"\",IF(CB163=\"\",VLOOKUP(CB$137,Tables!$PZ$2:$QQ$500,Tables!$QT5,FALSE),CB163))","v":""},null,null,null,null,null,null,null,{"$f":"IF(CJ$137=Tables!$PZ$3,\"\",IF(CJ163=\"\",VLOOKUP(CJ$137,Tables!$PZ$2:$QQ$500,Tables!$QT5,FALSE),CJ163))","v":""}]
[null,"RINGS",null,null,null,null,null,null,null,null,null,null,null,null,null,null,9,null,null,null,null,null,null,"PROPERTIES",{"$f":"IF(Y$137=Tables!$SR$3,\"\",IF(Y163=\"\",VLOOKUP(Y$137,Tables!$SR$2:$SZ$500,$Q149,FALSE),Y163))","v":""},null,null,null,null,null,null,null,{"$f":"IF(AG$137=Tables!$SR$3,\"\",IF(AG163=\"\",VLOOKUP(AG$137,Tables!$TA$2:$TI$500,$Q149,FALSE),AG163))","v":""},null,null,null,null,null,null,null,null,null,null,null,null,null,"RANGE",{"$f":"IF(AV$137=Tables!$PZ$3,\"\",IF(AV164=\"\",VLOOKUP(AV$137,Tables!$PZ$2:$QQ$500,Tables!$QT6,FALSE),\"\"))","v":""},null,null,null,null,null,null,null,{"$f":"IF(BD$137=Tables!$PZ$3,\"\",IF(BD164=\"\",VLOOKUP(BD$137,Tables!$PZ$2:$QQ$500,Tables!$QT6,FALSE),\"\"))","v":""},null,null,null,null,null,null,null,{"$f":"IF(BL$137=Tables!$PZ$3,\"\",IF(BL164=\"\",VLOOKUP(BL$137,Tables!$PZ$2:$QQ$500,Tables!$QT6,FALSE),\"\"))","v":""},null,null,null,null,null,null,null,{"$f":"IF(BT$137=Tables!$PZ$3,\"\",IF(BT164=\"\",VLOOKUP(BT$137,Tables!$PZ$2:$QQ$500,Tables!$QT6,FALSE),\"\"))","v":""},null,null,null,null,null,null,null,{"$f":"IF(CB$137=Tables!$PZ$3,\"\",IF(CB164=\"\",VLOOKUP(CB$137,Tables!$PZ$2:$QQ$500,Tables!$QT6,FALSE),\"\"))","v":""},null,null,null,null,null,null,null,{"$f":"IF(CJ$137=Tables!$PZ$3,\"\",IF(CJ164=\"\",VLOOKUP(CJ$137,Tables!$PZ$2:$QQ$500,Tables!$QT6,FALSE),\"\"))","v":""}]
[null,"RIGHT HAND",null,null,null,null,null,null,null,null,null,null,null,null,null,null,null,null,null,null,null,null,null,null,null,null,null,null,null,null,null,null,null,null,null,null,null,null,null,null,null,null,null,null,null,null,"WEIGHT",{"$f":"IF(AV$137=Tables!$PZ$3,\"\",IF(AV165=\"\",VLOOKUP(AV$137,Tables!$PZ$2:$QQ$500,Tables!$QT7,FALSE),AV165))","v":""},null,null,null,null,null,null,null,{"$f":"IF(BD$137=Tables!$PZ$3,\"\",IF(BD165=\"\",VLOOKUP(BD$137,Tables!$PZ$2:$QQ$500,Tables!$QT7,FALSE),BD165))","v":""},null,null,null,null,null,null,null,{"$f":"IF(BL$137=Tables!$PZ$3,\"\",IF(BL165=\"\",VLOOKUP(BL$137,Tables!$PZ$2:$QQ$500,Tables!$QT7,FALSE),BL165))","v":""},null,null,null,null,null,null,null,{"$f":"IF(BT$137=Tables!$PZ$3,\"\",IF(BT165=\"\",VLOOKUP(BT$137,Tables!$PZ$2:$QQ$500,Tables!$QT7,FALSE),BT165))","v":""},null,null,null,null,null,null,null,{"$f":"IF(CB$137=Tables!$PZ$3,\"\",IF(CB165=\"\",VLOOKUP(CB$137,Tables!$PZ$2:$QQ$500,Tables!$QT7,FALSE),CB165))","v":""},null,null,null,null,null,null,null,{"$f":"IF(CJ$137=Tables!$PZ$3,\"\",IF(CJ165=\"\",VLOOKUP(CJ$137,Tables!$PZ$2:$QQ$500,Tables!$QT7,FALSE),CJ165))","v":""}]
[null,null,null,null,null,null,null,null,null,null,null,null,null,null,null,null,null,null,null,null,null,null,null,null,null,null,null,null,null,null,null,null,null,null,null,null,null,null,null,null,null,null,null,null,null,null,"PROPERTIES",{"$f":"IF(AV$137=Tables!$PZ$3,\"\",IF(AV166=\"\",Tables!QZ20&Tables!QZ21&Tables!QZ22&Tables!QZ23&Tables!QZ24&Tables!QZ25&Tables!QZ26&Tables!QZ27&Tables!QZ28&Tables!QZ29&Tables!QZ30&Tables!QZ31,AV166))","v":""},null,null,null,null,null,null,null,{"$f":"IF(BD$137=Tables!$PZ$3,\"\",IF(BD166=\"\",Tables!RH20&Tables!RH21&Tables!RH22&Tables!RH23&Tables!RH24&Tables!RH25&Tables!RH26&Tables!RH27&Tables!RH28&Tables!RH29&Tables!RH30&Tables!RH31,BD166))","v":""},null,null,null,null,null,null,null,{"$f":"IF(BL$137=Tables!$PZ$3,\"\",IF(BL166=\"\",Tables!RP20&Tables!RP21&Tables!RP22&Tables!RP23&Tables!RP24&Tables!RP25&Tables!RP26&Tables!RP27&Tables!RP28&Tables!RP29&Tables!RP30&Tables!RP31,BL166))","v":""},null,null,null,null,null,null,null,{"$f":"IF(BT$137=Tables!$PZ$3,\"\",IF(BT166=\"\",Tables!RX20&Tables!RX21&Tables!RX22&Tables!RX23&Tables!RX24&Tables!RX25&Tables!RX26&Tables!RX27&Tables!RX28&Tables!RX29&Tables!RX30&Tables!RX31,BT166))","v":""},null,null,null,null,null,null,null,{"$f":"IF(CB$137=Tables!$PZ$3,\"\",IF(CB166=\"\",Tables!SF20&Tables!SF21&Tables!SF22&Tables!SF23&Tables!SF24&Tables!SF25&Tables!SF26&Tables!SF27&Tables!SF28&Tables!SF29&Tables!SF30&Tables!SF31,CB166))","v":""},null,null,null,null,null,null,null,{"$f":"IF(CJ$137=Tables!$PZ$3,\"\",IF(CJ166=\"\",Tables!SN20&Tables!SN21&Tables!SN22&Tables!SN23&Tables!SN24&Tables!SN25&Tables!SN26&Tables!SN27&Tables!SN28&Tables!SN29&Tables!SN30&Tables!SN31,CJ166))","v":""}]
[null,"RINGS"]
[null,"LEFT HAND",null,null,null,null,null,null,null,null,null,null,null,null,null,null,null,null,null,null,null,null,null,"OVERRIDES"]
[null,null,null,null,null,null,null,null,null,null,null,null,null,null,null,null,null,null,null,null,null,null,null,"NAME"]
[null,"HANDS"]
[null,"GLOVES OR GAUNTLETS",null,null,null,null,null,null,null,null,null,null,null,null,null,null,null,null,null,null,null,null,null,"GROUP",null,null,null,null,null,null,null,null,null,null,null,null,null,null,null,null,null,null,null,null,null,null,"OVERRIDES"]
[null,null,null,null,null,null,null,null,null,null,null,null,null,null,null,null,null,null,null,null,null,null,null,"PROFICIENT",null,null,null,null,null,null,null,null,null,null,null,null,null,null,null,null,null,null,"NAME"]
[null,"ARMS / WRISTS",null,null,null,null,null,null,null,null,null,null,null,null,null,null,null,null,null,null,null,null,null,"ARMOR CLASS"]
[null,"BRACERS OR BRACLETS",null,null,null,null,null,null,null,null,null,null,null,null,null,null,null,null,null,null,null,null,null,"DEX MODIFIER",null,null,null,null,null,null,null,null,null,null,null,null,null,null,null,null,null,null,null,null,null,null,"GROUP"]
[null,null,null,null,null,null,null,null,null,null,null,null,null,null,null,null,null,null,null,null,null,null,null,"STRENGTH",null,null,null,null,null,null,null,null,null,null,null,null,null,null,null,null,null,null,null,null,null,null,"PROFICIENT"]
[null,"BODY",null,null,null,null,null,null,null,null,null,null,null,null,null,null,null,null,null,null,null,null,null,"STEALTH",null,null,null,null,null,null,null,null,null,null,null,null,null,null,null,null,null,null,null,null,null,null,"ATTACK BONUS"]
[null,"ROBE OR SUIT OF ARMOR",null,null,null,null,null,null,null,null,null,null,null,null,null,null,null,null,null,null,null,null,null,"WEIGHT",null,null,null,null,null,null,null,null,null,null,null,null,null,null,null,null,null,null,null,null,null,null,"DAMAGE"]
[null,null,null,null,null,null,null,null,null,null,null,null,null,null,null,null,null,null,null,null,null,null,null,"PROPERTIES",null,null,null,null,null,null,null,null,null,null,null,null,null,null,null,null,null,null,null,null,null,null,"TYPE"]
[null,"TORSO",null,null,null,null,null,null,null,null,null,null,null,null,null,null,null,null,null,null,null,null,null,null,null,null,null,null,null,null,null,null,null,null,null,null,null,null,null,null,null,null,null,null,null,null,"RANGE"]
[null,"VEST, VESTMENT, OR SHIRT",null,null,null,null,null,null,null,null,null,null,null,null,null,null,null,null,null,null,null,null,null,null,null,null,null,null,null,null,null,null,null,null,null,null,null,null,null,null,null,null,null,null,null,null,"WEIGHT"]
[null,null,null,null,null,null,null,null,null,null,null,null,null,null,null,null,null,null,null,null,null,null,null,null,null,null,null,null,null,null,null,null,null,null,null,null,null,null,null,null,null,null,null,null,null,null,"PROPERTIES"]
[null,"WAIST"]
[null,"BELT OR GIRDLE",null,null,null,null,null,null,null,null,null,null,null,null,null,null,null,null,null,null,null,null,null,"OTHER ARMOR"]
[null,null,null,null,null,null,null,null,null,null,null,null,null,null,null,null,null,null,null,null,null,null,null,"DAMAGE REDUCTION"]
[null,"FEET",null,null,null,null,null,null,null,null,null,null,null,null,null,null,null,null,null,null,null,null,null,"DAMAGE RESISTANCE"]
[null,"BOOTS, SHOES, OR SLIPPERS",null,null,null,null,null,null,null,null,null,null,null,null,null,null,null,null,null,null,null,null,null,null,{"$f":"IF(COUNTIF(Tables!GA2:GA5,Tables!FX26)>0,\"FIGHTING STYLE: DEFENSE\n+1 AC WEARING ARMOR\",\"\")","v":""}]

{"sheet":"Spellcasting","index":1,"n_rows":99,"n_cols":95,"rows_kept":99,"cut":false,"hidden":false,"merged":[[4,54,4,55],[31,26,31,27],[31,40,31,41],[31,54,31,55],[4,68,4,69],[4,82,4,83],[31,82,31,83],[31,68,31,69],[5,54,5,55],[5,24,5,26],[22,56,22,65],[23,54,23,55],[23,56,23,65],[24,54,24,55],[24,56,24,65],[4,70,4,79],[5,68,5,69],[5,70,5,79],[6,68,6,69],[6,70,6,79],[7,68,7,69],[14,54,14,55],[4,42,4,51],[20,28,20,37],[97,2,97,3],[69,2,69,6],[65,2,65,4],[5,7,5,9],[6,7,6,9],[7,7,7,9],[7,28,7,37],[9,28,9,37],[10,28,10,37],[11,28,11,37],[17,20,18,21],[17,14,18,19],[19,28,19,37],[40,5,40,9],[17,10,18,11],[31,28,31,37],[14,28,14,37],[16,16,16,17],[43,2,43,4],[43,26,43,27],[65,5,65,8],[61,2,61,6],[67,2,67,5],[48,2,51,21],[67,6,67,9],[42,28,42,37],[57,61,99,94],[59,5,59,10],[33,2,36,22],[30,5,31,21],[30,2,31,4],[45,5,46,21],[45,2,46,4],[57,49,57,59],[70,2,96,13],[70,49,96,60],[56,61,56,68],[59,49,59,51],[59,52,59,57],[61,49,61,53],[63,49,63,53],[63,54,63,57],[57,2,57,12],[32,26,32,27],[32,28,32,37],[67,49,67,52],[45,26,45,27],[45,28,45,37],[67,53,67,56],[22,54,22,55],[20,54,20,55],[6,54,6,55],[7,54,7,55],[8,54,8,55],[9,54,9,55],[15,54,15,55],[18,40,18,41],[18,42,18,51],[19,42,19,51],[19,40,19,41],[13,42,13,51],[15,42,15,51],[16,42,16,51],[17,42,17,51],[65,52,65,55],[32,54,32,55],[42,56,42,65],[9,56,9,65],[37,56,37,65],[38,54,38,55],[65,49,65,51],[19,54,19,55],[69,49,69,53],[57,14,99,47],[37,28,37,37],[43,54,43,55],[47,2,47,4],[43,5,43,21],[44,2,44,4],[42,5,42,21],[46,26,46,27],[42,42,42,51],[41,42,41,51],[41,28,41,37],[39,26,39,27],[39,28,39,37],[40,26,40,27],[42,26,42,27],[41,54,41,55],[43,28,43,37],[42,40,42,41],[43,40,43,41],[43,42,43,51],[44,26,44,27],[44,28,44,37],[41,26,41,27],[69,54,69,57],[98,2,98,3],[32,56,32,65],[44,5,44,21],[39,2,39,3],[39,5,39,6],[38,2,38,3],[47,28,47,37],[35,42,35,51],[36,54,36,55],[36,56,36,65],[56,14,56,21],[69,7,69,10],[63,7,63,10],[63,2,63,6],[59,2,59,4],[33,26,33,27],[33,28,33,37],[37,54,37,55],[35,56,35,65],[41,40,41,41],[42,54,42,55],[43,56,43,65],[40,28,40,37],[23,28,23,37],[15,14,15,15],[15,18,15,19],[15,16,15,17],[16,14,16,15],[23,18,23,19],[34,26,34,27],[6,28,6,37],[12,28,12,37],[13,28,13,37],[34,28,34,37],[22,13,22,21],[8,28,8,37],[23,14,23,15],[23,16,23,17],[25,2,25,4],[29,5,29,21],[28,5,28,21],[17,2,18,9],[27,2,27,4],[28,2,28,4],[24,2,24,3],[24,5,24,6],[29,2,29,4],[38,56,38,65],[18,54,18,55],[16,54,16,55],[21,54,21,55],[17,54,17,55],[21,56,21,65],[15,2,15,3],[15,4,15,5],[16,4,16,5],[16,12,16,13],[16,18,16,19],[15,6,15,7],[32,2,32,4],[15,8,15,9],[16,2,16,3],[22,11,22,12],[22,2,22,4],[25,5,25,7],[26,5,26,7],[17,56,17,65],[33,40,33,41],[26,2,26,4],[22,5,22,9],[33,42,33,51],[39,54,39,55],[39,56,39,65],[41,5,41,9],[40,2,40,4],[41,2,41,4],[39,8,39,9],[39,10,39,11],[39,12,39,13],[39,14,39,15],[39,16,39,17],[39,18,39,19],[39,40,39,41],[18,68,18,69],[19,56,19,65],[18,56,18,65],[15,56,15,65],[17,40,17,41],[5,84,5,93],[12,84,12,93],[13,84,13,93],[14,84,14,93],[14,70,14,79],[18,82,18,83],[18,70,18,79],[5,82,5,83],[11,82,11,83],[11,84,11,93],[9,70,9,79],[12,70,12,79],[8,70,8,79],[15,84,15,93],[16,82,16,83],[16,84,16,93],[17,82,17,83],[17,84,17,93],[18,84,18,93],[19,82,19,83],[19,84,19,93],[20,82,20,83],[20,84,20,93],[15,82,15,83],[35,54,35,55],[5,56,5,65],[4,56,4,65],[12,68,12,69],[7,70,7,79],[8,68,8,69],[20,68,20,69],[20,70,20,79],[15,68,15,69],[15,70,15,79],[16,68,16,69],[16,70,16,79],[17,68,17,69],[17,70,17,79],[20,56,20,65],[19,68,19,69],[19,70,19,79],[16,56,16,65],[25,84,25,93],[34,40,34,41],[32,40,32,41],[22,40,22,41],[23,40,23,41],[35,40,35,41],[33,54,33,55],[33,56,33,65],[34,54,34,55],[34,56,34,65],[26,55,29,65],[39,84,39,93],[38,84,38,93],[39,82,39,83],[38,68,38,69],[39,70,39,79],[40,70,40,79],[34,84,34,93],[35,84,35,93],[34,82,34,83],[34,68,34,69],[34,70,34,79],[35,70,35,79],[39,68,39,69],[38,82,38,83],[36,70,36,79],[37,70,37,79],[38,70,38,79],[37,68,37,69],[24,82,24,83],[24,84,24,93],[31,70,31,79],[32,70,32,79],[24,68,24,69],[24,70,24,79],[37,82,37,83],[31,84,31,93],[32,82,32,83],[32,84,32,93],[32,68,32,69],[35,68,35,69],[35,82,35,83],[33,84,33,93],[37,84,37,93],[36,68,36,69],[36,84,36,93],[36,82,36,83],[22,82,22,83],[22,84,22,93],[23,82,23,83],[23,84,23,93],[21,68,21,69],[21,70,21,79],[22,68,22,69],[22,70,22,79],[23,68,23,69],[23,70,23,79],[21,84,21,93],[21,82,21,83],[7,84,7,93],[8,82,8,83],[8,84,8,93],[9,82,9,83],[9,84,9,93],[10,84,10,93],[10,82,10,83],[4,28,4,33],[14,40,14,41],[5,28,5,37],[4,40,4,41],[4,84,4,93],[6,56,6,65],[7,56,7,65],[8,56,8,65],[6,84,6,93],[7,82,7,83],[12,54,12,55],[10,54,10,55],[10,56,10,65],[11,54,11,55],[12,56,12,65],[13,54,13,55],[13,56,13,65],[6,82,6,83],[12,82,12,83],[13,82,13,83],[14,68,14,69],[15,40,15,41],[16,40,16,41],[14,42,14,51],[5,42,5,51],[6,42,6,51],[7,42,7,51],[8,42,8,51],[9,42,9,51],[10,42,10,51],[11,42,11,51],[12,42,12,51],[5,40,5,41],[6,40,6,41],[7,40,7,41],[8,40,8,41],[9,40,9,41],[10,40,10,41],[11,40,11,41],[12,40,12,41],[13,40,13,41],[14,82,14,83],[9,68,9,69],[14,56,14,65],[13,68,13,69],[13,70,13,79],[11,70,11,79],[10,68,10,69],[10,70,10,79],[11,68,11,69],[11,56,11,65],[3,17,3,18],[16,6,16,7],[16,8,16,9],[16,10,16,11],[23,8,23,9],[23,10,23,11],[23,12,23,13],[3,9,3,10],[14,2,14,10],[10,6,10,7],[11,8,11,9],[12,8,12,9],[10,3,10,5],[10,8,10,9],[12,3,12,5],[12,6,12,7],[11,3,11,5],[11,6,11,7],[7,3,7,5],[6,3,6,5],[5,3,5,5],[23,2,23,3],[15,10,15,11],[15,12,15,13],[48,27,51,37],[25,28,25,37],[46,28,46,37],[38,8,38,9],[38,10,38,11],[38,12,38,13],[38,14,38,15],[38,16,38,17],[38,18,38,19],[27,5,27,21],[36,26,36,27],[35,28,35,37],[37,26,37,27],[35,26,35,27],[38,5,38,6],[36,28,36,37],[38,26,38,27],[38,28,38,37],[42,2,42,4],[23,5,23,6],[25,42,25,51],[25,56,25,65],[25,70,25,79],[40,40,40,41],[38,40,38,41],[41,82,41,83],[33,68,33,69],[40,82,40,83],[33,82,33,83],[33,70,33,79],[41,56,41,65],[39,42,39,51],[40,42,40,51],[40,56,40,65],[40,54,40,55],[37,40,37,41],[37,42,37,51],[34,42,34,51],[36,40,36,41],[36,42,36,51],[38,42,38,51],[40,68,40,69],[41,84,41,93],[41,68,41,69],[41,70,41,79],[31,56,31,65],[40,84,40,93],[17,28,17,37],[18,28,18,37],[16,27,16,37],[26,28,26,37],[22,27,22,37],[26,41,29,51],[26,69,29,79],[26,83,29,93],[24,28,24,37],[20,42,20,51],[20,40,20,41],[21,40,21,41],[21,42,21,51],[24,40,24,41],[23,42,23,51],[24,42,24,51],[22,42,22,51],[31,42,31,51],[32,42,32,51]]}
[]
[null,"SPELL CASTING",null,null,null,null,null,null,null,null,null,null,null,null,null,null,null,null,null,null,null,null,null,null,"SPELLS PREPARED / KNOWN"]
[null,null,null,null,null,null,null,null,null,null,null,null,null,null,null,null,null,null,null,null,null,null,null,null,null,null,null,null,null,null,null,null,null,null,null,null,null,null,null,null,null,null,null,null,null,"PREPARED / KNOWN",{"$f":"COUNTIF(AO6:AP25,\"•\")+COUNTIF(BC6:BD25,\"•\")+COUNTIF(BQ6:BR25,\"•\")+COUNTIF(CE6:CF25,\"•\")+COUNTIF(Spellcasting!AA33:AB47,\"•\")+COUNTIF(Spellcasting!AO33:AP44,\"•\")+COUNTIF(Spellcasting!BC33:BD44,\"•\")+COUNTIF(Spellcasting!BQ33:BR42,\"•\")+COUNTIF(Spellcasting!CE33:CF42,\"•\")-IF(BardLoreLevel>=6,2,0)-BA27-BO27-CC27-CQ27-AM49","v":0},"OF",{"$f":"SUM(G6:G8)","v":0},null,"TYPE THE NAME OF THE SPELL FOR SPELLS NOT IN YOUR CLASS LIST",null,null,null,null,null,null,null,null,null,null,null,null,null,null,null,null,null,null,null,null,null,null,null,null,null,null,null,null,null,null,null,null,null,null,null,null,null,null,null,null,null,null,{"$f":"IF(ClericLevel>=1,\"ᵈ DOMAIN SPELL   \",\"\")&IF(PaladinLevel>=2,\"ᵒ OATH SPELL   \",\"\")&IF(DruidLandLevel>=3,\"ᶜ CIRCLE SPELL\",\"\")","v":""}]
[null,null,"SPELLCASTING LEVEL",null,null,null,null,null,null,{"$f":"IF(Tables!JX3=0,\"-\",Tables!JX3)","v":"-"},null,"PACT MAGIC LEVEL",null,null,null,null,null,{"$f":"IF(WarlockLevel=0,\"-\",WarlockLevel)","v":"-"}]
[null,null,"SPELLS PREPARED / KNOWN",null,null,null,null,null,null,null,null,null,null,null,null,null,null,{"$f":"R6&R7&R8","v":""},null,null,null,null,null,null,null,null,null,null,{"$f":"IF(CasterLevel>0,\"CANTRIPS KNOWN\",\"\")","v":"CANTRIPS KNOWN"},null,null,null,null,null,{"$f":"IF(CasterLevel>0,COUNTIF(AC6:AL15,\"<>\"),\"\")","v":0},"OF",{"$f":"IF(CasterLevel<>\"\",Tables!JX13+IF(OR(Subrace=\"High\",Subrace=\"Forest\",Race=\"Tiefling\",Race=\"Aasimar\"),1,0)+IF(ClericLightLevel>0,1,0)+IF(ClericNatureLevel>0,1,0)+IF(DruidLandLevel>=2,1,0),0)","v":0},null,null,null,"PREP",null,"LEVEL 1",null,null,null,null,null,null,null,null,null,null,null,"PREP",null,"LEVEL 2",null,null,null,null,null,null,null,null,null,null,null,"PREP",null,"LEVEL 3",null,null,null,null,null,null,null,null,null,null,null,"PREP",null,"LEVEL 4"]
[null,null,null,{"$f":"SpellcasterClass1","v":""},null,null,{"$f":"IF(OR($D6=\"\",CasterLevel=\"\"),\"\",VLOOKUP($D6,Tables!$JY$3:$KB$22,4,FALSE))","v":""},{"$f":"IF(OR($D6=\"\",CasterLevel=\"\"),\"\",VLOOKUP($D6,Tables!$JY$3:$KB$22,3,FALSE))","v":""},null,null,null,null,null,null,null,null,null,{"$f":"IF(D6=\"\",\"\",IF(COUNTIF($D$5:$D5,\"><\"\"\")>0,\" / \"&G6,G6))","v":""},null,null,null,null,null,null,{"$f":"IF(Race=\"Tiefling\",\"Tiefling\",IF(Race=\"Aasimar\",\"Aasimar\",IF(Subrace=\"High\",\"High Elf\",IF(Subrace=\"Forest\",\"Forest Gnome\",\"\"))))","v":""},null,null,1,null,null,null,null,null,null,null,null,null,null,null,1,null,null,"",null,null,null,null,null,null,null,null,null,{"$f":"IF(ISERROR(VLOOKUP(AQ6,Tables!$TK:$UB,Tables!$TP$1,FALSE)),\"\",VLOOKUP(AQ6,Tables!$TK:$UB,Tables!$TP$1,FALSE))","v":""},1,null,null,null,null,null,null,null,null,null,null,null,null,{"$f":"IF(ISERROR(VLOOKUP(BE6,Tables!$TK:$UB,Tables!$TP$1,FALSE)),\"\",VLOOKUP(BE6,Tables!$TK:$UB,Tables!$TP$1,FALSE))","v":""},1,null,null,null,null,null,null,null,null,null,null,null,null,{"$f":"IF(ISERROR(VLOOKUP(BS6,Tables!$TK:$UB,Tables!$TP$1,FALSE)),\"\",VLOOKUP(BS6,Tables!$TK:$UB,Tables!$TP$1,FALSE))","v":""},1,null,null,null,null,null,null,null,null,null,null,null,null,{"$f":"IF(ISERROR(VLOOKUP(CG6,Tables!$TK:$UB,Tables!$TP$1,FALSE)),\"\",VLOOKUP(CG6,Tables!$TK:$UB,Tables!$TP$1,FALSE))","v":""}]
[null,null,null,{"$f":"SpellcasterClass2","v":""},null,null,{"$f":"IF(OR($D7=\"\",CasterLevel=\"\"),\"\",VLOOKUP($D7,Tables!$JY$3:$KB$22,4,FALSE))","v":""},{"$f":"IF(OR($D7=\"\",CasterLevel=\"\"),\"\",VLOOKUP($D7,Tables!$JY$3:$KB$22,3,FALSE))","v":""},null,null,null,null,null,null,null,null,null,{"$f":"IF(D7=\"\",\"\",IF(COUNTIF($D$5:$D6,\"><\"\"\")>0,\" / \"&G7,G7))","v":""},null,null,null,null,null,null,null,null,null,2,null,null,null,null,null,null,null,null,null,null,null,2,null,null,"",null,null,null,null,null,null,null,null,null,{"$f":"IF(ISERROR(VLOOKUP(AQ7,Tables!$TK:$UB,Tables!$TP$1,FALSE)),\"\",VLOOKUP(AQ7,Tables!$TK:$UB,Tables!$TP$1,FALSE))","v":""},2,null,null,null,null,null,null,null,null,null,null,null,null,{"$f":"IF(ISERROR(VLOOKUP(BE7,Tables!$TK:$UB,Tables!$TP$1,FALSE)),\"\",VLOOKUP(BE7,Tables!$TK:$UB,Tables!$TP$1,FALSE))","v":""},2,null,null,null,null,null,null,null,null,null,null,null,null,{"$f":"IF(ISERROR(VLOOKUP(BS7,Tables!$TK:$UB,Tables!$TP$1,FALSE)),\"\",VLOOKUP(BS7,Tables!$TK:$UB,Tables!$TP$1,FALSE))","v":""},2,null,null,null,null,null,null,null,null,null,null,null,null,{"$f":"IF(ISERROR(VLOOKUP(CG7,Tables!$TK:$UB,Tables!$TP$1,FALSE)),\"\",VLOOKUP(CG7,Tables!$TK:$UB,Tables!$TP$1,FALSE))","v":""}]
[null,null,null,{"$f":"SpellcasterClass3","v":""},null,null,{"$f":"IF(OR($D8=\"\",CasterLevel=\"\"),\"\",VLOOKUP($D8,Tables!$JY$3:$KB$22,4,FALSE))","v":""},{"$f":"IF(OR($D8=\"\",CasterLevel=\"\"),\"\",VLOOKUP($D8,Tables!$JY$3:$KB$22,3,FALSE))","v":""},null,null,null,null,null,null,null,null,null,{"$f":"IF(D8=\"\",\"\",IF(COUNTIF($D$5:$D7,\"><\"\"\")>0,\" / \"&G8,G8))","v":""},null,null,null,null,null,null,null,null,null,3,null,null,null,null,null,null,null,null,null,null,null,3,null,null,null,null,null,null,null,null,null,null,null,null,{"$f":"IF(ISERROR(VLOOKUP(AQ8,Tables!$TK:$UB,Tables!$TP$1,FALSE)),\"\",VLOOKUP(AQ8,Tables!$TK:$UB,Tables!$TP$1,FALSE))","v":""},3,null,null,null,null,null,null,null,null,null,null,null,null,{"$f":"IF(ISERROR(VLOOKUP(BE8,Tables!$TK:$UB,Tables!$TP$1,FALSE)),\"\",VLOOKUP(BE8,Tables!$TK:$UB,Tables!$TP$1,FALSE))","v":""},3,null,null,null,null,null,null,null,null,null,null,null,null,{"$f":"IF(ISERROR(VLOOKUP(BS8,Tables!$TK:$UB,Tables!$TP$1,FALSE)),\"\",VLOOKUP(BS8,Tables!$TK:$UB,Tables!$TP$1,FALSE))","v":""},3,null,null,null,null,null,null,null,null,null,null,null,null,{"$f":"IF(ISERROR(VLOOKUP(CG8,Tables!$TK:$UB,Tables!$TP$1,FALSE)),\"\",VLOOKUP(CG8,Tables!$TK:$UB,Tables!$TP$1,FALSE))","v":""}]
[null,null,null,null,null,null,null,null,null,null,null,null,null,null,null,null,null,null,null,null,null,null,null,null,null,null,null,4,null,null,null,null,null,null,null,null,null,null,null,4,null,null,null,null,null,null,null,null,null,null,null,null,{"$f":"IF(ISERROR(VLOOKUP(AQ9,Tables!$TK:$UB,Tables!$TP$1,FALSE)),\"\",VLOOKUP(AQ9,Tables!$TK:$UB,Tables!$TP$1,FALSE))","v":""},4,null,null,null,null,null,null,null,null,null,null,null,null,{"$f":"IF(ISERROR(VLOOKUP(BE9,Tables!$TK:$UB,Tables!$TP$1,FALSE)),\"\",VLOOKUP(BE9,Tables!$TK:$UB,Tables!$TP$1,FALSE))","v":""},4,null,null,null,null,null,null,null,null,null,null,null,null,{"$f":"IF(ISERROR(VLOOKUP(BS9,Tables!$TK:$UB,Tables!$TP$1,FALSE)),\"\",VLOOKUP(BS9,Tables!$TK:$UB,Tables!$TP$1,FALSE))","v":""},4,null,null,null,null,null,null,null,null,null,null,null,null,{"$f":"IF(ISERROR(VLOOKUP(CG9,Tables!$TK:$UB,Tables!$TP$1,FALSE)),\"\",VLOOKUP(CG9,Tables!$TK:$UB,Tables!$TP$1,FALSE))","v":""}]
[null,null,"SPELL SAVE DC",null,null,null,null,null,null,null,null,null,null,null,null,null,{"$f":"Q11&Q12&Q13","v":""},{"$f":"R11&R12&R13","v":""},{"$f":"S11&S12&S13","v":""},null,null,null,null,null,null,null,null,5,null,null,null,null,null,null,null,null,null,null,null,5,null,null,null,null,null,null,null,null,null,null,null,null,{"$f":"IF(ISERROR(VLOOKUP(AQ10,Tables!$TK:$UB,Tables!$TP$1,FALSE)),\"\",VLOOKUP(AQ10,Tables!$TK:$UB,Tables!$TP$1,FALSE))","v":""},5,null,null,null,null,null,null,null,null,null,null,null,null,{"$f":"IF(ISERROR(VLOOKUP(BE10,Tables!$TK:$UB,Tables!$TP$1,FALSE)),\"\",VLOOKUP(BE10,Tables!$TK:$UB,Tables!$TP$1,FALSE))","v":""},5,null,null,null,null,null,null,null,null,null,null,null,null,{"$f":"IF(ISERROR(VLOOKUP(BS10,Tables!$TK:$UB,Tables!$TP$1,FALSE)),\"\",VLOOKUP(BS10,Tables!$TK:$UB,Tables!$TP$1,FALSE))","v":""},5,null,null,null,null,null,null,null,null,null,null,null,null,{"$f":"IF(ISERROR(VLOOKUP(CG10,Tables!$TK:$UB,Tables!$TP$1,FALSE)),\"\",VLOOKUP(CG10,Tables!$TK:$UB,Tables!$TP$1,FALSE))","v":""}]
[null,null,1,{"$f":"IF(ISERROR(VLOOKUP($C11,$K$11:$P$13,2,FALSE)),\"\",VLOOKUP($C11,$K$11:$P$13,2,FALSE))","v":""},null,null,{"$f":"IF(ISERROR(VLOOKUP($C11,$K$11:$P$13,4,FALSE)),\"\",VLOOKUP($C11,$K$11:$P$13,4,FALSE))","v":""},null,{"$f":"IF(D11=\"\",\"\",8+INDIRECT(TEXT(G11&\"Mod\",0))+ProfBonus)","v":""},null,{"$f":"IF(Tables!BO3=\"\",\"\",MAX($K$10:K10)+1)","v":""},{"$f":"Tables!BO3","v":""},null,{"$f":"Tables!BP3","v":""},null,{"$f":"IF(G11=\"\",\"\",INDIRECT(TEXT(G11&\"Mod\",0)))","v":""},{"$f":"IF(D11=\"\",\"\",IF(COUNTIF($L$10:L10,\"><\"\"\")>0,\" / \"&TEXT(P11,\"+0;-0\"),TEXT(P11,\"+0;-0\")))","v":""},{"$f":"IF(D11=\"\",\"\",IF(COUNTIF($L$10:L10,\"><\"\"\")>0,\" / \"&G11,G11))","v":""},{"$f":"IF(D11=\"\",\"\",IF(COUNTIF($L$10:L10,\"><\"\"\")>0,\" / \"&I11,I11))","v":""},null,null,null,null,null,null,null,null,6,null,null,null,null,null,null,null,null,null,null,null,6,null,null,null,null,null,null,null,null,null,null,null,null,{"$f":"IF(ISERROR(VLOOKUP(AQ11,Tables!$TK:$UB,Tables!$TP$1,FALSE)),\"\",VLOOKUP(AQ11,Tables!$TK:$UB,Tables!$TP$1,FALSE))","v":""},6,null,null,null,null,null,null,null,null,null,null,null,null,{"$f":"IF(ISERROR(VLOOKUP(BE11,Tables!$TK:$UB,Tables!$TP$1,FALSE)),\"\",VLOOKUP(BE11,Tables!$TK:$UB,Tables!$TP$1,FALSE))","v":""},6,null,null,null,null,null,null,null,null,null,null,null,null,{"$f":"IF(ISERROR(VLOOKUP(BS11,Tables!$TK:$UB,Tables!$TP$1,FALSE)),\"\",VLOOKUP(BS11,Tables!$TK:$UB,Tables!$TP$1,FALSE))","v":""},6,null,null,null,null,null,null,null,null,null,null,null,null,{"$f":"IF(ISERROR(VLOOKUP(CG11,Tables!$TK:$UB,Tables!$TP$1,FALSE)),\"\",VLOOKUP(CG11,Tables!$TK:$UB,Tables!$TP$1,FALSE))","v":""}]
[null,null,2,{"$f":"IF(ISERROR(VLOOKUP($C12,$K$11:$P$13,2,FALSE)),\"\",VLOOKUP($C12,$K$11:$P$13,2,FALSE))","v":""},null,null,{"$f":"IF(ISERROR(VLOOKUP($C12,$K$11:$P$13,4,FALSE)),\"\",VLOOKUP($C12,$K$11:$P$13,4,FALSE))","v":""},null,{"$f":"IF(D12=\"\",\"\",8+INDIRECT(TEXT(G12&\"Mod\",0))+ProfBonus)","v":""},null,{"$f":"IF(Tables!BO4=\"\",\"\",MAX($K$10:K11)+1)","v":""},{"$f":"Tables!BO4","v":""},null,{"$f":"Tables!BP4","v":""},null,{"$f":"IF(G12=\"\",\"\",INDIRECT(TEXT(G12&\"Mod\",0)))","v":""},{"$f":"IF(D12=\"\",\"\",IF(COUNTIF($L$10:L11,\"><\"\"\")>0,\" / \"&TEXT(P12,\"+0;-0\"),TEXT(P12,\"+0;-0\")))","v":""},{"$f":"IF(D12=\"\",\"\",IF(COUNTIF($L$10:L11,\"><\"\"\")>0,\" / \"&G12,G12))","v":""},{"$f":"IF(D12=\"\",\"\",IF(COUNTIF($L$10:L11,\"><\"\"\")>0,\" / \"&I12,I12))","v":""},null,null,null,null,null,null,null,null,7,null,null,null,null,null,null,null,null,null,null,null,7,null,null,null,null,null,null,null,null,null,null,null,null,{"$f":"IF(ISERROR(VLOOKUP(AQ12,Tables!$TK:$UB,Tables!$TP$1,FALSE)),\"\",VLOOKUP(AQ12,Tables!$TK:$UB,Tables!$TP$1,FALSE))","v":""},7,null,null,null,null,null,null,null,null,null,null,null,null,{"$f":"IF(ISERROR(VLOOKUP(BE12,Tables!$TK:$UB,Tables!$TP$1,FALSE)),\"\",VLOOKUP(BE12,Tables!$TK:$UB,Tables!$TP$1,FALSE))","v":""},7,null,null,null,null,null,null,null,null,null,null,null,null,{"$f":"IF(ISERROR(VLOOKUP(BS12,Tables!$TK:$UB,Tables!$TP$1,FALSE)),\"\",VLOOKUP(BS12,Tables!$TK:$UB,Tables!$TP$1,FALSE))","v":""},7,null,null,null,null,null,null,null,null,null,null,null,null,{"$f":"IF(ISERROR(VLOOKUP(CG12,Tables!$TK:$UB,Tables!$TP$1,FALSE)),\"\",VLOOKUP(CG12,Tables!$TK:$UB,Tables!$TP$1,FALSE))","v":""}]
[null,null,3,{"$f":"IF(ISERROR(VLOOKUP($C13,$K$11:$P$13,2,FALSE)),\"\",VLOOKUP($C13,$K$11:$P$13,2,FALSE))","v":""},null,null,{"$f":"IF(ISERROR(VLOOKUP($C13,$K$11:$P$13,4,FALSE)),\"\",VLOOKUP($C13,$K$11:$P$13,4,FALSE))","v":""},null,{"$f":"IF(D13=\"\",\"\",8+INDIRECT(TEXT(G13&\"Mod\",0))+ProfBonus)","v":""},null,{"$f":"IF(Tables!BO5=\"\",\"\",MAX($K$10:K12)+1)","v":""},{"$f":"Tables!BO5","v":""},null,{"$f":"Tables!BP5","v":""},null,{"$f":"IF(G13=\"\",\"\",INDIRECT(TEXT(G13&\"Mod\",0)))","v":""},{"$f":"IF(D13=\"\",\"\",IF(COUNTIF($L$10:L12,\"><\"\"\")>0,\" / \"&TEXT(P13,\"+0;-0\"),TEXT(P13,\"+0;-0\")))","v":""},{"$f":"IF(D13=\"\",\"\",IF(COUNTIF($L$10:L12,\"><\"\"\")>0,\" / \"&G13,G13))","v":""},{"$f":"IF(D13=\"\",\"\",IF(COUNTIF($L$10:L12,\"><\"\"\")>0,\" / \"&I13,I13))","v":""},null,null,null,null,null,null,null,null,8,null,null,null,null,null,null,null,null,null,null,null,8,null,null,"",null,null,null,null,null,null,null,null,null,{"$f":"IF(ISERROR(VLOOKUP(AQ13,Tables!$TK:$UB,Tables!$TP$1,FALSE)),\"\",VLOOKUP(AQ13,Tables!$TK:$UB,Tables!$TP$1,FALSE))","v":""},8,null,null,null,null,null,null,null,null,null,null,null,null,{"$f":"IF(ISERROR(VLOOKUP(BE13,Tables!$TK:$UB,Tables!$TP$1,FALSE)),\"\",VLOOKUP(BE13,Tables!$TK:$UB,Tables!$TP$1,FALSE))","v":""},8,null,null,null,null,null,null,null,null,null,null,null,null,{"$f":"IF(ISERROR(VLOOKUP(BS13,Tables!$TK:$UB,Tables!$TP$1,FALSE)),\"\",VLOOKUP(BS13,Tables!$TK:$UB,Tables!$TP$1,FALSE))","v":""},8,null,null,null,null,null,null,null,null,null,null,null,null,{"$f":"IF(ISERROR(VLOOKUP(CG13,Tables!$TK:$UB,Tables!$TP$1,FALSE)),\"\",VLOOKUP(CG13,Tables!$TK:$UB,Tables!$TP$1,FALSE))","v":""}]
[null,null,null,null,null,null,null,null,null,null,null,null,null,null,null,null,null,null,null,null,null,null,null,null,null,null,null,9,null,null,null,null,null,null,null,null,null,null,null,9,null,null,null,null,null,null,null,null,null,null,null,null,{"$f":"IF(ISERROR(VLOOKUP(AQ14,Tables!$TK:$UB,Tables!$TP$1,FALSE)),\"\",VLOOKUP(AQ14,Tables!$TK:$UB,Tables!$TP$1,FALSE))","v":""},9,null,null,null,null,null,null,null,null,null,null,null,null,{"$f":"IF(ISERROR(VLOOKUP(BE14,Tables!$TK:$UB,Tables!$TP$1,FALSE)),\"\",VLOOKUP(BE14,Tables!$TK:$UB,Tables!$TP$1,FALSE))","v":""},9,null,null,null,null,null,null,null,null,null,null,null,null,{"$f":"IF(ISERROR(VLOOKUP(BS14,Tables!$TK:$UB,Tables!$TP$1,FALSE)),\"\",VLOOKUP(BS14,Tables!$TK:$UB,Tables!$TP$1,FALSE))","v":""},9,null,null,null,null,null,null,null,null,null,null,null,null,{"$f":"IF(ISERROR(VLOOKUP(CG14,Tables!$TK:$UB,Tables!$TP$1,FALSE)),\"\",VLOOKUP(CG14,Tables!$TK:$UB,Tables!$TP$1,FALSE))","v":""}]
[null,null,"SPELLS PER DAY",null,null,null,null,null,null,null,null,null,null,null,null,null,null,null,null,null,null,null,null,null,null,null,null,10,null,null,null,null,null,null,null,null,null,null,null,10,null,null,null,null,null,null,null,null,null,null,null,null,{"$f":"IF(ISERROR(VLOOKUP(AQ15,Tables!$TK:$UB,Tables!$TP$1,FALSE)),\"\",VLOOKUP(AQ15,Tables!$TK:$UB,Tables!$TP$1,FALSE))","v":""},10,null,null,null,null,null,null,null,null,null,null,null,null,{"$f":"IF(ISERROR(VLOOKUP(BE15,Tables!$TK:$UB,Tables!$TP$1,FALSE)),\"\",VLOOKUP(BE15,Tables!$TK:$UB,Tables!$TP$1,FALSE))","v":""},10,null,null,null,null,null,null,null,null,null,null,null,null,{"$f":"IF(ISERROR(VLOOKUP(BS15,Tables!$TK:$UB,Tables!$TP$1,FALSE)),\"\",VLOOKUP(BS15,Tables!$TK:$UB,Tables!$TP$1,FALSE))","v":""},10,null,null,null,null,null,null,null,null,null,null,null,null,{"$f":"IF(ISERROR(VLOOKUP(CG15,Tables!$TK:$UB,Tables!$TP$1,FALSE)),\"\",VLOOKUP(CG15,Tables!$TK:$UB,Tables!$TP$1,FALSE))","v":""}]
[null,null,1,null,2,null,3,null,4,null,5,null,6,null,7,null,8,null,9,null,null,null,null,null,null,null,null,null,null,null,null,null,null,null,null,null,null,null,null,11,null,null,null,null,null,null,null,null,null,null,null,null,{"$f":"IF(ISERROR(VLOOKUP(AQ16,Tables!$TK:$UB,Tables!$TP$1,FALSE)),\"\",VLOOKUP(AQ16,Tables!$TK:$UB,Tables!$TP$1,FALSE))","v":""},11,null,null,null,null,null,null,null,null,null,null,null,null,{"$f":"IF(ISERROR(VLOOKUP(BE16,Tables!$TK:$UB,Tables!$TP$1,FALSE)),\"\",VLOOKUP(BE16,Tables!$TK:$UB,Tables!$TP$1,FALSE))","v":""},11,null,null,null,null,null,null,null,null,null,null,null,null,{"$f":"IF(ISERROR(VLOOKUP(BS16,Tables!$TK:$UB,Tables!$TP$1,FALSE)),\"\",VLOOKUP(BS16,Tables!$TK:$UB,Tables!$TP$1,FALSE))","v":""},11,null,null,null,null,null,null,null,null,null,null,null,null,{"$f":"IF(ISERROR(VLOOKUP(CG16,Tables!$TK:$UB,Tables!$TP$1,FALSE)),\"\",VLOOKUP(CG16,Tables!$TK:$UB,Tables!$TP$1,FALSE))","v":""}]
[null,null,{"$f":"Tables!JN27","v":"-"},null,{"$f":"Tables!JO27","v":"-"},null,{"$f":"Tables!JP27","v":"-"},null,{"$f":"Tables!JQ27","v":"-"},null,{"$f":"Tables!JR27","v":"-"},null,{"$f":"Tables!JS27","v":"-"},null,{"$f":"Tables!JT27","v":"-"},null,{"$f":"Tables!JU27","v":"-"},null,{"$f":"Tables!JV27","v":"-"},null,null,null,null,null,null,null,null,"SPELL MASTERY / SIGNATURE SPELLS",null,null,null,null,null,null,null,null,null,null,null,12,null,null,null,null,null,null,null,null,null,null,null,null,{"$f":"IF(ISERROR(VLOOKUP(AQ17,Tables!$TK:$UB,Tables!$TP$1,FALSE)),\"\",VLOOKUP(AQ17,Tables!$TK:$UB,Tables!$TP$1,FALSE))","v":""},12,null,null,null,null,null,null,null,null,null,null,null,null,{"$f":"IF(ISERROR(VLOOKUP(BE17,Tables!$TK:$UB,Tables!$TP$1,FALSE)),\"\",VLOOKUP(BE17,Tables!$TK:$UB,Tables!$TP$1,FALSE))","v":""},12,null,null,null,null,null,null,null,null,null,null,null,null,{"$f":"IF(ISERROR(VLOOKUP(BS17,Tables!$TK:$UB,Tables!$TP$1,FALSE)),\"\",VLOOKUP(BS17,Tables!$TK:$UB,Tables!$TP$1,FALSE))","v":""},12,null,null,null,null,null,null,null,null,null,null,null,null,{"$f":"IF(ISERROR(VLOOKUP(CG17,Tables!$TK:$UB,Tables!$TP$1,FALSE)),\"\",VLOOKUP(CG17,Tables!$TK:$UB,Tables!$TP$1,FALSE))","v":""}]
[null,null,"SPELL RECOVERY LEVELS",null,null,null,null,null,null,null,{"$f":"IF(AND(WizardLevel>=1,DruidLandLevel>=2),ROUNDUP((WizardLevel+DruidLandLevel)/2,0),IF(WizardLevel>=1,ROUNDUP(WizardLevel/2,0),IF(DruidLandLevel>=2,ROUNDUP(DruidLandLevel/2,0),\"\")))","v":""},null,null,null,"SORCERY POINTS",null,null,null,null,null,{"$f":"IF(SorcererLevel>0,SorcererLevel,\"\")","v":""},null,null,null,null,null,{"$f":"IF(WizardLevel>=18,\"TRUE\",\"\")","v":""},"1st","Select…",null,null,null,null,null,null,null,null,null,null,13,null,null,null,null,null,null,null,null,null,null,null,null,{"$f":"IF(ISERROR(VLOOKUP(AQ18,Tables!$TK:$UB,Tables!$TP$1,FALSE)),\"\",VLOOKUP(AQ18,Tables!$TK:$UB,Tables!$TP$1,FALSE))","v":""},13,null,null,null,null,null,null,null,null,null,null,null,null,{"$f":"IF(ISERROR(VLOOKUP(BE18,Tables!$TK:$UB,Tables!$TP$1,FALSE)),\"\",VLOOKUP(BE18,Tables!$TK:$UB,Tables!$TP$1,FALSE))","v":""},13,null,null,null,null,null,null,null,null,null,null,null,null,{"$f":"IF(ISERROR(VLOOKUP(BS18,Tables!$TK:$UB,Tables!$TP$1,FALSE)),\"\",VLOOKUP(BS18,Tables!$TK:$UB,Tables!$TP$1,FALSE))","v":""},13,null,null,null,null,null,null,null,null,null,null,null,null,{"$f":"IF(ISERROR(VLOOKUP(CG18,Tables!$TK:$UB,Tables!$TP$1,FALSE)),\"\",VLOOKUP(CG18,Tables!$TK:$UB,Tables!$TP$1,FALSE))","v":""}]
[null,null,null,null,null,null,null,null,null,null,null,null,null,null,null,null,null,null,null,null,null,null,null,null,null,null,{"$f":"IF(WizardLevel>=18,\"TRUE\",\"\")","v":""},"2nd","Select…",null,null,null,null,null,null,null,null,null,null,14,null,null,null,null,null,null,null,null,null,null,null,null,{"$f":"IF(ISERROR(VLOOKUP(AQ19,Tables!$TK:$UB,Tables!$TP$1,FALSE)),\"\",VLOOKUP(AQ19,Tables!$TK:$UB,Tables!$TP$1,FALSE))","v":""},14,null,null,null,null,null,null,null,null,null,null,null,null,{"$f":"IF(ISERROR(VLOOKUP(BE19,Tables!$TK:$UB,Tables!$TP$1,FALSE)),\"\",VLOOKUP(BE19,Tables!$TK:$UB,Tables!$TP$1,FALSE))","v":""},14,null,null,null,null,null,null,null,null,null,null,null,null,{"$f":"IF(ISERROR(VLOOKUP(BS19,Tables!$TK:$UB,Tables!$TP$1,FALSE)),\"\",VLOOKUP(BS19,Tables!$TK:$UB,Tables!$TP$1,FALSE))","v":""},14,null,null,null,null,null,null,null,null,null,null,null,null,{"$f":"IF(ISERROR(VLOOKUP(CG19,Tables!$TK:$UB,Tables!$TP$1,FALSE)),\"\",VLOOKUP(CG19,Tables!$TK:$UB,Tables!$TP$1,FALSE))","v":""}]
[null,null,null,null,null,null,null,null,null,null,null,null,null,null,null,null,null,null,null,null,null,null,null,null,null,null,{"$f":"IF(WizardLevel>=20,\"TRUE\",\"\")","v":""},"3rd","Select…",null,null,null,null,null,null,null,null,null,null,15,null,null,null,null,null,null,null,null,null,null,null,null,{"$f":"IF(ISERROR(VLOOKUP(AQ20,Tables!$TK:$UB,Tables!$TP$1,FALSE)),\"\",VLOOKUP(AQ20,Tables!$TK:$UB,Tables!$TP$1,FALSE))","v":""},15,null,null,null,null,null,null,null,null,null,null,null,null,{"$f":"IF(ISERROR(VLOOKUP(BE20,Tables!$TK:$UB,Tables!$TP$1,FALSE)),\"\",VLOOKUP(BE20,Tables!$TK:$UB,Tables!$TP$1,FALSE))","v":""},15,null,null,null,null,null,null,null,null,null,null,null,null,{"$f":"IF(ISERROR(VLOOKUP(BS20,Tables!$TK:$UB,Tables!$TP$1,FALSE)),\"\",VLOOKUP(BS20,Tables!$TK:$UB,Tables!$TP$1,FALSE))","v":""},15,null,null,null,null,null,null,null,null,null,null,null,null,{"$f":"IF(ISERROR(VLOOKUP(CG20,Tables!$TK:$UB,Tables!$TP$1,FALSE)),\"\",VLOOKUP(CG20,Tables!$TK:$UB,Tables!$TP$1,FALSE))","v":""}]
[null,"FAMILIAR OR ANIMAL COMPANION",null,null,null,null,null,null,null,null,null,null,null,null,null,null,null,null,null,null,null,null,null,null,null,null,{"$f":"IF(WizardLevel>=20,\"TRUE\",\"\")","v":""},"3rd","Select…",null,null,null,null,null,null,null,null,null,null,16,null,null,null,null,null,null,null,null,null,null,null,null,{"$f":"IF(ISERROR(VLOOKUP(AQ21,Tables!$TK:$UB,Tables!$TP$1,FALSE)),\"\",VLOOKUP(AQ21,Tables!$TK:$UB,Tables!$TP$1,FALSE))","v":""},16,null,null,null,null,null,null,null,null,null,null,null,null,{"$f":"IF(ISERROR(VLOOKUP(BE21,Tables!$TK:$UB,Tables!$TP$1,FALSE)),\"\",VLOOKUP(BE21,Tables!$TK:$UB,Tables!$TP$1,FALSE))","v":""},16,null,null,null,null,null,null,null,null,null,null,null,null,{"$f":"IF(ISERROR(VLOOKUP(BS21,Tables!$TK:$UB,Tables!$TP$1,FALSE)),\"\",VLOOKUP(BS21,Tables!$TK:$UB,Tables!$TP$1,FALSE))","v":""},16,null,null,null,null,null,null,null,null,null,null,null,null,{"$f":"IF(ISERROR(VLOOKUP(CG21,Tables!$TK:$UB,Tables!$TP$1,FALSE)),\"\",VLOOKUP(CG21,Tables!$TK:$UB,Tables!$TP$1,FALSE))","v":""}]
[null,null,null,null,null,null,null,null,null,null,null,null,null,null,null,null,null,null,null,null,null,null,null,null,null,null,null,null,null,null,null,null,null,null,null,null,null,null,null,17,null,null,null,null,null,null,null,null,null,null,null,null,{"$f":"IF(ISERROR(VLOOKUP(AQ22,Tables!$TK:$UB,Tables!$TP$1,FALSE)),\"\",VLOOKUP(AQ22,Tables!$TK:$UB,Tables!$TP$1,FALSE))","v":""},17,null,null,null,null,null,null,null,null,null,null,null,null,{"$f":"IF(ISERROR(VLOOKUP(BE22,Tables!$TK:$UB,Tables!$TP$1,FALSE)),\"\",VLOOKUP(BE22,Tables!$TK:$UB,Tables!$TP$1,FALSE))","v":""},17,null,null,null,null,null,null,null,null,null,null,null,null,{"$f":"IF(ISERROR(VLOOKUP(BS22,Tables!$TK:$UB,Tables!$TP$1,FALSE)),\"\",VLOOKUP(BS22,Tables!$TK:$UB,Tables!$TP$1,FALSE))","v":""},17,null,null,null,null,null,null,null,null,null,null,null,null,{"$f":"IF(ISERROR(VLOOKUP(CG22,Tables!$TK:$UB,Tables!$TP$1,FALSE)),\"\",VLOOKUP(CG22,Tables!$TK:$UB,Tables!$TP$1,FALSE))","v":""}]
[null,null,"SELECT",null,null,"Select…",null,null,null,null,null,"NAME",null,null,null,null,null,null,null,null,null,null,null,null,null,null,null,"SORCERER METAMAGICS",null,null,null,null,null,null,null,null,null,null,null,18,null,null,null,null,null,null,null,null,null,null,null,null,{"$f":"IF(ISERROR(VLOOKUP(AQ23,Tables!$TK:$UB,Tables!$TP$1,FALSE)),\"\",VLOOKUP(AQ23,Tables!$TK:$UB,Tables!$TP$1,FALSE))","v":""},18,null,null,null,null,null,null,null,null,null,null,null,null,{"$f":"IF(ISERROR(VLOOKUP(BE23,Tables!$TK:$UB,Tables!$TP$1,FALSE)),\"\",VLOOKUP(BE23,Tables!$TK:$UB,Tables!$TP$1,FALSE))","v":""},18,null,null,null,null,null,null,null,null,null,null,null,null,{"$f":"IF(ISERROR(VLOOKUP(BS23,Tables!$TK:$UB,Tables!$TP$1,FALSE)),\"\",VLOOKUP(BS23,Tables!$TK:$UB,Tables!$TP$1,FALSE))","v":""},18,null,null,null,null,null,null,null,null,null,null,null,null,{"$f":"IF(ISERROR(VLOOKUP(CG23,Tables!$TK:$UB,Tables!$TP$1,FALSE)),\"\",VLOOKUP(CG23,Tables!$TK:$UB,Tables!$TP$1,FALSE))","v":""}]
[null,null,"AC",null,null,"HP",null,null,"STR",null,"DEX",null,"CON",null,"INT",null,"WIS",null,"CHA",null,null,null,null,null,null,null,null,{"$f":"Tables!IE4","v":"3rd"},"Select…",null,null,null,null,null,null,null,null,null,null,19,null,null,null,null,null,null,null,null,null,null,null,null,{"$f":"IF(ISERROR(VLOOKUP(AQ24,Tables!$TK:$UB,Tables!$TP$1,FALSE)),\"\",VLOOKUP(AQ24,Tables!$TK:$UB,Tables!$TP$1,FALSE))","v":""},19,null,null,null,null,null,null,null,null,null,null,null,null,{"$f":"IF(ISERROR(VLOOKUP(BE24,Tables!$TK:$UB,Tables!$TP$1,FALSE)),\"\",VLOOKUP(BE24,Tables!$TK:$UB,Tables!$TP$1,FALSE))","v":""},19,null,null,null,null,null,null,null,null,null,null,null,null,{"$f":"IF(ISERROR(VLOOKUP(BS24,Tables!$TK:$UB,Tables!$TP$1,FALSE)),\"\",VLOOKUP(BS24,Tables!$TK:$UB,Tables!$TP$1,FALSE))","v":""},19,null,null,null,null,null,null,null,null,null,null,null,null,{"$f":"IF(ISERROR(VLOOKUP(CG24,Tables!$TK:$UB,Tables!$TP$1,FALSE)),\"\",VLOOKUP(CG24,Tables!$TK:$UB,Tables!$TP$1,FALSE))","v":""}]
[null,null,{"$f":"IF(C40=\"\",Tables!XQ2,C40)","v":""},null,null,{"$f":"IF(F40=\"\",Tables!XR2,F40)","v":""},null,null,{"$f":"IF(I40=\"\",Tables!XT2,I40)","v":""},{"$f":"IF($F$23=SelectText,\"\",IF(I40=\"\",\"(\"&TEXT((I25-10)/2,\"+0;-0\")&\")\",\"(\"&TEXT((I40-10)/2,\"+0;-0\")&\")\"))","v":""},{"$f":"IF(K40=\"\",Tables!XU2,K40)","v":""},{"$f":"IF($F$23=SelectText,\"\",IF(L40=\"\",\"(\"&TEXT((K25-10)/2,\"+0;-0\")&\")\",\"(\"&TEXT((L40-10)/2,\"+0;-0\")&\")\"))","v":""},{"$f":"IF(M40=\"\",Tables!XV2,M40)","v":""},{"$f":"IF($F$23=SelectText,\"\",IF(N40=\"\",\"(\"&TEXT((M25-10)/2,\"+0;-0\")&\")\",\"(\"&TEXT((N40-10)/2,\"+0;-0\")&\")\"))","v":""},{"$f":"IF(O40=\"\",Tables!XW2,O40)","v":""},{"$f":"IF($F$23=SelectText,\"\",IF(P40=\"\",\"(\"&TEXT((O25-10)/2,\"+0;-0\")&\")\",\"(\"&TEXT((P40-10)/2,\"+0;-0\")&\")\"))","v":""},{"$f":"IF(Q40=\"\",Tables!XX2,Q40)","v":""},{"$f":"IF($F$23=SelectText,\"\",IF(R40=\"\",\"(\"&TEXT((Q25-10)/2,\"+0;-0\")&\")\",\"(\"&TEXT((R40-10)/2,\"+0;-0\")&\")\"))","v":""},{"$f":"IF(S40=\"\",Tables!XY2,S40)","v":""},{"$f":"IF($F$23=SelectText,\"\",IF(T40=\"\",\"(\"&TEXT((S25-10)/2,\"+0;-0\")&\")\",\"(\"&TEXT((T40-10)/2,\"+0;-0\")&\")\"))","v":""},null,null,null,null,null,null,null,{"$f":"Tables!IE5","v":"3rd"},"Select…",null,null,null,null,null,null,null,null,null,null,20,null,null,null,null,null,null,null,null,null,null,null,null,{"$f":"IF(ISERROR(VLOOKUP(AQ25,Tables!$TK:$UB,Tables!$TP$1,FALSE)),\"\",VLOOKUP(AQ25,Tables!$TK:$UB,Tables!$TP$1,FALSE))","v":""},20,null,null,null,null,null,null,null,null,null,null,null,null,{"$f":"IF(ISERROR(VLOOKUP(BE25,Tables!$TK:$UB,Tables!$TP$1,FALSE)),\"\",VLOOKUP(BE25,Tables!$TK:$UB,Tables!$TP$1,FALSE))","v":""},20,null,null,null,null,null,null,null,null,null,null,null,null,{"$f":"IF(ISERROR(VLOOKUP(BS25,Tables!$TK:$UB,Tables!$TP$1,FALSE)),\"\",VLOOKUP(BS25,Tables!$TK:$UB,Tables!$TP$1,FALSE))","v":""},20,null,null,null,null,null,null,null,null,null,null,null,null,{"$f":"IF(ISERROR(VLOOKUP(CG25,Tables!$TK:$UB,Tables!$TP$1,FALSE)),\"\",VLOOKUP(CG25,Tables!$TK:$UB,Tables!$TP$1,FALSE))","v":""}]
[null,null,"TYPE",null,null,{"$f":"IF(OR(F41=\"\",F41=SelectText),Tables!XO2,F41)","v":""},null,null,null,null,null,null,null,null,null,null,null,null,null,null,null,null,null,null,null,null,null,{"$f":"Tables!IE6","v":"10th"},"Select…",null,null,null,null,null,null,null,null,null,null,null,null,null,{"$f":"IF(BA26>0,\"Select your spells - \"&BA26&\" remaining\",IF(BA26<0,ABS(BA26)&\" too many spells selected\",\"\"))","v":""},null,null,null,null,null,null,null,null,null,{"$f":"Tables!EK6-BA27","v":0},null,null,null,{"$f":"IF(BO26>0,\"Select your spells - \"&BO26&\" remaining\",IF(BO26<0,ABS(BO26)&\" too many spells selected\",\"\"))","v":""},null,null,null,null,null,null,null,null,null,{"$f":"Tables!EM6-BO27","v":0},null,null,null,{"$f":"IF(CC26>0,\"Select your spells - \"&CC26&\" remaining\",IF(CC26<0,ABS(CC26)&\" too many spells selected\",\"\"))","v":""},null,null,null,null,null,null,null,null,null,{"$f":"Tables!EO6-CC27","v":0},null,null,null,{"$f":"IF(CQ26>0,\"Select your spells - \"&CQ26&\" remaining\",IF(CQ26<0,ABS(CQ26)&\" too many spells selected\",\"\"))","v":""},null,null,null,null,null,null,null,null,null,{"$f":"Tables!EQ6-CQ27","v":0}]
[null,null,"SIZE",null,null,{"$f":"IF(OR(F42=\"\",F42=SelectText),Tables!XP2,F42)","v":""},null,null,null,null,null,null,null,null,null,null,null,null,null,null,null,null,null,null,null,null,null,{"$f":"Tables!IE7","v":"17th"},"Select…",null,null,null,null,null,null,null,null,null,null,null,null,{"$f":"Tables!EJ6","v":""},null,null,null,null,null,null,null,null,null,null,{"$f":"SUMPRODUCT(--(LEN(BA6:BA25)=1))+2*SUMPRODUCT(--(LEN(BA6:BA25)=2))+3*SUMPRODUCT(--(LEN(BA6:BA25)=3))","v":0},null,null,{"$f":"Tables!EL6","v":""},null,null,null,null,null,null,null,null,null,null,{"$f":"SUMPRODUCT(--(LEN(BO6:BO25)=1))+2*SUMPRODUCT(--(LEN(BO6:BO25)=2))+3*SUMPRODUCT(--(LEN(BO6:BO25)=3))","v":0},null,null,{"$f":"Tables!EN6","v":""},null,null,null,null,null,null,null,null,null,null,{"$f":"SUMPRODUCT(--(LEN(CC6:CC25)=1))+2*SUMPRODUCT(--(LEN(CC6:CC25)=2))+3*SUMPRODUCT(--(LEN(CC6:CC25)=3))","v":0},null,null,{"$f":"Tables!EP6","v":""},null,null,null,null,null,null,null,null,null,null,{"$f":"SUMPRODUCT(--(LEN(CQ6:CQ25)=1))+2*SUMPRODUCT(--(LEN(CQ6:CQ25)=2))+3*SUMPRODUCT(--(LEN(CQ6:CQ25)=3))","v":0}]
[null,null,"SPEED",null,null,{"$f":"IF(F43=\"\",Tables!XS2,F43)","v":""}]
[null,null,"SKILLS",null,null,{"$f":"IF(F44=\"\",Tables!XZ2,F44)","v":""}]
[null,null,"SENSES",null,null,{"$f":"IF(F45=\"\",Tables!YA2,F45)","v":""}]
[null,null,"ATTACKS",null,null,{"$f":"IF(F46=\"\",Tables!YB2,F46)","v":""}]
[null,null,null,null,null,null,null,null,null,null,null,null,null,null,null,null,null,null,null,null,null,null,null,null,null,null,"PREP",null,"LEVEL 5",null,null,null,null,null,null,null,null,null,null,null,"PREP",null,"LEVEL 6",null,null,null,null,null,null,null,null,null,null,null,"PREP",null,"LEVEL 7",null,null,null,null,null,null,null,null,null,null,null,"PREP",null,"LEVEL 8",null,null,null,null,null,null,null,null,null,null,null,"PREP",null,"LEVEL 9"]
[null,null,"TRAITS",null,null,null,null,null,null,null,null,null,null,null,null,null,null,null,null,null,null,null,null,null,null,1,null,null,null,null,null,null,null,null,null,null,null,null,{"$f":"IF(ISERROR(VLOOKUP(AC33,Tables!$TK:$UB,Tables!$TP$1,FALSE)),\"\",VLOOKUP(AC33,Tables!$TK:$UB,Tables!$TP$1,FALSE))","v":""},1,null,null,null,null,null,null,null,null,null,null,null,null,null,1,null,null,null,null,null,null,null,null,null,null,null,null,null,1,null,null,null,null,null,null,null,null,null,null,null,null,null,1]
[null,null,{"$f":"IF(C49=\"\",Tables!YC2,C49)","v":""},null,null,null,null,null,null,null,null,null,null,null,null,null,null,null,null,null,null,null,null,null,null,2,null,null,null,null,null,null,null,null,null,null,null,null,{"$f":"IF(ISERROR(VLOOKUP(AC34,Tables!$TK:$UB,Tables!$TP$1,FALSE)),\"\",VLOOKUP(AC34,Tables!$TK:$UB,Tables!$TP$1,FALSE))","v":""},2,null,null,null,null,null,null,null,null,null,null,null,null,null,2,null,null,null,null,null,null,null,null,null,null,null,null,null,2,null,null,null,null,null,null,null,null,null,null,null,null,null,2]
[null,null,null,null,null,null,null,null,null,null,null,null,null,null,null,null,null,null,null,null,null,null,null,null,null,3,null,null,null,null,null,null,null,null,null,null,null,null,{"$f":"IF(ISERROR(VLOOKUP(AC35,Tables!$TK:$UB,Tables!$TP$1,FALSE)),\"\",VLOOKUP(AC35,Tables!$TK:$UB,Tables!$TP$1,FALSE))","v":""},3,null,null,null,null,null,null,null,null,null,null,null,null,null,3,null,null,null,null,null,null,null,null,null,null,null,null,null,3,null,null,null,null,null,null,null,null,null,null,null,null,null,3]
[null,null,null,null,null,null,null,null,null,null,null,null,null,null,null,null,null,null,null,null,null,null,null,null,null,4,null,null,null,null,null,null,null,null,null,null,null,null,{"$f":"IF(ISERROR(VLOOKUP(AC36,Tables!$TK:$UB,Tables!$TP$1,FALSE)),\"\",VLOOKUP(AC36,Tables!$TK:$UB,Tables!$TP$1,FALSE))","v":""},4,null,null,null,null,null,null,null,null,null,null,null,null,null,4,null,null,null,null,null,null,null,null,null,null,null,null,null,4,null,null,null,null,null,null,null,null,null,null,null,null,null,4]
[null,null,null,null,null,null,null,null,null,null,null,null,null,null,null,null,null,null,null,null,null,null,null,null,null,5,null,null,null,null,null,null,null,null,null,null,null,null,{"$f":"IF(ISERROR(VLOOKUP(AC37,Tables!$TK:$UB,Tables!$TP$1,FALSE)),\"\",VLOOKUP(AC37,Tables!$TK:$UB,Tables!$TP$1,FALSE))","v":""},5,null,null,null,null,null,null,null,null,null,null,null,null,null,5,null,null,null,null,null,null,null,null,null,null,null,null,null,5,null,null,null,null,null,null,null,null,null,null,null,null,null,5]
[null,null,"OVERRIDES",null,null,null,null,null,null,null,null,null,null,null,null,null,null,null,null,null,null,null,null,null,null,6,null,null,null,null,null,null,null,null,null,null,null,null,{"$f":"IF(ISERROR(VLOOKUP(AC38,Tables!$TK:$UB,Tables!$TP$1,FALSE)),\"\",VLOOKUP(AC38,Tables!$TK:$UB,Tables!$TP$1,FALSE))","v":""},6,null,null,null,null,null,null,null,null,null,null,null,null,null,6,null,null,null,null,null,null,null,null,null,null,null,null,null,6,null,null,null,null,null,null,null,null,null,null,null,null,null,6]
[null,null,"AC",null,null,"HP",null,null,"STR",null,"DEX",null,"CON",null,"INT",null,"WIS",null,"CHA",null,null,null,null,null,null,7,null,null,null,null,null,null,null,null,null,null,null,null,{"$f":"IF(ISERROR(VLOOKUP(AC39,Tables!$TK:$UB,Tables!$TP$1,FALSE)),\"\",VLOOKUP(AC39,Tables!$TK:$UB,Tables!$TP$1,FALSE))","v":""},7,null,null,null,null,null,null,null,null,null,null,null,null,null,7,null,null,null,null,null,null,null,null,null,null,null,null,null,7,null,null,null,null,null,null,null,null,null,null,null,null,null,7]
[null,null,null,null,null,null,null,null,null,null,null,null,null,null,null,null,null,null,null,null,null,null,null,null,null,8,null,null,null,null,null,null,null,null,null,null,null,null,{"$f":"IF(ISERROR(VLOOKUP(AC40,Tables!$TK:$UB,Tables!$TP$1,FALSE)),\"\",VLOOKUP(AC40,Tables!$TK:$UB,Tables!$TP$1,FALSE))","v":""},8,null,null,null,null,null,null,null,null,null,null,null,null,null,8,null,null,null,null,null,null,null,null,null,null,null,null,null,8,null,null,null,null,null,null,null,null,null,null,null,null,null,8]
[null,null,"TYPE",null,null,"Select…",null,null,null,null,null,null,null,null,null,null,null,null,null,null,null,null,null,null,null,9,null,null,null,null,null,null,null,null,null,null,null,null,{"$f":"IF(ISERROR(VLOOKUP(AC41,Tables!$TK:$UB,Tables!$TP$1,FALSE)),\"\",VLOOKUP(AC41,Tables!$TK:$UB,Tables!$TP$1,FALSE))","v":""},9,null,null,null,null,null,null,null,null,null,null,null,null,null,9,null,null,null,null,null,null,null,null,null,null,null,null,null,9,null,null,null,null,null,null,null,null,null,null,null,null,null,9]
[null,null,"SIZE",null,null,null,null,null,null,null,null,null,null,null,null,null,null,null,null,null,null,null,null,null,null,10,null,null,null,null,null,null,null,null,null,null,null,null,{"$f":"IF(ISERROR(VLOOKUP(AC42,Tables!$TK:$UB,Tables!$TP$1,FALSE)),\"\",VLOOKUP(AC42,Tables!$TK:$UB,Tables!$TP$1,FALSE))","v":""},10,null,null,null,null,null,null,null,null,null,null,null,null,null,10,null,null,null,null,null,null,null,null,null,null,null,null,null,10,null,null,null,null,null,null,null,null,null,null,null,null,null,10]
[null,null,"SPEED",null,null,null,null,null,null,null,null,null,null,null,null,null,null,null,null,null,null,null,null,null,null,11,null,null,null,null,null,null,null,null,null,null,null,null,{"$f":"IF(ISERROR(VLOOKUP(AC43,Tables!$TK:$UB,Tables!$TP$1,FALSE)),\"\",VLOOKUP(AC43,Tables!$TK:$UB,Tables!$TP$1,FALSE))","v":""},11,null,null,null,null,null,null,null,null,null,null,null,null,null,11]
[null,null,"SKILLS",null,null,null,null,null,null,null,null,null,null,null,null,null,null,null,null,null,null,null,null,null,null,12,null,null,null,null,null,null,null,null,null,null,null,null,{"$f":"IF(ISERROR(VLOOKUP(AC44,Tables!$TK:$UB,Tables!$TP$1,FALSE)),\"\",VLOOKUP(AC44,Tables!$TK:$UB,Tables!$TP$1,FALSE))","v":""},12,null,null,null,null,null,null,null,null,null,null,null,null,null,12]
[null,null,"SENSES",null,null,null,null,null,null,null,null,null,null,null,null,null,null,null,null,null,null,null,null,null,null,13,null,null,null,null,null,null,null,null,null,null,null,null,{"$f":"IF(ISERROR(VLOOKUP(AC45,Tables!$TK:$UB,Tables!$TP$1,FALSE)),\"\",VLOOKUP(AC45,Tables!$TK:$UB,Tables!$TP$1,FALSE))","v":""}]
[null,null,"ATTACKS",null,null,null,null,null,null,null,null,null,null,null,null,null,null,null,null,null,null,null,null,null,null,14,null,null,null,null,null,null,null,null,null,null,null,null,{"$f":"IF(ISERROR(VLOOKUP(AC46,Tables!$TK:$UB,Tables!$TP$1,FALSE)),\"\",VLOOKUP(AC46,Tables!$TK:$UB,Tables!$TP$1,FALSE))","v":""}]
[null,null,null,null,null,null,null,null,null,null,null,null,null,null,null,null,null,null,null,null,null,null,null,null,null,15,null,null,null,null,null,null,null,null,null,null,null,null,{"$f":"IF(ISERROR(VLOOKUP(AC47,Tables!$TK:$UB,Tables!$TP$1,FALSE)),\"\",VLOOKUP(AC47,Tables!$TK:$UB,Tables!$TP$1,FALSE))","v":""}]
[null,null,"TRAITS",null,null,null,null,null,null,null,null,null,null,null,null,null,null,null,null,null,null,null,null,null,null,null,null,null,{"$f":"IF(AM48>0,\"Select your spells - \"&AM48&\" remaining\",IF(AM48<0,ABS(AM48)&\" too many spells selected\",\"\"))","v":""},null,null,null,null,null,null,null,null,null,{"$f":"Tables!ES6-AM49","v":0}]
[null,null,null,null,null,null,null,null,null,null,null,null,null,null,null,null,null,null,null,null,null,null,null,null,null,null,null,{"$f":"Tables!ER6","v":""},null,null,null,null,null,null,null,null,null,null,{"$f":"SUMPRODUCT(--(LEN(AM33:AM47)=1))+2*SUMPRODUCT(--(LEN(AM33:AM47)=2))+3*SUMPRODUCT(--(LEN(AM33:AM47)=3))","v":0}]
[null,null,null,null,null,null,null,null,null,null,null,null,null,null,null,null,null,null,null,null,null,null,null,null,null,null,null,null,null,null,null,null,null,null,null,null,null,null,null,null,null,null,null,null,null,null,null,null,null,null,null,null,null,null,null,null,null,null,null,null,null,null,null,null,null,null,null,null,null,null,null,null,null,null,null,null,null,null,null,null,null,null,null,{"$f":"IF(SUM(QN5:QT5)>0,\"ᵈ\",\"\")&IF(SUM(QI5:QK5)>0,\"ᵒ\",\"\")&IF(SUM(QV5:RD5)>0,\"ᶜ\",\"\")","v":""}]
[null,null,null,null,null,null,null,null,null,null,null,null,null,null,null,null,null,null,null,null,null,null,null,null,null,null,null,null,null,null,null,null,null,null,null,null,null,null,{"$f":"COUNTIF(AM28:AM48,\"ᴼ\")+COUNTIF(AM28:AM48,\"ᴰᴼ\")","v":0}]
[]
[]
[]
[null,"SPELL LOOKUP"]
[]
[null,null,"LOOKUP 1",null,null,null,null,null,null,null,null,null,null,null,"DESCRIPTION",null,null,null,null,null,null,null,null,null,null,null,null,null,null,null,null,null,null,null,null,null,null,null,null,null,null,null,null,null,null,null,null,null,null,"LOOKUP 2",null,null,null,null,null,null,null,null,null,null,null,"DESCRIPTION"]
[null,null,"Select…",null,null,null,null,null,null,null,null,null,null,null,{"$f":"IF(OR($C$58=\"\",$C$58=SelectText),\"\",VLOOKUP($C$58,Tables!$TK:$UB,17,FALSE))","v":""},null,null,null,null,null,null,null,null,null,null,null,null,null,null,null,null,null,null,null,null,null,null,null,null,null,null,null,null,null,null,null,null,null,null,"Select…",null,null,null,null,null,null,null,null,null,null,null,{"$f":"IF(OR($AX$58=\"\",$AX$58=SelectText),\"\",VLOOKUP($AX$58,Tables!$TK:$UB,17,FALSE))","v":""}]
[]
[null,null,"SCHOOL",null,null,{"$f":"IF(OR($C$58=\"\",$C$58=SelectText),\"\",VLOOKUP($C$58,Tables!$TK:$UB,15,FALSE))","v":""},null,null,null,null,null,null,null,null,null,null,null,null,null,null,null,null,null,null,null,null,null,null,null,null,null,null,null,null,null,null,null,null,null,null,null,null,null,null,null,null,null,null,null,"SCHOOL",null,null,{"$f":"IF(OR($AX$58=\"\",$AX$58=SelectText),\"\",VLOOKUP($AX$58,Tables!$TK:$UB,15,FALSE))","v":""}]
[]
[null,null,{"$f":"IF(OR($C$58=\"\",$C$58=SelectText),\"LEVEL\",VLOOKUP($C$58,Tables!$TK:$UB,2,FALSE))","v":"LEVEL"},null,null,null,null,null,null,null,null,null,null,null,null,null,null,null,null,null,null,null,null,null,null,null,null,null,null,null,null,null,null,null,null,null,null,null,null,null,null,null,null,null,null,null,null,null,null,{"$f":"IF(OR($AX$58=\"\",$AX$58=SelectText),\"LEVEL\",VLOOKUP($AX$58,Tables!$TK:$UB,2,FALSE))","v":"LEVEL"}]
[]
[null,null,"CASTING TIME",null,null,null,null,{"$f":"IF(OR($C$58=\"\",$C$58=SelectText),\"\",VLOOKUP($C$58,Tables!$TK:$UB,10,FALSE))","v":""},null,null,null,null,null,null,null,null,null,null,null,null,null,null,null,null,null,null,null,null,null,null,null,null,null,null,null,null,null,null,null,null,null,null,null,null,null,null,null,null,null,"CASTING TIME",null,null,null,null,{"$f":"IF(OR($AX$58=\"\",$AX$58=SelectText),\"\",VLOOKUP($AX$58,Tables!$TK:$UB,10,FALSE))","v":""}]
[]
[null,null,"RANGE",null,null,{"$f":"IF(OR($C$58=\"\",$C$58=SelectText),\"\",VLOOKUP($C$58,Tables!$TK:$UB,11,FALSE))","v":""},null,null,null,null,null,null,null,null,null,null,null,null,null,null,null,null,null,null,null,null,null,null,null,null,null,null,null,null,null,null,null,null,null,null,null,null,null,null,null,null,null,null,null,"RANGE",null,null,{"$f":"IF(OR($AX$58=\"\",$AX$58=SelectText),\"\",VLOOKUP($AX$58,Tables!$TK:$UB,11,FALSE))","v":""}]
[]
[null,null,"DURATION",null,null,null,{"$f":"IF(OR($C$58=\"\",$C$58=SelectText),\"\",VLOOKUP($C$58,Tables!$TK:$UB,12,FALSE))","v":""},null,null,null,null,null,null,null,null,null,null,null,null,null,null,null,null,null,null,null,null,null,null,null,null,null,null,null,null,null,null,null,null,null,null,null,null,null,null,null,null,null,null,"DURATION",null,null,null,{"$f":"IF(OR($AX$58=\"\",$AX$58=SelectText),\"\",VLOOKUP($AX$58,Tables!$TK:$UB,12,FALSE))","v":""}]
[]
[null,null,"COMPONENTS",null,null,null,null,{"$f":"IF(OR($C$58=\"\",$C$58=SelectText),\"\",VLOOKUP($C$58,Tables!$TK:$UB,13,FALSE))","v":""},null,null,null,null,null,null,null,null,null,null,null,null,null,null,null,null,null,null,null,null,null,null,null,null,null,null,null,null,null,null,null,null,null,null,null,null,null,null,null,null,null,"COMPONENTS",null,null,null,null,{"$f":"IF(OR($AX$58=\"\",$AX$58=SelectText),\"\",VLOOKUP($AX$58,Tables!$TK:$UB,13,FALSE))","v":""}]
[null,null,{"$f":"IF(OR($C$58=\"\",$C$58=SelectText),\"\",VLOOKUP($C$58,Tables!$TK:$UB,14,FALSE))","v":""},null,null,null,null,null,null,null,null,null,null,null,null,null,null,null,null,null,null,null,null,null,null,null,null,null,null,null,null,null,null,null,null,null,null,null,null,null,null,null,null,null,null,null,null,null,null,{"$f":"IF(OR($AX$58=\"\",$AX$58=SelectText),\"\",VLOOKUP($AX$58,Tables!$TK:$UB,14,FALSE))","v":""}]
[]
[]
[]
[]
[]
[]
[]
[]
[]
[]
[]
[]
[]
[]
[]
[]
[]
[]
[]
[]
[]
[]
[]
[]
[]
[]
[null,null,"ᴿ",null,"RITUAL"]
[null,null,"ᶜᵒᶰ",null,"CONCENTRATION"]

{"sheet":"Tables","index":2,"n_rows":364,"n_cols":718,"rows_kept":139,"cut":true,"hidden":true,"merged":[[0,284,0,287],[1,385,3,385],[1,386,3,386],[4,385,9,385],[4,386,9,386],[4,330,9,330],[4,331,9,331],[4,332,9,332],[1,367,3,367],[1,368,3,368],[1,369,3,369],[1,370,3,370],[1,377,3,377],[1,365,3,365],[1,366,3,366],[1,372,3,372],[4,341,9,341],[4,342,9,342],[1,380,3,380],[1,382,3,382],[1,383,3,383],[1,384,3,384],[4,336,9,336],[1,352,3,352],[4,431,9,431],[4,432,9,432],[4,422,9,422],[4,423,9,423],[4,424,9,424],[4,425,9,425],[4,426,9,426],[4,427,9,427],[4,428,9,428],[4,429,9,429],[4,430,9,430],[4,413,9,413],[4,414,9,414],[4,415,9,415],[4,416,9,416],[4,417,9,417],[4,418,9,418],[4,419,9,419],[4,420,9,420],[4,421,9,421],[4,409,9,409],[4,410,9,410],[4,337,9,337],[4,343,9,343],[4,338,9,338],[1,359,3,359],[1,363,3,363],[1,364,3,364],[1,353,3,353],[1,356,3,356],[1,375,3,375],[1,387,3,387],[1,388,3,388],[1,389,3,389],[4,387,9,387],[4,388,9,388],[4,389,9,389],[4,347,9,347],[4,348,9,348],[1,376,3,376],[1,360,3,360],[4,408,9,408],[1,362,3,362],[1,378,3,378],[4,355,9,355],[1,358,3,358],[4,358,9,358],[4,433,9,433],[4,434,9,434],[4,391,9,391],[4,392,9,392],[4,401,9,401],[4,402,9,402],[4,403,9,403],[4,404,9,404],[4,405,9,405],[4,406,9,406],[4,393,9,393],[4,394,9,394],[4,395,9,395],[4,396,9,396],[4,397,9,397],[4,398,9,398],[4,399,9,399],[4,400,9,400],[4,407,9,407],[4,411,9,411],[4,412,9,412],[4,379,9,379],[4,369,9,369],[4,334,9,334],[0,520,0,527],[4,340,9,340],[4,344,9,344],[4,345,9,345],[4,346,9,346],[4,339,9,339],[4,374,9,374],[4,373,9,373],[4,350,9,350],[4,351,9,351],[4,352,9,352],[4,353,9,353],[4,356,9,356],[4,375,9,375],[4,376,9,376],[4,357,9,357],[4,370,9,370],[1,371,3,371],[1,361,3,361],[4,361,9,361],[1,354,3,354],[1,350,3,350],[1,357,3,357],[4,316,9,316],[4,333,9,333],[4,335,9,335],[0,57,0,59],[0,262,0,266],[0,257,0,261],[4,329,9,329],[4,324,9,324],[4,317,9,317],[0,254,0,256],[4,323,9,323],[4,318,9,318],[5,306,10,306],[4,349,9,349],[4,319,9,319],[4,320,9,320],[4,321,9,321],[4,322,9,322],[4,325,9,325],[1,351,3,351],[4,354,9,354],[1,355,3,355],[0,511,0,518],[4,359,9,359],[4,363,9,363],[4,364,9,364],[4,365,9,365],[4,366,9,366],[4,360,9,360],[4,362,9,362],[4,371,9,371],[4,372,9,372],[4,378,9,378],[4,380,9,380],[4,382,9,382],[4,383,9,383],[4,384,9,384],[4,367,9,367],[4,368,9,368],[4,436,9,436],[4,377,9,377],[1,374,3,374],[1,373,3,373],[1,381,3,381],[4,381,9,381],[1,379,3,379],[4,326,9,326],[4,327,9,327],[4,328,9,328],[4,314,9,314],[4,310,9,310],[4,315,9,315],[4,311,9,311],[4,308,9,308],[4,312,9,312],[4,309,9,309],[4,313,9,313]],"bounds":{"rows_first":62,"rows_last":15,"rows_between":62,"halvings":5}}
["RACE","SIZE","SPEED","VISION","TRAITS","LANGUAGE",null,"SKILLS",null,"TOOLS",null,"STR","DEX","CON","INT","WIS","CHA","AGE","HEIGHT","WEIGHT","SUBRACE","TRAITS",null,null,null,null,null,"GENDER","DRAGON ANCESTRY",null,"BACKGROUND","FEATURE",null,"SKILLS",null,"TOOLS",null,"LANGUAGES",null,"EXHAUSTION",null,"BACKGROUNDS",null,null,null,null,null,null,null,null,null,null,null,null,null,null,null,"SAVE PROFS",null,null,"CLASS","HIT DICE",null,"LEVELS",null,null,null,null,"SubClass",null,null,null,null,"AC","Movement","Languages",null,"Armor","Multi Armor","Weapons","Multi Weapon","Tools",{"$f":"SUM(CE3:CE5)","v":0},"Multi Tools",null,"Saves","Skills",{"$f":"SUM(CJ3:CJ5)","v":0},"Multi Skills",null,"LEVEL ADVANCEMENT CLASS ABILITIES",null,null,null,null,null,null,null,null,null,null,null,null,null,null,null,null,null,null,null,null,null,null,null,"Land Druid","SUB CLASS",null,null,"LEVEL ADVANCEMENT SUBCLASS ABILITIES",null,null,null,null,null,null,null,null,null,null,null,null,null,null,null,null,null,null,null,"SPELLS","1st LEVEL","#","2nd LEVEL","#","3rd LEVEL","#","4th LEVEL","#","5th LEVEL","#","TOOLS","#","SKILLS","#","LANGUAGES","#","SUB CLASS SELECT",null,null,null,null,null,null,null,null,null,null,null,null,"SKILLS KNOWN",null,null,null,null,"EXPERTISE",null,null,null,null,null,"FIGHTING STYLE",null,null,null,"MANEUVERS",null,null,null,null,null,null,null,null,"KNOWLDEGE",null,null,null,null,null,"ELEMENTAL DISCIPLINES",null,null,"KI",null,null,null,null,null,null,null,null,"TOTEM SPIRITS",null,null,null,null,null,null,null,"FAVOURED ENEMY",null,null,null,null,null,null,null,null,"NATURAL EXPLORER",null,null,null,"RANGER HUNTER",null,null,null,"METAMAGIC",null,null,null,null,null,"ELDRITCH INVOCATIONS",null,null,null,null,null,null,null,null,null,null,"PACT BOON",null,"ALIGNMENT",null,null,"DEITY",null,null,null,null,"LANGUAGES",null,null,null,null,"LEVEL","XP","LEVEL","PROFICIENCY BONUS",{"$f":"IF(CharacterLevel=\"\",\"\",VLOOKUP(CharacterLevel,Tables!JJ1:JK23,2,FALSE))","v":2},"SPELLS",null,null,null,null,null,null,null,null,null,null,null,"SPELLS PREPARED / SPELLS KNOWN",null,null,null,null,"KNOWN",2,{"$f":"KE1+1","v":3},{"$f":"KF1+1","v":4},{"$f":"KG1+1","v":5},{"$f":"KH1+1","v":6},{"$f":"KI1+1","v":7},"CANTRIPS",2,{"$f":"KL1+1","v":3},4,5,6,7,8,null,"PROFICIENCIES",null,null,{"$f":"IF(Race=KW5,1,0)","v":0},0,0,{"$f":"IF(Race=KZ5,1,0)","v":0},{"$f":"IF(Race=LA5,1,0)","v":0},{"$f":"IF(Race=LB5,1,0)","v":0},{"$f":"IF(Race=LC5,1,0)","v":0},0,{"$f":"IF(Race=LE5,1,0)","v":0},{"$f":"IF(Race=LF5,1,0)","v":0},null,{"$f":"IF(LH5=Subrace,1,0)","v":0},0,0,0,0,{"$f":"IF(LM5=Subrace,1,0)","v":0},0,0,0,0,null,{"$f":"IF(CharacterBackground=Tables!LS5,1,0)","v":0},{"$f":"IF(CharacterBackground=Tables!LT5,1,0)","v":0},{"$f":"IF(CharacterBackground=Tables!LU5,1,0)","v":0},{"$f":"IF(CharacterBackground=Tables!LV5,1,0)","v":0},{"$f":"IF(CharacterBackground=Tables!LW5,1,0)","v":0},{"$f":"IF(CharacterBackground=Tables!LX5,1,0)","v":0},null,{"$f":"INDIRECT(LZ5&TEXT(\"LEVEL\",0))","v":0},0,0,0,0,0,0,0,0,0,{"$f":"INDIRECT(MJ5&TEXT(\"LEVEL\",0))","v":0},0,null,{"$f":"INDIRECT(MM2&MM5&TEXT(\"LEVEL\",0))","v":0},0,0,0,0,0,0,0,0,0,{"$f":"INDIRECT(MW2&MW5&TEXT(\"LEVEL\",0))","v":0},0,0,0,0,0,0,0,0,0,0,0,0,{"$f":"INDIRECT(NJ2&NJ5&TEXT(\"LEVEL\",0))","v":0},0,0,0,0,0,{"$f":"INDIRECT(NP2&NP5&TEXT(\"LEVEL\",0))","v":0},0,{"$f":"INDIRECT(NR2&NR5&TEXT(\"LEVEL\",0))","v":0},0,0,0,{"$f":"INDIRECT(NV2&NV5&TEXT(\"LEVEL\",0))","v":0},0,{"$f":"INDIRECT(NX2&NX5&TEXT(\"LEVEL\",0))","v":0},0,0,null,{"$f":"IF(COUNTIF($YH$3:$YH$10,OB5)>0,1,0)","v":0},0,0,0,0,0,0,0,0,0,0,0,0,0,0,0,0,0,0,0,0,0,0,0,0,0,0,0,0,0,0,0,0,0,0,0,0,0,0,0,0,0,{"$f":"SUM(OB1:PQ1)","v":0},null,null,null,null,null,null,null,"WEAPON",null,null,null,null,null,null,"PROPERTIES",null,null,null,null,null,null,null,null,null,null,null,"MAGIC","WEAPON TABLE",null,null,null,null,null,null,null,null,null,null,null,null,null,null,null,null,null,null,null,null,null,null,null,null,null,null,null,null,null,null,null,null,null,null,null,null,null,null,null,null,null,null,null,null,null,null,null,null,null,"ARMOR",null,null,null,null,null,null,null,null,"SHIELD",null,null,null,null,null,null,null,null,"SPELL LIST",null,{"$f":"2","v":2},{"$f":"TL1+1","v":3},4,5,6,7,8,9,{"$f":"TS1+1","v":10},11,12,13,14,15,16,17,18,{"$f":"IF(ISERROR(VLOOKUP(INDIRECT(TEXT(UC2&\"Level\",0)),$JM$33:$JW$52,$JV$2+2,FALSE)),0,VLOOKUP(INDIRECT(TEXT(UC2&\"Level\",0)),$JM$33:$JW$52,$JV$2+2,FALSE))","v":0},{"$f":"IF(ISERROR(VLOOKUP(INDIRECT(TEXT(UD2&\"Level\",0)),$JM$79:$JW$98,$JV$2+2,FALSE)),0,VLOOKUP(INDIRECT(TEXT(UD2&\"Level\",0)),$JM$79:$JW$98,$JV$2+2,FALSE))","v":0},{"$f":"IF(ISERROR(VLOOKUP(INDIRECT(TEXT(UE2&\"Level\",0)),$JM$79:$JW$98,$JV$2+2,FALSE)),0,VLOOKUP(INDIRECT(TEXT(UE2&\"Level\",0)),$JM$79:$JW$98,$JV$2+2,FALSE))","v":0},{"$f":"IF(ISERROR(VLOOKUP(INDIRECT(TEXT(UF2&\"Level\",0)),$JM$33:$JW$52,$JV$2+2,FALSE)),0,VLOOKUP(INDIRECT(TEXT(UF2&\"Level\",0)),$JM$33:$JW$52,$JV$2+2,FALSE))","v":0},{"$f":"IF(ISERROR(VLOOKUP(INDIRECT(TEXT(UG2&\"Level\",0)),$JM$102:$JW$121,$JV$2+2,FALSE)),0,VLOOKUP(INDIRECT(TEXT(UG2&\"Level\",0)),$JM$102:$JW$121,$JV$2+2,FALSE))","v":0},{"$f":"IF(ISERROR(VLOOKUP(INDIRECT(TEXT(UH2&\"Level\",0)),$JM$33:$JW$52,$JV$2+2,FALSE)),0,VLOOKUP(INDIRECT(TEXT(UH2&\"Level\",0)),$JM$33:$JW$52,$JV$2+2,FALSE))","v":0},{"$f":"IF(ISERROR(VLOOKUP(INDIRECT(TEXT(UI2&\"Level\",0)),$JM$33:$JW$52,$JV$2+2,FALSE)),0,VLOOKUP(INDIRECT(TEXT(UI2&\"Level\",0)),$JM$33:$JW$52,$JV$2+2,FALSE))","v":0},{"$f":"IF(ISERROR(VLOOKUP(INDIRECT(TEXT(UJ2&\"Level\",0)),$JM$56:$JW$75,$JV$2+2,FALSE)),0,VLOOKUP(INDIRECT(TEXT(UJ2&\"Level\",0)),$JM$56:$JW$75,$JV$2+2,FALSE))","v":0},{"$f":"IF(ISERROR(VLOOKUP(INDIRECT(TEXT(UK2&\"Level\",0)),$JM$56:$JW$75,$JV$2+2,FALSE)),0,VLOOKUP(INDIRECT(TEXT(UK2&\"Level\",0)),$JM$56:$JW$75,$JV$2+2,FALSE))","v":0},{"$f":"IF(ISERROR(VLOOKUP(INDIRECT(TEXT(UL2&\"Level\",0)),$JM$33:$JW$52,$JV$2+2,FALSE)),0,VLOOKUP(INDIRECT(TEXT(UL2&\"Level\",0)),$JM$33:$JW$52,$JV$2+2,FALSE))","v":0},{"$f":"IF(OR(SubClass1=UM2,SubClass2=UM2,SubClass3=UM2),$UC$1,0)","v":0},{"$f":"IF(OR(SubClass1=UN2,SubClass2=UN2,SubClass3=UN2),$UC$1,0)","v":0},{"$f":"IF(OR(SubClass1=UO2,SubClass2=UO2,SubClass3=UO2),$UD$1,0)","v":0},{"$f":"IF(OR(SubClass1=UP2,SubClass2=UP2,SubClass3=UP2),$UD$1,0)","v":0},{"$f":"IF(OR(SubClass1=UQ2,SubClass2=UQ2,SubClass3=UQ2),$UD$1,0)","v":0},{"$f":"IF(OR(SubClass1=UR2,SubClass2=UR2,SubClass3=UR2),$UE$1,0)","v":0},{"$f":"IF(OR(SubClass1=US2,SubClass2=US2,SubClass3=US2),$UE$1,0)","v":0},{"$f":"IF(OR(SubClass1=UT2,SubClass2=UT2,SubClass3=UT2),$UF$1,0)","v":0},{"$f":"IF(OR(SubClass1=UU2,SubClass2=UU2,SubClass3=UU2),$UF$1,0)","v":0},{"$f":"IF(OR(SubClass1=UV2,SubClass2=UV2,SubClass3=UV2),$UG$1,0)","v":0},{"$f":"IF(OR(SubClass1=UW2,SubClass2=UW2,SubClass3=UW2),$UG$1,0)","v":0},{"$f":"IF(OR(SubClass1=UX2,SubClass2=UX2,SubClass3=UX2),$UG$1,0)","v":0},{"$f":"IF(OR(SubClass1=UY2,SubClass2=UY2,SubClass3=UY2),$UH$1,0)","v":0},0,0,0,0,0,0,{"$f":"IF(OR(SubClass1=VF2,SubClass2=VF2,SubClass3=VF2),$UI$1,0)","v":0},{"$f":"IF(DruidLandOrigin=VG2,$VF$1,0)","v":0},0,0,0,0,0,0,0,{"$f":"IF(OR(SubClass1=VO2,SubClass2=VO2,SubClass3=VO2),$UI$1,0)","v":0},{"$f":"IF(OR(SubClass1=VP2,SubClass2=VP2,SubClass3=VP2),$UJ$1,0)","v":0},{"$f":"IF(OR(SubClass1=VQ2,SubClass2=VQ2,SubClass3=VQ2),$UK$1,0)","v":0},{"$f":"IF(OR(SubClass1=VR2,SubClass2=VR2,SubClass3=VR2),$UL$1,0)","v":0},0,0,0,0,0,0,0,{"$f":"IF(Race=VZ2,1,0)","v":0},{"$f":"IF(Race=WA2,1,0)","v":0},{"$f":"IF(Subrace=WB2,1,0)","v":0},{"$f":"IF(Subrace=WC2,1,0)","v":0},null,0.5,null,0.5,null,1,null,2,null,3,null,4,null,5,null,6,null,7,null,8,null,9,null,"High Elf","C",1,2,3,4,5,6,7,8,9,"FAMILIAR",null,null,"TYPE","SIZE","AC","HP","SPEED","STR","DEX","CON","INT","WIS","CHA","SKILLS","SENSES","ATTACKS","TRAITS",null,"level","FEATS",null,null,null,{"$f":"YJ3&YJ4&YJ5&YJ6&YJ7&YJ8&YJ9&YJ10","v":""},"languages","##","ability","##","skills","##","tools","##",null,"Class","Level",null,null,"Detail",null,null,null,null,null,{"$f":"ZE1+1","v":13},12,11,10,9,8,7,6,5,4,3,{"$f":"ZP1+1","v":2},1,null,null,null,null,"RESILENT FEAT"]
[null,2,{"$f":"B2+1","v":3},{"$f":"C2+1","v":4},5,6,7,8,9,10,11,12,13,14,15,16,17,18,19,20,{"$f":"Subrace","v":"Select…"},{"$f":"VLOOKUP(U2,U3:V25,2,FALSE)","v":""},null,null,null,null,null,{"$f":"Gender","v":"Select…"},{"$f":"IF(Race=A9,Subrace,IF(COUNTIF(Tables!BN3:BN5,Tables!BI17)>0,Start!AJ53,SelectText))","v":"Select…"},null,null,2,{"$f":"AF2+1","v":3},4,5,6,7,8,9,null,null,null,{"$f":"SelectText","v":"Select…"},"Acolyte","Charlatan","Criminal","Entertainer","Folk Hero","Guild Artisan","Hermit","Noble","Outlander","Sage","Sailor","Soldier","Urchin",null,{"$f":"Tables!BH3&Tables!BH4&Tables!BH5&Tables!BH6&Tables!BH7&Tables!BH8","v":""},null,null,{"$f":"BI3&BI4&BI5","v":""},{"$f":"IF(AND(BN2=\"SINGLE\",OR(Class1=BI12,Class1=BI15,Class1=BI9)),TRUE,FALSE)","v":false},null,null,{"$f":"\"\"","v":""},{"$f":"IF(AND(Class2=\"\",Class3=\"\"),\"SINGLE\",\"MULTI\")","v":"SINGLE"},{"$f":"BU3&BU4&BU5","v":""},null,{"$f":"BR3&BR4&BR5","v":""},null,null,{"$f":"Tables!BT3&Tables!BT4&Tables!BT5","v":""},null,{"$f":"MAX(BV3:BV5)","v":0},{"$f":"SUM(BW3:BW5)","v":0},{"$f":"SUM(BX3:BX5)","v":0},{"$f":"IF(AND(BY3=\"\",BY4=\"\",BY5=\"\"),\"none\",BY3&BY4&BY5)","v":"none"},18,{"$f":"BZ2+1","v":19},{"$f":"CA2+1","v":20},21,22,23,24,25,26,27,28,29,30,31,32,{"$f":"CN2+1","v":33},34,35,36,37,38,39,40,41,42,43,44,45,46,47,48,49,50,null,{"$f":"IF(AND(DH3=\"\",DH4=\"\",DH5=\"\"),\"none\",DH3&DH4&DH5&IF(COUNTIF(IQ4:IQ11,II7)=0,\"\",\"• Beguiling Influence: You gain proficiency in Deception and Persuation skills\n\"))","v":"none"},null,{"$f":"DJ3&DJ4&DJ5","v":""},"Select…",{"$f":"SubClass","v":""},null,null,{"$f":"4","v":4},{"$f":"DO2+1","v":5},{"$f":"DP2+1","v":6},7,8,9,10,11,12,13,14,15,16,17,18,19,20,21,22,23,24,{"$f":"EI2+1","v":25},26,27,28,29,30,31,32,33,34,35,36,37,38,39,40,null,null,null,null,null,null,null,null,null,null,null,null,null,null,null,null,null,null,null,null,null,null,null,{"$f":"IF(FX2=\"\",\"\",MAX($FW$1:FW1)+1)","v":""},{"$f":"IF(OR(AND(Class1=$BI$8,FighterLevel>=1),AND(Class1=$BI$15,PaladinLevel>=2),AND(Class1=$BI$16,RangerLevel>=2)),Class1,\"\")","v":""},1,{"$f":"IF(ISERROR(VLOOKUP($FY2,$FW$2:$FX$5,2,FALSE)),\"\",VLOOKUP($FY2,$FW$2:$FX$5,2,FALSE))","v":""},{"$f":"FightingStyle1","v":"Select…"},{"$f":"SelectText","v":"Select…"},{"$f":"\"\"","v":""},null,null,null,null,null,null,{"$f":"GJ3&GJ4&GJ5&GJ6&GJ7&GJ8&GJ9&GJ10&GJ11&GJ12&GJ13","v":""},{"$f":"\"\"","v":""},null,null,null,null,null,"Elemental Attument","   Use your action to briefly control elemental forces nearby, causing one of the following effects of your choice:\n     • Create a harmless, instantaneous sensory effect related to air, earth, fire, or water, such as a shower of sparks, a puff of\n        wind, a spray of light mist, or a gentle rumbling of stone.\n     • Instantaneously light or snuff out a candle, a torch, or a small campfire.\n     • Chill or warm up to 1 pound of nonliving material for up to 1 hour.\n     • Cause earth, fire, water, or mist that can fit within a 1 ft cube to shape itself into a crude form you designate for 1 minute.",null,null,null,null,null,null,null,null,null,null,null,2,3,4,null,null,null,null,null,null,null,null,null,null,null,null,null,null,null,null,null,"Hunter's Prey",null,null,null,null,null,null,null,null,{"$f":"IG4&IG5&IG6&IG7","v":""},null,null,null,null,null,{"$f":"SelectText","v":"Select…"},null,null,null,null,{"$f":"IR4&IR5&IR6&IR7&IR8&IR9&IR10&IR11","v":""},{"$f":"SelectText","v":"Select…"},{"$f":"\"\"","v":""},null,{"$f":"Alignment","v":"Select…"},{"$f":"Deity","v":"Select…"},{"$f":"Deity","v":"Select…"},"Details","Alignment","Suggested Domains","Symbol",{"$f":"IF(JD2=\"\",\"\",MAX($JC$1:JC1)+1)","v":1},"Select…","Script",1,{"$f":"IF(ISERROR(VLOOKUP(JF2,$JC$2:$JD$50,2,FALSE)),\"\",VLOOKUP(JF2,$JC$2:$JD$50,2,FALSE))","v":"Select…"},1,0,1,2,null,"LEVEL",1,2,3,4,5,6,7,8,9,10,"Caster Level","Class","Modifier",null,null,null,"LEVEL","ROGUE","BARD","FIGHTER","RANGER","SORCERER","WARLOCK","LEVEL","WIZARD","CLERIC","FIGHTER","ROGUE","DRUID","SORCERER","WARLOCK",null,"TOOLS",null,"Weapons",{"$f":"PV80&PV81&PV86&PV87&PV88&PV89&PV90&PV91&PV92&PV93&PV94&PV95&PV96&PV97&PV98&PV99&PV100&PV101&PV102&PV103&PV104&PV105&PV106&PV107&PV108&PV109&PV110&PV111&PV112&PV113&PV114&PV116&PV117&PV118&PV119&PV120&PV121&PV122&PV123&PV124&PV129","v":""},null,null,null,null,null,null,null,null,null,null,null,null,null,null,null,null,null,null,null,null,null,null,null,null,null,null,null,null,null,null,null,null,null,null,null,null,null,null,null,null,null,"Cleric","Cleric","Cleric","Cleric","Cleric","Cleric","Cleric","Fighter","Fighter","Fighter","Rogue","Rogue","Rogue","Wizard","Wizard","Wizard","Wizard","Wizard","Wizard","Wizard","Wizard","Barbarian","Barbarian","Bard","Bard","Druid","Druid","Monk","Monk","Monk","Paladin","Paladin","Paladin","Ranger","Ranger","Sorcerer","Sorcerer","Warlock","Warlock","Warlock",null,null,null,null,null,null,null,null,null,null,null,null,null,null,null,null,null,null,null,null,null,null,null,null,null,null,null,null,null,null,null,null,null,null,null,null,null,null,null,null,null,null,null,null,null,null,null,null,null,null,null,"name","group","proficiency","damage","type","range","weight","ammunition","finesse","heavy","light","loading","special","reach","thrown","two-handed","versatile",{"$f":"\"\"","v":""},"ammo type",null,2,null,null,null,null,null,null,null,null,null,null,null,null,null,null,null,null,null,null,null,null,null,null,null,null,null,null,null,null,null,null,null,null,null,null,null,null,null,null,null,null,null,null,null,null,null,null,null,null,null,"name","group","proficiency","AC","dex mod","strength","stealth","weight","properties","name","group","proficiency","AC","dex mod","strength","stealth","weight","properties",{"$f":"SUBTOTAL(2,TJ3:TJ1000)","v":362},{"$f":"SelectText","v":"Select…"},"LEVEL",null,"name","higher","domain","mastery","signature","ritual","casting time","range","duration","components","material","school","abbrev","description","desc","Bard","Paladin","Ranger","Sorcerer","Warlock","Cleric","Druid","Fighter","Rogue","Wizard","Lore","Valor","Devotion","The Ancients","Vengeance","Colossus Slayer","Horde Breaker","Draconic Bloodline","Wild Magic","Archfey","Fiend","Great Old One","Knowledge","Life","Light","Nature","Tempest","Trickery","War","Land","Arctic","Coast","Desert","Forest","Grassland","Mountain","Swamp","Underdark","Moon","Eldritch Knight","Arcane Trickster","Abjuration","Conjuration","Divination","Enchantment","Evocation","Illusion","Necromancy","Transmutation","Tiefling","Aasimar","High","Forest",1,{"$f":"\"\"","v":""},1,{"$f":"\"\"","v":""},1,{"$f":"\"\"","v":""},1,{"$f":"\"\"","v":""},1,{"$f":"\"\"","v":""},1,{"$f":"\"\"","v":""},1,{"$f":"\"\"","v":""},1,{"$f":"\"\"","v":""},1,{"$f":"\"\"","v":""},1,{"$f":"\"\"","v":""},1,{"$f":"\"\"","v":""},1,null,{"$f":"IF(ISERROR(VLOOKUP($WZ2,$WF$1:$WG$5013,2,FALSE)),\"\",VLOOKUP($WZ2,$WF$1:$WG$5013,2,FALSE))","v":""},{"$f":"IF(ISERROR(VLOOKUP($WZ2,$WH$1:$WI$5013,2,FALSE)),\"\",VLOOKUP($WZ2,$WH$1:$WI$5013,2,FALSE))","v":""},null,null,null,null,null,null,null,null,{"$f":"SelectText","v":"Select…"},null,{"$f":"Spellcasting!F23","v":"Select…"},{"$f":"VLOOKUP(Spellcasting!$F$23,Tables!$XN$27:$YC$58,XO3,FALSE)","v":""},{"$f":"VLOOKUP(Spellcasting!$F$23,Tables!$XN$27:$YC$58,XP3,FALSE)","v":""},{"$f":"VLOOKUP(Spellcasting!$F$23,Tables!$XN$27:$YC$58,XQ3,FALSE)","v":""},{"$f":"VLOOKUP(Spellcasting!$F$23,Tables!$XN$27:$YC$58,XR3,FALSE)","v":""},{"$f":"VLOOKUP(Spellcasting!$F$23,Tables!$XN$27:$YC$58,XS3,FALSE)","v":""},{"$f":"VLOOKUP(Spellcasting!$F$23,Tables!$XN$27:$YC$58,XT3,FALSE)","v":""},{"$f":"VLOOKUP(Spellcasting!$F$23,Tables!$XN$27:$YC$58,XU3,FALSE)","v":""},{"$f":"VLOOKUP(Spellcasting!$F$23,Tables!$XN$27:$YC$58,XV3,FALSE)","v":""},{"$f":"VLOOKUP(Spellcasting!$F$23,Tables!$XN$27:$YC$58,XW3,FALSE)","v":""},{"$f":"VLOOKUP(Spellcasting!$F$23,Tables!$XN$27:$YC$58,XX3,FALSE)","v":""},{"$f":"VLOOKUP(Spellcasting!$F$23,Tables!$XN$27:$YC$58,XY3,FALSE)","v":""},{"$f":"VLOOKUP(Spellcasting!$F$23,Tables!$XN$27:$YC$58,XZ3,FALSE)","v":""},{"$f":"VLOOKUP(Spellcasting!$F$23,Tables!$XN$27:$YC$58,YA3,FALSE)","v":""},{"$f":"VLOOKUP(Spellcasting!$F$23,Tables!$XN$27:$YC$58,YB3,FALSE)","v":""},{"$f":"VLOOKUP(Spellcasting!$F$23,Tables!$XN$27:$YC$58,YC3,FALSE)","v":""},null,{"$f":"\"\"","v":""},1,{"$f":"YF2+1","v":2},3,4,5,6,7,8,9,10,11,12,null,null,"Human",1,{"$f":"IF(AND(Race = YT2,Start!AZ5=TRUE),1,\"\")","v":""},{"$f":"IF(YX2=\"\",\"\",MAX($YW1:YW$1)+1)","v":""},{"$f":"IF(AND(Race = YT2,Start!AZ5=TRUE),YT2&\" - Level \"&YU2,\"\")","v":""},{"$f":"IF(AND(Race = YT2,Start!AZ5=TRUE),YU2,\"\")","v":""},"Level",null,null,"Class","Barbarian","Bard","Cleric","Druid","Fighter","Monk","Paladin","Ranger","Rogue","Sorcerer","Warlock","Wizard","Level","Barbarian",{"$f":"COUNTIF($YT$2:$YT$65,ZQ2)","v":5},{"$f":"YG14","v":"Ability Score Improvement"},{"$f":"IF(COUNTIF($YH$3:$YH$10,ZS2)>0,$ZS2&\" x \"&COUNTIF($YH$3:$YH$10,ZS2)&\"\n\"&VLOOKUP($ZS2,$YG$14:$YK$77,5,FALSE)&\"\n\",\"\")","v":""},{"$f":"IF(ISERROR(VLOOKUP(ZU3,$YE$3:$YH$10,$YI$2,FALSE)),\"\",IF(VLOOKUP(ZU3,$YE$3:$YH$10,$YI$2,FALSE)=$YG$44,1,\"\"))","v":""},{"$f":"IF(ISERROR(VLOOKUP(ZV3,$YE$3:$YH$10,$YI$2,FALSE)),\"\",IF(VLOOKUP(ZV3,$YE$3:$YH$10,$YI$2,FALSE)=$YG$44,1,\"\"))","v":""},{"$f":"IF(ISERROR(VLOOKUP(ZW3,$YE$3:$YH$10,$YI$2,FALSE)),\"\",IF(VLOOKUP(ZW3,$YE$3:$YH$10,$YI$2,FALSE)=$YG$44,1,\"\"))","v":""},{"$f":"IF(ISERROR(VLOOKUP(ZX3,$YE$3:$YH$10,$YI$2,FALSE)),\"\",IF(VLOOKUP(ZX3,$YE$3:$YH$10,$YI$2,FALSE)=$YG$44,1,\"\"))","v":""},{"$f":"IF(ISERROR(VLOOKUP(ZY3,$YE$3:$YH$10,$YI$2,FALSE)),\"\",IF(VLOOKUP(ZY3,$YE$3:$YH$10,$YI$2,FALSE)=$YG$44,1,\"\"))","v":""},{"$f":"IF(ISERROR(VLOOKUP(ZZ3,$YE$3:$YH$10,$YI$2,FALSE)),\"\",IF(VLOOKUP(ZZ3,$YE$3:$YH$10,$YI$2,FALSE)=$YG$44,1,\"\"))","v":""},"","","","","","","","","","","","","","","",""]
[{"$f":"Race","v":"Select…"},{"$f":"VLOOKUP($A$3,$A$4:$T$16,B2,FALSE)","v":""},{"$f":"IF(Race=SelectText,\"\",VLOOKUP($A$3,$A$4:$T$16,C2,FALSE)+IF($OZ$1>0,10,0)+Tables!BW2)","v":""},{"$f":"VLOOKUP($A$3,$A$4:$T$16,D2,FALSE)","v":""},"","none",0,"none",0,"none",0,"","","","","","","","","",null,{"$f":"\"\"","v":""},null,null,null,null,null,"Select…",null,null,{"$f":"CharacterBackground","v":"Select…"},{"$f":"VLOOKUP(CharacterBackground,$AE$4:$AM$23,AF2,FALSE)","v":""},"","none",0,"none",0,"none",0,1,null,"Personality Trait",null,null,null,null,null,null,null,null,null,null,null,null,null,null,{"$f":"\"\"","v":""},"STR",{"$f":"IF(OR(BL11>0,BL8>0,BL14>0,AAP4>0),BF3,\"\")","v":""},{"$f":"IF(BG3=\"\",\"\",IF(COUNTIF(BG3:$BG$8,\"><\")>1,BG3&\", \",BG3))","v":""},{"$f":"IF(Class1=\"\",\"\",Class1&\" \"&BL3)","v":""},"CLASS",1,{"$f":"IF(ISERROR(VLOOKUP($BN3,$BI$7:$BL$50,4,FALSE)),\"\",VLOOKUP($BN3,$BI$7:$BL$50,4,FALSE))","v":""},null,{"$f":"IF(ISERROR(VLOOKUP($BK3,Start!$AR$20:$AS$39,2,FALSE)),\"\",VLOOKUP($BK3,Start!$AR$20:$AS$39,2,FALSE))","v":""},{"$f":"IF(ISERROR(VLOOKUP($BN3,$BN$7:$BO$50,1,FALSE)),\"\",VLOOKUP($BN3,$BN$7:$BO$50,1,FALSE))","v":""},{"$f":"IF(ISERROR(VLOOKUP($BN3,$BN$7:$BO$50,2,FALSE)),\"\",VLOOKUP($BN3,$BN$7:$BO$50,2,FALSE))","v":""},{"$f":"IF(Class1=\"\",\"\",SubClass1)","v":""},{"$f":"IF(BO3=\"\",\"\",IF(COUNTIF($BR$2:BR2,\"><\"\"\")>0,\" / \"&BQ3,BQ3))","v":""},{"$f":"Tables!FA4","v":false},{"$f":"IF(Tables!BS3=TRUE,IF(SubClass1=\"Land\",IF(COUNTIF(Start!$AS$48:AS48,\"><\"\"\")>0,\" / \"&SubClass1&\" (\"&DruidLandOrigin&\")\",SubClass1&\" (\"&DruidLandOrigin&\")\"),IF(COUNTIF(Start!$AS$48:AS48,\"><\"\"\")>0,\" / \"&SubClass1,SubClass1)),\"\")","v":""},{"$f":"IF(BO3=\"\",\"\",IF(COUNTIF($BU$2:BU2,\"><\"\"\")>0,\" / \"&BO3&\" \"&VLOOKUP(BO3,$BI$7:$BR$50,4,FALSE),BO3&\" \"&VLOOKUP(BO3,$BI$7:$BR$50,4,FALSE)))","v":""},{"$f":"IF($BN3=\"\",\"\",VLOOKUP($BN3,$BI$7:$CL$50,14,FALSE))","v":""},{"$f":"IF($BN3=\"\",\"\",VLOOKUP($BN3,$BI$7:$CL$50,15,FALSE))","v":""},{"$f":"IF($BN3=\"\",\"\",VLOOKUP($BN3,$BI$7:$CL$50,16,FALSE))","v":""},{"$f":"IF($BN3=\"\",\"\",VLOOKUP($BN3,$BI$7:$CL$50,17,FALSE))","v":""},{"$f":"IF($BN3=\"\",\"\",VLOOKUP($BN3,$BI$7:$CL$50,BZ$2,FALSE))","v":""},null,{"$f":"IF($BN3=\"\",\"\",VLOOKUP($BN3,$BI$7:$CL$50,CB$2,FALSE))","v":""},null,{"$f":"IF($BN3=\"\",\"\",VLOOKUP($BN3,$BI$7:$CL$50,CD$2,FALSE))","v":""},{"$f":"IF($BN3=\"\",0,VLOOKUP($BN3,$BI$7:$CL$50,CE$2,FALSE))","v":0},null,null,{"$f":"IF($BN3=\"\",\"\",VLOOKUP($BN3,$BI$7:$CL$50,CH$2,FALSE))","v":""},{"$f":"IF($BN3=\"\",\"\",VLOOKUP($BN3,$BI$7:$CL$50,CI$2,FALSE))","v":""},{"$f":"IF($BN3=\"\",\"\",IF($BL3>=CJ$6,VLOOKUP($BN3,$BI$7:$DF$50,CJ$2,FALSE),\"\"))","v":""},null,null,{"$f":"IF($BN3=\"\",\"\",IF($BL3>=CM$6,VLOOKUP($BN3,$BI$7:$DF$50,CM$2,FALSE),\"\"))","v":""},"","","","","","","","","",{"$f":"IF($BN3=\"\",\"\",IF($BL3>=CW$6,VLOOKUP($BN3,$BI$7:$DF$50,CW$2,FALSE),\"\"))","v":""},"","","","","","","","","",{"$f":"IF($BN3=\"\",\"\",BN3&\"\n• \"&$BZ$1&\": \"&BZ3&\"\n• \"&$CB$1&\": \"&CB3&\"\n• \"&$CD$1&\": \"&CD3&\"\n• \"&$CH$1&\": \"&CH3&\"\n• \"&$CI$1&\": \"&CI3)","v":""},{"$f":"IF($BN3=\"\",\"\",BN3&\"\n• \"&CI3&\"\n\")","v":""},{"$f":"CM3&CN3&CO3&CP3&CQ3&CR3&CS3&CT3&CU3&CV3&CW3&CX3&CY3&CZ3&DA3&DB3&DC3&DD3&DE3&DF3","v":""},{"$f":"IF(BN3=\"\",\"\",IF(BN2=\"SINGLE\",\"CLASS: \"&DG3&\"\n\"&DI3,\"CLASS 1: \"&DG3&\"\n\"&DI3))","v":""},"Arctic","SUBCLASS1",{"$f":"Class1","v":""},{"$f":"BQ3","v":""},{"$f":"IF(OR($DN3=\"\",$DN3=SelectText),\"\",VLOOKUP($DN3,$DL$6:$EY$51,DO$2,FALSE))","v":""},"","","","","","","","","",{"$f":"IF(OR($DN3=\"\",$DN3=SelectText),\"\",VLOOKUP($DN3,$DL$6:$EY$51,DY$2,FALSE))","v":""},"","","","","","","","","","","",{"$f":"IF(EJ3=\"\",0,2)","v":0},{"$f":"IF(OR($DN3=\"\",$DN3=SelectText),\"\",VLOOKUP($DN3,$DL$6:$EY$51,EL$2,FALSE))","v":""},{"$f":"IF(EL3=\"\",0,2)","v":0},{"$f":"IF(OR($DN3=\"\",$DN3=SelectText),\"\",VLOOKUP($DN3,$DL$6:$EY$51,EN$2,FALSE))","v":""},{"$f":"IF(EN3=\"\",0,2)","v":0},{"$f":"IF(OR($DN3=\"\",$DN3=SelectText),\"\",VLOOKUP($DN3,$DL$6:$EY$51,EP$2,FALSE))","v":""},{"$f":"IF(EP3=\"\",0,2)","v":0},{"$f":"IF(OR($DN3=\"\",$DN3=SelectText),\"\",VLOOKUP($DN3,$DL$6:$EY$51,ER$2,FALSE))","v":""},{"$f":"IF(ER3=\"\",0,2)","v":0},{"$f":"IF(OR($DN3=\"\",$DN3=SelectText),\"\",VLOOKUP($DN3,$DL$6:$EY$51,ET$2,FALSE))","v":""},"","","","","",{"$f":"DO3&DP3&DQ3&DR3&DS3&DT3&DU3&DV3&DW3&DX3&DY3&DZ3&EA3&EB3&EC3&ED3&EE3&EF3&EG3&EH3","v":""},null,null,null,null,null,null,null,null,null,null,null,null,null,null,1,{"$f":"SelectText","v":"Select…"},1,{"$f":"IF(ISERROR(VLOOKUP(FQ3,$FO$3:$FP$22,2,FALSE)),\"\",VLOOKUP(FQ3,$FO$3:$FP$22,2,FALSE))","v":"Select…"},{"$f":"IF(OR(RogueLevel>=1,BardLevel>=3),TRUE, \"\")","v":""},{"$f":"IF(RogueLevel>=1,\"Rogue Level 1\", IF(BardLevel>=3,\"Bard Level 3\",\"EXPERTISE 1\"))","v":"EXPERTISE 1"},null,null,{"$f":"IF(FX3=\"\",\"\",MAX($FW$1:FW2)+1)","v":""},{"$f":"IF(OR(AND(Class2=$BI$8,FighterLevel>=1),AND(Class2=$BI$15,PaladinLevel>=2),AND(Class2=$BI$16,RangerLevel>=2)),Class2,\"\")","v":""},2,{"$f":"IF(ISERROR(VLOOKUP($FY3,$FW$2:$FX$5,2,FALSE)),\"\",VLOOKUP($FY3,$FW$2:$FX$5,2,FALSE))","v":""},{"$f":"FightingStyle2","v":"Select…"},"Commander’s Strike","   When you take the Attack action on your turn, forgo one of your attacks and use a bonus action to direct one of your\n   companions to strike. Choose a friendly creature who can see or hear you and expend one superiority die. That creature can\n   immediately use its reaction to make one weapon attack, adding the superiority die to the damage roll.",1,{"$f":"$ZT$12","v":""},{"$f":"IF(LEFT(GE3,4)<>\"Mart\",IF(FighterLevel>=GE5,TRUE,\"\"),IF(FighterLevel>=GE3,TRUE,TRUE))","v":""},{"$f":"IF(LEFT(GE3,4)<>\"Mart\",IF(FighterLevel>=GE5,\"Fighter Level \"&GE5,\"MANEUVER \"&GD3),IF(FighterLevel>=GE3,\"Fighter Level \"&GE3,GE3))","v":"MANEUVER 1"},{"$f":"Start!AJ78","v":"Select…"},{"$f":"VLOOKUP(GH3,$GB$2:$GC$18,2,FALSE)","v":""},{"$f":"IF(GF3=TRUE,\"\n \"&GH3&\"\n\"&GI3,\"\")","v":""},{"$f":"\"\"","v":""},null,1,{"$f":"SelectText","v":"Select…"},1,{"$f":"IF(ISERROR(VLOOKUP(GO3,$GM$3:$GN$22,2,FALSE)),\"\",VLOOKUP(GO3,$GM$3:$GN$22,2,FALSE))","v":"Select…"},{"$f":"SelectText","v":"Select…"},{"$f":"\"\"","v":""},null,null,1,{"$f":"SelectText","v":"Select…"},1,{"$f":"IF(ISERROR(VLOOKUP(GW3,$GU$3:$GV$19,2,FALSE)),\"\",VLOOKUP(GW3,$GU$3:$GV$19,2,FALSE))","v":"Select…"},null,null,{"$f":"GQ2","v":"Elemental Attument"},{"$f":"\" \"&HA3&\"\n\"&GR2","v":" Elemental Attument\n   Use your action to briefly control elemental forces nearby, causing one of the following effects of your choice:\n     • Create a harmless, instantaneous sensory effect related to air, earth, fire, or water, such as a shower of sparks, a puff of\n        wind, a spray of light mist, or a gentle rumbling of stone.\n     • Instantaneously light or snuff out a candle, a torch, or a small campfire.\n     • Chill or warm up to 1 pound of nonliving material for up to 1 hour.\n     • Cause earth, fire, water, or mist that can fit within a 1 ft cube to shape itself into a crude form you designate for 1 minute."},{"$f":"SelectText","v":"Select…"},{"$f":"\"\"","v":""},{"$f":"\"\"","v":""},{"$f":"\"\"","v":""},null,null,{"$f":"IF(BarbarianTotemWarriorLevel>=14,\"  \"&HI4&\": \"&HJ4&\"\n  \"&HI5&\": \"&HJ5&\"\n  \"&HI6&\": \"&HJ6,IF(BarbarianTotemWarriorLevel>=6,\"  \"&HI4&\": \"&HJ4&\"\n  \"&HI5&\": \"&HJ5,IF(BarbarianTotemWarriorLevel>=3,\"  \"&HI4&\": \"&HJ4,\"\")))","v":""},null,{"$f":"SelectText","v":"Select…"},{"$f":"\"\"","v":""},{"$f":"SelectText","v":"Select…"},null,null,null,null,null,null,{"$f":"SelectText","v":"Select…"},null,null,null,{"$f":"SelectText","v":"Select…"},null,null,null,{"$f":"SelectText","v":"Select…"},null,null,null,null,null,{"$f":"IF(IJ3=1,MAX($IH$2:IH2)+1,\"\")","v":""},"Agonizing Blast",{"$f":"IF(COUNTIF(Spellcasting!$AC$6:$AL$15,\"=Eldritch Blast\")>0,1,\"\")","v":""},"   When you cast eldritch blast, add your Charisma modifier to the damage it deals on a hit.",1,{"$f":"IF(ISERROR(VLOOKUP($IL3,$IH$3:$IK$34,2,FALSE)),\"\",VLOOKUP($IL3,$IH$3:$IK$34,2,FALSE))","v":"Armor of Shadows"},null,{"$f":"IF(ISERROR(VLOOKUP(WarlockLevel,$JM$102:$JX$121,11,FALSE)),0,VLOOKUP(WarlockLevel,$JM$102:$JX$121,11,FALSE))","v":0},null,null,null,"Pact of the Blade","   You can use your action to create a pact weapon in your empty hand, choose the form that this melee weapon\n   takes each time you create it and the weapon counts as magical for the purpose of overcoming resistance and\n   immunity to nonmagical attacks and damage. You are proficient with it while you wield it. Your pact weapon\n   disappears if it is more than 5 feet away from you for 1 minute or more, if you use this feature again, if you\n   dismiss the weapon (no action required), or if you die. You can transform one magic weapon into your pact\n   weapon by performing a 1-hour ritual while you hold the weapon, which can be done during a short rest. You\n   can then dismiss the weapon, shunting it into an extradimensional space, and it appears whenever you create\n   your pact weapon thereafter. You can’t affect an artifact or a sentient weapon in this way. The weapon ceases \n   being your pact weapon if you die, perform the 1-hour ritual on a different weapon, or use a 1-hour ritual to\n   break the bond. The weapon appears at your feet if it is in the extradimensional space when the bond breaks.",null,"Select…",{"$f":"\"-\"","v":"-"},"Select…",{"$f":"\"-\"","v":"-"},null,null,null,{"$f":"IF(JD3=\"\",\"\",MAX($JC$1:JC2)+1)","v":2},"Common","Common",2,"Common",2,300,2,2,null,1,{"$f":"IF($JX$9=TRUE,VLOOKUP($JM3,$JM$33:$JW$52,JN$2+1),IF(OR(RogueArcaneTricksterLevel>0,FighterEldritchKnightLevel>0),VLOOKUP($JM3,$JM$56:$JW$75,JN$2+1,FALSE),IF(OR(PaladinLevel>0,RangerLevel>0),VLOOKUP($JM3,$JM$79:$JW$98,JN$2+1,FALSE),VLOOKUP($JM3,$JM$33:$JW$52,JN$2+1,FALSE))))","v":2},"-","-","-","-","-","-","-","-",1,{"$f":"IF(JX9=TRUE,ClericLevel+DruidLevel+WizardLevel+BardLevel+SorcererLevel+ROUNDDOWN(PaladinLevel/2,0)+ROUNDDOWN(RangerLevel/2,0)+ROUNDDOWN(RogueArcaneTricksterLevel/3,0)+ROUNDDOWN(FighterEldritchKnightLevel/3,0),ClericLevel+DruidLevel+WizardLevel+BardLevel+PaladinLevel+RangerLevel+FighterEldritchKnightLevel+RogueArcaneTricksterLevel+SorcererLevel)","v":0},"Cleric","WIS","PREPARED",{"$f":"IF((ClericLevel+WISMod)<1,1,ClericLevel+WISMod)","v":1},null,1,0,4,0,0,2,2,1,3,3,0,0,2,4,2,"Class",{"$f":"IF(SUM(CE3:CE5)=0,\"none\",IF(CE3=0,\"\",CD3)&IF(CE4=0,\"\",CD4)&IF(CE5=0,\"\",CD5))","v":"none"},null,"Armor",{"$f":"PV60&PV61&PV62&PV63&PV64&PV65&PV66&PV67&PV68&PV69&PV70&PV71&PV72&PV73&PV74&PV75&PV76&PV78","v":""},null,null,null,null,null,null,null,null,null,null,null,null,null,null,null,null,null,null,null,null,null,null,null,null,null,null,null,null,null,null,null,null,null,null,null,null,null,null,null,null,null,null,null,null,null,null,null,null,null,null,null,null,null,null,null,null,null,null,null,null,null,null,null,null,null,null,null,null,null,null,null,null,null,null,null,null,null,null,null,null,null,null,null,null,null,null,null,null,null,null,null,null,null,null,null,null,null,null,null,null,null,null,null,null,null,null,null,null,null,null,null,null,null,null,null,null,null,null,null,null,null,null,null,null,null,null,null,null,null,null,null,null,{"$f":"SelectText","v":"Select…"},{"$f":"\"\"","v":""},{"$f":"\"\"","v":""},{"$f":"\"\"","v":""},{"$f":"\"\"","v":""},{"$f":"\"\"","v":""},{"$f":"\"\"","v":""},{"$f":"\"\"","v":""},{"$f":"\"\"","v":""},{"$f":"\"\"","v":""},{"$f":"\"\"","v":""},{"$f":"\"\"","v":""},{"$f":"\"\"","v":""},{"$f":"\"\"","v":""},{"$f":"\"\"","v":""},{"$f":"\"\"","v":""},{"$f":"\"\"","v":""},{"$f":"\"\"","v":""},{"$f":"\"\"","v":""},{"$f":"SelectText","v":"Select…"},{"$f":"QT2+1","v":3},null,null,null,null,null,null,null,null,null,null,null,null,null,null,null,null,null,null,null,null,null,null,null,null,null,null,null,null,null,null,null,null,null,null,null,null,null,null,null,null,null,null,null,null,null,null,null,null,null,{"$f":"SelectText","v":"Select…"},{"$f":"\"\"","v":""},null,{"$f":"\"\"","v":""},{"$f":"\"\"","v":""},"-",{"$f":"\"\"","v":""},{"$f":"\"\"","v":""},{"$f":"\"\"","v":""},{"$f":"SelectText","v":"Select…"},{"$f":"\"\"","v":""},null,{"$f":"\"\"","v":""},{"$f":"\"\"","v":""},"-","-",{"$f":"\"\"","v":""},"",1,"Acid Splash","CANTRIP",0.5,{"$f":"TK3&\" \"&TO3&TP3&TQ3&TR3","v":"Acid Splash "},{"$f":"\"\"","v":""},{"$f":"IF(SUM(UY3:VE3)>0,\"ᵈ\",\"\")&IF(SUM(UO3:UQ3)>0,\"ᵒ\",\"\")&IF(SUM(VG3:VO3)>0,\"ᶜ\",\"\")","v":""},{"$f":"IF(OR(TK3=Spellcasting!$AC$18,TK3=Spellcasting!$AC$19),\"ᵐ\",\"\")","v":""},{"$f":"IF(OR(TK3=Spellcasting!$AC$20,TK3=Spellcasting!$AC$21),\"ˢ\",\"\")","v":""},{"$f":"\"\"","v":""},"1 act","60 ft","instant","VS",{"$f":"\"\"","v":""},"conjuration","conjur","You hurl a bubble of acid. Choose one creature within range, or choose two creatures within range that are within 5 feet of each other. A target must succeed on a Dexterity saving throw or take 1d6 acid damage. \n\nThis spell’s damage increases by 1d6 when you reach 5th level (2d6), 11th level (3d6), and 17th level (4d6). ",{"$f":"IF(CharacterLevel>16,\"4d6\",IF(CharacterLevel>10,\"3d6\",IF(CharacterLevel>4,\"2d6\",\"1d6\")))&IF(AD4=TRUE,\"+\"&CHAMod,\"\")&\" acid, dex save\"&IF(WizardEvocationLevel>=6,\" ½\",\"\")","v":"1d6 acid, dex save"},null,null,null,{"$f":"IF(UF$1>=$TM3,1,\"0\")","v":"0"},null,null,null,null,null,{"$f":"IF(UL$1>=$TM3,1,\"0\")","v":"0"},null,null,null,null,null,null,null,null,null,null,null,null,null,null,null,null,null,null,null,null,null,null,null,null,null,null,null,null,null,{"$f":"IF(VP$1>=$TM3,1,\"0\")","v":"0"},{"$f":"IF(VQ$1>=$TM3,1,\"0\")","v":"0"},null,null,null,null,null,null,null,null,null,null,{"$f":"IF(WB$1>=$TM3,1,\"0\")","v":"0"},null,{"$f":"IF(SUM($VZ$1:$WC$1)>0,IF(AND(SUM($VZ3:$WC3)>0,$TM3=WE$1),MAX(WD$2:WD2)+1,\"\"),IF(AND(SUM($UC3:$VY3)>0,$TM3=WE$1),MAX(WD$2:WD2)+1,\"\"))","v":""},{"$f":"IF(AND(WD3<>\"\",$TM3=WE$1),$TK3,\"\")","v":""},{"$f":"IF(AND(SUM($UB3:$VY3)>0,$TM3=WG$1),MAX(WF$2:WF2)+1,\"\")","v":""},{"$f":"IF(AND(WF3<>\"\",$TM3=WG$1),$TK3,\"\")","v":""},{"$f":"IF(AND(SUM($UB3:$VY3)>0,$TM3=WI$1),MAX(WH$2:WH2)+1,\"\")","v":""},{"$f":"IF(AND(WH3<>\"\",$TM3=WI$1),$TK3,\"\")","v":""},{"$f":"IF(AND(SUM($UB3:$VY3)>0,$TM3=WK$1),MAX(WJ$2:WJ2)+1,\"\")","v":""},{"$f":"IF(AND(WJ3<>\"\",$TM3=WK$1),$TK3,\"\")","v":""},{"$f":"IF(AND(SUM($UB3:$VY3)>0,$TM3=WM$1),MAX(WL$2:WL2)+1,\"\")","v":""},{"$f":"IF(AND(WL3<>\"\",$TM3=WM$1),$TK3,\"\")","v":""},{"$f":"IF(AND(SUM($UB3:$VY3)>0,$TM3=WO$1),MAX(WN$2:WN2)+1,\"\")","v":""},{"$f":"IF(AND(WN3<>\"\",$TM3=WO$1),$TK3,\"\")","v":""},{"$f":"IF(AND(SUM($UB3:$VY3)>0,$TM3=WQ$1),MAX(WP$2:WP2)+1,\"\")","v":""},{"$f":"IF(AND(WP3<>\"\",$TM3=WQ$1),$TK3,\"\")","v":""},{"$f":"IF(AND(SUM($UB3:$VY3)>0,$TM3=WS$1),MAX(WR$2:WR2)+1,\"\")","v":""},{"$f":"IF(AND(WR3<>\"\",$TM3=WS$1),$TK3,\"\")","v":""},{"$f":"IF(AND(SUM($UB3:$VY3)>0,$TM3=WU$1),MAX(WT$2:WT2)+1,\"\")","v":""},{"$f":"IF(AND(WT3<>\"\",$TM3=WU$1),$TK3,\"\")","v":""},{"$f":"IF(AND(SUM($UB3:$VY3)>0,$TM3=WW$1),MAX(WV$2:WV2)+1,\"\")","v":""},{"$f":"IF(AND(WV3<>\"\",$TM3=WW$1),$TK3,\"\")","v":""},{"$f":"IF(AND(SUM($UB3:$VY3)>0,$TM3=WY$1),MAX(WX$2:WX2)+1,\"\")","v":""},{"$f":"IF(AND(WX3<>\"\",$TM3=WY$1),$TK3,\"\")","v":""},2,{"$f":"IF(ISERROR(VLOOKUP($WZ3,$WD$1:$WE$5013,2,FALSE)),\"\",VLOOKUP($WZ3,$WD$1:$WE$5013,2,FALSE))","v":""},"","",{"$f":"IF(ISERROR(VLOOKUP($WZ3,$WJ$1:$WK$5013,2,FALSE)),\"\",VLOOKUP($WZ3,$WJ$1:$WK$5013,2,FALSE))","v":""},{"$f":"IF(ISERROR(VLOOKUP($WZ3,$WL$1:$WM$5013,2,FALSE)),\"\",VLOOKUP($WZ3,$WL$1:$WM$5013,2,FALSE))","v":""},{"$f":"IF(ISERROR(VLOOKUP($WZ3,$WN$1:$WO$5013,2,FALSE)),\"\",VLOOKUP($WZ3,$WN$1:$WO$5013,2,FALSE))","v":""},{"$f":"IF(ISERROR(VLOOKUP($WZ3,$WP$1:$WQ$5013,2,FALSE)),\"\",VLOOKUP($WZ3,$WP$1:$WQ$5013,2,FALSE))","v":""},{"$f":"IF(ISERROR(VLOOKUP($WZ3,$WR$1:$WS$5013,2,FALSE)),\"\",VLOOKUP($WZ3,$WR$1:$WS$5013,2,FALSE))","v":""},{"$f":"IF(ISERROR(VLOOKUP($WZ3,$WT$1:$WU$5013,2,FALSE)),\"\",VLOOKUP($WZ3,$WT$1:$WU$5013,2,FALSE))","v":""},{"$f":"IF(ISERROR(VLOOKUP($WZ3,$WV$1:$WW$5013,2,FALSE)),\"\",VLOOKUP($WZ3,$WV$1:$WW$5013,2,FALSE))","v":""},{"$f":"IF(ISERROR(VLOOKUP($WZ3,$WX$1:$WY$5013,2,FALSE)),\"\",VLOOKUP($WZ3,$WX$1:$WY$5013,2,FALSE))","v":""},"Beast",null,1,{"$f":"XN3+1","v":2},3,{"$f":"XP3+1","v":4},{"$f":"XQ3+1","v":5},{"$f":"XR3+1","v":6},7,8,9,10,11,12,13,{"$f":"XZ3+1","v":14},{"$f":"YA3+1","v":15},{"$f":"YB3+1","v":16},null,{"$f":"IF(ISERROR(VLOOKUP(YF3,$ZA$2:$ZP$23,$ZD$1+3,FALSE)),\"\",VLOOKUP(YF3,$ZA$2:$ZP$23,$ZD$1+3,FALSE))","v":""},1,{"$f":"IF(ISERROR(VLOOKUP(YF3,$ZA$2:$ZB$23,2,FALSE)),\"FEAT \"&YF3,VLOOKUP(YF3,$ZA$2:$ZB$23,2,FALSE))","v":"FEAT 1"},{"$f":"IF(OR(Start!I113=\"\",Start!I113=SelectText),\"\",Start!I113)","v":""},{"$f":"IF(ISERROR(VLOOKUP($YH3,$YG$13:$YR$100,YI$2,FALSE)),\"\",VLOOKUP($YH3,$YG$13:$YR$100,YI$2,FALSE))","v":""},{"$f":"IF(YH3=\"\",\"\",YG3&\" - \"&YH3&\"\n\"&YI3)","v":""},{"$f":"\"\"","v":""},{"$f":"IF(COUNTIF($YH$3:$YH$10,YG33),3,0)","v":0},{"$f":"IF(ISERROR(VLOOKUP($YH3,$YG$13:$YR$100,YL$2,FALSE)),\"\",VLOOKUP($YH3,$YG$13:$YR$100,YL$2,FALSE))","v":""},{"$f":"IF(ISERROR(VLOOKUP(YH3,$YG$13:$YQ$102,YM$2,FALSE)),\"\",VLOOKUP(YH3,$YG$13:$YQ$102,YM$2,FALSE))","v":""},{"$f":"IF(COUNTIF($YH$3:$YH$10,YG50),3,0)","v":0},null,null,null,{"$f":"YE3","v":""},"Barbarian",4,{"$f":"VLOOKUP(YY3,$ZD$2:$ZP$23,$ZD$1,FALSE)","v":""},{"$f":"IF(YX3=\"\",\"\",MAX($YW$1:YW2)+1)","v":""},{"$f":"IF(INDIRECT(YT3&TEXT(\"Level\",0))>=YU3,YT3&\" - Level \"&YU3,\"\")","v":""},{"$f":"IF(INDIRECT(YT3&TEXT(\"level\",0))>=YU3,YU3,\"\")","v":""},{"$f":"\"\"","v":""},{"$f":"IF(ZB3=\"\",\"\",MAX($ZA$2:ZA2)+1)","v":""},{"$f":"\"\"","v":""},{"$f":"\"\"","v":""},{"$f":"\"\"","v":""},{"$f":"\"\"","v":""},{"$f":"\"\"","v":""},{"$f":"\"\"","v":""},{"$f":"\"\"","v":""},{"$f":"\"\"","v":""},{"$f":"\"\"","v":""},{"$f":"\"\"","v":""},{"$f":"\"\"","v":""},{"$f":"\"\"","v":""},{"$f":"\"\"","v":""},{"$f":"\"\"","v":""},{"$f":"\"\"","v":""},"Bard",5,"Alert",{"$f":"IF(COUNTIF($YH$3:$YH$10,ZS3)>0,$ZS3&\"\n\"&VLOOKUP($ZS3,$YG$14:$YK$77,5,FALSE)&\"\n\",\"\")","v":""},{"$f":"\"\"","v":""},1,{"$f":"ZV3+1","v":2},{"$f":"ZW3+1","v":3},4,5,6,7,8,9,10,11,12,13,14,15,16,17,18,19,20]
["Select…",{"$f":"\"\"","v":""},{"$f":"\"\"","v":""},{"$f":"\"\"","v":""},{"$f":"\"\"","v":""},"none",0,"none",0,"none",0,{"$f":"\"\"","v":""},{"$f":"\"\"","v":""},{"$f":"\"\"","v":""},{"$f":"\"\"","v":""},{"$f":"\"\"","v":""},{"$f":"\"\"","v":""},{"$f":"\"\"","v":""},{"$f":"\"\"","v":""},{"$f":"\"\"","v":""},{"$f":"SelectText","v":"Select…"},{"$f":"\"\"","v":""},null,{"$f":"IF(Y4=\"\",\"\",MAX($X3:X$3)+1)","v":""},{"$f":"IF(OR(A3=U4,A3=A8,A3=A11,A3=A12,A3=A13,A3=A14,A3=A15),\"\",U4)","v":""},{"$f":"Z3+1","v":1},{"$f":"IF(ISERROR(VLOOKUP(Z4,$X$4:$Y$52,2,FALSE)),\"\",VLOOKUP(Z4,$X$4:$Y$52,2,FALSE))","v":""},"none","Acid",{"$f":"IF(AND(VLOOKUP(RaceDraconicAncestry,$U$15:$W$25,3,FALSE)=AC4,SorcererDraconicBloodlineLevel>=6),TRUE,FALSE)","v":false},"Select…",{"$f":"\"\"","v":""},{"$f":"\"\"","v":""},"none",null,"none",null,"none",0,2,3,{"$f":"SelectText","v":"Select…"},{"$f":"\"\"","v":""},null,null,null,null,null,null,null,null,null,null,null,null,null,{"$f":"\"\"","v":""},"DEX",{"$f":"IF(OR(BL9>0,BL12>0,BL14>0,BL16>0,AAP5>0),BF4,\"\")","v":""},{"$f":"IF(BG4=\"\",\"\",IF(COUNTIF(BG4:$BG$8,\"><\")>1,BG4&\", \",BG4))","v":""},{"$f":"IF(Class2=\"\",\"\",\" / \"&Class2&\" \"&BL4)","v":""},"CLASS",2,{"$f":"IF(ISERROR(VLOOKUP($BN4,$BI$7:$BL$50,4,FALSE)),\"\",VLOOKUP($BN4,$BI$7:$BL$50,4,FALSE))","v":""},null,{"$f":"IF(ISERROR(VLOOKUP($BK4,Start!$AR$20:$AS$39,2,FALSE)),\"\",VLOOKUP($BK4,Start!$AR$20:$AS$39,2,FALSE))","v":""},{"$f":"IF(ISERROR(VLOOKUP($BN4,$BN$7:$BO$50,1,FALSE)),\"\",VLOOKUP($BN4,$BN$7:$BO$50,1,FALSE))","v":""},{"$f":"IF(ISERROR(VLOOKUP($BN4,$BN$7:$BO$50,2,FALSE)),\"\",VLOOKUP($BN4,$BN$7:$BO$50,2,FALSE))","v":""},{"$f":"IF(Class2=\"\",\"\",SubClass2)","v":""},{"$f":"IF(BO4=\"\",\"\",IF(COUNTIF($BR$2:BR3,\"><\"\"\")>0,\" / \"&BQ4,BQ4))","v":""},{"$f":"Tables!FE4","v":false},{"$f":"IF(Tables!BS4=TRUE,IF(SubClass2=\"Land\",IF(COUNTIF($BT$3:BT3,\"><\"\"\")>0,\" / \"&SubClass2&\" (\"&DruidLandOrigin&\")\",SubClass2&\" (\"&DruidLandOrigin&\")\"),IF(COUNTIF($BT$3:BT3,\"><\"\"\")>0,\" / \"&SubClass2,SubClass2)),\"\")","v":""},{"$f":"IF(BO4=\"\",\"\",IF(COUNTIF($BU$2:BU3,\"><\"\"\")>0,\" / \"&BO4&\" \"&VLOOKUP(BO4,$BI$7:$BR$50,4,FALSE),BO4&\" \"&VLOOKUP(BO4,$BI$7:$BR$50,4,FALSE)))","v":""},{"$f":"IF($BN4=\"\",\"\",VLOOKUP($BN4,$BI$7:$CL$50,14,FALSE))","v":""},{"$f":"IF($BN4=\"\",\"\",VLOOKUP($BN4,$BI$7:$CL$50,15,FALSE))","v":""},{"$f":"IF($BN4=\"\",\"\",VLOOKUP($BN4,$BI$7:$CL$50,16,FALSE))","v":""},{"$f":"IF($BN4=\"\",\"\",VLOOKUP($BN4,$BI$7:$CL$50,17,FALSE))","v":""},{"$f":"IF($BN4=\"\",\"\",VLOOKUP($BN4,$BI$7:$CL$50,CA$2,FALSE))","v":""},null,{"$f":"IF($BN4=\"\",\"\",VLOOKUP($BN4,$BI$7:$CL$50,CC$2,FALSE))","v":""},null,{"$f":"IF($BN4=\"\",\"\",VLOOKUP($BN4,$BI$7:$CL$50,CF$2,FALSE))","v":""},{"$f":"IF($BN4=\"\",0,VLOOKUP($BN4,$BI$7:$CL$50,CG$2,FALSE))","v":0},null,null,{"$f":"IF($BN4=\"\",\"\",VLOOKUP($BN4,$BI$7:$CL$50,CH$2,FALSE))","v":""},{"$f":"IF($BN4=\"\",\"\",VLOOKUP($BN4,$BI$7:$CL$50,CK$2,FALSE))","v":""},{"$f":"IF($BN4=\"\",\"\",IF($BL4>=CJ$6,VLOOKUP($BN4,$BI$7:$DF$50,CL$2,FALSE),\"\"))","v":""},null,null,"","","","","","","","","","","","","","","","","","","","",{"$f":"IF($BN4=\"\",\"\",BN4&\"\n• \"&$BZ$1&\": \"&BZ4&\"\n• \"&$CB$1&\": \"&CB4&\"\n• \"&$CD$1&\": \"&CD4&\"\n• \"&$CH$1&\": \"&CH4&\"\n• \"&$CI$1&\": \"&CI4)","v":""},{"$f":"IF($BN4=\"\",\"\",BN4&\"\n• \"&CI4&\"\n\")","v":""},{"$f":"CM4&CN4&CO4&CP4&CQ4&CR4&CS4&CT4&CU4&CV4&CW4&CX4&CY4&CZ4&DA4&DB4&DC4&DD4&DE4&DF4","v":""},{"$f":"IF(BN4=\"\",\"\",\"CLASS 2: \"&DG4&\"\n\"&DI4)","v":""},"Coast","SUBCLASS2",{"$f":"Class2","v":""},{"$f":"BQ4","v":""},"","","","","","","","","","","","","","","","","","","","","","",{"$f":"IF(EJ4=\"\",0,2)","v":0},{"$f":"IF(OR($DN4=\"\",$DN4=SelectText),\"\",VLOOKUP($DN4,$DL$6:$EY$51,EL$2,FALSE))","v":""},{"$f":"IF(EL4=\"\",0,2)","v":0},{"$f":"IF(OR($DN4=\"\",$DN4=SelectText),\"\",VLOOKUP($DN4,$DL$6:$EY$51,EN$2,FALSE))","v":""},{"$f":"IF(EN4=\"\",0,2)","v":0},{"$f":"IF(OR($DN4=\"\",$DN4=SelectText),\"\",VLOOKUP($DN4,$DL$6:$EY$51,EP$2,FALSE))","v":""},{"$f":"IF(EP4=\"\",0,2)","v":0},{"$f":"IF(OR($DN4=\"\",$DN4=SelectText),\"\",VLOOKUP($DN4,$DL$6:$EY$51,ER$2,FALSE))","v":""},{"$f":"IF(ER4=\"\",0,2)","v":0},"","","","","","",{"$f":"DO4&DP4&DQ4&DR4&DS4&DT4&DU4&DV4&DW4&DX4&DY4&DZ4&EA4&EB4&EC4&ED4&EE4&EF4&EG4&EH4","v":""},{"$f":"IF(FC4<>\"\",IF(FC4>=FC5,TRUE,FALSE))","v":false},"CLASS 1",{"$f":"IF(FB5=\"\",\"\",VLOOKUP(FB5,$BI$6:$BR$50,4,FALSE))","v":""},{"$f":"SubClass1","v":"Evocation"},{"$f":"IF(FG4<>\"\",IF(FG4>=FG5,TRUE,FALSE))","v":false},"CLASS 2",{"$f":"IF(FF5=\"\",\"\",VLOOKUP(FF5,$BI$6:$BR$50,4,FALSE))","v":""},{"$f":"SubClass2","v":"Select…"},{"$f":"IF(FK4<>\"\",IF(FK4>=FK5,TRUE,FALSE))","v":false},"CLASS 3",{"$f":"IF(FJ5=\"\",\"\",VLOOKUP(FJ5,$BI$6:$BR$50,4,FALSE))","v":""},{"$f":"SubClass3","v":"Select…"},"Acrobatics",{"$f":"Start!L65","v":0},{"$f":"IF($FM4=$FP4,MAX(FO$3:FO3)+1,\"\")","v":""},{"$f":"IF(FN4=\"•\",FM4,\"\")","v":""},{"$f":"FQ3+1","v":2},{"$f":"IF(ISERROR(VLOOKUP(FQ4,$FO$3:$FP$22,2,FALSE)),\"\",VLOOKUP(FQ4,$FO$3:$FP$22,2,FALSE))","v":""},{"$f":"IF(OR(RogueLevel>=1,BardLevel>=3),TRUE, \"\")","v":""},{"$f":"IF(RogueLevel>=1,\"Rogue Level 1\", IF(BardLevel>=3,\"Bard Level 3\",\"EXPERTISE 2\"))","v":"EXPERTISE 2"},null,null,{"$f":"IF(FX4=\"\",\"\",MAX($FW$1:FW3)+1)","v":""},{"$f":"IF(OR(AND(Class3=$BI$8,FighterLevel>=1),AND(Class3=$BI$15,PaladinLevel>=2),AND(Class3=$BI$16,RangerLevel>=2)),Class3,\"\")","v":""},3,{"$f":"IF(ISERROR(VLOOKUP($FY4,$FW$2:$FX$5,2,FALSE)),\"\",VLOOKUP($FY4,$FW$2:$FX$5,2,FALSE))","v":""},{"$f":"FightingStyle3","v":"Select…"},"Disarming Attack","   When you hit a creature with a weapon attack, expend one superiority die to attempt to disarm the target, forcing it to drop\n   one item of your choice that it’s holding. Add the superiority die to the damage roll, and the target must make a Strength saving\n   throw. On a failed save, it drops the object you choose. The object lands at its feet.",2,{"$f":"$ZT$12","v":""},"","MANEUVER 2",{"$f":"Start!AJ79","v":"Select…"},"","","Arcana",{"$f":"FN6","v":0},{"$f":"IF($GK4=$GN4,MAX(GM$3:GM3)+1,\"\")","v":""},{"$f":"IF(GL4=TRUE,GK4,\"\")","v":""},{"$f":"GO3+1","v":2},{"$f":"IF(ISERROR(VLOOKUP(GO4,$GM$3:$GN$22,2,FALSE)),\"\",VLOOKUP(GO4,$GM$3:$GN$22,2,FALSE))","v":""},"Breath of Winter","   Spend 6 ki points to cast cone of cold.",17,6,{"$f":"IF(GV4=\"\",\"\",MAX($GU$3:GU3)+1)","v":""},{"$f":"IF(MonkFourElementsLevel>=GS4,GQ4,\"\")","v":""},{"$f":"GW3+1","v":2},"",{"$f":"IF(MonkFourElementsLevel>=3,TRUE, \"\")","v":""},{"$f":"IF(MonkFourElementsLevel>=3,\"Monk Level 3\",\"DISCIPLINE 1\")","v":"DISCIPLINE 1"},{"$f":"Start!AJ91","v":"Select…"},{"$f":"\" \"&HA4&\"\n\"&VLOOKUP(HA4,$GQ$3:$GR$19,2,FALSE)","v":" Select…\n"},"Bear","While raging, resistance to all damage except psychic damage.","Carrying capacity (incl. max. load & max. lift) is doubled. Advantage on Strength checks to push, pull, lift, or break objects.","While raging, creatures within 5 feet have disadvantage on attack rolls against other targets. Enemy is immune if it can’t see,\n   hear or be frightened.",{"$f":"IF(BarbarianTotemWarriorLevel>=3,TRUE, \"\")","v":""},{"$f":"IF(BarbarianTotemWarriorLevel>=3,\"Barbarian Level 3\",\"TOTEM SPIRIT 1\")","v":"TOTEM SPIRIT 1"},{"$f":"Start!AJ69","v":"Select…"},{"$f":"VLOOKUP(HI4,$HC$3:$HF$6,2,FALSE)","v":""},"aberrations",{"$f":"\"\"","v":""},"aasimar",{"$f":"IF(RangerLevel>=1,TRUE, \"\")","v":""},{"$f":"IF(RangerLevel>=1,\"Ranger Level 1\",\"ENEMY 1\")","v":"ENEMY 1"},{"$f":"Start!AJ97","v":"Select…"},{"$f":"IF(ISERROR(VLOOKUP(HP4,$HK$3:$HL$61,2,FALSE)),\"\",VLOOKUP(HP4,$HK$3:$HL$61,2,FALSE))","v":""},{"$f":"Start!AO97","v":"Select…"},{"$f":"IF(HQ4=\"\",HP4,HP4&\", \"&HR4)","v":"Select…"},"Arctic",{"$f":"IF(RangerLevel>=1,TRUE, \"\")","v":""},{"$f":"IF(RangerLevel>=1,\"Ranger Level 1\",\"TERRAIN 1\")","v":"TERRAIN 1"},{"$f":"Start!AJ102","v":"Select…"},"Colossus Slayer",{"$f":"IF(RangerHunterLevel>=1,TRUE, \"\")","v":""},{"$f":"IF(RangerHunterLevel>=3,\"Hunter's Prey\",\"FEATURE 1\")","v":"FEATURE 1"},{"$f":"Start!AJ107","v":"Select…"},"Careful Spell","   When you cast a spell that forces other creatures to make a saving throw, you can protect some of those creatures from the\n   spell’s full force. Spend 1 sorcery point and choose a number of those creatures up to your Charisma modifier (minimum of\n   one creature). A chosen creature automatically succeeds on its saving throw against the spell.",{"$f":"IF(SorcererLevel>=3,TRUE, \"\")","v":""},"3rd",{"$f":"Spellcasting!AC24","v":"Select…"},{"$f":"IF(IF4=SelectText,\"\",\" - \"&IF4&\"\n\"&VLOOKUP(IF4,$IB$4:$IC$11,2,FALSE)&\"\n\")","v":""},{"$f":"IF(IJ4=1,MAX($IH$2:IH3)+1,\"\")","v":1},"Armor of Shadows",{"$f":"1","v":1},"   You can cast mage armor on yourself at will, without expending a spell slot or material components.",{"$f":"IL3+1","v":2},{"$f":"IF(ISERROR(VLOOKUP($IL4,$IH$3:$IK$34,2,FALSE)),\"\",VLOOKUP($IL4,$IH$3:$IK$34,2,FALSE))","v":"Beast Speech"},1,{"$f":"IF($IO$3>=IN4,TRUE,\"\")","v":""},{"$f":"IF($IO$3>=IN4,\"Warlock Level 2\",\"INVOCATION 1\")","v":"INVOCATION 1"},{"$f":"Start!AJ113","v":"Select…"},{"$f":"IF(IQ4=SelectText,\"\",\" - \"&IQ4&\"\n\"&VLOOKUP(IQ4,$II$3:$IK$34,3,FALSE)&\"\n\")","v":""},"Pact of the Chain","   You learn the find familiar spell and can cast it as a ritual. The spell doesn’t count against your number of\n   spells known. When you cast the spell, you can choose one of the normal forms for your familiar or one\n   of the following special forms: imp, pseudodragon, quasit, or sprite. Additionally, when you take the\n   Attack action, you can forgo one of your own attacks to allow your familiar to make one attack of its own.","LG","Lawful Good","Lawful good creatures can be counted on to do the right thing, as expected by society. Gold dragons, paladins, and most dwarves are lawful good.  ","--------------------FORGOTTEN REALMS--------------------",null,null,null,{"$f":"\"-\"","v":"-"},{"$f":"IF(JD4=\"\",\"\",MAX($JC$1:JC3)+1)","v":""},{"$f":"IF(DruidLevel>=1,\"Druidic\",\"\")","v":""},"Druidic",3,"Dwarvish",3,900,3,2,null,2,3,"-","-","-","-","-","-","-","-",1,"Warlock Level","Druid","WIS","PREPARED",{"$f":"IF((DruidLevel+WISMod)<1,1,DruidLevel+WISMod)","v":1},null,2,0,5,0,2,3,3,2,3,3,0,0,2,4,2,"SubClass",null,null,"Tools",{"$f":"PV12&PV13&PV14&PV15&PV16&PV17&PV18&PV19&PV20&PV21&PV22&PV23&PV24&PV25&PV26&PV27&PV28&PV29&PV30&PV32&PV33&PV34&PV35&PV36&PV37&PV38&PV40&PV41&PV42&PV43&PV44&PV45&PV46&PV47&PV48&PV49&PV50&PV51&PV53&PV54&PV55&PV56&PV57&PV58","v":""},null,null,null,null,null,null,null,null,null,null,null,null,null,null,null,null,null,null,null,null,null,null,null,null,null,null,null,null,null,null,null,null,null,null,null,null,null,null,null,null,null,null,null,null,null,null,null,null,null,null,null,null,null,null,null,null,null,null,null,null,null,null,null,null,null,null,null,null,null,null,null,null,null,null,null,null,null,null,null,null,null,null,null,null,null,null,null,null,null,null,null,null,null,null,null,null,null,null,null,null,null,null,null,null,null,null,null,null,null,null,null,null,null,null,null,null,null,null,null,null,null,null,null,null,null,null,null,null,null,null,null,null,"Battleaxe","Martial Melee",{"$f":"IF(PZ4=\"\",\"\",IF(VLOOKUP(PZ4,$KT$80:$KV$129,2,FALSE)=\"No\",$QS$12,$QS$11))","v":"not proficient"},"1d8","slashing","-",4,{"$f":"\"\"","v":""},{"$f":"\"\"","v":""},{"$f":"\"\"","v":""},{"$f":"\"\"","v":""},{"$f":"\"\"","v":""},{"$f":"\"\"","v":""},{"$f":"\"\"","v":""},{"$f":"\"\"","v":""},{"$f":"\"\"","v":""},"versatile (1d10)",{"$f":"\"\"","v":""},{"$f":"\"\"","v":""},1,4,null,null,null,null,null,null,null,null,null,null,null,null,null,null,null,null,null,null,null,null,null,null,null,null,null,null,null,null,null,null,null,null,null,null,null,null,null,null,null,null,null,null,null,null,null,null,null,null,null,"none","-",{"$f":"\"\"","v":""},10,{"$f":"DEXMod","v":-5},"-","-","-","-","none","-",null,0,{"$f":"DEXMod","v":-5},"-","-","-",{"$f":"\"\"","v":""},{"$f":"TJ3+1","v":2},"Aid","LEVEL 2",2,"Aid ᴴ ","ᴴ ","",{"$f":"IF(OR(TK4=Spellcasting!$AC$18,TK4=Spellcasting!$AC$19),\"ᵐ\",\"\")","v":""},{"$f":"IF(OR(TK4=Spellcasting!$AC$20,TK4=Spellcasting!$AC$21),\"ˢ\",\"\")","v":""},{"$f":"\"\"","v":""},"1 act","30 ft","8 hrs","VSM","a tiny strip of white cloth","abjuration","abjur","Your spell bolsters your allies with toughness and resolve. Choose up to three creatures within range. Each target’s hit point maximum and current hit points increase by 5 for the duration. \n\nAt Higher Levels. When you cast this spell using a spell slot of 3rd level or higher, a target’s hit points increase by an additional 5 for each slot level above 2nd.","3 creatures HP increase by 5 ",null,{"$f":"IF(UD$1>=$TM4,1,\"0\")","v":"0"},null,null,null,{"$f":"IF(UH$1>=$TM4,1,\"0\")","v":"0"},null,null,null,null,null,null,null,null,null,null,null,null,null,null,null,null,null,null,null,null,null,null,null,null,null,null,null,null,null,null,null,null,null,null,null,null,null,null,null,null,null,null,null,null,null,null,null,{"$f":"IF(SUM($VZ$1:$WC$1)>0,IF(AND(SUM($VZ4:$WC4)>0,$TM4=WE$1),MAX(WD$2:WD3)+1,\"\"),IF(AND(SUM($UC4:$VY4)>0,$TM4=WE$1),MAX(WD$2:WD3)+1,\"\"))","v":""},{"$f":"IF(AND(WD4<>\"\",$TM4=WE$1),$TK4,\"\")","v":""},{"$f":"IF(AND(SUM($UB4:$VY4)>0,$TM4=WG$1),MAX(WF$2:WF3)+1,\"\")","v":""},{"$f":"IF(AND(WF4<>\"\",$TM4=WG$1),$TK4,\"\")","v":""},{"$f":"IF(AND(SUM($UB4:$VY4)>0,$TM4=WI$1),MAX(WH$2:WH3)+1,\"\")","v":""},{"$f":"IF(AND(WH4<>\"\",$TM4=WI$1),$TK4,\"\")","v":""},{"$f":"IF(AND(SUM($UB4:$VY4)>0,$TM4=WK$1),MAX(WJ$2:WJ3)+1,\"\")","v":""},{"$f":"IF(AND(WJ4<>\"\",$TM4=WK$1),$TK4,\"\")","v":""},{"$f":"IF(AND(SUM($UB4:$VY4)>0,$TM4=WM$1),MAX(WL$2:WL3)+1,\"\")","v":""},{"$f":"IF(AND(WL4<>\"\",$TM4=WM$1),$TK4,\"\")","v":""},{"$f":"IF(AND(SUM($UB4:$VY4)>0,$TM4=WO$1),MAX(WN$2:WN3)+1,\"\")","v":""},{"$f":"IF(AND(WN4<>\"\",$TM4=WO$1),$TK4,\"\")","v":""},{"$f":"IF(AND(SUM($UB4:$VY4)>0,$TM4=WQ$1),MAX(WP$2:WP3)+1,\"\")","v":""},{"$f":"IF(AND(WP4<>\"\",$TM4=WQ$1),$TK4,\"\")","v":""},{"$f":"IF(AND(SUM($UB4:$VY4)>0,$TM4=WS$1),MAX(WR$2:WR3)+1,\"\")","v":""},{"$f":"IF(AND(WR4<>\"\",$TM4=WS$1),$TK4,\"\")","v":""},{"$f":"IF(AND(SUM($UB4:$VY4)>0,$TM4=WU$1),MAX(WT$2:WT3)+1,\"\")","v":""},{"$f":"IF(AND(WT4<>\"\",$TM4=WU$1),$TK4,\"\")","v":""},{"$f":"IF(AND(SUM($UB4:$VY4)>0,$TM4=WW$1),MAX(WV$2:WV3)+1,\"\")","v":""},{"$f":"IF(AND(WV4<>\"\",$TM4=WW$1),$TK4,\"\")","v":""},{"$f":"IF(AND(SUM($UB4:$VY4)>0,$TM4=WY$1),MAX(WX$2:WX3)+1,\"\")","v":""},{"$f":"IF(AND(WX4<>\"\",$TM4=WY$1),$TK4,\"\")","v":""},3,{"$f":"IF(ISERROR(VLOOKUP($WZ4,$WD$1:$WE$5013,2,FALSE)),\"\",VLOOKUP($WZ4,$WD$1:$WE$5013,2,FALSE))","v":""},"","","","","","","","","","","Celestial",null,{"$f":"SelectText","v":"Select…"},null,{"$f":"\"\"","v":""},{"$f":"\"\"","v":""},{"$f":"\"\"","v":""},{"$f":"\"\"","v":""},{"$f":"\"\"","v":""},{"$f":"\"\"","v":""},{"$f":"\"\"","v":""},{"$f":"\"\"","v":""},{"$f":"\"\"","v":""},{"$f":"\"\"","v":""},{"$f":"\"\"","v":""},{"$f":"\"\"","v":""},{"$f":"\"\"","v":""},{"$f":"\"\"","v":""},null,{"$f":"IF(ISERROR(VLOOKUP(YF4,$ZA$2:$ZP$23,$ZD$1+3,FALSE)),\"\",VLOOKUP(YF4,$ZA$2:$ZP$23,$ZD$1+3,FALSE))","v":""},{"$f":"YF3+1","v":2},"FEAT 2",{"$f":"IF(OR(Start!I114=\"\",Start!I114=SelectText),\"\",Start!I114)","v":""},{"$f":"IF(ISERROR(VLOOKUP($YH4,$YG$13:$YR$100,YI$2,FALSE)),\"\",VLOOKUP($YH4,$YG$13:$YR$100,YI$2,FALSE))","v":""},{"$f":"IF(YH4=\"\",\"\",IF(YI3=\"\",\"\",\"\n\"&YG4&\" - \"&YH4&\"\n\"&YI4))","v":""},{"$f":"\"\"","v":""},null,{"$f":"IF(ISERROR(VLOOKUP($YH4,$YG$13:$YR$100,YL$2,FALSE)),\"\",VLOOKUP($YH4,$YG$13:$YR$100,YL$2,FALSE))","v":""},{"$f":"IF(ISERROR(VLOOKUP(YH4,$YG$13:$YQ$102,YM$2,FALSE)),\"\",VLOOKUP(YH4,$YG$13:$YQ$102,YM$2,FALSE))","v":""},null,null,null,null,{"$f":"YE4","v":""},"Barbarian",8,{"$f":"VLOOKUP(YY4,$ZD$2:$ZP$23,$ZD$1,FALSE)","v":""},{"$f":"IF(YX4=\"\",\"\",MAX($YW$1:YW3)+1)","v":""},"","",1,{"$f":"IF(ZB4=\"\",\"\",MAX($ZA$2:ZA3)+1)","v":""},{"$f":"IF(ISERROR(VLOOKUP(YZ4,$YV$2:$YY$65,3,FALSE)),\"\",VLOOKUP(YZ4,$YV$2:$YY$65,3,FALSE))","v":""},{"$f":"IF(Start!AF20=SelectText,\"\",Start!AF20)","v":""},{"$f":"IF(OR(COUNTIF($ZC$4:$ZC4,ZD$2)=0,COUNTIF($ZC$4:$ZC4,ZD$2)=MAX(ZD$2:ZD3)),\"-\",COUNTIF($ZC$4:$ZC4,ZD$2))","v":"-"},{"$f":"IF(OR(COUNTIF($ZC$4:$ZC4,ZE$2)=0,COUNTIF($ZC$4:$ZC4,ZE$2)=MAX(ZE$2:ZE3)),\"-\",COUNTIF($ZC$4:$ZC4,ZE$2))","v":"-"},{"$f":"IF(OR(COUNTIF($ZC$4:$ZC4,ZF$2)=0,COUNTIF($ZC$4:$ZC4,ZF$2)=MAX(ZF$2:ZF3)),\"-\",COUNTIF($ZC$4:$ZC4,ZF$2))","v":"-"},{"$f":"IF(OR(COUNTIF($ZC$4:$ZC4,ZG$2)=0,COUNTIF($ZC$4:$ZC4,ZG$2)=MAX(ZG$2:ZG3)),\"-\",COUNTIF($ZC$4:$ZC4,ZG$2))","v":"-"},{"$f":"IF(OR(COUNTIF($ZC$4:$ZC4,ZH$2)=0,COUNTIF($ZC$4:$ZC4,ZH$2)=MAX(ZH$2:ZH3)),\"-\",COUNTIF($ZC$4:$ZC4,ZH$2))","v":"-"},{"$f":"IF(OR(COUNTIF($ZC$4:$ZC4,ZI$2)=0,COUNTIF($ZC$4:$ZC4,ZI$2)=MAX(ZI$2:ZI3)),\"-\",COUNTIF($ZC$4:$ZC4,ZI$2))","v":"-"},{"$f":"IF(OR(COUNTIF($ZC$4:$ZC4,ZJ$2)=0,COUNTIF($ZC$4:$ZC4,ZJ$2)=MAX(ZJ$2:ZJ3)),\"-\",COUNTIF($ZC$4:$ZC4,ZJ$2))","v":"-"},{"$f":"IF(OR(COUNTIF($ZC$4:$ZC4,ZK$2)=0,COUNTIF($ZC$4:$ZC4,ZK$2)=MAX(ZK$2:ZK3)),\"-\",COUNTIF($ZC$4:$ZC4,ZK$2))","v":"-"},{"$f":"IF(OR(COUNTIF($ZC$4:$ZC4,ZL$2)=0,COUNTIF($ZC$4:$ZC4,ZL$2)=MAX(ZL$2:ZL3)),\"-\",COUNTIF($ZC$4:$ZC4,ZL$2))","v":"-"},{"$f":"IF(OR(COUNTIF($ZC$4:$ZC4,ZM$2)=0,COUNTIF($ZC$4:$ZC4,ZM$2)=MAX(ZM$2:ZM3)),\"-\",COUNTIF($ZC$4:$ZC4,ZM$2))","v":"-"},{"$f":"IF(OR(COUNTIF($ZC$4:$ZC4,ZN$2)=0,COUNTIF($ZC$4:$ZC4,ZN$2)=MAX(ZN$2:ZN3)),\"-\",COUNTIF($ZC$4:$ZC4,ZN$2))","v":"-"},{"$f":"IF(OR(COUNTIF($ZC$4:$ZC4,ZO$2)=0,COUNTIF($ZC$4:$ZC4,ZO$2)=MAX(ZO$2:ZO3)),\"-\",COUNTIF($ZC$4:$ZC4,ZO$2))","v":"-"},1,"Cleric",5,{"$f":"YG16","v":"Athlete"},{"$f":"IF(COUNTIF($YH$3:$YH$10,ZS4)>0,$ZS4&\" x \"&COUNTIF($YH$3:$YH$10,ZS4)&\"\n\"&VLOOKUP($ZS4,$YG$14:$YK$77,5,FALSE)&\"\n\",\"\")","v":""},{"$f":"Start!C5","v":"STRENGTH"},{"$f":"IF(ZV$2=1,IF(VLOOKUP($ZU4,Start!$C$5:$AN$10,18+ZV$3,FALSE)=\"\",\"\",VLOOKUP($ZU4,Start!$C$5:$AN$10,18+ZV$3,FALSE)),\"\")","v":""},{"$f":"IF(ZW$2=1,IF(VLOOKUP($ZU4,Start!$C$5:$AN$10,18+ZW$3,FALSE)=\"\",\"\",VLOOKUP($ZU4,Start!$C$5:$AN$10,18+ZW$3,FALSE)),\"\")","v":""},{"$f":"IF(ZX$2=1,IF(VLOOKUP($ZU4,Start!$C$5:$AN$10,18+ZX$3,FALSE)=\"\",\"\",VLOOKUP($ZU4,Start!$C$5:$AN$10,18+ZX$3,FALSE)),\"\")","v":""},{"$f":"IF(ZY$2=1,IF(VLOOKUP($ZU4,Start!$C$5:$AN$10,18+ZY$3,FALSE)=\"\",\"\",VLOOKUP($ZU4,Start!$C$5:$AN$10,18+ZY$3,FALSE)),\"\")","v":""},{"$f":"IF(ZZ$2=1,IF(VLOOKUP($ZU4,Start!$C$5:$AN$10,18+ZZ$3,FALSE)=\"\",\"\",VLOOKUP($ZU4,Start!$C$5:$AN$10,18+ZZ$3,FALSE)),\"\")","v":""},{"$f":"IF(AAA$2=1,IF(VLOOKUP($ZU4,Start!$C$5:$AN$10,18+AAA$3,FALSE)=\"\",\"\",VLOOKUP($ZU4,Start!$C$5:$AN$10,18+AAA$3,FALSE)),\"\")","v":""},{"$f":"IF(AAB$2=1,IF(VLOOKUP($ZU4,Start!$C$5:$AN$10,18+AAB$3,FALSE)=\"\",\"\",VLOOKUP($ZU4,Start!$C$5:$AN$10,18+AAB$3,FALSE)),\"\")","v":""},{"$f":"IF(AAC$2=1,IF(VLOOKUP($ZU4,Start!$C$5:$AN$10,18+AAC$3,FALSE)=\"\",\"\",VLOOKUP($ZU4,Start!$C$5:$AN$10,18+AAC$3,FALSE)),\"\")","v":""},{"$f":"IF(AAD$2=1,IF(VLOOKUP($ZU4,Start!$C$5:$AN$10,18+AAD$3,FALSE)=\"\",\"\",VLOOKUP($ZU4,Start!$C$5:$AN$10,18+AAD$3,FALSE)),\"\")","v":""},{"$f":"IF(AAE$2=1,IF(VLOOKUP($ZU4,Start!$C$5:$AN$10,18+AAE$3,FALSE)=\"\",\"\",VLOOKUP($ZU4,Start!$C$5:$AN$10,18+AAE$3,FALSE)),\"\")","v":""},{"$f":"IF(AAF$2=1,IF(VLOOKUP($ZU4,Start!$C$5:$AN$10,18+AAF$3,FALSE)=\"\",\"\",VLOOKUP($ZU4,Start!$C$5:$AN$10,18+AAF$3,FALSE)),\"\")","v":""},{"$f":"IF(AAG$2=1,IF(VLOOKUP($ZU4,Start!$C$5:$AN$10,18+AAG$3,FALSE)=\"\",\"\",VLOOKUP($ZU4,Start!$C$5:$AN$10,18+AAG$3,FALSE)),\"\")","v":""},{"$f":"IF(AAH$2=1,IF(VLOOKUP($ZU4,Start!$C$5:$AN$10,18+AAH$3,FALSE)=\"\",\"\",VLOOKUP($ZU4,Start!$C$5:$AN$10,18+AAH$3,FALSE)),\"\")","v":""},{"$f":"IF(AAI$2=1,IF(VLOOKUP($ZU4,Start!$C$5:$AN$10,18+AAI$3,FALSE)=\"\",\"\",VLOOKUP($ZU4,Start!$C$5:$AN$10,18+AAI$3,FALSE)),\"\")","v":""},{"$f":"IF(AAJ$2=1,IF(VLOOKUP($ZU4,Start!$C$5:$AN$10,18+AAJ$3,FALSE)=\"\",\"\",VLOOKUP($ZU4,Start!$C$5:$AN$10,18+AAJ$3,FALSE)),\"\")","v":""},{"$f":"IF(AAK$2=1,IF(VLOOKUP($ZU4,Start!$C$5:$AN$10,18+AAK$3,FALSE)=\"\",\"\",VLOOKUP($ZU4,Start!$C$5:$AN$10,18+AAK$3,FALSE)),\"\")","v":""},{"$f":"IF(AAL$2=1,IF(VLOOKUP($ZU4,Start!$C$5:$AN$10,18+AAL$3,FALSE)=\"\",\"\",VLOOKUP($ZU4,Start!$C$5:$AN$10,18+AAL$3,FALSE)),\"\")","v":""},{"$f":"IF(AAM$2=1,IF(VLOOKUP($ZU4,Start!$C$5:$AN$10,18+AAM$3,FALSE)=\"\",\"\",VLOOKUP($ZU4,Start!$C$5:$AN$10,18+AAM$3,FALSE)),\"\")","v":""},{"$f":"IF(AAN$2=1,IF(VLOOKUP($ZU4,Start!$C$5:$AN$10,18+AAN$3,FALSE)=\"\",\"\",VLOOKUP($ZU4,Start!$C$5:$AN$10,18+AAN$3,FALSE)),\"\")","v":""},{"$f":"IF(AAO$2=1,IF(VLOOKUP($ZU4,Start!$C$5:$AN$10,18+AAO$3,FALSE)=\"\",\"\",VLOOKUP($ZU4,Start!$C$5:$AN$10,18+AAO$3,FALSE)),\"\")","v":""},{"$f":"SUM(ZV4:AAO4)","v":0}]
["Dwarf","Medium",25,"Darkvision 60ft","• +2 Constitution\n• Size: Medium\n• Speed: 25ft, speed not reduced when wearing heavy armor\n• Darkvision 60ft\n• Dwarven Resilience: advantage on saving throws against poison, and resistance against poison damage\n• Dwarven Combat Training: proficient with battleaxe, handaxe, throwing hammer, and warhammer\n• Tool Proficiency: gain proficiency with either smith's tools, brewer's supplies, or mason's tools\n• Stonecunning: add double proficiency bonus to Intelligence (History) check on any stonework.\n• Languages: Dwarvish, Common","Dwarvish, Common",2,"none",0,"One artisan’s tools of your choice: smith’s tools, brewer’s supplies, or mason’s tools",1,{"$f":"IF(Subrace=$U6,2,\"\")","v":""},{"$f":"\"\"","v":""},2,{"$f":"\"\"","v":""},{"$f":"IF(Subrace=$U5,1,\"\")","v":""},{"$f":"\"\"","v":""},"Dwarves mature at the same rate as humans, but they're considered young until they reach the age of 50. On average, they live about 350 years.",{"$f":"IF(Subrace=U5,\"3' 8'' +2d4\",\"4' +2d4\")","v":"4' +2d4"},{"$f":"IF(Subrace=U5,\"115 lb. x 2d6\",\"130 lb. x 2d6\")","v":"130 lb. x 2d6"},"Hill","• +1 Wisdom\n• Dwarven Toughness - hit point maximum increased by one every level",null,{"$f":"IF(Y5=\"\",\"\",MAX($X$3:X4)+1)","v":""},{"$f":"IF(A5=$A$3,U5,\"\")","v":""},{"$f":"Z4+1","v":2},"","Male","Cold",{"$f":"IF(AND(VLOOKUP(RaceDraconicAncestry,$U$15:$W$25,3,FALSE)=AC5,SorcererDraconicBloodlineLevel>=6),TRUE,FALSE)","v":false},"Acolyte","Shelter of the Faithful","   As an acolyte, you command the respect of those who share your faith, and you can perform the religious ceremonies of\n   your deity.","Insight, Religion",2,"none",0,"Two of your choice",2,3,{"$f":"AO4+1","v":4},{"$f":"HLOOKUP(CharacterBackground,$AQ$2:$BD$63,$AO5,FALSE)","v":""},{"$f":"\"\"","v":""},"I idolize a particular hero of my faith, and constantly refer to that person’s deeds and example.","I fall in and out of love easily, and am always pursuing someone.","I always have a plan for what to do when things go wrong.","Know a story relevant to almost every situation. ","I judge people by their actions, not their words.","I believe that anything worth doing is worth doing right. I can’t help it — I’m a perfectionist. ","I’ve been isolated for so long that I rarely speak, preferring gestures and the occasional grunt. ","My eloquent flattery makes everyone I talk to feel like the most wonderful and important person in the world.","I’m driven by a wanderlust that led me away from home.","I use polysyllabic words that convey the impression of great erudition","My friends know they can rely on me, no matter what. ","I’m always polite and respectful.","I hide scraps of food and trinkets away in my pockets.",{"$f":"\"\"","v":""},"CON",{"$f":"IF(OR(BL11>0,BL8>0,BL17>0,MonkLevel>=14,AAP6>0),BF5,\"\")","v":""},{"$f":"IF(BG5=\"\",\"\",IF(COUNTIF(BG5:$BG$8,\"><\")>1,BG5&\", \",BG5))","v":""},{"$f":"IF(Class3=\"\",\"\",\" / \"&Class3&\" \"&BL5)","v":""},"CLASS",3,{"$f":"IF(ISERROR(VLOOKUP($BN5,$BI$7:$BL$50,4,FALSE)),\"\",VLOOKUP($BN5,$BI$7:$BL$50,4,FALSE))","v":""},null,{"$f":"IF(ISERROR(VLOOKUP($BK5,Start!$AR$20:$AS$39,2,FALSE)),\"\",VLOOKUP($BK5,Start!$AR$20:$AS$39,2,FALSE))","v":""},{"$f":"IF(ISERROR(VLOOKUP($BN5,$BN$7:$BO$50,1,FALSE)),\"\",VLOOKUP($BN5,$BN$7:$BO$50,1,FALSE))","v":""},{"$f":"IF(ISERROR(VLOOKUP($BN5,$BN$7:$BO$50,2,FALSE)),\"\",VLOOKUP($BN5,$BN$7:$BO$50,2,FALSE))","v":""},{"$f":"IF(Class3=\"\",\"\",SubClass3)","v":""},{"$f":"IF(BO5=\"\",\"\",IF(COUNTIF($BR$2:BR4,\"><\"\"\")>0,\" / \"&BQ5,BQ5))","v":""},{"$f":"Tables!FI4","v":false},{"$f":"IF(Tables!BS5=TRUE,IF(SubClass3=\"Land\",IF(COUNTIF($BT$3:BT4,\"><\"\"\")>0,\" / \"&SubClass3&\" (\"&DruidLandOrigin&\")\",SubClass3&\" (\"&DruidLandOrigin&\")\"),IF(COUNTIF($BT$3:BT4,\"><\"\"\")>0,\" / \"&SubClass3,SubClass3)),\"\")","v":""},{"$f":"IF(BO5=\"\",\"\",IF(COUNTIF($BU$2:BU4,\"><\"\"\")>0,\" / \"&BO5&\" \"&VLOOKUP(BO5,$BI$7:$BR$50,4,FALSE),BO5&\" \"&VLOOKUP(BO5,$BI$7:$BR$50,4,FALSE)))","v":""},{"$f":"IF($BN5=\"\",\"\",VLOOKUP($BN5,$BI$7:$CL$50,14,FALSE))","v":""},{"$f":"IF($BN5=\"\",\"\",VLOOKUP($BN5,$BI$7:$CL$50,15,FALSE))","v":""},{"$f":"IF($BN5=\"\",\"\",VLOOKUP($BN5,$BI$7:$CL$50,16,FALSE))","v":""},{"$f":"IF($BN5=\"\",\"\",VLOOKUP($BN5,$BI$7:$CL$50,17,FALSE))","v":""},{"$f":"IF($BN5=\"\",\"\",VLOOKUP($BN5,$BI$7:$CL$50,CA$2,FALSE))","v":""},null,{"$f":"IF($BN5=\"\",\"\",VLOOKUP($BN5,$BI$7:$CL$50,CC$2,FALSE))","v":""},null,{"$f":"IF($BN5=\"\",\"\",VLOOKUP($BN5,$BI$7:$CL$50,CF$2,FALSE))","v":""},{"$f":"IF($BN5=\"\",0,VLOOKUP($BN5,$BI$7:$CL$50,CG$2,FALSE))","v":0},null,null,{"$f":"IF($BN5=\"\",\"\",VLOOKUP($BN5,$BI$7:$CL$50,CH$2,FALSE))","v":""},{"$f":"IF($BN5=\"\",\"\",VLOOKUP($BN5,$BI$7:$CL$50,CK$2,FALSE))","v":""},{"$f":"IF($BN5=\"\",\"\",IF($BL5>=CJ$6,VLOOKUP($BN5,$BI$7:$DF$50,CL$2,FALSE),\"\"))","v":""},null,null,"","","","","","","","","","","","","","","","","","","","",{"$f":"IF($BN5=\"\",\"\",BN5&\"\n• \"&$BZ$1&\": \"&BZ5&\"\n• \"&$CB$1&\": \"&CB5&\"\n• \"&$CD$1&\": \"&CD5&\"\n• \"&$CH$1&\": \"&CH5&\"\n• \"&$CI$1&\": \"&CI5)","v":""},{"$f":"IF($BN5=\"\",\"\",BN5&\"\n• \"&CI5&\"\n\")","v":""},{"$f":"CM5&CN5&CO5&CP5&CQ5&CR5&CS5&CT5&CU5&CV5&CW5&CX5&CY5&CZ5&DA5&DB5&DC5&DD5&DE5&DF5","v":""},{"$f":"IF(BN5=\"\",\"\",\"CLASS 3: \"&DG5&\"\n\"&DI5)","v":""},"Desert","SUBCLASS3",{"$f":"Class3","v":""},{"$f":"BQ5","v":""},"","","","","","","","","","","","","","","","","","","","","","",{"$f":"IF(EJ5=\"\",0,2)","v":0},{"$f":"IF(OR($DN5=\"\",$DN5=SelectText),\"\",VLOOKUP($DN5,$DL$6:$EY$51,EL$2,FALSE))","v":""},{"$f":"IF(EL5=\"\",0,2)","v":0},{"$f":"IF(OR($DN5=\"\",$DN5=SelectText),\"\",VLOOKUP($DN5,$DL$6:$EY$51,EN$2,FALSE))","v":""},{"$f":"IF(EN5=\"\",0,2)","v":0},{"$f":"IF(OR($DN5=\"\",$DN5=SelectText),\"\",VLOOKUP($DN5,$DL$6:$EY$51,EP$2,FALSE))","v":""},{"$f":"IF(EP5=\"\",0,2)","v":0},{"$f":"IF(OR($DN5=\"\",$DN5=SelectText),\"\",VLOOKUP($DN5,$DL$6:$EY$51,ER$2,FALSE))","v":""},{"$f":"IF(ER5=\"\",0,2)","v":0},"","","","","","",{"$f":"DO5&DP5&DQ5&DR5&DS5&DT5&DU5&DV5&DW5&DX5&DY5&DZ5&EA5&EB5&EC5&ED5&EE5&EF5&EG5&EH5","v":""},null,{"$f":"BN3","v":""},{"$f":"IF(FB5=\"\",\"\",VLOOKUP(FB5,$BI$6:$BR$50,10,FALSE))","v":""},{"$f":"IF(FB5=\"\",\"\",VLOOKUP(FB5,$BI$6:$BR$50,9,FALSE))","v":""},null,{"$f":"BN4","v":""},{"$f":"IF(FF5=\"\",\"\",VLOOKUP(FF5,$BI$6:$BR$50,10,FALSE))","v":""},{"$f":"IF(FF5=\"\",\"\",VLOOKUP(FF5,$BI$6:$BR$50,9,FALSE))","v":""},null,{"$f":"BN5","v":""},{"$f":"IF(FJ5=\"\",\"\",VLOOKUP(FJ5,$BI$6:$BR$50,10,FALSE))","v":""},{"$f":"IF(FJ5=\"\",\"\",VLOOKUP(FJ5,$BI$6:$BR$50,9,FALSE))","v":""},"Animal Handling",{"$f":"Start!L66","v":0},{"$f":"IF($FM5=$FP5,MAX(FO$3:FO4)+1,\"\")","v":""},{"$f":"IF(FN5=\"•\",FM5,\"\")","v":""},{"$f":"FQ4+1","v":3},"",{"$f":"IF(OR(RogueLevel>=6,BardLevel>=10),TRUE, \"\")","v":""},{"$f":"IF(RogueLevel>=6,\"Rogue Level 6\", IF(BardLevel>=10,\"Bard Level 10\",\"EXPERTISE 3\"))","v":"EXPERTISE 3"},null,null,{"$f":"IF(FX5=\"\",\"\",MAX($FW$1:FW4)+1)","v":""},{"$f":"IF(FighterChampionLevel>=10,VLOOKUP($BI$8,$BN$3:$BQ$5,4,FALSE),\"\")","v":""},4,{"$f":"IF(ISERROR(VLOOKUP($FY5,$FW$2:$FX$5,2,FALSE)),\"\",VLOOKUP($FY5,$FW$2:$FX$5,2,FALSE))","v":""},{"$f":"FightingStyle4","v":"Select…"},"Distracting Strike","   When you hit a creature with a weapon attack, expend one superiority die to distract the creature, giving allies an opening.\n   Add the superiority die to the damage roll. The next attack roll against the target by an attacker other than you has advantage\n   if the attack is made before the start of your next turn.",3,3,"","MANEUVER 3",{"$f":"Start!AJ80","v":"Select…"},"","","History",{"$f":"FN9","v":0},{"$f":"IF($GK5=$GN5,MAX(GM$3:GM4)+1,\"\")","v":""},{"$f":"IF(GL5=TRUE,GK5,\"\")","v":""},{"$f":"GO4+1","v":3},{"$f":"IF(ISERROR(VLOOKUP(GO5,$GM$3:$GN$22,2,FALSE)),\"\",VLOOKUP(GO5,$GM$3:$GN$22,2,FALSE))","v":""},"Clench of the North Wind","   Spend 3 ki points to cast hold person.",6,3,{"$f":"IF(GV5=\"\",\"\",MAX($GU$3:GU4)+1)","v":""},"",{"$f":"GW4+1","v":3},"",{"$f":"IF(MonkFourElementsLevel>=6,TRUE, \"\")","v":""},{"$f":"IF(MonkFourElementsLevel>=6,\"Monk Level 6\",\"DISCIPLINE 2\")","v":"DISCIPLINE 2"},{"$f":"Start!AJ92","v":"Select…"},{"$f":"\" \"&HA5&\"\n\"&VLOOKUP(HA5,$GQ$3:$GR$19,2,FALSE)","v":" Select…\n"},"Eagle","While raging and not wearing heavy armor, other creatures have disadvantage on opportunity attack rolls. Use the Dash\n   action as a bonus action.","See up to 1 mile away. No disadvantage on Wisdom (Perception) checks in dim light.","While raging, flying speed equals walking speed. Fall if end turn in the air.",{"$f":"IF(BarbarianTotemWarriorLevel>=6,TRUE, \"\")","v":""},{"$f":"IF(BarbarianTotemWarriorLevel>=6,\"Barbarian Level 6\",\"TOTEM SPIRIT 2\")","v":"TOTEM SPIRIT 2"},{"$f":"Start!AJ70","v":"Select…"},{"$f":"VLOOKUP(HI5,$HC$3:$HF$6,3,FALSE)","v":""},"beasts",{"$f":"\"\"","v":""},"bugbear",{"$f":"IF(RangerLevel>=6,TRUE, \"\")","v":""},{"$f":"IF(RangerLevel>=6,\"Ranger Level 6\",\"ENEMY 2\")","v":"ENEMY 2"},{"$f":"Start!AJ98","v":"Select…"},{"$f":"IF(ISERROR(VLOOKUP(HP5,$HK$3:$HL$61,2,FALSE)),\"\",VLOOKUP(HP5,$HK$3:$HL$61,2,FALSE))","v":""},{"$f":"Start!AO98","v":"Select…"},{"$f":"IF(HQ5=\"\",HP5,HP5&\", \"&HR5)","v":"Select…"},"Coast",{"$f":"IF(RangerLevel>=6,TRUE, \"\")","v":""},{"$f":"IF(RangerLevel>=6,\"Ranger Level 6\",\"TERRAIN 2\")","v":"TERRAIN 2"},{"$f":"Start!AJ103","v":"Select…"},"Giant Killer",{"$f":"IF(RangerHunterLevel>=7,TRUE, \"\")","v":""},{"$f":"IF(RangerHunterLevel>=7,\"Defensive Tactics\",\"FEATURE 2\")","v":"FEATURE 2"},{"$f":"Start!AJ108","v":"Select…"},"Distant Spell","   When you cast a spell that has a range of 5 feet or greater, you can spend 1 sorcery point to double the range of the spell.\n   When you cast a spell that has a range of touch, spend 1 sorcery point to make the range of the spell 30 feet.",{"$f":"IF(SorcererLevel>=3,TRUE, \"\")","v":""},"3rd",{"$f":"Spellcasting!AC25","v":"Select…"},{"$f":"IF(IF5=SelectText,\"\",\" - \"&IF5&\"\n\"&VLOOKUP(IF5,$IB$4:$IC$11,2,FALSE)&\"\n\")","v":""},{"$f":"IF(IJ5=1,MAX($IH$2:IH4)+1,\"\")","v":""},"Ascendant Step",{"$f":"IF(WarlockLevel>=9,1,\"\")","v":""},"   You can cast levitate on yourself at will, without expending a spell slot or material components.",{"$f":"IL4+1","v":3},"Beguiling Influence",2,{"$f":"IF($IO$3>=IN5,TRUE,\"\")","v":""},{"$f":"IF($IO$3>=IN5,\"Warlock Level 2\",\"INVOCATION 2\")","v":"INVOCATION 2"},{"$f":"Start!AJ114","v":"Select…"},"","Pact of the Tome","   Your patron gives you a grimoire called a Book of Shadows. When you gain this feature, choose three cantrips\n   from any class’s spell list. While the book is on your person, you can cast those cantrips at will. They don’t\n   count against your number of cantrips known. If you lose your Book of Shadows, you can perform a 1-hour\n   ceremony to receive a replacement from your patron. This ceremony can be performed during a short or long\n   rest, and it destroys the previous book. The book turns to ash when you die.","NG","Neutral Good","Neutral good folk do the best they can to help others according to their needs. Many celestials, some cloud giants, and most gnomes are neutral good.  ","Auril (NE)","Goddess of winter","Neutral Evil","Nature, Tempest","Six-pointed snowflake",{"$f":"IF(JD5=\"\",\"\",MAX($JC$1:JC4)+1)","v":3},"Dwarvish","Dwarvish",4,"Elvish",4,2700,4,2,null,3,4,2,"-","-","-","-","-","-","-",2,{"$f":"WarlockLevel","v":0},"Paladin","CHA","PREPARED",{"$f":"IF(ROUNDDOWN(PaladinLevel/2+CHAMod,0)<1,1,ROUNDDOWN(PaladinLevel/2+CHAMod,0))","v":1},null,3,3,6,3,3,4,4,3,3,3,2,3,2,4,2,null,null,null,null,"Dwarf","Elf","Halfling","Human","Dragonborn","Gnome","Half-Elf","Half-Orc","Tiefling","Assimar",null,"Hill","Mountain","High","Wood","Drow","Eladrin","Lightfoot","Stout","Forest","Rock",null,"Acolyte","Criminal","Folk Hero","Noble","Sage","Soldier",null,"Cleric","Fighter","Rogue","Wizard","Barbarian","Bard","Druid","Monk","Paladin","Ranger","Sorcerer","Warlock",null,"Knowledge","Life","Light","Nature","Tempest","Trickery","War","BattleMaster","Champion","EldritchKnight","ArcaneTrickster","Assassin","Thief","Abjuration","Conjuration","Divination","Enchantment","Evocation","Illusion","Necromancy","Transmutation","Berserker","TotemWarrior","Lore","Valor","Land","Moon","FourElements","OpenHand","Shadow","Devotion","TheAncients","Vengeance","Hunter","BeastMaster","DraconicBloodline","WildMagic","Archfey","Fiend","GreatOldOne",null,"Alert","Athlete","Actor","Charger","Crossbow Expert","Defensive Duelist","Dual Wielder","Dungeon Delver","Durable","Elemental Adept","Grappler","Great Weapon Master","Healer","Heavily Armored","Heavy Armor Master","Inspiring Leader","Keen Mind","Lightly Armored","Linguist","Lucky","Mage Slayer","Magic Initiate","Martial Adept","Medium Armor Master","Mobile","Moderately Armored","Mounted Combatant","Observant","Polearm Master","Resilient","Ritual Caster","Savage Attacker","Sentinel","Sharpshooter","Shield Master","Skilled","Skulker","Spell Sniper","Tavern Brawler","Tough","War Caster","Weapon Master",null,"Tools",null,"TOTAL",null,null,null,null,"Blowgun","Martial Ranged","not proficient",1,"piercing","25/100",1,"ammunition",{"$f":"\"\"","v":""},{"$f":"\"\"","v":""},{"$f":"\"\"","v":""},"loading",{"$f":"\"\"","v":""},{"$f":"\"\"","v":""},{"$f":"\"\"","v":""},{"$f":"\"\"","v":""},{"$f":"\"\"","v":""},{"$f":"\"\"","v":""},"Darts",2,5,null,null,null,null,null,null,null,null,null,null,null,null,null,null,null,null,null,null,null,null,null,null,null,null,null,null,null,null,null,null,null,null,null,null,null,null,null,null,null,null,null,null,null,null,null,null,null,null,null,"Padded armor","light",{"$f":"IF(SR5=\"\",\"\",IF(Start!$Y$157=$QS$12,$QS$12&\" (disadvantage)\",IF(Start!$Y$157=$QS$11,$QS$11,IF(VLOOKUP(SR5,$KT$60:$KV$78,2,FALSE)=\"No\",$QS$12&\" (disadvantage)\",$QS$11))))","v":"not proficient (disadvantage)"},11,{"$f":"DEXMod","v":-5},"-","Disadvantage",8,{"$f":"ST5&\", Don: 1min, Doff: 1min\"","v":"not proficient (disadvantage), Don: 1min, Doff: 1min"},"Shield","Shield",{"$f":"IF(TA5=\"\",\"\",IF(Start!$AG$157=$QS$12,$QS$12&\" (disadvantage)\",IF(Start!$AG$157=$QS$11,$QS$11,IF(AND(KU$63=\"No\",KU$64=\"No\"),\"not proficient (disadvantage)\",\"proficient\"))))","v":"not proficient (disadvantage)"},2,{"$f":"DEXMod","v":-5},"-","-",6,{"$f":"TC5","v":"not proficient (disadvantage)"},{"$f":"TJ4+1","v":3},"Alarm","LEVEL 1",1,"Alarm ",{"$f":"\"\"","v":""},"",{"$f":"IF(OR(TK5=Spellcasting!$AC$18,TK5=Spellcasting!$AC$19),\"ᵐ\",\"\")","v":""},{"$f":"IF(OR(TK5=Spellcasting!$AC$20,TK5=Spellcasting!$AC$21),\"ˢ\",\"\")","v":""},"ritual","1 min ᴿ","30 ft","8 hrs","VSM","a tiny bell and a piece of fine silver wire","abjuration","abjur","You set an alarm against unwanted intrusion. Choose a door, a window, or an area within range that is no larger than a 20-foot cube. Until the spell ends, an alarm alerts you whenever a Tiny or larger creature touches or enters the warded area. When you cast the spell, you can designate creatures that won’t set off the alarm. You also choose whether the alarm is mental or audible. \n\nA mental alarm alerts you with a ping in your mind if you are within 1 mile of the warded area. This ping awakens you if you are sleeping. \n\nAn audible alarm produces the sound of a hand bell for 10 seconds within 60 feet.","20ft cube, audible alarm for 10 sec, 60ft or mental alarm 1 mile",null,null,{"$f":"IF(UE$1>=$TM5,1,\"0\")","v":"0"},null,null,null,null,null,null,{"$f":"IF(UL$1>=$TM5,1,\"0\")","v":"0"},null,null,null,null,null,null,null,null,null,null,null,null,null,null,null,null,null,null,null,null,null,null,null,null,null,null,null,null,null,{"$f":"IF(VP$1>=$TM5,1,\"0\")","v":"0"},null,null,null,null,null,null,null,null,null,null,null,null,null,{"$f":"IF(SUM($VZ$1:$WC$1)>0,IF(AND(SUM($VZ5:$WC5)>0,$TM5=WE$1),MAX(WD$2:WD4)+1,\"\"),IF(AND(SUM($UC5:$VY5)>0,$TM5=WE$1),MAX(WD$2:WD4)+1,\"\"))","v":""},"",{"$f":"IF(AND(SUM($UB5:$VY5)>0,$TM5=WG$1),MAX(WF$2:WF4)+1,\"\")","v":""},"",{"$f":"IF(AND(SUM($UB5:$VY5)>0,$TM5=WI$1),MAX(WH$2:WH4)+1,\"\")","v":""},"",{"$f":"IF(AND(SUM($UB5:$VY5)>0,$TM5=WK$1),MAX(WJ$2:WJ4)+1,\"\")","v":""},"",{"$f":"IF(AND(SUM($UB5:$VY5)>0,$TM5=WM$1),MAX(WL$2:WL4)+1,\"\")","v":""},"",{"$f":"IF(AND(SUM($UB5:$VY5)>0,$TM5=WO$1),MAX(WN$2:WN4)+1,\"\")","v":""},"",{"$f":"IF(AND(SUM($UB5:$VY5)>0,$TM5=WQ$1),MAX(WP$2:WP4)+1,\"\")","v":""},"",{"$f":"IF(AND(SUM($UB5:$VY5)>0,$TM5=WS$1),MAX(WR$2:WR4)+1,\"\")","v":""},"",{"$f":"IF(AND(SUM($UB5:$VY5)>0,$TM5=WU$1),MAX(WT$2:WT4)+1,\"\")","v":""},"",{"$f":"IF(AND(SUM($UB5:$VY5)>0,$TM5=WW$1),MAX(WV$2:WV4)+1,\"\")","v":""},"",{"$f":"IF(AND(SUM($UB5:$VY5)>0,$TM5=WY$1),MAX(WX$2:WX4)+1,\"\")","v":""},"",4,"","","","","","","","","","","","Fey",{"$f":"XM4+1","v":1},{"$f":"IF(ISERROR(VLOOKUP($XM5,$XM$27:$YC$58,XN$3+1,FALSE)),\"\",VLOOKUP($XM5,$XM$27:$YC$58,XN$3+1,FALSE))","v":"Badger"},"Beast","Tiny",10,3,"20ft, burrow 5ft",4,11,12,2,12,5,"none","passive Perception 11, darkvision 30 ft","Bite melee +2, reach 5ft, 1 piercing","Keen Smell. Advantage on Wisdom (Perception) checks that rely on smell",null,"",{"$f":"YF4+1","v":3},"FEAT 3",{"$f":"IF(OR(Start!I115=\"\",Start!I115=SelectText),\"\",Start!I115)","v":""},"","",{"$f":"\"\"","v":""},null,"","",null,null,null,null,"","Barbarian",12,{"$f":"VLOOKUP(YY5,$ZD$2:$ZP$23,$ZD$1,FALSE)","v":""},{"$f":"IF(YX5=\"\",\"\",MAX($YW$1:YW4)+1)","v":""},"","",{"$f":"YZ4+1","v":2},{"$f":"IF(ZB5=\"\",\"\",MAX($ZA$2:ZA4)+1)","v":""},"",{"$f":"IF(Start!AF21=SelectText,\"\",Start!AF21)","v":""},{"$f":"IF(OR(COUNTIF($ZC$4:$ZC5,ZD$2)=0,COUNTIF($ZC$4:$ZC5,ZD$2)=MAX(ZD$2:ZD4)),\"-\",COUNTIF($ZC$4:$ZC5,ZD$2))","v":"-"},{"$f":"IF(OR(COUNTIF($ZC$4:$ZC5,ZE$2)=0,COUNTIF($ZC$4:$ZC5,ZE$2)=MAX(ZE$2:ZE4)),\"-\",COUNTIF($ZC$4:$ZC5,ZE$2))","v":"-"},{"$f":"IF(OR(COUNTIF($ZC$4:$ZC5,ZF$2)=0,COUNTIF($ZC$4:$ZC5,ZF$2)=MAX(ZF$2:ZF4)),\"-\",COUNTIF($ZC$4:$ZC5,ZF$2))","v":"-"},{"$f":"IF(OR(COUNTIF($ZC$4:$ZC5,ZG$2)=0,COUNTIF($ZC$4:$ZC5,ZG$2)=MAX(ZG$2:ZG4)),\"-\",COUNTIF($ZC$4:$ZC5,ZG$2))","v":"-"},{"$f":"IF(OR(COUNTIF($ZC$4:$ZC5,ZH$2)=0,COUNTIF($ZC$4:$ZC5,ZH$2)=MAX(ZH$2:ZH4)),\"-\",COUNTIF($ZC$4:$ZC5,ZH$2))","v":"-"},{"$f":"IF(OR(COUNTIF($ZC$4:$ZC5,ZI$2)=0,COUNTIF($ZC$4:$ZC5,ZI$2)=MAX(ZI$2:ZI4)),\"-\",COUNTIF($ZC$4:$ZC5,ZI$2))","v":"-"},{"$f":"IF(OR(COUNTIF($ZC$4:$ZC5,ZJ$2)=0,COUNTIF($ZC$4:$ZC5,ZJ$2)=MAX(ZJ$2:ZJ4)),\"-\",COUNTIF($ZC$4:$ZC5,ZJ$2))","v":"-"},{"$f":"IF(OR(COUNTIF($ZC$4:$ZC5,ZK$2)=0,COUNTIF($ZC$4:$ZC5,ZK$2)=MAX(ZK$2:ZK4)),\"-\",COUNTIF($ZC$4:$ZC5,ZK$2))","v":"-"},{"$f":"IF(OR(COUNTIF($ZC$4:$ZC5,ZL$2)=0,COUNTIF($ZC$4:$ZC5,ZL$2)=MAX(ZL$2:ZL4)),\"-\",COUNTIF($ZC$4:$ZC5,ZL$2))","v":"-"},{"$f":"IF(OR(COUNTIF($ZC$4:$ZC5,ZM$2)=0,COUNTIF($ZC$4:$ZC5,ZM$2)=MAX(ZM$2:ZM4)),\"-\",COUNTIF($ZC$4:$ZC5,ZM$2))","v":"-"},{"$f":"IF(OR(COUNTIF($ZC$4:$ZC5,ZN$2)=0,COUNTIF($ZC$4:$ZC5,ZN$2)=MAX(ZN$2:ZN4)),\"-\",COUNTIF($ZC$4:$ZC5,ZN$2))","v":"-"},{"$f":"IF(OR(COUNTIF($ZC$4:$ZC5,ZO$2)=0,COUNTIF($ZC$4:$ZC5,ZO$2)=MAX(ZO$2:ZO4)),\"-\",COUNTIF($ZC$4:$ZC5,ZO$2))","v":"-"},{"$f":"ZP4+1","v":2},"Druid",5,"Dual Wielder",{"$f":"IF(COUNTIF($YH$3:$YH$10,ZS5)>0,$ZS5&\"\n\"&VLOOKUP($ZS5,$YG$14:$YK$77,5,FALSE)&\"\n\",\"\")","v":""},{"$f":"Start!C6","v":"DEXTERITY"},{"$f":"IF(ZV$2=1,IF(VLOOKUP($ZU5,Start!$C$5:$AN$10,18+ZV$3,FALSE)=\"\",\"\",VLOOKUP($ZU5,Start!$C$5:$AN$10,18+ZV$3,FALSE)),\"\")","v":""},{"$f":"IF(ZW$2=1,IF(VLOOKUP($ZU5,Start!$C$5:$AN$10,18+ZW$3,FALSE)=\"\",\"\",VLOOKUP($ZU5,Start!$C$5:$AN$10,18+ZW$3,FALSE)),\"\")","v":""},{"$f":"IF(ZX$2=1,IF(VLOOKUP($ZU5,Start!$C$5:$AN$10,18+ZX$3,FALSE)=\"\",\"\",VLOOKUP($ZU5,Start!$C$5:$AN$10,18+ZX$3,FALSE)),\"\")","v":""},{"$f":"IF(ZY$2=1,IF(VLOOKUP($ZU5,Start!$C$5:$AN$10,18+ZY$3,FALSE)=\"\",\"\",VLOOKUP($ZU5,Start!$C$5:$AN$10,18+ZY$3,FALSE)),\"\")","v":""},{"$f":"IF(ZZ$2=1,IF(VLOOKUP($ZU5,Start!$C$5:$AN$10,18+ZZ$3,FALSE)=\"\",\"\",VLOOKUP($ZU5,Start!$C$5:$AN$10,18+ZZ$3,FALSE)),\"\")","v":""},{"$f":"IF(AAA$2=1,IF(VLOOKUP($ZU5,Start!$C$5:$AN$10,18+AAA$3,FALSE)=\"\",\"\",VLOOKUP($ZU5,Start!$C$5:$AN$10,18+AAA$3,FALSE)),\"\")","v":""},{"$f":"IF(AAB$2=1,IF(VLOOKUP($ZU5,Start!$C$5:$AN$10,18+AAB$3,FALSE)=\"\",\"\",VLOOKUP($ZU5,Start!$C$5:$AN$10,18+AAB$3,FALSE)),\"\")","v":""},{"$f":"IF(AAC$2=1,IF(VLOOKUP($ZU5,Start!$C$5:$AN$10,18+AAC$3,FALSE)=\"\",\"\",VLOOKUP($ZU5,Start!$C$5:$AN$10,18+AAC$3,FALSE)),\"\")","v":""},{"$f":"IF(AAD$2=1,IF(VLOOKUP($ZU5,Start!$C$5:$AN$10,18+AAD$3,FALSE)=\"\",\"\",VLOOKUP($ZU5,Start!$C$5:$AN$10,18+AAD$3,FALSE)),\"\")","v":""},{"$f":"IF(AAE$2=1,IF(VLOOKUP($ZU5,Start!$C$5:$AN$10,18+AAE$3,FALSE)=\"\",\"\",VLOOKUP($ZU5,Start!$C$5:$AN$10,18+AAE$3,FALSE)),\"\")","v":""},{"$f":"IF(AAF$2=1,IF(VLOOKUP($ZU5,Start!$C$5:$AN$10,18+AAF$3,FALSE)=\"\",\"\",VLOOKUP($ZU5,Start!$C$5:$AN$10,18+AAF$3,FALSE)),\"\")","v":""},{"$f":"IF(AAG$2=1,IF(VLOOKUP($ZU5,Start!$C$5:$AN$10,18+AAG$3,FALSE)=\"\",\"\",VLOOKUP($ZU5,Start!$C$5:$AN$10,18+AAG$3,FALSE)),\"\")","v":""},{"$f":"IF(AAH$2=1,IF(VLOOKUP($ZU5,Start!$C$5:$AN$10,18+AAH$3,FALSE)=\"\",\"\",VLOOKUP($ZU5,Start!$C$5:$AN$10,18+AAH$3,FALSE)),\"\")","v":""},{"$f":"IF(AAI$2=1,IF(VLOOKUP($ZU5,Start!$C$5:$AN$10,18+AAI$3,FALSE)=\"\",\"\",VLOOKUP($ZU5,Start!$C$5:$AN$10,18+AAI$3,FALSE)),\"\")","v":""},{"$f":"IF(AAJ$2=1,IF(VLOOKUP($ZU5,Start!$C$5:$AN$10,18+AAJ$3,FALSE)=\"\",\"\",VLOOKUP($ZU5,Start!$C$5:$AN$10,18+AAJ$3,FALSE)),\"\")","v":""},{"$f":"IF(AAK$2=1,IF(VLOOKUP($ZU5,Start!$C$5:$AN$10,18+AAK$3,FALSE)=\"\",\"\",VLOOKUP($ZU5,Start!$C$5:$AN$10,18+AAK$3,FALSE)),\"\")","v":""},{"$f":"IF(AAL$2=1,IF(VLOOKUP($ZU5,Start!$C$5:$AN$10,18+AAL$3,FALSE)=\"\",\"\",VLOOKUP($ZU5,Start!$C$5:$AN$10,18+AAL$3,FALSE)),\"\")","v":""},{"$f":"IF(AAM$2=1,IF(VLOOKUP($ZU5,Start!$C$5:$AN$10,18+AAM$3,FALSE)=\"\",\"\",VLOOKUP($ZU5,Start!$C$5:$AN$10,18+AAM$3,FALSE)),\"\")","v":""},{"$f":"IF(AAN$2=1,IF(VLOOKUP($ZU5,Start!$C$5:$AN$10,18+AAN$3,FALSE)=\"\",\"\",VLOOKUP($ZU5,Start!$C$5:$AN$10,18+AAN$3,FALSE)),\"\")","v":""},{"$f":"IF(AAO$2=1,IF(VLOOKUP($ZU5,Start!$C$5:$AN$10,18+AAO$3,FALSE)=\"\",\"\",VLOOKUP($ZU5,Start!$C$5:$AN$10,18+AAO$3,FALSE)),\"\")","v":""},0]
["Elf","Medium",{"$f":"IF(Subrace=U8,35,30)","v":30},{"$f":"IF(Subrace=U9,\"Darkvision 120ft\",\"Darkvision 60ft\")","v":"Darkvision 60ft"},{"$f":"\"• +2 Dexterity\n• Size: Medium\n• Speed: 30ft\n\"&IF(Subrace=U9,\"• Superior Darkvision 120ft\",\"• Darkvision 60ft\")&\"\n• Keen Senses: Proficiency in the Perception skill\n• Fey Ancestry: advantage on saving throws against being charmed, magic cannot put you to sleep\"&\"\n• Trance: do not sleep but meditate deeply, remaining semiconscious, for 4 hours a day\n• Languages: Elvish, Common\"","v":"• +2 Dexterity\n• Size: Medium\n• Speed: 30ft\n• Darkvision 60ft\n• Keen Senses: Proficiency in the Perception skill\n• Fey Ancestry: advantage on saving throws against being charmed, magic cannot put you to sleep\n• Trance: do not sleep but meditate deeply, remaining semiconscious, for 4 hours a day\n• Languages: Elvish, Common"},{"$f":"IF(Subrace=U7,\"Elvish, Common, +1 extra language\",IF(Subrace=U9,\"Elvish, Common, Undercommon\", \"Elvish, Common\"))","v":"Elvish, Common"},{"$f":"IF(Subrace=U7,3,2)","v":2},"Perception",1,"none",0,{"$f":"\"\"","v":""},2,{"$f":"\"\"","v":""},{"$f":"IF(OR(Subrace=$U7,Subrace=$U10),1,\"\")","v":""},{"$f":"IF(Subrace=$U8,1,\"\")","v":""},{"$f":"IF(Subrace=$U9,1,\"\")","v":""},"Although elves reach physical maturity about the same age as humans, the elven understanding of adulthood goes beyond physical growth to encompass worldly experience. An elf typically claims adulthood and an adult name around the age of 100 and can live to be 750 years old.",{"$f":"IF(Subrace=U9,\"4' 5'' + 2d6\",\"4' 6'' + 2d10\")","v":"4' 6'' + 2d10"},{"$f":"IF(Subrace=U9,\"75 lb. x 1d6\",IF(Subrace=U8,\"100 lb. x 1d4\",\"90 lb. x 1d4\"))","v":"90 lb. x 1d4"},"Mountain","• +2 Strength\n• Dwarven Armor Training: proficient with light and medium armor",null,{"$f":"IF(Y6=\"\",\"\",MAX($X$3:X5)+1)","v":""},{"$f":"IF(A5=$A$3,U6,\"\")","v":""},{"$f":"Z5+1","v":3},"","Female","Fire",{"$f":"IF(AND(VLOOKUP(RaceDraconicAncestry,$U$15:$W$25,3,FALSE)=AC6,SorcererDraconicBloodlineLevel>=6),TRUE,FALSE)","v":false},"Charlatan","False Identity","   You have created a second identity that includes documentation, established acquaintances, and disguises that allow you to\n   assume that persona. Additionally, you can forge documents including official papers and personal letters, as long as you\n   have seen an example of the kind of document or the handwriting you are trying to copy.","Deception, Slight of Hand",2,"Disguise kit, forgery kit",2,"none",0,4,{"$f":"AO5+1","v":5},"",{"$f":"\"\"","v":""},"I can find common ground between the fiercest enemies, empathizing with them and always working toward peace.","I have a joke for every occasion, especially occasions where humor is inappropriate. ","I am always calm, no matter what the situation. I never raise my voice or let my emotions control me.","Whenever I come to a new place, I collect local rumors and spread gossip.","If someone is in trouble, I’m always ready to lend help.","I’m a snob who looks down on those who can’t appreciate fine art.","I am utterly serene, even in the face of disaster.","The common folk love me for my kindness and generosity.","I watch over my friends as if they were a litter of newborn pups.","I’ve read every book in the world’s greatest libraries - or I like to boast that I have. ","I work hard so that I can play hard when the work is done. ","I’m haunted by memories of war. I can’t get the images of violence out of my mind.","I ask a lot of questions.",{"$f":"\"\"","v":""},"INT",{"$f":"IF(OR(BL9>0,BL10>0,BL13>0,MonkLevel>=14,AAP7>0),BF6,\"\")","v":""},{"$f":"IF(BG6=\"\",\"\",IF(COUNTIF(BG6:$BG$8,\"><\")>1,BG6&\", \",BG6))","v":""},"Select…",{"$f":"\"\"","v":""},{"$f":"\"\"","v":""},{"$f":"\"\"","v":""},{"$f":"\"\"","v":""},{"$f":"\"\"","v":""},{"$f":"\"\"","v":""},{"$f":"\"\"","v":""},{"$f":"\"\"","v":""},{"$f":"\"\"","v":""},null,null,{"$f":"\"\"","v":""},10,0,"none",null,"none",null,"none",null,"none",null,null,null,{"$f":"\"\"","v":""},"none",null,null,null,1,2,3,4,5,6,7,8,9,10,11,12,13,14,15,16,17,18,19,20,null,null,null,null,"Forest","Select…",{"$f":"\"\"","v":""},null,1,{"$f":"DO6+1","v":2},{"$f":"DP6+1","v":3},4,5,6,7,8,9,10,11,12,13,14,15,16,17,18,19,20,"Select Domain…",{"$f":"EJ3&EJ4&EJ5","v":""},{"$f":"SUM(EK3:EK5)","v":0},{"$f":"EL3&EL4&EL5","v":""},{"$f":"SUM(EM3:EM5)","v":0},"",{"$f":"SUM(EO3:EO5)","v":0},"",{"$f":"SUM(EQ3:EQ5)","v":0},"",{"$f":"SUM(ES3:ES5)","v":0},{"$f":"IF(ET3&ET4&ET5=\"\",\"none\",ET3&ET4&ET5)","v":"none"},{"$f":"SUM(EU3:EU5)","v":0},{"$f":"IF(EV3&EV4&EV5=\"\",\"none\",EV3&EV4&EV5)","v":"none"},{"$f":"SUM(EW3:EW5)","v":0},{"$f":"IF(EX3&EX4&EX5=\"\",\"none\",EX3&EX4&EX5)","v":"none"},{"$f":"SUM(EY3:EY5)","v":0},null,1,{"$f":"SelectText","v":"Select…"},1,{"$f":"IF(ISERROR(VLOOKUP(FC6,FA$6:FB$50,2,FALSE)),\"\",VLOOKUP(FC6,FA$6:FB$50,2,FALSE))","v":"Select…"},1,{"$f":"SelectText","v":"Select…"},1,{"$f":"IF(ISERROR(VLOOKUP(FG6,FE$6:FF$50,2,FALSE)),\"\",VLOOKUP(FG6,FE$6:FF$50,2,FALSE))","v":"Select…"},1,{"$f":"SelectText","v":"Select…"},1,{"$f":"IF(ISERROR(VLOOKUP(FK6,FI$6:FJ$50,2,FALSE)),\"\",VLOOKUP(FK6,FI$6:FJ$50,2,FALSE))","v":"Select…"},"Arcana",{"$f":"Start!L67","v":0},{"$f":"IF($FM6=$FP6,MAX(FO$3:FO5)+1,\"\")","v":""},"",4,"",{"$f":"IF(OR(RogueLevel>=6,BardLevel>=10),TRUE, \"\")","v":""},{"$f":"IF(RogueLevel>=6,\"Rogue Level 6\", IF(BardLevel>=10,\"Bard Level 10\",\"EXPERTISE 4\"))","v":"EXPERTISE 4"},null,null,null,null,null,null,null,"Evasive Footwork","   When you move, expend one superiority die, adding the number rolled to your AC until you stop moving.",4,3,"","MANEUVER 4",{"$f":"Start!AJ81","v":"Select…"},"","","Nature",{"$f":"FN14","v":0},{"$f":"IF($GK6=$GN6,MAX(GM$3:GM5)+1,\"\")","v":""},{"$f":"IF(GL6=TRUE,GK6,\"\")","v":""},{"$f":"GO5+1","v":4},{"$f":"IF(ISERROR(VLOOKUP(GO6,$GM$3:$GN$22,2,FALSE)),\"\",VLOOKUP(GO6,$GM$3:$GN$22,2,FALSE))","v":""},"Eternal Mountain Defense","   Spend 5 ki points to cast stoneskin, targeting yourself.",11,5,{"$f":"IF(GV6=\"\",\"\",MAX($GU$3:GU5)+1)","v":""},"",4,"",{"$f":"IF(MonkFourElementsLevel>=11,TRUE, \"\")","v":""},{"$f":"IF(MonkFourElementsLevel>=11,\"Monk Level 11\",\"DISCIPLINE 3\")","v":"DISCIPLINE 3"},{"$f":"Start!AJ93","v":"Select…"}," Select…\n","Wolf","While raging, friends have advantage on melee attack rolls against any creature within 5 feet of you that is hostile to you.","Track creatures while traveling at a fast pace, move stealthily while traveling at a normal pace.","While raging, bonus action to knock a Large or smaller creature prone when hit with melee weapon attack.",{"$f":"IF(BarbarianTotemWarriorLevel>=10,TRUE, \"\")","v":""},{"$f":"IF(BarbarianTotemWarriorLevel>=10,\"Barbarian Level 10\",\"TOTEM SPIRIT 3\")","v":"TOTEM SPIRIT 3"},{"$f":"Start!AJ71","v":"Select…"},{"$f":"VLOOKUP(HI6,$HC$3:$HF$6,4,FALSE)","v":""},"celestials",{"$f":"\"\"","v":""},"bullywug",{"$f":"IF(RangerLevel>=14,TRUE, \"\")","v":""},{"$f":"IF(RangerLevel>=14,\"Ranger Level 14\",\"ENEMY 3\")","v":"ENEMY 3"},{"$f":"Start!AJ99","v":"Select…"},{"$f":"IF(ISERROR(VLOOKUP(HP6,$HK$3:$HL$61,2,FALSE)),\"\",VLOOKUP(HP6,$HK$3:$HL$61,2,FALSE))","v":""},{"$f":"Start!AO99","v":"Select…"},{"$f":"IF(HQ6=\"\",HP6,HP6&\", \"&HR6)","v":"Select…"},"Desert",{"$f":"IF(RangerLevel>=10,TRUE, \"\")","v":""},{"$f":"IF(RangerLevel>=10,\"Ranger Level 10\",\"TERRAIN 3\")","v":"TERRAIN 3"},{"$f":"Start!AJ104","v":"Select…"},"Horde Breaker",{"$f":"IF(RangerHunterLevel>=11,TRUE, \"\")","v":""},{"$f":"IF(RangerHunterLevel>=11,\"Multiattack\",\"FEATURE 3\")","v":"FEATURE 3"},{"$f":"Start!AJ109","v":"Select…"},"Empowered Spell","   When you roll damage for a spell, spend 1 sorcery point to reroll a number of the damage dice up to your Charisma modifier\n   (minimum of one). You must use the new rolls. You can use Empowered Spell even if you have already used a different\n   Metamagic option during the casting of the spell.",{"$f":"IF(SorcererLevel>=10,TRUE, \"\")","v":""},"10th",{"$f":"Spellcasting!AC26","v":"Select…"},{"$f":"IF(IF6=SelectText,\"\",\" - \"&IF6&\"\n\"&VLOOKUP(IF6,$IB$4:$IC$11,2,FALSE)&\"\n\")","v":""},{"$f":"IF(IJ6=1,MAX($IH$2:IH5)+1,\"\")","v":2},"Beast Speech",{"$f":"1","v":1},"   You can cast speak with animals at will, without expending a spell slot.",4,"Devil’s Sight",3,"",{"$f":"IF($IO$3>=IN6,\"Warlock Level 5\",\"INVOCATION 3\")","v":"INVOCATION 3"},{"$f":"Start!AJ115","v":"Select…"},"",null,null,"CG","Chaotic Good","Chaotic good creatures act as their conscience directs, with little regard for what others expect. Copper dragons, many elves, and unicorns are chaotic good.  ","Azuth (LN)","God of wizards","Lawful Neutral","Knowledge","Left hand pointing upward, outlined in fire",{"$f":"IF(JD6=\"\",\"\",MAX($JC$1:JC5)+1)","v":4},"Elvish","Elvish",5,"Giant",5,6500,5,3,null,4,4,3,"-","-","-","-","-","-","-",2,"Single Spellcaster","Wizard","INT","PREPARED",{"$f":"IF((WizardLevel+INTMod)<1,1,WizardLevel+INTMod)","v":1},null,4,4,7,4,3,5,5,4,4,4,2,3,3,5,3,null,null,"PROFICIENCY",null,null,null,null,null,null,null,null,null,null,null,null,null,null,null,null,null,null,null,null,null,null,null,null,null,null,null,null,null,null,null,null,null,null,null,null,null,null,null,null,null,null,null,null,null,null,null,null,null,null,null,null,null,null,null,null,null,null,null,null,null,null,null,null,null,null,null,null,null,null,null,null,null,null,null,null,null,null,null,null,null,null,null,null,null,null,null,null,null,null,null,null,null,null,null,null,null,null,null,null,null,null,null,null,null,null,null,null,null,null,null,null,null,null,null,null,null,null,null,null,null,null,null,null,null,null,null,null,null,null,null,null,null,null,"Bolas","Martial Ranged","not proficient",1,"bludgeoning","30/90",1,{"$f":"\"\"","v":""},{"$f":"\"\"","v":""},{"$f":"\"\"","v":""},{"$f":"\"\"","v":""},{"$f":"\"\"","v":""},{"$f":"\"\"","v":""},{"$f":"\"\"","v":""},"thrown",{"$f":"\"\"","v":""},{"$f":"\"\"","v":""},{"$f":"\"\"","v":""},{"$f":"\"\"","v":""},3,6,"Properties",null,null,null,null,"Attack 1_1",null,null,null,null,null,null,null,"Attack 1_2",null,null,null,null,null,null,null,"Attack 1_3",null,null,null,null,null,null,null,"Attack 1_4",null,null,null,null,null,null,null,"Attack 1_5",null,null,null,null,null,null,null,"Attack 1_6",null,null,null,"Leather armor","light",{"$f":"IF(SR6=\"\",\"\",IF(Start!$Y$157=$QS$12,$QS$12&\" (disadvantage)\",IF(Start!$Y$157=$QS$11,$QS$11,IF(VLOOKUP(SR6,$KT$60:$KV$78,2,FALSE)=\"No\",$QS$12&\" (disadvantage)\",$QS$11))))","v":"not proficient (disadvantage)"},11,{"$f":"DEXMod","v":-5},"-","-",10,{"$f":"ST6&\", Don: 1min, Doff: 1min\"","v":"not proficient (disadvantage), Don: 1min, Doff: 1min"},null,null,null,null,null,null,null,null,null,{"$f":"TJ5+1","v":4},"Alter Self","LEVEL 2",2,"Alter Self ",{"$f":"\"\"","v":""},"",{"$f":"IF(OR(TK6=Spellcasting!$AC$18,TK6=Spellcasting!$AC$19),\"ᵐ\",\"\")","v":""},{"$f":"IF(OR(TK6=Spellcasting!$AC$20,TK6=Spellcasting!$AC$21),\"ˢ\",\"\")","v":""},{"$f":"\"\"","v":""},"1 act","self","1 hr ᶜᵒᶰ","VS",{"$f":"\"\"","v":""},"transmutation","trans","You assume a different form. When you cast the spell, choose one of the following options, the effects of which last for the duration of the spell. While the spell lasts, you can end one option as an action to gain the benefits of a different one. \n\nAquatic Adaptation. You adapt your body to an aquatic environment, sprouting gills and growing webbing between your fingers. You can breathe underwater and gain a swimming speed equal to your walking speed. \n\nChange Appearance. You transform your appearance. You decide what you look like, including your height, weight, facial features, sound of your voice, hair length, coloration, and distinguishing characteristics, if any. You can make yourself appear as a member of another race, though none of your statistics change. You also can’t appear as a creature of a different size than you, and your basic shape stays the same; if you're bipedal, you can’t use this spell to become quadrupedal, for instance. At any time for the duration of the spell, you can use your action to change your appearance in this way again. \n\nNatural Weapons. You grow claws, fangs, spines, horns, or a different natural weapon of your choice. Your unarmed strikes deal 1d6 bludgeoning, piercing, or slashing damage, as appropriate to the natural weapon you chose, and you are proficient with your unarmed strikes. Finally, the natural weapon is magic and you have a +1 bonus to the attack and damage rolls you make using it.\n","choose aquatic adaptation, change appearance, natural weapons",null,null,null,{"$f":"IF(UF$1>=$TM6,1,\"0\")","v":"0"},null,null,null,null,null,{"$f":"IF(UL$1>=$TM6,1,\"0\")","v":"0"},null,null,null,null,null,null,null,null,null,null,null,null,null,null,null,null,null,null,null,null,null,null,null,null,null,null,null,null,null,null,null,null,null,null,null,null,null,null,null,null,null,null,null,{"$f":"IF(SUM($VZ$1:$WC$1)>0,IF(AND(SUM($VZ6:$WC6)>0,$TM6=WE$1),MAX(WD$2:WD5)+1,\"\"),IF(AND(SUM($UC6:$VY6)>0,$TM6=WE$1),MAX(WD$2:WD5)+1,\"\"))","v":""},"",{"$f":"IF(AND(SUM($UB6:$VY6)>0,$TM6=WG$1),MAX(WF$2:WF5)+1,\"\")","v":""},"",{"$f":"IF(AND(SUM($UB6:$VY6)>0,$TM6=WI$1),MAX(WH$2:WH5)+1,\"\")","v":""},"",{"$f":"IF(AND(SUM($UB6:$VY6)>0,$TM6=WK$1),MAX(WJ$2:WJ5)+1,\"\")","v":""},"",{"$f":"IF(AND(SUM($UB6:$VY6)>0,$TM6=WM$1),MAX(WL$2:WL5)+1,\"\")","v":""},"",{"$f":"IF(AND(SUM($UB6:$VY6)>0,$TM6=WO$1),MAX(WN$2:WN5)+1,\"\")","v":""},"",{"$f":"IF(AND(SUM($UB6:$VY6)>0,$TM6=WQ$1),MAX(WP$2:WP5)+1,\"\")","v":""},"",{"$f":"IF(AND(SUM($UB6:$VY6)>0,$TM6=WS$1),MAX(WR$2:WR5)+1,\"\")","v":""},"",{"$f":"IF(AND(SUM($UB6:$VY6)>0,$TM6=WU$1),MAX(WT$2:WT5)+1,\"\")","v":""},"",{"$f":"IF(AND(SUM($UB6:$VY6)>0,$TM6=WW$1),MAX(WV$2:WV5)+1,\"\")","v":""},"",{"$f":"IF(AND(SUM($UB6:$VY6)>0,$TM6=WY$1),MAX(WX$2:WX5)+1,\"\")","v":""},"",5,"","","","","","","","","","","","Fiend",{"$f":"XM5+1","v":2},"Bat","Beast","Tiny",12,1,"5 ft, fly 30 ft",2,15,8,2,12,4,"none","passive Perception 11, blindsight 60 ft","Bite melee +0, reach 5ft, 1 piercing","Echolocation. No blindsight while deafened\nKeen Hearing. Advantage on Wisdom (Perception) checks that rely on hearing",null,"",4,"FEAT 4",{"$f":"IF(OR(Start!I116=\"\",Start!I116=SelectText),\"\",Start!I116)","v":""},"","",{"$f":"\"\"","v":""},null,"","",null,null,null,null,"","Barbarian",16,{"$f":"VLOOKUP(YY6,$ZD$2:$ZP$23,$ZD$1,FALSE)","v":""},{"$f":"IF(YX6=\"\",\"\",MAX($YW$1:YW5)+1)","v":""},"","",{"$f":"YZ5+1","v":3},{"$f":"IF(ZB6=\"\",\"\",MAX($ZA$2:ZA5)+1)","v":""},"",{"$f":"IF(Start!AF22=SelectText,\"\",Start!AF22)","v":""},{"$f":"IF(OR(COUNTIF($ZC$4:$ZC6,ZD$2)=0,COUNTIF($ZC$4:$ZC6,ZD$2)=MAX(ZD$2:ZD5)),\"-\",COUNTIF($ZC$4:$ZC6,ZD$2))","v":"-"},{"$f":"IF(OR(COUNTIF($ZC$4:$ZC6,ZE$2)=0,COUNTIF($ZC$4:$ZC6,ZE$2)=MAX(ZE$2:ZE5)),\"-\",COUNTIF($ZC$4:$ZC6,ZE$2))","v":"-"},{"$f":"IF(OR(COUNTIF($ZC$4:$ZC6,ZF$2)=0,COUNTIF($ZC$4:$ZC6,ZF$2)=MAX(ZF$2:ZF5)),\"-\",COUNTIF($ZC$4:$ZC6,ZF$2))","v":"-"},{"$f":"IF(OR(COUNTIF($ZC$4:$ZC6,ZG$2)=0,COUNTIF($ZC$4:$ZC6,ZG$2)=MAX(ZG$2:ZG5)),\"-\",COUNTIF($ZC$4:$ZC6,ZG$2))","v":"-"},{"$f":"IF(OR(COUNTIF($ZC$4:$ZC6,ZH$2)=0,COUNTIF($ZC$4:$ZC6,ZH$2)=MAX(ZH$2:ZH5)),\"-\",COUNTIF($ZC$4:$ZC6,ZH$2))","v":"-"},{"$f":"IF(OR(COUNTIF($ZC$4:$ZC6,ZI$2)=0,COUNTIF($ZC$4:$ZC6,ZI$2)=MAX(ZI$2:ZI5)),\"-\",COUNTIF($ZC$4:$ZC6,ZI$2))","v":"-"},{"$f":"IF(OR(COUNTIF($ZC$4:$ZC6,ZJ$2)=0,COUNTIF($ZC$4:$ZC6,ZJ$2)=MAX(ZJ$2:ZJ5)),\"-\",COUNTIF($ZC$4:$ZC6,ZJ$2))","v":"-"},{"$f":"IF(OR(COUNTIF($ZC$4:$ZC6,ZK$2)=0,COUNTIF($ZC$4:$ZC6,ZK$2)=MAX(ZK$2:ZK5)),\"-\",COUNTIF($ZC$4:$ZC6,ZK$2))","v":"-"},{"$f":"IF(OR(COUNTIF($ZC$4:$ZC6,ZL$2)=0,COUNTIF($ZC$4:$ZC6,ZL$2)=MAX(ZL$2:ZL5)),\"-\",COUNTIF($ZC$4:$ZC6,ZL$2))","v":"-"},{"$f":"IF(OR(COUNTIF($ZC$4:$ZC6,ZM$2)=0,COUNTIF($ZC$4:$ZC6,ZM$2)=MAX(ZM$2:ZM5)),\"-\",COUNTIF($ZC$4:$ZC6,ZM$2))","v":"-"},{"$f":"IF(OR(COUNTIF($ZC$4:$ZC6,ZN$2)=0,COUNTIF($ZC$4:$ZC6,ZN$2)=MAX(ZN$2:ZN5)),\"-\",COUNTIF($ZC$4:$ZC6,ZN$2))","v":"-"},{"$f":"IF(OR(COUNTIF($ZC$4:$ZC6,ZO$2)=0,COUNTIF($ZC$4:$ZC6,ZO$2)=MAX(ZO$2:ZO5)),\"-\",COUNTIF($ZC$4:$ZC6,ZO$2))","v":"-"},{"$f":"ZP5+1","v":3},"Fighter",7,{"$f":"YG33","v":"Linguist"},{"$f":"IF(COUNTIF($YH$3:$YH$10,ZS6)>0,$ZS6&\"\n\"&VLOOKUP($ZS6,$YG$14:$YK$77,5,FALSE)&\"\n\",\"\")","v":""},{"$f":"Start!C7","v":"CONSTITUTION"},{"$f":"IF(ZV$2=1,IF(VLOOKUP($ZU6,Start!$C$5:$AN$10,18+ZV$3,FALSE)=\"\",\"\",VLOOKUP($ZU6,Start!$C$5:$AN$10,18+ZV$3,FALSE)),\"\")","v":""},{"$f":"IF(ZW$2=1,IF(VLOOKUP($ZU6,Start!$C$5:$AN$10,18+ZW$3,FALSE)=\"\",\"\",VLOOKUP($ZU6,Start!$C$5:$AN$10,18+ZW$3,FALSE)),\"\")","v":""},{"$f":"IF(ZX$2=1,IF(VLOOKUP($ZU6,Start!$C$5:$AN$10,18+ZX$3,FALSE)=\"\",\"\",VLOOKUP($ZU6,Start!$C$5:$AN$10,18+ZX$3,FALSE)),\"\")","v":""},{"$f":"IF(ZY$2=1,IF(VLOOKUP($ZU6,Start!$C$5:$AN$10,18+ZY$3,FALSE)=\"\",\"\",VLOOKUP($ZU6,Start!$C$5:$AN$10,18+ZY$3,FALSE)),\"\")","v":""},{"$f":"IF(ZZ$2=1,IF(VLOOKUP($ZU6,Start!$C$5:$AN$10,18+ZZ$3,FALSE)=\"\",\"\",VLOOKUP($ZU6,Start!$C$5:$AN$10,18+ZZ$3,FALSE)),\"\")","v":""},{"$f":"IF(AAA$2=1,IF(VLOOKUP($ZU6,Start!$C$5:$AN$10,18+AAA$3,FALSE)=\"\",\"\",VLOOKUP($ZU6,Start!$C$5:$AN$10,18+AAA$3,FALSE)),\"\")","v":""},{"$f":"IF(AAB$2=1,IF(VLOOKUP($ZU6,Start!$C$5:$AN$10,18+AAB$3,FALSE)=\"\",\"\",VLOOKUP($ZU6,Start!$C$5:$AN$10,18+AAB$3,FALSE)),\"\")","v":""},{"$f":"IF(AAC$2=1,IF(VLOOKUP($ZU6,Start!$C$5:$AN$10,18+AAC$3,FALSE)=\"\",\"\",VLOOKUP($ZU6,Start!$C$5:$AN$10,18+AAC$3,FALSE)),\"\")","v":""},{"$f":"IF(AAD$2=1,IF(VLOOKUP($ZU6,Start!$C$5:$AN$10,18+AAD$3,FALSE)=\"\",\"\",VLOOKUP($ZU6,Start!$C$5:$AN$10,18+AAD$3,FALSE)),\"\")","v":""},{"$f":"IF(AAE$2=1,IF(VLOOKUP($ZU6,Start!$C$5:$AN$10,18+AAE$3,FALSE)=\"\",\"\",VLOOKUP($ZU6,Start!$C$5:$AN$10,18+AAE$3,FALSE)),\"\")","v":""},{"$f":"IF(AAF$2=1,IF(VLOOKUP($ZU6,Start!$C$5:$AN$10,18+AAF$3,FALSE)=\"\",\"\",VLOOKUP($ZU6,Start!$C$5:$AN$10,18+AAF$3,FALSE)),\"\")","v":""},{"$f":"IF(AAG$2=1,IF(VLOOKUP($ZU6,Start!$C$5:$AN$10,18+AAG$3,FALSE)=\"\",\"\",VLOOKUP($ZU6,Start!$C$5:$AN$10,18+AAG$3,FALSE)),\"\")","v":""},{"$f":"IF(AAH$2=1,IF(VLOOKUP($ZU6,Start!$C$5:$AN$10,18+AAH$3,FALSE)=\"\",\"\",VLOOKUP($ZU6,Start!$C$5:$AN$10,18+AAH$3,FALSE)),\"\")","v":""},{"$f":"IF(AAI$2=1,IF(VLOOKUP($ZU6,Start!$C$5:$AN$10,18+AAI$3,FALSE)=\"\",\"\",VLOOKUP($ZU6,Start!$C$5:$AN$10,18+AAI$3,FALSE)),\"\")","v":""},{"$f":"IF(AAJ$2=1,IF(VLOOKUP($ZU6,Start!$C$5:$AN$10,18+AAJ$3,FALSE)=\"\",\"\",VLOOKUP($ZU6,Start!$C$5:$AN$10,18+AAJ$3,FALSE)),\"\")","v":""},{"$f":"IF(AAK$2=1,IF(VLOOKUP($ZU6,Start!$C$5:$AN$10,18+AAK$3,FALSE)=\"\",\"\",VLOOKUP($ZU6,Start!$C$5:$AN$10,18+AAK$3,FALSE)),\"\")","v":""},{"$f":"IF(AAL$2=1,IF(VLOOKUP($ZU6,Start!$C$5:$AN$10,18+AAL$3,FALSE)=\"\",\"\",VLOOKUP($ZU6,Start!$C$5:$AN$10,18+AAL$3,FALSE)),\"\")","v":""},{"$f":"IF(AAM$2=1,IF(VLOOKUP($ZU6,Start!$C$5:$AN$10,18+AAM$3,FALSE)=\"\",\"\",VLOOKUP($ZU6,Start!$C$5:$AN$10,18+AAM$3,FALSE)),\"\")","v":""},{"$f":"IF(AAN$2=1,IF(VLOOKUP($ZU6,Start!$C$5:$AN$10,18+AAN$3,FALSE)=\"\",\"\",VLOOKUP($ZU6,Start!$C$5:$AN$10,18+AAN$3,FALSE)),\"\")","v":""},{"$f":"IF(AAO$2=1,IF(VLOOKUP($ZU6,Start!$C$5:$AN$10,18+AAO$3,FALSE)=\"\",\"\",VLOOKUP($ZU6,Start!$C$5:$AN$10,18+AAO$3,FALSE)),\"\")","v":""},0]
["Halfling","Small",25,"Normal","• +2 Dexterity\n• Size: Small\n• Speed: 25ft\n• Lucky: reroll attack, ability check, or saving throw on a natural 1, must use new roll\n• Brave: advantage on saving throws against being frightened\n• Halfling Nimbleness: move through space of a creature that is a size larger than yours\n• Languages: Halfling, Common","Halfling, Common",2,"none",0,"none",0,{"$f":"\"\"","v":""},2,{"$f":"IF(Subrace=$U12,1,\"\")","v":""},{"$f":"\"\"","v":""},{"$f":"\"\"","v":""},{"$f":"IF(Subrace=$U11,1,\"\")","v":""},"A halfling reaches adulthood at the age of 20 and generally lives into the middle of his or her second century.","2' 7'' + 2d4",{"$f":"\"35 lb. x 1\"","v":"35 lb. x 1"},"High","• +1 Intelligence\n• Elf Weapon Training: proficiency with longsword, shortsword, shortbow, and longbow\n• Cantrip: choose one wizard cantrip\n• Extra Language: choose one additional language",null,{"$f":"IF(Y7=\"\",\"\",MAX($X$3:X6)+1)","v":""},{"$f":"IF(A6=$A$3,U7,\"\")","v":""},4,"",null,"Lightning",{"$f":"IF(AND(VLOOKUP(RaceDraconicAncestry,$U$15:$W$25,3,FALSE)=AC7,SorcererDraconicBloodlineLevel>=6),TRUE,FALSE)","v":false},"Criminal","Criminal Contact","   You have a reliable and trustworthy contact who acts as your liaison to a network of other criminals.","Deception, Stealth",2,"One type of gaming set, thieves' tools",2,"none",0,5,{"$f":"AO6+1","v":6},"",{"$f":"\"\"","v":""},"I see omens in every event and action. The gods try to speak to us, we just need to listen","Flattery is my preferred trick for getting what I want.","The first thing I do in a new place is note the locations of everything valuable - or where such things could be hidden.","I’m a hopeless romantic, always searching for that “special someone.” ","When I set my mind to something, I follow through no matter what gets in my way.","I always want to know how things work and what makes people tick. ","The leader of my community had something wise to say on every topic, and I am eager to share that wisdom. ","No one could doubt by looking at my regal bearing that I am a cut above the unwashed masses.","I once ran twenty-five miles without stopping to warn to my clan of an approaching orc horde. I’d do it again if I had to. ","I’m used to helping out those who aren’t as smart as I am, and I patiently explain anything and everything to others. ","I enjoy sailing into new ports and making new friends over a flagon of ale. ","I’ve lost too many friends, and I’m slow to make new ones.","I like to squeeze into small places where no one else can get to me.",{"$f":"\"\"","v":""},"WIS",{"$f":"IF(OR(BL7>0,BL13>0,BL10>0,BL16>0,BL18>0,MonkLevel>=14,RogueLevel>=15,AAP8>0),BF7,\"\")","v":""},{"$f":"IF(BG7=\"\",\"\",IF(COUNTIF(BG7:$BG$8,\"><\")>1,BG7&\", \",BG7))","v":""},"Cleric",8,{"$f":"IF(BL7=0,\"\",MAX($BK$6:BK6)+1)","v":""},{"$f":"COUNTIF(Start!$AF$20:$AF$39,Tables!BI7)","v":0},{"$f":"IF(OR(BK7=\"\",BO7=\"\"),\"\",MAX($BM$6:BM6)+1)","v":""},"Cleric","WIS",{"$f":"IF(BK7=\"\",\"\",BI7&\" \"&BL7)","v":""},"Divine Domain",1,null,null,null,10,0,0,{"$f":"\"\"","v":""},{"$f":"IF(OR(ClericLifeLevel>0, ClericTempestLevel>0,ClericWarLevel>0),\"All armor, shields\", \"Light & medium armor, shields\")","v":"Light & medium armor, shields"},{"$f":"IF(OR(ClericLifeLevel>0, ClericTempestLevel>0,ClericWarLevel>0),\"All armor, shields\", \"Light & medium armor, shields\")","v":"Light & medium armor, shields"},{"$f":"IF(OR(ClericTempestLevel>0,ClericWarLevel>0),\"Simple and martial weapons\",\"Simple weapons\")","v":"Simple weapons"},{"$f":"IF(OR(ClericTempestLevel>0,ClericWarLevel>0),\"Simple and martial weapons\",\"none\")","v":"none"},"none",0,"none",0,"Wisdom, Charisma","Choose 2 from History, Insight, Medicine, Persuasion, and Religion",2,"none",0,{"$f":"\"• Spellcasting, Divine Domain (\"&VLOOKUP($BI7,$BN$3:$BQ$5,4,FALSE)&\"), \"&VLOOKUP($BI7,$DM$3:$EH$5,DO$2-1,FALSE)&\"\n\"","v":{"$error":"#N/A"}},{"$f":"\"• Divine Domain Feature (\"&VLOOKUP($BI7,$DM$3:$EH$5,DP$2-1,FALSE)&\")\"&\"\n\"&IF(ClericLevel>=DD6,\"• Channel Divinity (3/rest), \",IF(ClericLevel>=CR6,\"• Channel Divinity (2/rest), \",\"• Channel Divinity (1/rest), \"))&\"\n\"","v":{"$error":"#N/A"}},{"$f":"\"\"","v":""},{"$f":"IF(ClericLevel>=DE$6,\"• Ability Score Improvement / Feat: level \"&DE$6&\", \"&DB$6&\", \"&CX$6&\", \"&CT$6&\", \"&CP$6,IF(ClericLevel>=DB$6,\"• Ability Score Improvement / Feat: level \"&DB$6&\", \"&CX$6&\", \"&CT$6&\", \"&CP$6,IF(ClericLevel>=CX$6,\"• Ability Score Improvement / Feat: level \"&CX$6&\", \"&CT$6&\", \"&CP$6,IF(ClericLevel>=CT$6,\"• Ability Score Improvement / Feat : level \"&CT$6&\", \"&CP$6,\"• Ability Score Improvement / Feat: level \"&CP$6))))&\"\n\"","v":"• Ability Score Improvement / Feat: level 4\n"},{"$f":"IF(ClericLevel>=DC$6,\"• Destroy Undead (CR 4)\",IF(ClericLevel>=CZ$6,\"• Destroy Undead (CR 3)\",IF(ClericLevel>=CW$6,\"• Destroy Undead (CR 2)\",IF(ClericLevel>=CT$6,\"• Destroy Undead (CR 1)\",\"• Destroy Undead (CR 1/2)\"))))&\"\n\"","v":"• Destroy Undead (CR 1/2)\n"},{"$f":"\"• Divine Domain Feature (\"&VLOOKUP($BI7,$DM$3:$EH$5,DT$2-1,FALSE)&\")\n\"","v":{"$error":"#N/A"}},{"$f":"\"\"","v":""},{"$f":"\"• Divine Domain Feature (\"&VLOOKUP($BI7,$DM$3:$EH$5,DV$2-1,FALSE)&\")\n\"","v":{"$error":"#N/A"}},{"$f":"\"\"","v":""},{"$f":"IF(ClericLevel>=DF6,\"• Divine Intervention Improvement\",\"• Divine Intervention\")&\"\n\"","v":"• Divine Intervention\n"},{"$f":"\"\"","v":""},{"$f":"\"\"","v":""},{"$f":"\"\"","v":""},{"$f":"\"\"","v":""},{"$f":"\"\"","v":""},{"$f":"\"\"","v":""},{"$f":"\"• Divine Domain Feature (\"&VLOOKUP($BI7,$DM$3:$EH$5,EE$2-1,FALSE)&\")\n\"","v":{"$error":"#N/A"}},{"$f":"\"\"","v":""},{"$f":"\"\"","v":""},{"$f":"\"\"","v":""},null,null,null,null,"Grassland","Knowledge","Cleric",{"$f":"IF(OR(SubClass1=DL7,SubClass2=DL7,SubClass3=DL7),INDIRECT(TEXT(DM7&\"level\",0)),0)","v":0},{"$f":"\"\n• Divine Domain Feature (Blessing of Knowledge: learn two languages and choose two skills)\n• Domain Spells\"&\"\n\"&EI7","v":"\n• Divine Domain Feature (Blessing of Knowledge: learn two languages and choose two skills)\n• Domain Spells\n"},"Channel Divinity: Turn Undead, Knowledge of the Ages",{"$f":"\"\"","v":""},{"$f":"\"\"","v":""},{"$f":"\"\"","v":""},"Channel Divinity: Read Thoughts",{"$f":"\"\"","v":""},"Potent Spellcasting",{"$f":"\"\"","v":""},{"$f":"\"\"","v":""},{"$f":"\"\"","v":""},{"$f":"\"\"","v":""},{"$f":"\"\"","v":""},{"$f":"\"\"","v":""},{"$f":"\"\"","v":""},{"$f":"\"\"","v":""},"Visions of the Past: Object Reading, Area Reading",{"$f":"\"\"","v":""},{"$f":"\"\"","v":""},{"$f":"\"\"","v":""},{"$f":"IF(ClericLevel>=9,\"  1st (command, identify)\n  3rd (augury, suggestion)\n  5th (nondetection, speak with dead)\n  7th  (arcane eye, confusion)\n  9th (legend lore, scrying)\",IF(ClericLevel>=7,\"  1st (command, identify)\n  3rd (augury, suggestion)\n  5th (nondetection, speak with dead)\n  7th  (arcane eye, confusion)\",IF(ClericLevel>=5,\"  1st (command, identify)\n  3rd (augury, suggestion)\n  5th (nondetection, speak with dead)\",IF(ClericLevel>=3,\"  1st (command, identify)\n  3rd (augury, suggestion)\",IF(ClericLevel>=1,\"  1st (command, identify)\",\"\")))))","v":""},{"$f":"IF(ClericLevel>=1,$DM7&\" (command, identify)\n\",\"\")","v":""},null,{"$f":"IF(ClericLevel>=3,$DM7&\" (augury, suggestion)\n\",\"\")","v":""},null,{"$f":"IF(ClericLevel>=5,$DM7&\" (nondetection, speak with dead)\n\",\"\")","v":""},null,{"$f":"IF(ClericLevel>=7,$DM7&\" (arcane eye, confusion)\n\",\"\")","v":""},null,{"$f":"IF(ClericLevel>=9,$DM7&\" (legend lore, scrying)\n\",\"\")","v":""},null,{"$f":"\"\"","v":""},{"$f":"\"\"","v":""},{"$f":"IF(ClericLevel>=1,DL7&\"\n• Choose 2 skills from Arcana, History, Nature, or Religion. \n   Your proficiency bonus is doubled for those choosen skills.\n\",\"\")","v":""},{"$f":"IF(ClericLevel>=1,2,\"\")","v":""},{"$f":"IF(ClericLevel>=1,\"2 languages of your choice\n\",\"\")","v":""},{"$f":"IF(ClericLevel>=1,2,\"\")","v":""},null,{"$f":"IF($DM7=FB$5,MAX(FA$6:FA6)+1,\"\")","v":""},{"$f":"IF(FA7=\"\",\"\",$DL7)","v":""},2,"",{"$f":"IF($DM7=FF$5,MAX(FE$6:FE6)+1,\"\")","v":""},{"$f":"IF(FE7=\"\",\"\",$DL7)","v":""},2,"",{"$f":"IF($DM7=FJ$5,MAX(FI$6:FI6)+1,\"\")","v":""},{"$f":"IF(FI7=\"\",\"\",$DL7)","v":""},2,"","Athletics",{"$f":"Start!L68","v":0},{"$f":"IF($FM7=$FP7,MAX(FO$3:FO6)+1,\"\")","v":""},"",5,"",null,null,null,null,null,"Select…",null,null,null,"Feinting Attack","   Expend one superiority die and use a bonus action on your turn to feint, choose one creature within 5 feet of you as your\n   target. You have advantage on your next attack roll against that creature. If that attack hits, add the superiority die to the\n   damage roll.",5,3,"","MANEUVER 5",{"$f":"Start!AJ82","v":"Select…"},"","","Religion",{"$f":"FN18","v":0},{"$f":"IF($GK7=$GN7,MAX(GM$3:GM6)+1,\"\")","v":""},{"$f":"IF(GL7=TRUE,GK7,\"\")","v":""},{"$f":"GO6+1","v":5},{"$f":"IF(ISERROR(VLOOKUP(GO7,$GM$3:$GN$22,2,FALSE)),\"\",VLOOKUP(GO7,$GM$3:$GN$22,2,FALSE))","v":""},"Fangs of the Fire Snake","   When you use the Attack action on your turn, spend 1 ki point to cause tendrils of flame to stretch out from your fists and feet.\n   Your reach with your unarmed strikes increases by 10 feet for that action, as well as the rest of the turn. A hit with such an\n   attack deals fire damage instead of bludgeoning damage, and if you spend 1 ki point when the attack hits, it also deals an\n   extra 1d10 fire damage.",3,"1+1",{"$f":"IF(GV7=\"\",\"\",MAX($GU$3:GU6)+1)","v":""},"",5,"",{"$f":"IF(MonkFourElementsLevel>=17,TRUE, \"\")","v":""},{"$f":"IF(MonkFourElementsLevel>=17,\"Monk Level 17\",\"DISCIPLINE 4\")","v":"DISCIPLINE 4"},{"$f":"Start!AJ94","v":"Select…"}," Select…\n",null,null,null,null,null,null,null,null,"constructs",{"$f":"\"\"","v":""},"catfolk",null,null,null,null,null,null,"Forest",null,null,null,null,{"$f":"IF(RangerHunterLevel>=15,TRUE, \"\")","v":""},{"$f":"IF(RangerHunterLevel>=15,\"Superior Defense\",\"FEATURE 4\")","v":"FEATURE 4"},{"$f":"Start!AJ110","v":"Select…"},"Extended Spell","   When you cast a spell that has a duration of 1 minute or longer, spend 1 sorcery point to double its duration, to a maximum\n   duration of 24 hours.",{"$f":"IF(SorcererLevel>=17,TRUE, \"\")","v":""},"17th",{"$f":"Spellcasting!AC27","v":"Select…"},{"$f":"IF(IF7=SelectText,\"\",\" - \"&IF7&\"\n\"&VLOOKUP(IF7,$IB$4:$IC$11,2,FALSE)&\"\n\")","v":""},{"$f":"IF(IJ7=1,MAX($IH$2:IH6)+1,\"\")","v":3},"Beguiling Influence",{"$f":"1","v":1},"   You gain proficiency in the Deception and Persuasion skills.",5,"Eldritch Sight",4,"",{"$f":"IF($IO$3>=IN7,\"Warlock Level 7\",\"INVOCATION 4\")","v":"INVOCATION 4"},{"$f":"Start!AJ116","v":"Select…"},"",null,null,"LN","Lawful Neutral","Lawful neutral individuals act in accordance with law, tradition, or personal codes. Many monks and some wizards are lawful neutral.  ","Bane (LE)","God of tyranny","Lawful Evil","War","Upright black right hand,  thumb and fingers together",{"$f":"IF(JD7=\"\",\"\",MAX($JC$1:JC6)+1)","v":5},"Giant","Dwarvish",6,"Gnomish",6,14000,6,3,null,5,4,3,2,"-","-","-","-","-","-",3,{"$f":"IF(OR(AND(SUMPRODUCT(--(LEN($BO$3:$BO$5)>1))=2,WarlockLevel>0),AND(SUMPRODUCT(--(LEN($BO$3:$BO$5)>1))=1,WarlockLevel=0)),TRUE,FALSE)","v":false},"Rogue","INT","KNOWN",{"$f":"VLOOKUP(RogueArcaneTricksterLevel,$KD$1:$KJ$22,$KC7,FALSE)","v":{"$error":"#N/A"}},2,5,4,8,4,4,6,6,5,4,4,2,3,3,5,3,null,null,null,null,null,null,null,null,null,null,null,null,null,null,null,null,null,null,null,null,null,null,null,null,null,null,null,null,null,null,null,null,null,null,null,null,null,null,null,null,null,null,null,null,null,null,null,null,null,null,null,null,null,null,null,null,null,null,null,null,null,null,null,null,null,null,null,null,null,null,null,null,null,null,null,null,null,null,null,null,null,null,null,null,null,null,null,null,null,null,null,null,null,null,null,null,null,null,null,null,null,null,null,null,null,null,null,null,null,null,null,null,null,null,null,null,null,null,null,null,null,null,null,null,null,null,null,null,null,null,null,null,null,null,null,null,null,"Club","Simple Melee","not proficient","1d4","bludgeoning","-",2,{"$f":"\"\"","v":""},{"$f":"\"\"","v":""},{"$f":"\"\"","v":""},"light",{"$f":"\"\"","v":""},{"$f":"\"\"","v":""},{"$f":"\"\"","v":""},{"$f":"\"\"","v":""},{"$f":"\"\"","v":""},{"$f":"\"\"","v":""},{"$f":"\"\"","v":""},{"$f":"\"\"","v":""},null,7,"Proficiency",null,null,null,null,{"$f":"Start!AV145","v":""},null,null,null,null,null,null,null,{"$f":"Start!BD145","v":""},null,null,null,null,null,null,null,{"$f":"Start!BL145","v":""},null,null,null,null,null,null,null,{"$f":"Start!BT145","v":""},null,null,null,null,null,null,null,{"$f":"Start!CB145","v":""},null,null,null,null,null,null,null,{"$f":"Start!CJ145","v":""},null,null,null,"Studded leather","light",{"$f":"IF(SR7=\"\",\"\",IF(Start!$Y$157=$QS$12,$QS$12&\" (disadvantage)\",IF(Start!$Y$157=$QS$11,$QS$11,IF(VLOOKUP(SR7,$KT$60:$KV$78,2,FALSE)=\"No\",$QS$12&\" (disadvantage)\",$QS$11))))","v":"not proficient (disadvantage)"},12,{"$f":"DEXMod","v":-5},"-","-",13,{"$f":"ST7&\", Don: 1min, Doff: 1min\"","v":"not proficient (disadvantage), Don: 1min, Doff: 1min"},null,null,null,null,null,null,null,null,null,5,"Animal Friendship","LEVEL 1",1,"Animal Friendship ᴴ ","ᴴ ","",{"$f":"IF(OR(TK7=Spellcasting!$AC$18,TK7=Spellcasting!$AC$19),\"ᵐ\",\"\")","v":""},{"$f":"IF(OR(TK7=Spellcasting!$AC$20,TK7=Spellcasting!$AC$21),\"ˢ\",\"\")","v":""},{"$f":"\"\"","v":""},"1 act","30 ft","24 hrs","VSM","a morsel of food","enchantment","ench","This spell lets you convince a beast that you mean it no harm. Choose a beast that you can see within range. It must see and hear you. If the beast’s Intelligence is 4 or higher, the spell fails. Otherwise, the beast must succeed on a Wisdom saving throw or be charmed by you for the spell’s duration. If you or one of your companions harms the target, the spells ends. \n\nAt Higher Levels. When you cast this spell using a spell slot of 2nd level or higher, you can affect one additional beast for each slot level above 1st.","beast with Intelligence less than 4, wis save, charmed",{"$f":"IF(UC$1>=$TM7,1,\"0\")","v":"0"},null,{"$f":"IF(UE$1>=$TM7,1,\"0\")","v":"0"},null,null,null,{"$f":"IF(UI$1>=$TM7,1,\"0\")","v":"0"},null,null,null,null,null,null,null,null,null,null,null,null,null,null,null,null,null,null,{"$f":"IF(VB$1>=$TM7,1,\"0\")","v":"0"},null,null,null,null,null,null,null,null,null,null,null,null,null,null,null,null,null,null,null,null,null,null,null,null,null,null,null,{"$f":"IF(SUM($VZ$1:$WC$1)>0,IF(AND(SUM($VZ7:$WC7)>0,$TM7=WE$1),MAX(WD$2:WD6)+1,\"\"),IF(AND(SUM($UC7:$VY7)>0,$TM7=WE$1),MAX(WD$2:WD6)+1,\"\"))","v":""},"",{"$f":"IF(AND(SUM($UB7:$VY7)>0,$TM7=WG$1),MAX(WF$2:WF6)+1,\"\")","v":""},"",{"$f":"IF(AND(SUM($UB7:$VY7)>0,$TM7=WI$1),MAX(WH$2:WH6)+1,\"\")","v":""},"",{"$f":"IF(AND(SUM($UB7:$VY7)>0,$TM7=WK$1),MAX(WJ$2:WJ6)+1,\"\")","v":""},"",{"$f":"IF(AND(SUM($UB7:$VY7)>0,$TM7=WM$1),MAX(WL$2:WL6)+1,\"\")","v":""},"",{"$f":"IF(AND(SUM($UB7:$VY7)>0,$TM7=WO$1),MAX(WN$2:WN6)+1,\"\")","v":""},"",{"$f":"IF(AND(SUM($UB7:$VY7)>0,$TM7=WQ$1),MAX(WP$2:WP6)+1,\"\")","v":""},"",{"$f":"IF(AND(SUM($UB7:$VY7)>0,$TM7=WS$1),MAX(WR$2:WR6)+1,\"\")","v":""},"",{"$f":"IF(AND(SUM($UB7:$VY7)>0,$TM7=WU$1),MAX(WT$2:WT6)+1,\"\")","v":""},"",{"$f":"IF(AND(SUM($UB7:$VY7)>0,$TM7=WW$1),MAX(WV$2:WV6)+1,\"\")","v":""},"",{"$f":"IF(AND(SUM($UB7:$VY7)>0,$TM7=WY$1),MAX(WX$2:WX6)+1,\"\")","v":""},"",6,"","","","","","","","","","","",null,3,"Cat","Beast","Tiny",12,2,"40 ft, climb 30 ft",3,15,10,3,12,7,"Perception +3, Stealth +4","passive Perception 13","Claw Melee +0, reach 5ft, 1 slashing","Keen Smell. Advantage on Wisdom (Perception) checks that rely on smell",null,"",5,"FEAT 5",{"$f":"IF(OR(Start!I117=\"\",Start!I117=SelectText),\"\",Start!I117)","v":""},"","",{"$f":"\"\"","v":""},null,"","",null,null,null,null,"","Barbarian",19,{"$f":"VLOOKUP(YY7,$ZD$2:$ZP$23,$ZD$1,FALSE)","v":""},{"$f":"IF(YX7=\"\",\"\",MAX($YW$1:YW6)+1)","v":""},"","",4,{"$f":"IF(ZB7=\"\",\"\",MAX($ZA$2:ZA6)+1)","v":""},"",{"$f":"IF(Start!AF23=SelectText,\"\",Start!AF23)","v":""},{"$f":"IF(OR(COUNTIF($ZC$4:$ZC7,ZD$2)=0,COUNTIF($ZC$4:$ZC7,ZD$2)=MAX(ZD$2:ZD6)),\"-\",COUNTIF($ZC$4:$ZC7,ZD$2))","v":"-"},{"$f":"IF(OR(COUNTIF($ZC$4:$ZC7,ZE$2)=0,COUNTIF($ZC$4:$ZC7,ZE$2)=MAX(ZE$2:ZE6)),\"-\",COUNTIF($ZC$4:$ZC7,ZE$2))","v":"-"},{"$f":"IF(OR(COUNTIF($ZC$4:$ZC7,ZF$2)=0,COUNTIF($ZC$4:$ZC7,ZF$2)=MAX(ZF$2:ZF6)),\"-\",COUNTIF($ZC$4:$ZC7,ZF$2))","v":"-"},{"$f":"IF(OR(COUNTIF($ZC$4:$ZC7,ZG$2)=0,COUNTIF($ZC$4:$ZC7,ZG$2)=MAX(ZG$2:ZG6)),\"-\",COUNTIF($ZC$4:$ZC7,ZG$2))","v":"-"},{"$f":"IF(OR(COUNTIF($ZC$4:$ZC7,ZH$2)=0,COUNTIF($ZC$4:$ZC7,ZH$2)=MAX(ZH$2:ZH6)),\"-\",COUNTIF($ZC$4:$ZC7,ZH$2))","v":"-"},{"$f":"IF(OR(COUNTIF($ZC$4:$ZC7,ZI$2)=0,COUNTIF($ZC$4:$ZC7,ZI$2)=MAX(ZI$2:ZI6)),\"-\",COUNTIF($ZC$4:$ZC7,ZI$2))","v":"-"},{"$f":"IF(OR(COUNTIF($ZC$4:$ZC7,ZJ$2)=0,COUNTIF($ZC$4:$ZC7,ZJ$2)=MAX(ZJ$2:ZJ6)),\"-\",COUNTIF($ZC$4:$ZC7,ZJ$2))","v":"-"},{"$f":"IF(OR(COUNTIF($ZC$4:$ZC7,ZK$2)=0,COUNTIF($ZC$4:$ZC7,ZK$2)=MAX(ZK$2:ZK6)),\"-\",COUNTIF($ZC$4:$ZC7,ZK$2))","v":"-"},{"$f":"IF(OR(COUNTIF($ZC$4:$ZC7,ZL$2)=0,COUNTIF($ZC$4:$ZC7,ZL$2)=MAX(ZL$2:ZL6)),\"-\",COUNTIF($ZC$4:$ZC7,ZL$2))","v":"-"},{"$f":"IF(OR(COUNTIF($ZC$4:$ZC7,ZM$2)=0,COUNTIF($ZC$4:$ZC7,ZM$2)=MAX(ZM$2:ZM6)),\"-\",COUNTIF($ZC$4:$ZC7,ZM$2))","v":"-"},{"$f":"IF(OR(COUNTIF($ZC$4:$ZC7,ZN$2)=0,COUNTIF($ZC$4:$ZC7,ZN$2)=MAX(ZN$2:ZN6)),\"-\",COUNTIF($ZC$4:$ZC7,ZN$2))","v":"-"},{"$f":"IF(OR(COUNTIF($ZC$4:$ZC7,ZO$2)=0,COUNTIF($ZC$4:$ZC7,ZO$2)=MAX(ZO$2:ZO6)),\"-\",COUNTIF($ZC$4:$ZC7,ZO$2))","v":"-"},4,"Monk",5,"Mobile",{"$f":"IF(COUNTIF($YH$3:$YH$10,ZS7)>0,$ZS7&\"\n\"&VLOOKUP($ZS7,$YG$14:$YK$77,5,FALSE)&\"\n\",\"\")","v":""},{"$f":"Start!C8","v":"INTELLIGENCE"},{"$f":"IF(ZV$2=1,IF(VLOOKUP($ZU7,Start!$C$5:$AN$10,18+ZV$3,FALSE)=\"\",\"\",VLOOKUP($ZU7,Start!$C$5:$AN$10,18+ZV$3,FALSE)),\"\")","v":""},{"$f":"IF(ZW$2=1,IF(VLOOKUP($ZU7,Start!$C$5:$AN$10,18+ZW$3,FALSE)=\"\",\"\",VLOOKUP($ZU7,Start!$C$5:$AN$10,18+ZW$3,FALSE)),\"\")","v":""},{"$f":"IF(ZX$2=1,IF(VLOOKUP($ZU7,Start!$C$5:$AN$10,18+ZX$3,FALSE)=\"\",\"\",VLOOKUP($ZU7,Start!$C$5:$AN$10,18+ZX$3,FALSE)),\"\")","v":""},{"$f":"IF(ZY$2=1,IF(VLOOKUP($ZU7,Start!$C$5:$AN$10,18+ZY$3,FALSE)=\"\",\"\",VLOOKUP($ZU7,Start!$C$5:$AN$10,18+ZY$3,FALSE)),\"\")","v":""},{"$f":"IF(ZZ$2=1,IF(VLOOKUP($ZU7,Start!$C$5:$AN$10,18+ZZ$3,FALSE)=\"\",\"\",VLOOKUP($ZU7,Start!$C$5:$AN$10,18+ZZ$3,FALSE)),\"\")","v":""},{"$f":"IF(AAA$2=1,IF(VLOOKUP($ZU7,Start!$C$5:$AN$10,18+AAA$3,FALSE)=\"\",\"\",VLOOKUP($ZU7,Start!$C$5:$AN$10,18+AAA$3,FALSE)),\"\")","v":""},{"$f":"IF(AAB$2=1,IF(VLOOKUP($ZU7,Start!$C$5:$AN$10,18+AAB$3,FALSE)=\"\",\"\",VLOOKUP($ZU7,Start!$C$5:$AN$10,18+AAB$3,FALSE)),\"\")","v":""},{"$f":"IF(AAC$2=1,IF(VLOOKUP($ZU7,Start!$C$5:$AN$10,18+AAC$3,FALSE)=\"\",\"\",VLOOKUP($ZU7,Start!$C$5:$AN$10,18+AAC$3,FALSE)),\"\")","v":""},{"$f":"IF(AAD$2=1,IF(VLOOKUP($ZU7,Start!$C$5:$AN$10,18+AAD$3,FALSE)=\"\",\"\",VLOOKUP($ZU7,Start!$C$5:$AN$10,18+AAD$3,FALSE)),\"\")","v":""},{"$f":"IF(AAE$2=1,IF(VLOOKUP($ZU7,Start!$C$5:$AN$10,18+AAE$3,FALSE)=\"\",\"\",VLOOKUP($ZU7,Start!$C$5:$AN$10,18+AAE$3,FALSE)),\"\")","v":""},{"$f":"IF(AAF$2=1,IF(VLOOKUP($ZU7,Start!$C$5:$AN$10,18+AAF$3,FALSE)=\"\",\"\",VLOOKUP($ZU7,Start!$C$5:$AN$10,18+AAF$3,FALSE)),\"\")","v":""},{"$f":"IF(AAG$2=1,IF(VLOOKUP($ZU7,Start!$C$5:$AN$10,18+AAG$3,FALSE)=\"\",\"\",VLOOKUP($ZU7,Start!$C$5:$AN$10,18+AAG$3,FALSE)),\"\")","v":""},{"$f":"IF(AAH$2=1,IF(VLOOKUP($ZU7,Start!$C$5:$AN$10,18+AAH$3,FALSE)=\"\",\"\",VLOOKUP($ZU7,Start!$C$5:$AN$10,18+AAH$3,FALSE)),\"\")","v":""},{"$f":"IF(AAI$2=1,IF(VLOOKUP($ZU7,Start!$C$5:$AN$10,18+AAI$3,FALSE)=\"\",\"\",VLOOKUP($ZU7,Start!$C$5:$AN$10,18+AAI$3,FALSE)),\"\")","v":""},{"$f":"IF(AAJ$2=1,IF(VLOOKUP($ZU7,Start!$C$5:$AN$10,18+AAJ$3,FALSE)=\"\",\"\",VLOOKUP($ZU7,Start!$C$5:$AN$10,18+AAJ$3,FALSE)),\"\")","v":""},{"$f":"IF(AAK$2=1,IF(VLOOKUP($ZU7,Start!$C$5:$AN$10,18+AAK$3,FALSE)=\"\",\"\",VLOOKUP($ZU7,Start!$C$5:$AN$10,18+AAK$3,FALSE)),\"\")","v":""},{"$f":"IF(AAL$2=1,IF(VLOOKUP($ZU7,Start!$C$5:$AN$10,18+AAL$3,FALSE)=\"\",\"\",VLOOKUP($ZU7,Start!$C$5:$AN$10,18+AAL$3,FALSE)),\"\")","v":""},{"$f":"IF(AAM$2=1,IF(VLOOKUP($ZU7,Start!$C$5:$AN$10,18+AAM$3,FALSE)=\"\",\"\",VLOOKUP($ZU7,Start!$C$5:$AN$10,18+AAM$3,FALSE)),\"\")","v":""},{"$f":"IF(AAN$2=1,IF(VLOOKUP($ZU7,Start!$C$5:$AN$10,18+AAN$3,FALSE)=\"\",\"\",VLOOKUP($ZU7,Start!$C$5:$AN$10,18+AAN$3,FALSE)),\"\")","v":""},{"$f":"IF(AAO$2=1,IF(VLOOKUP($ZU7,Start!$C$5:$AN$10,18+AAO$3,FALSE)=\"\",\"\",VLOOKUP($ZU7,Start!$C$5:$AN$10,18+AAO$3,FALSE)),\"\")","v":""},0]
["Human","Medium",30,"Normal",{"$f":"IF(Start!AZ5=TRUE,\"• Two different ability scores of your choice increase by 1\n• Gain proficiency in one skill of your choice\n• Gain one feat of your choice\",\"• +1 to all ability scores\")&\"\n• Size: Medium\n• Speed: 30ft\n• Languages: Common, and one extra language\"","v":"• +1 to all ability scores\n• Size: Medium\n• Speed: 30ft\n• Languages: Common, and one extra language"},{"$f":"\"Common, +1 extra language\"","v":"Common, +1 extra language"},2,{"$f":"IF(Start!AZ5=TRUE,\"One of your choice\",\"none\")","v":"none"},{"$f":"IF(Start!AZ5=TRUE,1,0)","v":0},"none",0,{"$f":"IF(Start!$BF$5=\"\",1,IF(AND(Start!$BF$5=\"•\",OR(Start!$N$11=L$1,Start!$N$12=L$1)),1,\"\"))","v":1},{"$f":"IF(Start!$BF$5=\"\",1,IF(AND(Start!$BF$5=\"•\",OR(Start!$N$11=M$1,Start!$N$12=M$1)),1,\"\"))","v":1},{"$f":"IF(Start!$BF$5=\"\",1,IF(AND(Start!$BF$5=\"•\",OR(Start!$N$11=N$1,Start!$N$12=N$1)),1,\"\"))","v":1},{"$f":"IF(Start!$BF$5=\"\",1,IF(AND(Start!$BF$5=\"•\",OR(Start!$N$11=O$1,Start!$N$12=O$1)),1,\"\"))","v":1},{"$f":"IF(Start!$BF$5=\"\",1,IF(AND(Start!$BF$5=\"•\",OR(Start!$N$11=P$1,Start!$N$12=P$1)),1,\"\"))","v":1},{"$f":"IF(Start!$BF$5=\"\",1,IF(AND(Start!$BF$5=\"•\",OR(Start!$N$11=Q$1,Start!$N$12=Q$1)),1,\"\"))","v":1},"Humans reach adulthood in their late teens and live less than a century","4' 8'' + 2d10","110 lb. x 2d4","Wood","• +1 Wisdom\n• Elf Weapon Training: proficiency with longsword, shortsword, shortbow, and longbow\n• Fleet of Foot: base movement increased to 35 feet\n• Mask of the Wild: attempt to hide when lightly obscured by foilage, heavy rain, falling snow, mist, etc",null,{"$f":"IF(Y8=\"\",\"\",MAX($X$3:X7)+1)","v":""},{"$f":"IF(A6=$A$3,U8,\"\")","v":""},5,"",null,"Poison",{"$f":"IF(AND(VLOOKUP(RaceDraconicAncestry,$U$15:$W$25,3,FALSE)=AC8,SorcererDraconicBloodlineLevel>=6),TRUE,FALSE)","v":false},"Entertainer","By Popular Demand","   You can always find a place to perform, usually in an inn or tavern but possibly with a circus, at a theater, or even in a noble’s\n   court. You receive free lodging and food of a modest or comfortable standard, as long as you perform each night. Your\n   performance makes you something of a local figure. When strangers recognize you in a town where you have performed\n   they typically take a liking to you.","Acrobatics, Performance",2,"Disguise kit, one type of musical instrument",2,"none",0,6,7,"",{"$f":"\"\"","v":""},"Nothing can shake my optimistic attitude.","I’m a born gambler who can't resist taking a risk for a potential payoff.","I would rather make a new friend than a new enemy.","Nobody stays angry at me or around me for long, since I can defuse any amount of tension. ","I have a strong sense of fair play and always try to find the most equitable solution to arguments.","I’m full of witty aphorisms and have a proverb for every occasion. ","I feel tremendous empathy for all who suffer. ","I take great pains to always look my best and follow the latest fashions.","I have a lesson for every situation, drawn from observing nature.","There’s nothing I like more than a good mystery. ","I stretch the truth for the sake of a good story. ","I’m full of inspiring and cautionary tales from my military experience relevant to almost every combat situation.","I sleep with my back to a wall or tree, with everything I own wrapped in a bundle in my arms.",{"$f":"\"\"","v":""},"CHA",{"$f":"IF(OR(BL12>0,BL7>0,BL15>0,BL17>0,BL18>0,MonkLevel>=14,AAP9>0),BF8,\"\")","v":""},{"$f":"IF(BG8=\"\",\"\",IF(COUNTIF(BG8:$BG$8,\"><\")>1,BG8&\", \",BG8))","v":""},"Fighter",10,{"$f":"IF(BL8=0,\"\",MAX($BK$6:BK7)+1)","v":""},{"$f":"COUNTIF(Start!$AF$20:$AF$39,Tables!BI8)","v":0},{"$f":"IF(OR(BK8=\"\",BO8=\"\"),\"\",MAX($BM$6:BM7)+1)","v":""},{"$f":"IF(FighterEldritchKnightLevel>0,\"Fighter\",\"\")","v":""},{"$f":"IF(FighterEldritchKnightLevel>0,\"INT\",\"\")","v":""},"","Martial Archetype",3,null,null,null,10,0,0,{"$f":"\"\"","v":""},"All armor, shields","Light & medium armor, shields","Simple & martial weapons","Simple & martial weapons","none",0,"none",0,"Strength, Constitution","Choose 2 from Acrobatics, Animal Handling, Athletics, History, Insight, Intimidation, Perception and Survival",2,"none",0,{"$f":"\"• Fighting Style (\"&VLOOKUP($BI8,$FZ$2:$GA$5,2,FALSE)&\")\n\"&VLOOKUP(VLOOKUP($BI8,$FZ$2:$GA$5,2,FALSE),$FX$24:$FY$30,2,FALSE)&\"\n• Second Wind (1d10+\"&FighterLevel&\")\n\"","v":{"$error":"#N/A"}},{"$f":"IF(FighterLevel>=DC$6,\"• Action Surge (Two Uses)\",\"• Action Surge (One Use)\")&\"\n\"","v":"• Action Surge (One Use)\n"},{"$f":"\"• Martial Archetype (\"&VLOOKUP($BI8,$BN$3:$BQ$5,4,FALSE)&\")\n\"&VLOOKUP($BI8,$DM$3:$EH$5,DQ$2-1,FALSE)","v":{"$error":"#N/A"}},{"$f":"IF(FighterLevel>=DE$6,\"• Ability Score Improvement / Feat: level \"&DE$6&\", \"&DB$6&\", \"&CZ$6&\", \"&CX$6&\", \"&CT$6&\", \"&CR$6&\", \"&CP$6,IF(FighterLevel>=DB$6,\"• Ability Score Improvement / Feat: level \"&DB$6&\", \"&CZ$6&\", \"&CX$6&\", \"&CT$6&\", \"&CR$6&\", \"&CP$6,IF(FighterLevel>=CZ$6,\"• Ability Score Improvement / Feat: level \"&CZ$6&\", \"&CX$6&\", \"&CT$6&\", \"&CR$6&\", \"&CP$6,IF(FighterLevel>=CX$6,\"• Ability Score Improvement / Feat: level \"&CX$6&\", \"&CT$6&\", \"&CR$6&\", \"&CP$6,IF(FighterLevel>=CT$6,\"• Ability Score Improvement / Feat: level \"&CT$6&\", \"&CR$6&\", \"&CP$6,IF(FighterLevel>=CR$6,\"• Ability Score Improvement / Feat : level \"&CR$6&\", \"&CP$6,\"• Ability Score Improvement / Feat: level \"&CP$6))))))&\"\n\"","v":"• Ability Score Improvement / Feat: level 4\n"},{"$f":"IF(FighterLevel>=DF6,\"• Extra Attack (3)\",IF(FighterLevel>=CW6,\"• Extra Attack (2)\",\"• Extra Attack\"))&\"\n\"","v":"• Extra Attack\n"},{"$f":"\"\"","v":""},{"$f":"VLOOKUP($BI8,$DM$3:$EH$5,DU$2-1,FALSE)","v":{"$error":"#N/A"}},{"$f":"\"\"","v":""},{"$f":"IF(FighterLevel>=DC6,\"• Indomitable (Three Uses)\",IF(FighterLevel>=CY6,\"• Indomitable (Two Uses)\",\"• Indomitable (One Use)\"))&\"\n\"","v":"• Indomitable (One Use)\n"},{"$f":"VLOOKUP($BI8,$DM$3:$EH$5,DX$2-1,FALSE)","v":{"$error":"#N/A"}},{"$f":"\"\"","v":""},{"$f":"\"\"","v":""},{"$f":"\"\"","v":""},{"$f":"\"\"","v":""},{"$f":"VLOOKUP($BI8,$DM$3:$EH$5,EC$2-1,FALSE)","v":{"$error":"#N/A"}},{"$f":"\"\"","v":""},{"$f":"\"\"","v":""},{"$f":"VLOOKUP($BI8,$DM$3:$EH$5,EF$2-1,FALSE)","v":{"$error":"#N/A"}},{"$f":"\"\"","v":""},{"$f":"\"\"","v":""},null,null,null,null,"Mountain","Life","Cleric",{"$f":"IF(OR(SubClass1=DL8,SubClass2=DL8,SubClass3=DL8),INDIRECT(TEXT(DM8&\"level\",0)),0)","v":0},{"$f":"\"Bonus Proficiency (Heavy Armor)\n• Divine Domain Feature (Disciple of Life: healing spells add additional 2+spellls level HP)\n• Domain Spells\"&\"\n\"&EI8","v":"Bonus Proficiency (Heavy Armor)\n• Divine Domain Feature (Disciple of Life: healing spells add additional 2+spellls level HP)\n• Domain Spells\n"},"Channel Divinity: Turn Undead, Preserve Life",{"$f":"\"\"","v":""},{"$f":"\"\"","v":""},{"$f":"\"\"","v":""},"Blessed Healer",{"$f":"\"\"","v":""},{"$f":"IF(ClericLevel>=14,\"Divine Strike 2d8\",\"Divine Strike 1d8\")","v":"Divine Strike 1d8"},{"$f":"\"\"","v":""},{"$f":"\"\"","v":""},{"$f":"\"\"","v":""},{"$f":"\"\"","v":""},{"$f":"\"\"","v":""},{"$f":"\"\"","v":""},{"$f":"\"\"","v":""},{"$f":"\"\"","v":""},"Supreme Healing",{"$f":"\"\"","v":""},{"$f":"\"\"","v":""},{"$f":"\"\"","v":""},{"$f":"IF(ClericLevel>=9,\"  1st (bless, cure wounds)\n  3rd (lesser restoration, spiritual weapon)\n  5th (beacon of hope, revivify)\n  7th (death war, guardian of faith)\n  9th (mass cure wounds, raise dead)\",IF(ClericLevel>=7,\"  1st (bless, cure wounds)\n  3rd (lesser restoration, spiritual weapon)\n  5th (beacon of hope, revivify)\n  7th (death war, guardian of faith)\",IF(ClericLevel>=5,\"  1st (bless, cure wounds)\n  3rd (lesser restoration, spiritual weapon)\n  5th (beacon of hope, revivify)\",IF(ClericLevel>=3,\"  1st (bless, cure wounds)\n  3rd (lesser restoration, spiritual weapon)\",IF(ClericLevel>=1,\"  1st (bless, cure wounds)\",\"\")))))","v":""},{"$f":"IF(ClericLevel>=1,$DM8&\" (bless, cure wounds)\n\",\"\")","v":""},null,{"$f":"IF(ClericLevel>=3,$DM8&\" (lesser restoration, spiritual weapon)\n\",\"\")","v":""},null,{"$f":"IF(ClericLevel>=5,$DM8&\" (beacon of hope, revivify)\n\",\"\")","v":""},null,{"$f":"IF(ClericLevel>=7,$DM8&\" (death war, guardian of faith)\n\",\"\")","v":""},null,{"$f":"IF(ClericLevel>=9,$DM8&\" (mass cure wounds, raise dead)\n\",\"\")","v":""},null,{"$f":"\"\"","v":""},{"$f":"\"\"","v":""},{"$f":"\"\"","v":""},{"$f":"\"\"","v":""},{"$f":"\"\"","v":""},{"$f":"\"\"","v":""},null,{"$f":"IF($DM8=FB$5,MAX(FA$6:FA7)+1,\"\")","v":""},{"$f":"IF(FA8=\"\",\"\",$DL8)","v":""},3,"",{"$f":"IF($DM8=FF$5,MAX(FE$6:FE7)+1,\"\")","v":""},{"$f":"IF(FE8=\"\",\"\",$DL8)","v":""},3,"",{"$f":"IF($DM8=FJ$5,MAX(FI$6:FI7)+1,\"\")","v":""},{"$f":"IF(FI8=\"\",\"\",$DL8)","v":""},3,"","Deception",{"$f":"Start!L69","v":0},{"$f":"IF($FM8=$FP8,MAX(FO$3:FO7)+1,\"\")","v":""},"",6,"",null,null,null,null,1,{"$f":"IF(ISERROR(VLOOKUP(FW8,$FW$16:$FX$21,2,FALSE)),\"\",VLOOKUP(FW8,$FW$16:$FX$21,2,FALSE))","v":""},null,null,null,"Goading Attack","   When you hit a creature with a weapon attack, expend one superiority die to attempt to goad the target into attacking you.\n   Add the superiority die to the damage roll, and the target must make a Wisdom saving throw. On a failed save, the target has\n   disadvantage on all attack rolls against targets other than you until the end of your next turn.",6,7,"","MANEUVER 6",{"$f":"Start!AJ83","v":"Select…"},"","",{"$f":"\"\"","v":""},null,null,null,null,null,"Fist of Four Thunders","   Spend 2 ki points to cast thunderwave. ",3,2,{"$f":"IF(GV8=\"\",\"\",MAX($GU$3:GU7)+1)","v":""},"",6,"",null,null,null,null,null,null,null,null,null,null,null,null,"dragons",{"$f":"\"\"","v":""},"darfellan",null,null,null,null,null,null,"Grassland",null,null,null,"Defensive Tactics",null,null,null,"Heightened Spell","   When you cast a spell that forces a creature to make a saving throw to resist its effects, spend 3 sorcery points to give one\n   target of the spell disadvantage on its first saving throw made against the spell.",{"$f":"\"\"","v":""},null,null,null,{"$f":"IF(IJ8=1,MAX($IH$2:IH7)+1,\"\")","v":""},"Bewitching Whispers",{"$f":"IF(WarlockLevel>=7,1,\"\")","v":""},"   You can cast compulsion once using a warlock spell slot. You can’t do so again until you finish a long rest.",6,"Eyes of the Rune Keeper",5,"",{"$f":"IF($IO$3>=IN8,\"Warlock Level 9\",\"INVOCATION 5\")","v":"INVOCATION 5"},{"$f":"Start!AJ117","v":"Select…"},"",null,null,"NG","Neutral","Neutral is the alignment of those that prefer to steer clear of moral questions and don’t take sides, doing what seems best at the time. Lizardfolk, most druids, and many humans are neutral.  ","Beshaba (CE)","Goddess of misfortune","Chaotic Evil","Trickery","Black antlers",{"$f":"IF(JD8=\"\",\"\",MAX($JC$1:JC7)+1)","v":6},"Gnomish","Dwarvish",7,"Goblin",7,23000,7,3,null,6,4,3,3,"-","-","-","-","-","-",3,"Multi Spellcaster","Bard","CHA","KNOWN",{"$f":"VLOOKUP(BardLevel,$KD$1:$KJ$22,$KC8,FALSE)","v":{"$error":"#N/A"}},3,6,4,9,4,4,7,7,6,4,4,2,3,3,5,3,null,null,null,null,null,null,null,null,null,null,null,null,null,null,null,null,null,null,null,null,null,null,null,null,null,null,null,null,null,null,null,null,null,null,null,null,null,null,null,null,null,null,null,null,null,null,null,null,null,null,null,null,null,null,null,null,null,null,null,null,null,null,null,null,null,null,null,null,null,null,null,null,null,null,null,null,null,null,null,null,null,null,null,null,null,null,null,null,null,null,null,null,null,null,null,null,null,null,null,null,null,null,null,null,null,null,null,null,null,null,null,null,null,null,null,null,null,null,null,null,null,null,null,null,null,null,null,null,null,null,null,null,null,null,null,null,null,"Hand crossbow","Martial Ranged","not proficient","1d6","piercing","30/120",3,"ammunition",{"$f":"\"\"","v":""},{"$f":"\"\"","v":""},"light","loading",{"$f":"\"\"","v":""},{"$f":"\"\"","v":""},{"$f":"\"\"","v":""},{"$f":"\"\"","v":""},{"$f":"\"\"","v":""},{"$f":"\"\"","v":""},"Bolts",null,8,"Ammunition",null,null,null,null,{"$f":"VLOOKUP(Start!AV$137,Tables!$PZ$2:$QQ$500,$QT8,FALSE)","v":""},null,null,null,null,null,null,null,{"$f":"VLOOKUP(Start!BD$137,Tables!$PZ$2:$QQ$500,$QT8,FALSE)","v":""},null,null,null,null,null,null,null,{"$f":"VLOOKUP(Start!BL$137,Tables!$PZ$2:$QQ$500,$QT8,FALSE)","v":""},null,null,null,null,null,null,null,{"$f":"VLOOKUP(Start!BT$137,Tables!$PZ$2:$QQ$500,$QT8,FALSE)","v":""},null,null,null,null,null,null,null,{"$f":"VLOOKUP(Start!CB$137,Tables!$PZ$2:$QQ$500,$QT8,FALSE)","v":""},null,null,null,null,null,null,null,{"$f":"VLOOKUP(Start!CJ$137,Tables!$PZ$2:$QQ$500,$QT8,FALSE)","v":""},null,null,null,"Hide armor","medium",{"$f":"IF(SR8=\"\",\"\",IF(Start!$Y$157=$QS$12,$QS$12&\" (disadvantage)\",IF(Start!$Y$157=$QS$11,$QS$11,IF(VLOOKUP(SR8,$KT$60:$KV$78,2,FALSE)=\"No\",$QS$12&\" (disadvantage)\",$QS$11))))","v":"not proficient (disadvantage)"},12,{"$f":"IF($OY$1>0,IF(DEXMod>3,3,DEXMod),IF(DEXMod>2,2,DEXMod))","v":-5},"-","-",12,{"$f":"ST8&\", Don: 5min, Doff: 1min\"","v":"not proficient (disadvantage), Don: 5min, Doff: 1min"},null,null,null,null,null,null,null,null,null,6,"Animal Messenger","LEVEL 2",2,"Animal Messenger ᴴ ","ᴴ ","",{"$f":"IF(OR(TK8=Spellcasting!$AC$18,TK8=Spellcasting!$AC$19),\"ᵐ\",\"\")","v":""},{"$f":"IF(OR(TK8=Spellcasting!$AC$20,TK8=Spellcasting!$AC$21),\"ˢ\",\"\")","v":""},"ritual","1 act ᴿ","30 ft","24 hrs","VSM","a morsel of food","enchantment","ench","By means of this spell, you use an animal to deliver a message. Choose a Tiny beast you can see within range, such as a squirrel, a blue jay, or a bat. You specify a location, which you must have visited, and a recipient who matches a general description, such as “a man or woman dressed in the uniform of the town guard” or “a red-haired dwarf wearing a pointed hat.” You also speak a message of up to twenty-five words. The target beast travels for the duration of the spell toward the specified location, covering about 50 miles per 24 hours for a flying messenger, or 25 miles for other animals. \n\nWhen the messenger arrives, it delivers your message to the creature that you described, replicating the sound of your voice. The messenger speaks only to a creature matching the description you gave. If the messenger doesn’t reach its destination before the spell ends, the message is lost, and the beast makes its way back to where you cast this spell. \n\nAt Higher Levels. If you cast this spell using a spell slot of 3nd level or higher, the duration of the spell increases by 48 hours for each slot level above 2nd.","tiny beast delivers message, fly 50 miles per day else 25 miles",{"$f":"IF(UC$1>=$TM8,1,\"0\")","v":"0"},null,{"$f":"IF(UE$1>=$TM8,1,\"0\")","v":"0"},null,null,null,{"$f":"IF(UI$1>=$TM8,1,\"0\")","v":"0"},null,null,null,null,null,null,null,null,null,null,null,null,null,null,null,null,null,null,null,null,null,null,null,null,null,null,null,null,null,null,null,null,null,null,null,null,null,null,null,null,null,null,null,null,null,null,{"$f":"IF(SUM($VZ$1:$WC$1)>0,IF(AND(SUM($VZ8:$WC8)>0,$TM8=WE$1),MAX(WD$2:WD7)+1,\"\"),IF(AND(SUM($UC8:$VY8)>0,$TM8=WE$1),MAX(WD$2:WD7)+1,\"\"))","v":""},"",{"$f":"IF(AND(SUM($UB8:$VY8)>0,$TM8=WG$1),MAX(WF$2:WF7)+1,\"\")","v":""},"",{"$f":"IF(AND(SUM($UB8:$VY8)>0,$TM8=WI$1),MAX(WH$2:WH7)+1,\"\")","v":""},"",{"$f":"IF(AND(SUM($UB8:$VY8)>0,$TM8=WK$1),MAX(WJ$2:WJ7)+1,\"\")","v":""},"",{"$f":"IF(AND(SUM($UB8:$VY8)>0,$TM8=WM$1),MAX(WL$2:WL7)+1,\"\")","v":""},"",{"$f":"IF(AND(SUM($UB8:$VY8)>0,$TM8=WO$1),MAX(WN$2:WN7)+1,\"\")","v":""},"",{"$f":"IF(AND(SUM($UB8:$VY8)>0,$TM8=WQ$1),MAX(WP$2:WP7)+1,\"\")","v":""},"",{"$f":"IF(AND(SUM($UB8:$VY8)>0,$TM8=WS$1),MAX(WR$2:WR7)+1,\"\")","v":""},"",{"$f":"IF(AND(SUM($UB8:$VY8)>0,$TM8=WU$1),MAX(WT$2:WT7)+1,\"\")","v":""},"",{"$f":"IF(AND(SUM($UB8:$VY8)>0,$TM8=WW$1),MAX(WV$2:WV7)+1,\"\")","v":""},"",{"$f":"IF(AND(SUM($UB8:$VY8)>0,$TM8=WY$1),MAX(WX$2:WX7)+1,\"\")","v":""},"",7,"","","","","","","","","","","",null,4,"Crab","Beast","Tiny",11,2,"20ft, swim 20ft",2,11,10,1,8,2,"Stealth +2","passive Perception 9, blindsight 30ft","Claw Melee +0, reach 5ft, 1 bludgeoning","Amphibious. Can breathe air and water",null,"",6,"FEAT 6",{"$f":"IF(OR(Start!I118=\"\",Start!I118=SelectText),\"\",Start!I118)","v":""},"","",{"$f":"\"\"","v":""},null,"","",null,null,null,null,"","Bard",4,{"$f":"VLOOKUP(YY8,$ZE$2:$ZP$23,$ZE$1,FALSE)","v":""},{"$f":"IF(YX8=\"\",\"\",MAX($YW$1:YW7)+1)","v":""},"","",5,{"$f":"IF(ZB8=\"\",\"\",MAX($ZA$2:ZA7)+1)","v":""},"",{"$f":"IF(Start!AF24=SelectText,\"\",Start!AF24)","v":""},{"$f":"IF(OR(COUNTIF($ZC$4:$ZC8,ZD$2)=0,COUNTIF($ZC$4:$ZC8,ZD$2)=MAX(ZD$2:ZD7)),\"-\",COUNTIF($ZC$4:$ZC8,ZD$2))","v":"-"},{"$f":"IF(OR(COUNTIF($ZC$4:$ZC8,ZE$2)=0,COUNTIF($ZC$4:$ZC8,ZE$2)=MAX(ZE$2:ZE7)),\"-\",COUNTIF($ZC$4:$ZC8,ZE$2))","v":"-"},{"$f":"IF(OR(COUNTIF($ZC$4:$ZC8,ZF$2)=0,COUNTIF($ZC$4:$ZC8,ZF$2)=MAX(ZF$2:ZF7)),\"-\",COUNTIF($ZC$4:$ZC8,ZF$2))","v":"-"},{"$f":"IF(OR(COUNTIF($ZC$4:$ZC8,ZG$2)=0,COUNTIF($ZC$4:$ZC8,ZG$2)=MAX(ZG$2:ZG7)),\"-\",COUNTIF($ZC$4:$ZC8,ZG$2))","v":"-"},{"$f":"IF(OR(COUNTIF($ZC$4:$ZC8,ZH$2)=0,COUNTIF($ZC$4:$ZC8,ZH$2)=MAX(ZH$2:ZH7)),\"-\",COUNTIF($ZC$4:$ZC8,ZH$2))","v":"-"},{"$f":"IF(OR(COUNTIF($ZC$4:$ZC8,ZI$2)=0,COUNTIF($ZC$4:$ZC8,ZI$2)=MAX(ZI$2:ZI7)),\"-\",COUNTIF($ZC$4:$ZC8,ZI$2))","v":"-"},{"$f":"IF(OR(COUNTIF($ZC$4:$ZC8,ZJ$2)=0,COUNTIF($ZC$4:$ZC8,ZJ$2)=MAX(ZJ$2:ZJ7)),\"-\",COUNTIF($ZC$4:$ZC8,ZJ$2))","v":"-"},{"$f":"IF(OR(COUNTIF($ZC$4:$ZC8,ZK$2)=0,COUNTIF($ZC$4:$ZC8,ZK$2)=MAX(ZK$2:ZK7)),\"-\",COUNTIF($ZC$4:$ZC8,ZK$2))","v":"-"},{"$f":"IF(OR(COUNTIF($ZC$4:$ZC8,ZL$2)=0,COUNTIF($ZC$4:$ZC8,ZL$2)=MAX(ZL$2:ZL7)),\"-\",COUNTIF($ZC$4:$ZC8,ZL$2))","v":"-"},{"$f":"IF(OR(COUNTIF($ZC$4:$ZC8,ZM$2)=0,COUNTIF($ZC$4:$ZC8,ZM$2)=MAX(ZM$2:ZM7)),\"-\",COUNTIF($ZC$4:$ZC8,ZM$2))","v":"-"},{"$f":"IF(OR(COUNTIF($ZC$4:$ZC8,ZN$2)=0,COUNTIF($ZC$4:$ZC8,ZN$2)=MAX(ZN$2:ZN7)),\"-\",COUNTIF($ZC$4:$ZC8,ZN$2))","v":"-"},{"$f":"IF(OR(COUNTIF($ZC$4:$ZC8,ZO$2)=0,COUNTIF($ZC$4:$ZC8,ZO$2)=MAX(ZO$2:ZO7)),\"-\",COUNTIF($ZC$4:$ZC8,ZO$2))","v":"-"},5,"Paladin",5,"Skilled",{"$f":"IF(COUNTIF($YH$3:$YH$10,ZS8)>0,$ZS8&\"\n\"&VLOOKUP($ZS8,$YG$14:$YK$77,5,FALSE)&\"\n\",\"\")","v":""},{"$f":"Start!C9","v":"WISDOM"},{"$f":"IF(ZV$2=1,IF(VLOOKUP($ZU8,Start!$C$5:$AN$10,18+ZV$3,FALSE)=\"\",\"\",VLOOKUP($ZU8,Start!$C$5:$AN$10,18+ZV$3,FALSE)),\"\")","v":""},{"$f":"IF(ZW$2=1,IF(VLOOKUP($ZU8,Start!$C$5:$AN$10,18+ZW$3,FALSE)=\"\",\"\",VLOOKUP($ZU8,Start!$C$5:$AN$10,18+ZW$3,FALSE)),\"\")","v":""},{"$f":"IF(ZX$2=1,IF(VLOOKUP($ZU8,Start!$C$5:$AN$10,18+ZX$3,FALSE)=\"\",\"\",VLOOKUP($ZU8,Start!$C$5:$AN$10,18+ZX$3,FALSE)),\"\")","v":""},{"$f":"IF(ZY$2=1,IF(VLOOKUP($ZU8,Start!$C$5:$AN$10,18+ZY$3,FALSE)=\"\",\"\",VLOOKUP($ZU8,Start!$C$5:$AN$10,18+ZY$3,FALSE)),\"\")","v":""},{"$f":"IF(ZZ$2=1,IF(VLOOKUP($ZU8,Start!$C$5:$AN$10,18+ZZ$3,FALSE)=\"\",\"\",VLOOKUP($ZU8,Start!$C$5:$AN$10,18+ZZ$3,FALSE)),\"\")","v":""},{"$f":"IF(AAA$2=1,IF(VLOOKUP($ZU8,Start!$C$5:$AN$10,18+AAA$3,FALSE)=\"\",\"\",VLOOKUP($ZU8,Start!$C$5:$AN$10,18+AAA$3,FALSE)),\"\")","v":""},{"$f":"IF(AAB$2=1,IF(VLOOKUP($ZU8,Start!$C$5:$AN$10,18+AAB$3,FALSE)=\"\",\"\",VLOOKUP($ZU8,Start!$C$5:$AN$10,18+AAB$3,FALSE)),\"\")","v":""},{"$f":"IF(AAC$2=1,IF(VLOOKUP($ZU8,Start!$C$5:$AN$10,18+AAC$3,FALSE)=\"\",\"\",VLOOKUP($ZU8,Start!$C$5:$AN$10,18+AAC$3,FALSE)),\"\")","v":""},{"$f":"IF(AAD$2=1,IF(VLOOKUP($ZU8,Start!$C$5:$AN$10,18+AAD$3,FALSE)=\"\",\"\",VLOOKUP($ZU8,Start!$C$5:$AN$10,18+AAD$3,FALSE)),\"\")","v":""},{"$f":"IF(AAE$2=1,IF(VLOOKUP($ZU8,Start!$C$5:$AN$10,18+AAE$3,FALSE)=\"\",\"\",VLOOKUP($ZU8,Start!$C$5:$AN$10,18+AAE$3,FALSE)),\"\")","v":""},{"$f":"IF(AAF$2=1,IF(VLOOKUP($ZU8,Start!$C$5:$AN$10,18+AAF$3,FALSE)=\"\",\"\",VLOOKUP($ZU8,Start!$C$5:$AN$10,18+AAF$3,FALSE)),\"\")","v":""},{"$f":"IF(AAG$2=1,IF(VLOOKUP($ZU8,Start!$C$5:$AN$10,18+AAG$3,FALSE)=\"\",\"\",VLOOKUP($ZU8,Start!$C$5:$AN$10,18+AAG$3,FALSE)),\"\")","v":""},{"$f":"IF(AAH$2=1,IF(VLOOKUP($ZU8,Start!$C$5:$AN$10,18+AAH$3,FALSE)=\"\",\"\",VLOOKUP($ZU8,Start!$C$5:$AN$10,18+AAH$3,FALSE)),\"\")","v":""},{"$f":"IF(AAI$2=1,IF(VLOOKUP($ZU8,Start!$C$5:$AN$10,18+AAI$3,FALSE)=\"\",\"\",VLOOKUP($ZU8,Start!$C$5:$AN$10,18+AAI$3,FALSE)),\"\")","v":""},{"$f":"IF(AAJ$2=1,IF(VLOOKUP($ZU8,Start!$C$5:$AN$10,18+AAJ$3,FALSE)=\"\",\"\",VLOOKUP($ZU8,Start!$C$5:$AN$10,18+AAJ$3,FALSE)),\"\")","v":""},{"$f":"IF(AAK$2=1,IF(VLOOKUP($ZU8,Start!$C$5:$AN$10,18+AAK$3,FALSE)=\"\",\"\",VLOOKUP($ZU8,Start!$C$5:$AN$10,18+AAK$3,FALSE)),\"\")","v":""},{"$f":"IF(AAL$2=1,IF(VLOOKUP($ZU8,Start!$C$5:$AN$10,18+AAL$3,FALSE)=\"\",\"\",VLOOKUP($ZU8,Start!$C$5:$AN$10,18+AAL$3,FALSE)),\"\")","v":""},{"$f":"IF(AAM$2=1,IF(VLOOKUP($ZU8,Start!$C$5:$AN$10,18+AAM$3,FALSE)=\"\",\"\",VLOOKUP($ZU8,Start!$C$5:$AN$10,18+AAM$3,FALSE)),\"\")","v":""},{"$f":"IF(AAN$2=1,IF(VLOOKUP($ZU8,Start!$C$5:$AN$10,18+AAN$3,FALSE)=\"\",\"\",VLOOKUP($ZU8,Start!$C$5:$AN$10,18+AAN$3,FALSE)),\"\")","v":""},{"$f":"IF(AAO$2=1,IF(VLOOKUP($ZU8,Start!$C$5:$AN$10,18+AAO$3,FALSE)=\"\",\"\",VLOOKUP($ZU8,Start!$C$5:$AN$10,18+AAO$3,FALSE)),\"\")","v":""},0]
["Dragonborn","Medium",30,"Normal",{"$f":"\"• +2 Strength, +1 Charisma\n• Size: Medium\n• Speed: 30ft\n• Draconic Ancestry: \"&IF(Race=A9,Subrace,\"Choose Draconic Ancestry\")&\"\n• Breath Weapon: use your action to exhale destructive energy. Short rest to reuse.\n• Damage Resistance: \"&IF(Race=A9,VLOOKUP(Subrace,U16:W25,3,FALSE),\"Choose Draconic Ancestry\")&\"\n• Languages: Draconic, Common\"","v":"• +2 Strength, +1 Charisma\n• Size: Medium\n• Speed: 30ft\n• Draconic Ancestry: Choose Draconic Ancestry\n• Breath Weapon: use your action to exhale destructive energy. Short rest to reuse.\n• Damage Resistance: Choose Draconic Ancestry\n• Languages: Draconic, Common"},"Draconic, Common",2,"none",0,"none",0,2,{"$f":"\"\"","v":""},{"$f":"\"\"","v":""},{"$f":"\"\"","v":""},{"$f":"\"\"","v":""},1,"Young dragonborn grow quickly. They walk hours after hatching, attain the size and development of a 10-year-old human child by the age of 3, and reach adulthood by 15. They live to be around 80.","5' 6'' + 2d8","175 lb. x 2d6","Drow",{"$f":"\"• +1 Charisma\n• Sunlight Sensitivity: disadvantage on attack rolls and Wisdom [Perception] checks in sunlight\n• Drow Magic: dancing lights\"&IF(CharacterLevel>=3,\", farie fire\",\"\")&IF(CharacterLevel>=5,\", darkness\",\"\")&\" (Cha)\n• Drow Weapon Training: proficiency with rapiers, shortswords and hand crossbows\"","v":"• +1 Charisma\n• Sunlight Sensitivity: disadvantage on attack rolls and Wisdom [Perception] checks in sunlight\n• Drow Magic: dancing lights (Cha)\n• Drow Weapon Training: proficiency with rapiers, shortswords and hand crossbows"},null,{"$f":"IF(Y9=\"\",\"\",MAX($X$3:X8)+1)","v":""},{"$f":"IF(A6=$A$3,U9,\"\")","v":""},6,"",null,null,null,"Folk Hero","Rustic Hospitality","   Since you come from the ranks of the common folk, you fit in among them with ease.","Animal Handling, Survival",2,"One type of artisan’s tools, vehicles (land)",2,"none",0,null,8,"",{"$f":"\"\"","v":""},"I quote (or misquote) sacred texts and proverbs in almost every situation.","I lie about almost everything, even when there’s no good reason to.","I am incredibly slow to trust. Those who seem the fairest often have the most to hide.","I love a good insult, even one directed at me. ","I’m confident in my own abilities and do what I can to instill confidence in others.","I’m rude to people who lack my commitment to hard work and fair play.","I’m oblivious to etiquette and social expectations. ","I don’t like to get my hands dirty, and I won’t be caught dead in unsuitable accommodations.","I place no stock in wealthy or well-mannered folk. Money and manners won’t save you from a hungry owlbear.","I’m willing to listen to every side of an argument before I make my own judgment. ","To me, a tavern brawl is a nice way to get to know a new city.","I can stare down a hell hound without flinching.","I eat like a pig and have bad manners.",{"$f":"\"\"","v":""},null,null,null,"Rogue",8,{"$f":"IF(BL9=0,\"\",MAX($BK$6:BK8)+1)","v":""},{"$f":"COUNTIF(Start!$AF$20:$AF$39,Tables!BI9)","v":0},{"$f":"IF(OR(BK9=\"\",BO9=\"\"),\"\",MAX($BM$6:BM8)+1)","v":""},{"$f":"IF(RogueArcaneTricksterLevel>0,\"Rogue\",\"\")","v":""},{"$f":"IF(RogueArcaneTricksterLevel>0,\"INT\",\"\")","v":""},"","Roguish Archetype",3,null,null,null,10,0,0,{"$f":"\"\"","v":""},"Light armor","Light armor","Simple weapons, hand crossbows, long swords, rapiers, short swords","none","Thieves' tools",1,"Thieves' tools",1,"Dexterity, Intelligence","Choose 4 from Acrobatics, Athletics, Deception, Insight, Intimidation, Investigation, Perception, Performance, Persuasion, Slight of Hand, and Stealth",4,"Choose 1 from Acrobatics, Athletics, Deception, Insight, Intimidation, Investigation, Perception, Performance, Persuasion, Slight of Hand, and Stealth",1,{"$f":"\"• Expertise (\"&Start!AJ63&\", \"&Start!AJ64&\"), Sneak Attack (\"&IF(RogueLevel>DD6,\"10d6)\",IF(RogueLevel>DB6,\"9d6)\",IF(RogueLevel>CZ6,\"8d6)\",IF(RogueLevel>CX6,\"7d6)\",IF(RogueLevel>CV6,\"6d6)\",IF(RogueLevel>CT6,\"5d6)\",IF(RogueLevel>CR6,\"4d6)\",IF(RogueLevel>CP6,\"3d6)\",IF(RogueLevel>CN6,\"2d6)\",\"1d6)\")))))))))&\", Thieves' Cant\"&\"\n\"","v":"• Expertise (Select…, Select…), Sneak Attack (1d6), Thieves' Cant\n"},{"$f":"\"• Cunning Action\n\"","v":"• Cunning Action\n"},{"$f":"\"• Roguish Archetype (\"&VLOOKUP($BI9,$BN$3:$BQ$5,4,FALSE)&\")\n• Roguish Archetype Feature (\"&VLOOKUP($BI9,$DM$3:$EH$5,DQ$2-1,FALSE)&\")\n\"","v":{"$error":"#N/A"}},{"$f":"IF(RogueLevel>=DE$6,\"• Ability Score Improvement / Feat: level \"&DE$6&\", \"&DB$6&\", \"&CX$6&\", \"&CV$6&\", \"&CT$6&\", \"&CP$6,IF(RogueLevel>=DB$6,\"• Ability Score Improvement / Feat: level \"&DB$6&\", \"&CX$6&\", \"&CV$6&\", \"&CT$6&\", \"&CP$6,IF(RogueLevel>=CX$6,\"• Ability Score Improvement / Feat: level \"&CX$6&\", \"&CV$6&\", \"&CT$6&\", \"&CP$6,IF(RogueLevel>=CV$6,\"• Ability Score Improvement / Feat: level \"&CV$6&\", \"&CT$6&\", \"&CP$6,IF(RogueLevel>=CT$6,\"• Ability Score Improvement / Feat : level \"&CT$6&\", \"&CP$6,\"• Ability Score Improvement / Feat: level \"&CP$6)))))&\"\n\"","v":"• Ability Score Improvement / Feat: level 4\n"},{"$f":"\"• Uncanny Dodge\n\"","v":"• Uncanny Dodge\n"},{"$f":"\"• Expertise (\"&Start!AJ65&\", \"&Start!AJ66&\")\n\"","v":"• Expertise (Select…, Select…)\n"},{"$f":"\"• Evasion\n\"","v":"• Evasion\n"},{"$f":"\"\"","v":""},{"$f":"\"• Roguish Archetype Feature (\"&VLOOKUP($BI9,$DM$3:$EH$5,DW$2-1,FALSE)&\")\n\"","v":{"$error":"#N/A"}},{"$f":"\"\"","v":""},{"$f":"\"• Reliable Talent\n\"","v":"• Reliable Talent\n"},{"$f":"\"\"","v":""},{"$f":"\"• Roguish Archetype Feature (\"&VLOOKUP($BI9,$DM$3:$EH$5,EA$2-1,FALSE)&\")\n\"","v":{"$error":"#N/A"}},{"$f":"\"• Blindsense\n\"","v":"• Blindsense\n"},{"$f":"\"• Slippery Mind\n\"","v":"• Slippery Mind\n"},{"$f":"\"\"","v":""},{"$f":"\"• Rogue Style Feature (\"&VLOOKUP($BI9,$DM$3:$EH$5,EE$2-1,FALSE)&\")\n\"","v":{"$error":"#N/A"}},{"$f":"\"• Elusive\n\"","v":"• Elusive\n"},{"$f":"\"\"","v":""},{"$f":"\"• Stroke of Luck\n\"","v":"• Stroke of Luck\n"},null,null,null,null,"Swamp","Light","Cleric",0,{"$f":"\"Bonus cantrip (light)\n• Divine Domain Feature (Warding Flare: \"&IF(WISMod<1,1,WISMod)&\" times per day, reaction disadvantage to attack)\n• Domain Spells\"&\"\n\"&EI9","v":"Bonus cantrip (light)\n• Divine Domain Feature (Warding Flare: 1 times per day, reaction disadvantage to attack)\n• Domain Spells\n"},"Channel Divinity: Turn Undead, Radiance of the Dawn",{"$f":"\"\"","v":""},{"$f":"\"\"","v":""},{"$f":"\"\"","v":""},"Improved Flare",{"$f":"\"\"","v":""},"Potent Spellcasting",{"$f":"\"\"","v":""},{"$f":"\"\"","v":""},{"$f":"\"\"","v":""},{"$f":"\"\"","v":""},{"$f":"\"\"","v":""},{"$f":"\"\"","v":""},{"$f":"\"\"","v":""},{"$f":"\"\"","v":""},"Corona of Light",{"$f":"\"\"","v":""},{"$f":"\"\"","v":""},{"$f":"\"\"","v":""},{"$f":"IF(ClericLevel>=9,\"  1st (burning hands, faerie fire)\n  3rd (flaming sphere, scorching ray)\n  5th (daylight, fireball)\n  7th (guardian of faith, wall of fire)\n  9th (flame strike, scrying)\",IF(ClericLevel>=7,\"  1st (burning hands, faerie fire)\n  3rd (flaming sphere, scorching ray)\n  5th (daylight, fireball)\n  7th (guardian of faith, wall of fire)\",IF(ClericLevel>=5,\"  1st (burning hands, faerie fire)\n  3rd (flaming sphere, scorching ray)\n  5th (daylight, fireball)\",IF(ClericLevel>=3,\"  1st (burning hands, faerie fire)\n  3rd (flaming sphere, scorching ray)\",IF(ClericLevel>=1,\"  1st (burning hands, faerie fire)\",\"\")))))","v":""},{"$f":"IF(ClericLevel>=1,$DM9&\" (burning hands, faerie fire)\n\",\"\")","v":""},null,{"$f":"IF(ClericLevel>=3,$DM9&\" (flaming sphere, scorching ray)\n\",\"\")","v":""},null,{"$f":"IF(ClericLevel>=5,$DM9&\" (daylight, fireball)\n\",\"\")","v":""},null,{"$f":"IF(ClericLevel>=7,$DM9&\" (guardian of faith, wall of fire)\n\",\"\")","v":""},null,{"$f":"IF(ClericLevel>=9,$DM9&\" (flame strike, scrying)\n\",\"\")","v":""},null,{"$f":"\"\"","v":""},{"$f":"\"\"","v":""},{"$f":"\"\"","v":""},{"$f":"\"\"","v":""},{"$f":"\"\"","v":""},{"$f":"\"\"","v":""},null,{"$f":"IF($DM9=FB$5,MAX(FA$6:FA8)+1,\"\")","v":""},"",4,"",{"$f":"IF($DM9=FF$5,MAX(FE$6:FE8)+1,\"\")","v":""},"",4,"",{"$f":"IF($DM9=FJ$5,MAX(FI$6:FI8)+1,\"\")","v":""},"",4,"","History",{"$f":"Start!L70","v":0},{"$f":"IF($FM9=$FP9,MAX(FO$3:FO8)+1,\"\")","v":""},"",7,"",null,null,null,null,2,"",null,null,null,"Lunging Attack","   When you make a melee weapon attack on your turn, expend one superiority die to increase your reach for that attack by\n   5 feet. If you hit, you add the superiority die to the damage roll.",7,7,"","MANEUVER 7",{"$f":"Start!AJ84","v":"Select…"},"","",{"$f":"\"\"","v":""},null,null,null,null,null,"Fist of Unbroken Air","   Create a blast of compressed air that strikes like a mighty fist. As an action, spend 2 ki points and choose a creature within 30 feet\n   of you. It must make a Strength saving throw. On a failed save, the creature takes 3d10 bludgeoning damage, plus an extra\n   1d10 bludgeoning damage for each additional ki point you spend, and you can push the creature up to 20 feet away from you\n   and knock it prone. On a successful save, the creature takes half as much damage, and is not pushed or knock it prone.",3,2,{"$f":"IF(GV9=\"\",\"\",MAX($GU$3:GU8)+1)","v":""},"",7,"",null,null,null,null,null,null,null,null,null,null,null,null,"elementals",{"$f":"\"\"","v":""},"dark one",null,null,null,null,null,null,"Mountain",null,null,null,{"$f":"SelectText","v":"Select…"},null,null,null,"Quickened Spell","   When you cast a spell that has a casting time of 1 action, spend 2 sorcery points to change the casting time to 1 bonus action.",{"$f":"\"\"","v":""},null,null,null,{"$f":"IF(IJ9=1,MAX($IH$2:IH8)+1,\"\")","v":""},"Book of Ancient Secrets",{"$f":"IF(Start!AJ54=\"Pact of the Tome\",1,\"\")","v":""},{"$f":"\"   You can now inscribe magical rituals in your Book of Shadows. Choose two 1st-level spells that have the ritual tag from any\n   class’s spell list. The spells appear in the book and don’t count against the number of spells you know.\"&\" With your Book of\n   Shadows in hand, you can cast the chosen spells as rituals. You can’t cast the spells except as rituals, unless you’ve learned\n   them by some other means.\"&\" You can also cast a warlock spell you know as a ritual if it has the ritual tag. On your\n   adventures, you can add other ritual spells to your Book of Shadows. When you find such a spell, \"&\"you can add it to the\n   book if the spell’s level is equal to or less than \"&ROUNDUP(WarlockLevel/2,0)&\" and if you can spare the time to transcribe the spell.\"&\" For each\n   level of the spell, the transcription process takes 2 hours and costs 50 gp for the rare inks needed to inscribe it.\"","v":"   You can now inscribe magical rituals in your Book of Shadows. Choose two 1st-level spells that have the ritual tag from any\n   class’s spell list. The spells appear in the book and don’t count against the number of spells you know. With your Book of\n   Shadows in hand, you can cast the chosen spells as rituals. You can’t cast the spells except as rituals, unless you’ve learned\n   them by some other means. You can also cast a warlock spell you know as a ritual if it has the ritual tag. On your\n   adventures, you can add other ritual spells to your Book of Shadows. When you find such a spell, you can add it to the\n   book if the spell’s level is equal to or less than 0 and if you can spare the time to transcribe the spell. For each\n   level of the spell, the transcription process takes 2 hours and costs 50 gp for the rare inks needed to inscribe it."},7,"Fiendish Vigor",6,"",{"$f":"IF($IO$3>=IN9,\"Warlock Level 11\",\"INVOCATION 6\")","v":"INVOCATION 6"},{"$f":"Start!AJ118","v":"Select…"},"",null,null,"CN","Chaotic Neutral","Chaotic neutral creatures follow their whims, holding their personal freedom above all else. Many barbarians and rogues, and some bards, are chaotic neutral.  ","Bhaal (NE)","God of murder","Neutral Evil","Death","Skull surrounded by a ring of blood droplets",{"$f":"IF(JD9=\"\",\"\",MAX($JC$1:JC8)+1)","v":7},"Goblin","Dwarvish",8,"Halfling",8,34000,8,3,null,7,4,3,3,1,"-","-","-","-","-",4,{"$f":"IF(OR(AND(SUMPRODUCT(--(LEN($BO$3:$BO$5)>1))>=3,WarlockLevel>0),AND(SUMPRODUCT(--(LEN($BO$3:$BO$5)>1))>=2,WarlockLevel=0)),TRUE,FALSE)","v":false},"Fighter","INT","KNOWN",{"$f":"VLOOKUP(FighterEldritchKnightLevel,$KD$1:$KJ$22,$KC9,FALSE)","v":{"$error":"#N/A"}},4,7,5,10,5,5,8,8,7,4,4,2,3,3,5,3,null,null,null,null,null,null,null,null,null,null,null,null,null,null,null,null,null,null,null,null,null,null,null,null,null,null,null,null,null,null,null,null,null,null,null,null,null,null,null,null,null,null,null,null,null,null,null,null,null,null,null,null,null,null,null,null,null,null,null,null,null,null,null,null,null,null,null,null,null,null,null,null,null,null,null,null,null,null,null,null,null,null,null,null,null,null,null,null,null,null,null,null,null,null,null,null,null,null,null,null,null,null,null,null,null,null,null,null,null,null,null,null,null,null,null,null,null,null,null,null,null,null,null,null,null,null,null,null,null,null,null,null,null,null,null,null,null,"Heavy crossbow","Martial Ranged","not proficient","1d10","piercing","100/400",18,"ammunition",{"$f":"\"\"","v":""},"heavy",{"$f":"\"\"","v":""},"loading",{"$f":"\"\"","v":""},{"$f":"\"\"","v":""},{"$f":"\"\"","v":""},"two-handed",{"$f":"\"\"","v":""},{"$f":"\"\"","v":""},"Bolts",null,9,"Finesse",null,null,null,null,{"$f":"VLOOKUP(Start!AV$137,Tables!$PZ$2:$QQ$500,$QT9,FALSE)","v":""},null,null,null,null,null,null,null,{"$f":"VLOOKUP(Start!BD$137,Tables!$PZ$2:$QQ$500,$QT9,FALSE)","v":""},null,null,null,null,null,null,null,{"$f":"VLOOKUP(Start!BL$137,Tables!$PZ$2:$QQ$500,$QT9,FALSE)","v":""},null,null,null,null,null,null,null,{"$f":"VLOOKUP(Start!BT$137,Tables!$PZ$2:$QQ$500,$QT9,FALSE)","v":""},null,null,null,null,null,null,null,{"$f":"VLOOKUP(Start!CB$137,Tables!$PZ$2:$QQ$500,$QT9,FALSE)","v":""},null,null,null,null,null,null,null,{"$f":"VLOOKUP(Start!CJ$137,Tables!$PZ$2:$QQ$500,$QT9,FALSE)","v":""},null,null,null,"Chain shirt","medium",{"$f":"IF(SR9=\"\",\"\",IF(Start!$Y$157=$QS$12,$QS$12&\" (disadvantage)\",IF(Start!$Y$157=$QS$11,$QS$11,IF(VLOOKUP(SR9,$KT$60:$KV$78,2,FALSE)=\"No\",$QS$12&\" (disadvantage)\",$QS$11))))","v":"not proficient (disadvantage)"},13,{"$f":"IF($OY$1>0,IF(DEXMod>3,3,DEXMod),IF(DEXMod>2,2,DEXMod))","v":-5},"-","-",20,{"$f":"ST9&\", Don: 5min, Doff: 1min\"","v":"not proficient (disadvantage), Don: 5min, Doff: 1min"},null,null,null,null,null,null,null,null,null,7,"Animal Shapes","LEVEL 8",8,"Animal Shapes ",{"$f":"\"\"","v":""},"",{"$f":"IF(OR(TK9=Spellcasting!$AC$18,TK9=Spellcasting!$AC$19),\"ᵐ\",\"\")","v":""},{"$f":"IF(OR(TK9=Spellcasting!$AC$20,TK9=Spellcasting!$AC$21),\"ˢ\",\"\")","v":""},{"$f":"\"\"","v":""},"1 act","30 ft","24 hrs ᶜᵒᶰ","VS",{"$f":"\"\"","v":""},"transmutation","trans","Your magic turns others into beasts. Choose any number of willing creatures that you can see within range. You transform each target into the form of a Large or smaller beast with a challenge rating of 4 or lower. On subsequent turns, you can use your action to transform affected creatures into new forms. \n\nThe transformation lasts for the duration for each target, or until the target drops to 0 hit points or dies. You can choose a different form for each target. A target’s game statistics are replaced by the statistics of the chosen beast, though the target retains its alignment and Intelligence, Wisdom, and Charisma scores. The target assumes the hit points of its new form, and when it reverts to its normal form, it returns to the number of hit points it had before it transformed. If it reverts as a result of dropping to 0 hit points, any excess damage carries over to its normal form. As long as the excess damage doesn’t reduce the creature’s normal form to 0 hit points, it isn’t knocked unconscious. The creature is limited in the actions it can perform by the nature of its new form, and it can’t speak or cast spells. \n\nThe target’s gear melds into the new form. The target can’t activate, wield, or otherwise benefit from any of its equipment.","turn willing creatures into Large or smaller beasts less than CR4",null,null,null,null,null,null,{"$f":"IF(UI$1>=$TM9,1,\"0\")","v":"0"},null,null,null,null,null,null,null,null,null,null,null,null,null,null,null,null,null,null,null,null,null,null,null,null,null,null,null,null,null,null,null,null,null,null,null,null,null,null,null,null,null,null,null,null,null,null,{"$f":"IF(SUM($VZ$1:$WC$1)>0,IF(AND(SUM($VZ9:$WC9)>0,$TM9=WE$1),MAX(WD$2:WD8)+1,\"\"),IF(AND(SUM($UC9:$VY9)>0,$TM9=WE$1),MAX(WD$2:WD8)+1,\"\"))","v":""},"",{"$f":"IF(AND(SUM($UB9:$VY9)>0,$TM9=WG$1),MAX(WF$2:WF8)+1,\"\")","v":""},"",{"$f":"IF(AND(SUM($UB9:$VY9)>0,$TM9=WI$1),MAX(WH$2:WH8)+1,\"\")","v":""},"",{"$f":"IF(AND(SUM($UB9:$VY9)>0,$TM9=WK$1),MAX(WJ$2:WJ8)+1,\"\")","v":""},"",{"$f":"IF(AND(SUM($UB9:$VY9)>0,$TM9=WM$1),MAX(WL$2:WL8)+1,\"\")","v":""},"",{"$f":"IF(AND(SUM($UB9:$VY9)>0,$TM9=WO$1),MAX(WN$2:WN8)+1,\"\")","v":""},"",{"$f":"IF(AND(SUM($UB9:$VY9)>0,$TM9=WQ$1),MAX(WP$2:WP8)+1,\"\")","v":""},"",{"$f":"IF(AND(SUM($UB9:$VY9)>0,$TM9=WS$1),MAX(WR$2:WR8)+1,\"\")","v":""},"",{"$f":"IF(AND(SUM($UB9:$VY9)>0,$TM9=WU$1),MAX(WT$2:WT8)+1,\"\")","v":""},"",{"$f":"IF(AND(SUM($UB9:$VY9)>0,$TM9=WW$1),MAX(WV$2:WV8)+1,\"\")","v":""},"",{"$f":"IF(AND(SUM($UB9:$VY9)>0,$TM9=WY$1),MAX(WX$2:WX8)+1,\"\")","v":""},"",8,"","","","","","","","","","","",{"$f":"SelectText","v":"Select…"},5,"Frog","Beast","Tiny",11,1,"20 ft, swim 20 ft",1,13,8,1,8,3,"Perception +1, Stealth +3","passive Perception 11, darkvision 30 ft","none","Amphibious. Can breathe air and water\nStanding Leap. Can long jump up to 10 feet and high jump up to 5 feet",null,"",7,"FEAT 7",{"$f":"IF(OR(Start!I119=\"\",Start!I119=SelectText),\"\",Start!I119)","v":""},"","",{"$f":"\"\"","v":""},null,"","",null,null,null,null,"","Bard",8,{"$f":"VLOOKUP(YY9,$ZE$2:$ZP$23,$ZE$1,FALSE)","v":""},{"$f":"IF(YX9=\"\",\"\",MAX($YW$1:YW8)+1)","v":""},"","",6,{"$f":"IF(ZB9=\"\",\"\",MAX($ZA$2:ZA8)+1)","v":""},"",{"$f":"IF(Start!AF25=SelectText,\"\",Start!AF25)","v":""},{"$f":"IF(OR(COUNTIF($ZC$4:$ZC9,ZD$2)=0,COUNTIF($ZC$4:$ZC9,ZD$2)=MAX(ZD$2:ZD8)),\"-\",COUNTIF($ZC$4:$ZC9,ZD$2))","v":"-"},{"$f":"IF(OR(COUNTIF($ZC$4:$ZC9,ZE$2)=0,COUNTIF($ZC$4:$ZC9,ZE$2)=MAX(ZE$2:ZE8)),\"-\",COUNTIF($ZC$4:$ZC9,ZE$2))","v":"-"},{"$f":"IF(OR(COUNTIF($ZC$4:$ZC9,ZF$2)=0,COUNTIF($ZC$4:$ZC9,ZF$2)=MAX(ZF$2:ZF8)),\"-\",COUNTIF($ZC$4:$ZC9,ZF$2))","v":"-"},{"$f":"IF(OR(COUNTIF($ZC$4:$ZC9,ZG$2)=0,COUNTIF($ZC$4:$ZC9,ZG$2)=MAX(ZG$2:ZG8)),\"-\",COUNTIF($ZC$4:$ZC9,ZG$2))","v":"-"},{"$f":"IF(OR(COUNTIF($ZC$4:$ZC9,ZH$2)=0,COUNTIF($ZC$4:$ZC9,ZH$2)=MAX(ZH$2:ZH8)),\"-\",COUNTIF($ZC$4:$ZC9,ZH$2))","v":"-"},{"$f":"IF(OR(COUNTIF($ZC$4:$ZC9,ZI$2)=0,COUNTIF($ZC$4:$ZC9,ZI$2)=MAX(ZI$2:ZI8)),\"-\",COUNTIF($ZC$4:$ZC9,ZI$2))","v":"-"},{"$f":"IF(OR(COUNTIF($ZC$4:$ZC9,ZJ$2)=0,COUNTIF($ZC$4:$ZC9,ZJ$2)=MAX(ZJ$2:ZJ8)),\"-\",COUNTIF($ZC$4:$ZC9,ZJ$2))","v":"-"},{"$f":"IF(OR(COUNTIF($ZC$4:$ZC9,ZK$2)=0,COUNTIF($ZC$4:$ZC9,ZK$2)=MAX(ZK$2:ZK8)),\"-\",COUNTIF($ZC$4:$ZC9,ZK$2))","v":"-"},{"$f":"IF(OR(COUNTIF($ZC$4:$ZC9,ZL$2)=0,COUNTIF($ZC$4:$ZC9,ZL$2)=MAX(ZL$2:ZL8)),\"-\",COUNTIF($ZC$4:$ZC9,ZL$2))","v":"-"},{"$f":"IF(OR(COUNTIF($ZC$4:$ZC9,ZM$2)=0,COUNTIF($ZC$4:$ZC9,ZM$2)=MAX(ZM$2:ZM8)),\"-\",COUNTIF($ZC$4:$ZC9,ZM$2))","v":"-"},{"$f":"IF(OR(COUNTIF($ZC$4:$ZC9,ZN$2)=0,COUNTIF($ZC$4:$ZC9,ZN$2)=MAX(ZN$2:ZN8)),\"-\",COUNTIF($ZC$4:$ZC9,ZN$2))","v":"-"},{"$f":"IF(OR(COUNTIF($ZC$4:$ZC9,ZO$2)=0,COUNTIF($ZC$4:$ZC9,ZO$2)=MAX(ZO$2:ZO8)),\"-\",COUNTIF($ZC$4:$ZC9,ZO$2))","v":"-"},6,"Ranger",5,"Tough",{"$f":"IF(COUNTIF($YH$3:$YH$10,ZS9)>0,$ZS9&\"\n\"&VLOOKUP($ZS9,$YG$14:$YK$77,5,FALSE)&\"\n\",\"\")","v":""},{"$f":"Start!C10","v":"CHARISMA"},{"$f":"IF(ZV$2=1,IF(VLOOKUP($ZU9,Start!$C$5:$AN$10,18+ZV$3,FALSE)=\"\",\"\",VLOOKUP($ZU9,Start!$C$5:$AN$10,18+ZV$3,FALSE)),\"\")","v":""},{"$f":"IF(ZW$2=1,IF(VLOOKUP($ZU9,Start!$C$5:$AN$10,18+ZW$3,FALSE)=\"\",\"\",VLOOKUP($ZU9,Start!$C$5:$AN$10,18+ZW$3,FALSE)),\"\")","v":""},{"$f":"IF(ZX$2=1,IF(VLOOKUP($ZU9,Start!$C$5:$AN$10,18+ZX$3,FALSE)=\"\",\"\",VLOOKUP($ZU9,Start!$C$5:$AN$10,18+ZX$3,FALSE)),\"\")","v":""},{"$f":"IF(ZY$2=1,IF(VLOOKUP($ZU9,Start!$C$5:$AN$10,18+ZY$3,FALSE)=\"\",\"\",VLOOKUP($ZU9,Start!$C$5:$AN$10,18+ZY$3,FALSE)),\"\")","v":""},{"$f":"IF(ZZ$2=1,IF(VLOOKUP($ZU9,Start!$C$5:$AN$10,18+ZZ$3,FALSE)=\"\",\"\",VLOOKUP($ZU9,Start!$C$5:$AN$10,18+ZZ$3,FALSE)),\"\")","v":""},{"$f":"IF(AAA$2=1,IF(VLOOKUP($ZU9,Start!$C$5:$AN$10,18+AAA$3,FALSE)=\"\",\"\",VLOOKUP($ZU9,Start!$C$5:$AN$10,18+AAA$3,FALSE)),\"\")","v":""},{"$f":"IF(AAB$2=1,IF(VLOOKUP($ZU9,Start!$C$5:$AN$10,18+AAB$3,FALSE)=\"\",\"\",VLOOKUP($ZU9,Start!$C$5:$AN$10,18+AAB$3,FALSE)),\"\")","v":""},{"$f":"IF(AAC$2=1,IF(VLOOKUP($ZU9,Start!$C$5:$AN$10,18+AAC$3,FALSE)=\"\",\"\",VLOOKUP($ZU9,Start!$C$5:$AN$10,18+AAC$3,FALSE)),\"\")","v":""},{"$f":"IF(AAD$2=1,IF(VLOOKUP($ZU9,Start!$C$5:$AN$10,18+AAD$3,FALSE)=\"\",\"\",VLOOKUP($ZU9,Start!$C$5:$AN$10,18+AAD$3,FALSE)),\"\")","v":""},{"$f":"IF(AAE$2=1,IF(VLOOKUP($ZU9,Start!$C$5:$AN$10,18+AAE$3,FALSE)=\"\",\"\",VLOOKUP($ZU9,Start!$C$5:$AN$10,18+AAE$3,FALSE)),\"\")","v":""},{"$f":"IF(AAF$2=1,IF(VLOOKUP($ZU9,Start!$C$5:$AN$10,18+AAF$3,FALSE)=\"\",\"\",VLOOKUP($ZU9,Start!$C$5:$AN$10,18+AAF$3,FALSE)),\"\")","v":""},{"$f":"IF(AAG$2=1,IF(VLOOKUP($ZU9,Start!$C$5:$AN$10,18+AAG$3,FALSE)=\"\",\"\",VLOOKUP($ZU9,Start!$C$5:$AN$10,18+AAG$3,FALSE)),\"\")","v":""},{"$f":"IF(AAH$2=1,IF(VLOOKUP($ZU9,Start!$C$5:$AN$10,18+AAH$3,FALSE)=\"\",\"\",VLOOKUP($ZU9,Start!$C$5:$AN$10,18+AAH$3,FALSE)),\"\")","v":""},{"$f":"IF(AAI$2=1,IF(VLOOKUP($ZU9,Start!$C$5:$AN$10,18+AAI$3,FALSE)=\"\",\"\",VLOOKUP($ZU9,Start!$C$5:$AN$10,18+AAI$3,FALSE)),\"\")","v":""},{"$f":"IF(AAJ$2=1,IF(VLOOKUP($ZU9,Start!$C$5:$AN$10,18+AAJ$3,FALSE)=\"\",\"\",VLOOKUP($ZU9,Start!$C$5:$AN$10,18+AAJ$3,FALSE)),\"\")","v":""},{"$f":"IF(AAK$2=1,IF(VLOOKUP($ZU9,Start!$C$5:$AN$10,18+AAK$3,FALSE)=\"\",\"\",VLOOKUP($ZU9,Start!$C$5:$AN$10,18+AAK$3,FALSE)),\"\")","v":""},{"$f":"IF(AAL$2=1,IF(VLOOKUP($ZU9,Start!$C$5:$AN$10,18+AAL$3,FALSE)=\"\",\"\",VLOOKUP($ZU9,Start!$C$5:$AN$10,18+AAL$3,FALSE)),\"\")","v":""},{"$f":"IF(AAM$2=1,IF(VLOOKUP($ZU9,Start!$C$5:$AN$10,18+AAM$3,FALSE)=\"\",\"\",VLOOKUP($ZU9,Start!$C$5:$AN$10,18+AAM$3,FALSE)),\"\")","v":""},{"$f":"IF(AAN$2=1,IF(VLOOKUP($ZU9,Start!$C$5:$AN$10,18+AAN$3,FALSE)=\"\",\"\",VLOOKUP($ZU9,Start!$C$5:$AN$10,18+AAN$3,FALSE)),\"\")","v":""},{"$f":"IF(AAO$2=1,IF(VLOOKUP($ZU9,Start!$C$5:$AN$10,18+AAO$3,FALSE)=\"\",\"\",VLOOKUP($ZU9,Start!$C$5:$AN$10,18+AAO$3,FALSE)),\"\")","v":""},0]
["Gnome","Small",25,"Darkvision 60ft","• +2 Intelligence\n• Size: Small\n• Speed: 25ft\n• Darkvision 60ft\n• Gnome Cunning: advantage on all Intelligence, Wisdom and Charisma saving throws against magic\n• Languages: Gnomish, Common","Gnomish, Common",2,"none",0,"Tinker's tools",1,{"$f":"\"\"","v":""},{"$f":"IF(Subrace=$U13,1,\"\")","v":""},{"$f":"IF(Subrace=$U14,1,\"\")","v":""},2,{"$f":"\"\"","v":""},{"$f":"\"\"","v":""},"Gnomes mature at the same rate humans do, and most are expected to settle down into an adult life by around age 40. They can live 350 to almost 500 years.","2' 11'' + 2d4","35 lb. x 1","Eladrin","• +1 Intelligence\n• Elf Weapon Training: proficiency with longsword, shortsword, shortbow, and longbow\n• Fey Step: cast the spell misty step using this trait, regain ability after a short or long rest",null,{"$f":"IF(Y10=\"\",\"\",MAX($X$3:X9)+1)","v":""},{"$f":"IF(A6=$A$3,U10,\"\")","v":""},7,"",null,null,null,"Guild Artisan","Guild Membership","   As a member of a guild, you can rely on certain benefits that membership provides. Your fellow guild members will provide\n   lodging and food if necessary. If you are accused of a crime, your guild will support you if a good case can be made for you\n   innocence or the crime is justifiable. You must pay dues of 5 gp per month to the guild to remain in the guild’s good graces.","Insight, Persuasion",2,"One type of artisan's tools",1,"One of your choice",1,null,9,"",{"$f":"\"\"","v":""},"I am tolerant (or intolerant) of other faiths and respect (or condemn) the worship of other gods.","Sarcasm and insults are my weapons of choice. ","I don’t pay attention to the risks in a situation. Never tell me the odds.","I get bitter if I’m not the center of attention. ","Thinking is for other people. I prefer action.","I like to talk at length about my profession.","I connect everything that happens to me to a grand, cosmic plan. ","Despite my noble birth, I do not place myself above other folk. We all have the same blood.","I’m always picking things up, absently fiddling with them, and sometimes accidentally breaking them. ","I . . . speak . . . slowly . . . when talking . . . to idiots, . . . which . . . almost . . . everyone . . . is . . . compared . . . to me","I never pass up a friendly wager. ","I enjoy being strong and like breaking things.","I think anyone who’s nice to me is hiding evil intent.",{"$f":"\"\"","v":""},null,null,null,"Wizard",6,{"$f":"IF(BL10=0,\"\",MAX($BK$6:BK9)+1)","v":""},{"$f":"COUNTIF(Start!$AF$20:$AF$39,Tables!BI10)","v":0},{"$f":"IF(OR(BK10=\"\",BO10=\"\"),\"\",MAX($BM$6:BM9)+1)","v":""},"Wizard","INT","","Arcane Tradition",2,null,null,null,10,0,0,{"$f":"\"\"","v":""},"none","none","Daggers, darts, slings, quarterstaffs, light crossbows","none","none",0,"none",0,"Intelligence, Wisdom","Choose 2 from Arcana, History, Insight, Investigation, Medicine and Religion",2,"none",0,{"$f":"\"• Spellcasting, Arcane Recovery\n\"","v":"• Spellcasting, Arcane Recovery\n"},{"$f":"\"• Arcane Tradition (\"&VLOOKUP($BN10,$BN$3:$BQ$5,4,FALSE)&\")\n• Arcane Tradition Feature (\"&VLOOKUP($BI10,$DM$3:$EH$5,DP$2-1,FALSE)&\")\n\"","v":{"$error":"#N/A"}},{"$f":"\"\"","v":""},{"$f":"IF(WizardLevel>=DE$6,\"• Ability Score Improvement / Feat: level \"&DE$6&\", \"&DB$6&\", \"&CX$6&\", \"&CT$6&\", \"&CP$6,IF(WizardLevel>=DB$6,\"• Ability Score Improvement / Feat: level \"&DB$6&\", \"&CX$6&\", \"&CT$6&\", \"&CP$6,IF(WizardLevel>=CX$6,\"• Ability Score Improvement / Feat: level \"&CX$6&\", \"&CT$6&\", \"&CP$6,IF(WizardLevel>=CT$6,\"• Ability Score Improvement / Feat : level \"&CT$6&\", \"&CP$6,\"• Ability Score Improvement / Feat: level \"&CP$6))))&\"\n\"","v":"• Ability Score Improvement / Feat: level 4\n"},{"$f":"\"\"","v":""},{"$f":"\"• Arcane Tradition Feature (\"&VLOOKUP($BI10,$DM$3:$EH$5,DT$2-1,FALSE)&\")\n\"","v":{"$error":"#N/A"}},{"$f":"\"\"","v":""},{"$f":"\"\"","v":""},{"$f":"\"\"","v":""},{"$f":"\"• Arcane Tradition Feature (\"&VLOOKUP($BI10,$DM$3:$EH$5,DX$2-1,FALSE)&\")\n\"","v":{"$error":"#N/A"}},{"$f":"\"\"","v":""},{"$f":"\"\"","v":""},{"$f":"\"\"","v":""},{"$f":"\"• Arcane Tradition Feature (\"&VLOOKUP($BI10,$DM$3:$EH$5,EB$2-1,FALSE)&\")\n\"","v":{"$error":"#N/A"}},{"$f":"\"\"","v":""},{"$f":"\"\"","v":""},{"$f":"\"\"","v":""},{"$f":"\"• Spell Mastery: \"&Spellcasting!AC18&\", \"&Spellcasting!AC19&\"\n\"","v":"• Spell Mastery: Select…, Select…\n"},{"$f":"\"\"","v":""},{"$f":"\"• Signature Spell: \"&Spellcasting!AC20&\", \"&Spellcasting!AC21&\"\n\"","v":"• Signature Spell: Select…, Select…\n"},null,null,null,null,"Underdark","Nature","Cleric",0,{"$f":"\"Bonus Proficiency (Heavy Armor)\n• Divine Domain Feature (Acolyte of Nature: choose one druid cantrip)\n• Domain Spells\"&\"\n\"&EI10","v":"Bonus Proficiency (Heavy Armor)\n• Divine Domain Feature (Acolyte of Nature: choose one druid cantrip)\n• Domain Spells\n"},"Channel Divinity: Turn Undead, Charm Animals and Plants",{"$f":"\"\"","v":""},{"$f":"\"\"","v":""},{"$f":"\"\"","v":""},"Dampen Elements",{"$f":"\"\"","v":""},{"$f":"IF(ClericLevel>=14,\"Divine Strike 2d8\",\"Divine Strike 1d8\")","v":"Divine Strike 1d8"},{"$f":"\"\"","v":""},{"$f":"\"\"","v":""},{"$f":"\"\"","v":""},{"$f":"\"\"","v":""},{"$f":"\"\"","v":""},{"$f":"\"\"","v":""},{"$f":"\"\"","v":""},{"$f":"\"\"","v":""},"Master of Nature",{"$f":"\"\"","v":""},{"$f":"\"\"","v":""},{"$f":"\"\"","v":""},{"$f":"IF(ClericLevel>=9,\"  1st (animal friendship, speak with animals)\n  3rd (barkskin, spike growth)\n  5th (plant growth, wind wall)\n  7th (dominate beast, grasping vine)\n  9th (insect plague, tree stride)\",IF(ClericLevel>=7,\"  1st (animal friendship, speak with animals)\n  3rd (barkskin, spike growth)\n  5th (plant growth, wind wall)\n  7th (dominate beast, grasping vine)\",IF(ClericLevel>=5,\"  1st (animal friendship, speak with animals)\n  3rd (barkskin, spike growth)\n  5th (plant growth, wind wall)\",IF(ClericLevel>=3,\"  1st (animal friendship, speak with animals)\n  3rd (barkskin, spike growth)\",IF(ClericLevel>=1,\"  1st (animal friendship, speak with animals)\",\"\")))))","v":""},{"$f":"IF(ClericLevel>=1,$DM10&\" (animal friendship, speak with animals)\n\",\"\")","v":""},null,{"$f":"IF(ClericLevel>=3,$DM10&\" (barkskin, spike growth)\n\",\"\")","v":""},null,{"$f":"IF(ClericLevel>=5,$DM10&\" (plant growth, wind wall)\n\",\"\")","v":""},null,{"$f":"IF(ClericLevel>=7,$DM10&\" (dominate beast, grasping vine)\n\",\"\")","v":""},null,{"$f":"IF(ClericLevel>=9,$DM10&\" (insect plague, tree stride)\n\",\"\")","v":""},null,{"$f":"\"\"","v":""},{"$f":"\"\"","v":""},{"$f":"IF(ClericLevel>=1,DL10&\"\n• Choose 1 skill from Animal Handling, Nature or Survival.\n\",\"\")","v":""},{"$f":"IF(ClericLevel>=1,1,\"\")","v":""},{"$f":"\"\"","v":""},{"$f":"\"\"","v":""},null,{"$f":"IF($DM10=FB$5,MAX(FA$6:FA9)+1,\"\")","v":""},"",5,"",{"$f":"IF($DM10=FF$5,MAX(FE$6:FE9)+1,\"\")","v":""},"",5,"",{"$f":"IF($DM10=FJ$5,MAX(FI$6:FI9)+1,\"\")","v":""},"",5,"","Insight",{"$f":"Start!L71","v":0},{"$f":"IF($FM10=$FP10,MAX(FO$3:FO9)+1,\"\")","v":""},"",8,"",null,null,null,null,3,"",null,null,null,"Maneuvering Attack","   When you hit a creature with a weapon attack, expend one superiority die to maneuver one of your comrades into a more\n   advantageous position. Add the superiority die to the damage roll, and choose a friendly creature who can see or hear you.\n   It can use its reaction to move up to half its speed without provoking opportunity attacks from the target of your attack.",8,10,"","MANEUVER 8",{"$f":"Start!AJ85","v":"Select…"},"","",{"$f":"\"\"","v":""},null,null,null,null,null,"Flames of the Phoenix","   Spend 4 ki points to cast fireball.",11,4,{"$f":"IF(GV10=\"\",\"\",MAX($GU$3:GU9)+1)","v":""},"",8,"",null,null,null,null,null,null,null,null,null,null,null,null,"fey",{"$f":"\"\"","v":""},"dragonborn",null,null,null,null,null,null,"Swamp",null,null,null,"Escape the Horde",null,null,null,"Subtle Spell","   When you cast a spell, spend 1 sorcery point to cast it without any somatic or verbal components.",{"$f":"\"\"","v":""},null,null,null,{"$f":"IF(IJ10=1,MAX($IH$2:IH9)+1,\"\")","v":""},"Chains of Carceri",{"$f":"IF(AND(WarlockLevel>=15,Start!AJ54=\"Pact of the Chain\"),1,\"\")","v":""},"   You can cast hold monster at will—targeting a celestial, fiend, or elemental—without expending a spell slot or material\n   components. You must finish a long rest before you can use this invocation on the same creature again.",8,"Gaze of Two Minds",7,"",{"$f":"IF($IO$3>=IN10,\"Warlock Level 14\",\"INVOCATION 7\")","v":"INVOCATION 7"},{"$f":"Start!AJ119","v":"Select…"},"",null,null,"LE","Lawful Evil","Lawful evil creatures methodically take what they want, within the limits of a code of tradition, loyalty, or order. Devils, blue dragons, and hobgoblins are lawful evil.  ","Chauntea (NG)","Goddess of agriculture","Neutral Good","Life","Sheaf of grain or a blooming rose over grain",{"$f":"IF(JD10=\"\",\"\",MAX($JC$1:JC9)+1)","v":8},"Halfling","Common",9,"Orc",9,48000,9,4,null,8,4,3,3,2,"-","-","-","-","-",4,"Pact Magic","Ranger","WIS","KNOWN",{"$f":"VLOOKUP(RangerLevel,$KD$1:$KJ$22,$KC10,FALSE)","v":{"$error":"#N/A"}},5,8,6,11,6,5,9,9,8,4,4,2,3,3,5,3,null,null,null,null,null,null,null,null,null,null,null,null,null,null,null,null,null,null,null,null,null,null,null,null,null,null,null,null,null,null,null,null,null,null,null,null,null,null,null,null,null,null,null,null,null,null,null,null,null,null,null,null,null,null,null,null,null,null,null,null,null,null,null,null,null,null,null,null,null,null,null,null,null,null,null,null,null,null,null,null,null,null,null,null,null,null,null,null,null,null,null,null,null,null,null,null,null,null,null,null,null,null,null,null,null,null,null,null,null,null,null,null,null,null,null,null,null,null,null,null,null,null,null,null,null,null,null,null,null,null,null,null,null,null,null,null,null,"Light crossbow","Simple Ranged","not proficient","1d8","piercing","80/320",5,"ammunition",{"$f":"\"\"","v":""},{"$f":"\"\"","v":""},{"$f":"\"\"","v":""},"loading",{"$f":"\"\"","v":""},{"$f":"\"\"","v":""},{"$f":"\"\"","v":""},"two-handed",{"$f":"\"\"","v":""},{"$f":"\"\"","v":""},"Bolts","Proficiency List",10,"Heavy",null,null,null,null,{"$f":"VLOOKUP(Start!AV$137,Tables!$PZ$2:$QQ$500,$QT10,FALSE)","v":""},null,null,null,null,null,null,null,{"$f":"VLOOKUP(Start!BD$137,Tables!$PZ$2:$QQ$500,$QT10,FALSE)","v":""},null,null,null,null,null,null,null,{"$f":"VLOOKUP(Start!BL$137,Tables!$PZ$2:$QQ$500,$QT10,FALSE)","v":""},null,null,null,null,null,null,null,{"$f":"VLOOKUP(Start!BT$137,Tables!$PZ$2:$QQ$500,$QT10,FALSE)","v":""},null,null,null,null,null,null,null,{"$f":"VLOOKUP(Start!CB$137,Tables!$PZ$2:$QQ$500,$QT10,FALSE)","v":""},null,null,null,null,null,null,null,{"$f":"VLOOKUP(Start!CJ$137,Tables!$PZ$2:$QQ$500,$QT10,FALSE)","v":""},null,null,null,"Scale mail","medium",{"$f":"IF(SR10=\"\",\"\",IF(Start!$Y$157=$QS$12,$QS$12&\" (disadvantage)\",IF(Start!$Y$157=$QS$11,$QS$11,IF(VLOOKUP(SR10,$KT$60:$KV$78,2,FALSE)=\"No\",$QS$12&\" (disadvantage)\",$QS$11))))","v":"not proficient (disadvantage)"},14,{"$f":"IF($OY$1>0,IF(DEXMod>3,3,DEXMod),IF(DEXMod>2,2,DEXMod))","v":-5},"-","Disadvantage",45,{"$f":"ST10&\", Don: 5min, Doff: 1min\"","v":"not proficient (disadvantage), Don: 5min, Doff: 1min"},null,null,null,null,null,null,null,null,null,8,"Animate Dead","LEVEL 3",3,"Animate Dead ᴴ ","ᴴ ","",{"$f":"IF(OR(TK10=Spellcasting!$AC$18,TK10=Spellcasting!$AC$19),\"ᵐ\",\"\")","v":""},{"$f":"IF(OR(TK10=Spellcasting!$AC$20,TK10=Spellcasting!$AC$21),\"ˢ\",\"\")","v":""},{"$f":"\"\"","v":""},"1 min","10 ft","instant","VSM","a drop of blood, a piece of flesh, and a pinch of bone dust","necromancy","necro","This spell creates an undead servant. Choose a pile of bones or a corpse of a Medium or Small humanoid within range. Your spell imbues the target with a foul mimicry of life, raising it as an undead creature. The target becomes a skeleton if you chose bones or a zombie if you chose a corpse (the DM has the creature’s game statistics).\n\nOn each of your turns, you can use a bonus action to mentally command any creature you made with this spell if the creature is within 60 feet of you (if you control multiple creatures, you can command any or all of them at the same time, issuing the same command to each one). You decide what action the creature will take and where it will move during its next turn, or you can issue a general command, such as to guard a particular chamber or corridor. If you issue no commands, the creature only defends itself against hostile creatures. Once given an order, the creature continues to follow it until its task is complete. \n\nThe creature is under your control for 24 hours, after which it stops obeying any command you’ve given it. To maintain control of the creature for another 24 hours, you must cast this spell on the creature again before the current 24-hour period ends. This use of the spell reasserts your control over up to four creatures you have animated with this spell, rather than animating a new one. \n\nAt Higher Levels. When you cast this spell using a spell slot of 4th level or higher, you animate or reassert control over two additional undead creatures for each slot level above 3rd. Each of the creatures must come from a different corpse or pile of bones.","create Medium or smaller undead servant",null,null,null,null,null,{"$f":"IF(UH$1>=$TM10,1,\"0\")","v":"0"},null,null,null,{"$f":"IF(UL$1>=$TM10,1,\"0\")","v":"0"},null,null,null,null,null,null,null,null,null,null,null,null,null,null,null,null,null,null,null,null,null,null,null,null,null,null,null,null,null,null,null,null,null,null,null,null,null,null,null,null,null,null,null,{"$f":"IF(SUM($VZ$1:$WC$1)>0,IF(AND(SUM($VZ10:$WC10)>0,$TM10=WE$1),MAX(WD$2:WD9)+1,\"\"),IF(AND(SUM($UC10:$VY10)>0,$TM10=WE$1),MAX(WD$2:WD9)+1,\"\"))","v":""},"",{"$f":"IF(AND(SUM($UB10:$VY10)>0,$TM10=WG$1),MAX(WF$2:WF9)+1,\"\")","v":""},"",{"$f":"IF(AND(SUM($UB10:$VY10)>0,$TM10=WI$1),MAX(WH$2:WH9)+1,\"\")","v":""},"",{"$f":"IF(AND(SUM($UB10:$VY10)>0,$TM10=WK$1),MAX(WJ$2:WJ9)+1,\"\")","v":""},"",{"$f":"IF(AND(SUM($UB10:$VY10)>0,$TM10=WM$1),MAX(WL$2:WL9)+1,\"\")","v":""},"",{"$f":"IF(AND(SUM($UB10:$VY10)>0,$TM10=WO$1),MAX(WN$2:WN9)+1,\"\")","v":""},"",{"$f":"IF(AND(SUM($UB10:$VY10)>0,$TM10=WQ$1),MAX(WP$2:WP9)+1,\"\")","v":""},"",{"$f":"IF(AND(SUM($UB10:$VY10)>0,$TM10=WS$1),MAX(WR$2:WR9)+1,\"\")","v":""},"",{"$f":"IF(AND(SUM($UB10:$VY10)>0,$TM10=WU$1),MAX(WT$2:WT9)+1,\"\")","v":""},"",{"$f":"IF(AND(SUM($UB10:$VY10)>0,$TM10=WW$1),MAX(WV$2:WV9)+1,\"\")","v":""},"",{"$f":"IF(AND(SUM($UB10:$VY10)>0,$TM10=WY$1),MAX(WX$2:WX9)+1,\"\")","v":""},"",9,"","","","","","","","","","","","Tiny",6,"Hawk","Beast","Tiny",13,1,"10 ft, fly 60 ft",5,16,8,2,14,6,"Perception +4","passive Perception 14","Talons melee +5, reach 5ft, 1 slashing","Keen Sight. Advantage on Wisdom (Perception) checks that rely on sight",null,"",8,"FEAT 8",{"$f":"IF(OR(Start!I120=\"\",Start!I120=SelectText),\"\",Start!I120)","v":""},"",{"$f":"IF(YH10=\"\",\"\",IF(YI9=\"\",\"\",\"\n\"&YG10&\" - \"&YH10&\"\n\"&YI10))","v":""},{"$f":"\"\"","v":""},null,"","",null,null,null,null,"","Bard",12,{"$f":"VLOOKUP(YY10,$ZE$2:$ZP$23,$ZE$1,FALSE)","v":""},{"$f":"IF(YX10=\"\",\"\",MAX($YW$1:YW9)+1)","v":""},"","",7,{"$f":"IF(ZB10=\"\",\"\",MAX($ZA$2:ZA9)+1)","v":""},"",{"$f":"IF(Start!AF26=SelectText,\"\",Start!AF26)","v":""},{"$f":"IF(OR(COUNTIF($ZC$4:$ZC10,ZD$2)=0,COUNTIF($ZC$4:$ZC10,ZD$2)=MAX(ZD$2:ZD9)),\"-\",COUNTIF($ZC$4:$ZC10,ZD$2))","v":"-"},{"$f":"IF(OR(COUNTIF($ZC$4:$ZC10,ZE$2)=0,COUNTIF($ZC$4:$ZC10,ZE$2)=MAX(ZE$2:ZE9)),\"-\",COUNTIF($ZC$4:$ZC10,ZE$2))","v":"-"},{"$f":"IF(OR(COUNTIF($ZC$4:$ZC10,ZF$2)=0,COUNTIF($ZC$4:$ZC10,ZF$2)=MAX(ZF$2:ZF9)),\"-\",COUNTIF($ZC$4:$ZC10,ZF$2))","v":"-"},{"$f":"IF(OR(COUNTIF($ZC$4:$ZC10,ZG$2)=0,COUNTIF($ZC$4:$ZC10,ZG$2)=MAX(ZG$2:ZG9)),\"-\",COUNTIF($ZC$4:$ZC10,ZG$2))","v":"-"},{"$f":"IF(OR(COUNTIF($ZC$4:$ZC10,ZH$2)=0,COUNTIF($ZC$4:$ZC10,ZH$2)=MAX(ZH$2:ZH9)),\"-\",COUNTIF($ZC$4:$ZC10,ZH$2))","v":"-"},{"$f":"IF(OR(COUNTIF($ZC$4:$ZC10,ZI$2)=0,COUNTIF($ZC$4:$ZC10,ZI$2)=MAX(ZI$2:ZI9)),\"-\",COUNTIF($ZC$4:$ZC10,ZI$2))","v":"-"},{"$f":"IF(OR(COUNTIF($ZC$4:$ZC10,ZJ$2)=0,COUNTIF($ZC$4:$ZC10,ZJ$2)=MAX(ZJ$2:ZJ9)),\"-\",COUNTIF($ZC$4:$ZC10,ZJ$2))","v":"-"},{"$f":"IF(OR(COUNTIF($ZC$4:$ZC10,ZK$2)=0,COUNTIF($ZC$4:$ZC10,ZK$2)=MAX(ZK$2:ZK9)),\"-\",COUNTIF($ZC$4:$ZC10,ZK$2))","v":"-"},{"$f":"IF(OR(COUNTIF($ZC$4:$ZC10,ZL$2)=0,COUNTIF($ZC$4:$ZC10,ZL$2)=MAX(ZL$2:ZL9)),\"-\",COUNTIF($ZC$4:$ZC10,ZL$2))","v":"-"},{"$f":"IF(OR(COUNTIF($ZC$4:$ZC10,ZM$2)=0,COUNTIF($ZC$4:$ZC10,ZM$2)=MAX(ZM$2:ZM9)),\"-\",COUNTIF($ZC$4:$ZC10,ZM$2))","v":"-"},{"$f":"IF(OR(COUNTIF($ZC$4:$ZC10,ZN$2)=0,COUNTIF($ZC$4:$ZC10,ZN$2)=MAX(ZN$2:ZN9)),\"-\",COUNTIF($ZC$4:$ZC10,ZN$2))","v":"-"},{"$f":"IF(OR(COUNTIF($ZC$4:$ZC10,ZO$2)=0,COUNTIF($ZC$4:$ZC10,ZO$2)=MAX(ZO$2:ZO9)),\"-\",COUNTIF($ZC$4:$ZC10,ZO$2))","v":"-"},7,"Rogue",6]
["Half-Elf","Medium",30,"Darkvision 60ft","• +2 Charisma, +1 two other ability score of your choice\n• Size: Medium\n• Speed: 30ft\n• Darkvision 60ft\n• Fey Ancestry: advantage on saving throws against being charmed, magic cannot put you to sleep\n• Skill Versatility: gain proficiency in two skill of your choice\n• Languages: Elvish, Common, one additional language of your choice",{"$f":"\"Elvish, Common, +1 extra language\"","v":"Elvish, Common, +1 extra language"},3,"Two of your choice",2,"none",0,{"$f":"IF(AND(Race=$A$11,OR(Start!$N$11=L$1,Start!$N$12=L$1)),1,\"\")","v":""},{"$f":"IF(AND(Race=$A$11,OR(Start!$N$11=M$1,Start!$N$12=M$1)),1,\"\")","v":""},{"$f":"IF(AND(Race=$A$11,OR(Start!$N$11=N$1,Start!$N$12=N$1)),1,\"\")","v":""},{"$f":"IF(AND(Race=$A$11,OR(Start!$N$11=O$1,Start!$N$12=O$1)),1,\"\")","v":""},{"$f":"IF(AND(Race=$A$11,OR(Start!$N$11=P$1,Start!$N$12=P$1)),1,\"\")","v":""},2,"Half-elves mature at the same rate humans do and reach adulthood around the age of 20. They live much longer than humans, however, often exceeding 180 years.","4' 9'' + 2d8","110 lb. x 2d4","Lightfoot","• +1 Charisma\n• Naturally Stealthy: hide when obscured by a creature at least one size larger than you",null,{"$f":"IF(Y11=\"\",\"\",MAX($X$3:X10)+1)","v":""},{"$f":"IF(A7=$A$3,U11,\"\")","v":""},8,"",null,null,null,"Hermit","Discovery","   The quiet seclusion of your extended hermitage gave you access to a unique and powerful discovery. It might be a great truth\n   about the cosmos, the deities, the powerful beings of the outer planes, or the forces of nature. It could be a site that no one\n   else has ever seen. You might have uncovered a fact that has long been forgotten, or unearthed some relic of the past that\n   could rewrite history...","Medicine, Religion",2,"Herbalism kit",1,"One of your choice",1,null,10,"",{"$f":"\"\"","v":""},"I’ve enjoyed fine food, drink, and high society among my temple’s elite. Rough living grates on me.","I keep multiple holy symbols on me and invoke whatever deity might come in useful at any given moment.","The best way to get me to do something is to tell me I can’t do it.","I’ll settle for nothing less than perfection. ","I misuse long words in an attempt to sound smarter.","I don’t part with my money easily and will haggle tirelessly to get the best deal possible. ","I often get lost in my own thoughts and contemplation, becoming oblivious to my surroundings.","My favor, once lost, is lost forever.","I feel far more comfortable around animals than people. ","I am horribly, horribly awkward in social situations. ","My language is as foul as an otyugh nest. ","I have a crude sense of humor.","I don’t like to bathe.",{"$f":"\"\"","v":""},null,null,null,"Barbarian",12,{"$f":"IF(BL11=0,\"\",MAX($BK$6:BK10)+1)","v":""},{"$f":"COUNTIF(Start!$AF$20:$AF$39,Tables!BI11)","v":0},{"$f":"IF(OR(BK11=\"\",BO11=\"\"),\"\",MAX($BM$6:BM10)+1)","v":""},{"$f":"\"\"","v":""},{"$f":"\"\"","v":""},"","Primal Path",3,null,null,null,{"$f":"IF(OR(ArmorName=\"\",ArmorName=\"none\"),10+WISMod+CONMod,10)","v":0},{"$f":"IF(OR(BarbarianLevel<5,ArmorGroup=\"heavy\"),0,10)","v":0},0,{"$f":"\"\"","v":""},"Light & medium armor, shields","Shields","Simple & martial weapons","Simple & martial weapons","none",0,"none",0,"Strength, Constitution","Choose 2 from Animal Handling, Athletics, Intimidation, Nature, Perception, and Survival",2,"none",0,{"$f":"\"• Rage (\"&IF(BarbarianLevel<3,2,IF(BarbarianLevel<6,3,IF(BarbarianLevel<12,4,IF(BarbarianLevel<17,5,IF(BarbarianLevel<20,6,\"Unlimited\")))))&\"), Unarmoured Defense\n\"","v":"• Rage (2), Unarmoured Defense\n"},{"$f":"\"• Reckless Attack, Danger Sense\n\"","v":"• Reckless Attack, Danger Sense\n"},{"$f":"\"• Primal Path (\"&VLOOKUP($BI11,$BN$3:$BQ$5,4,FALSE)&\")\n• Primal Path Feature (\"&VLOOKUP($BI11,$DM$3:$EH$5,DQ$2-1,FALSE)&\")\"&IF(BarbarianTotemWarriorLevel>=3,\"\n• Totem Spirits\n\"&HI3&\"\n\",\"\n\")","v":{"$error":"#N/A"}},{"$f":"IF(BarbarianLevel>=DE$6,\"• Ability Score Improvement / Feat: level \"&DE$6&\", \"&DB$6&\", \"&CX$6&\", \"&CT$6&\", \"&CP$6,IF(BarbarianLevel>=DB$6,\"• Ability Score Improvement / Feat: level \"&DB$6&\", \"&CX$6&\", \"&CT$6&\", \"&CP$6,IF(BarbarianLevel>=CX$6,\"• Ability Score Improvement / Feat: level \"&CX$6&\", \"&CT$6&\", \"&CP$6,IF(BarbarianLevel>=CT$6,\"• Ability Score Improvement / Feat : level \"&CT$6&\", \"&CP$6,\"• Ability Score Improvement / Feat: level \"&CP$6))))&\"\n\"","v":"• Ability Score Improvement / Feat: level 4\n"},{"$f":"\"• Extra Attack, Fast Movement (+10ft)\n\"","v":"• Extra Attack, Fast Movement (+10ft)\n"},{"$f":"\"• Primal Path Feature (\"&VLOOKUP($BI11,$DM$3:$EH$5,DT$2-1,FALSE)&\")\n\"","v":{"$error":"#N/A"}},{"$f":"\"• Feral Instinct\n\"","v":"• Feral Instinct\n"},{"$f":"\"\"","v":""},{"$f":"IF(BarbarianLevel>=DC6,\"• Brutal Critical (3 dice)\",IF(BarbarianLevel>=CY6,\"• Brutal Critical (2 dice)\",IF(BarbarianLevel>=CU6,\"• Brutal Critical (1 dice)\",\"\")))&\"\n\"","v":"\n"},{"$f":"\"• Primal Path Feature (\"&VLOOKUP($BI11,$DM$3:$EH$5,DX$2-1,FALSE)&\")\n\"","v":{"$error":"#N/A"}},{"$f":"\"• Relentless Rage\"&\"\n\"","v":"• Relentless Rage\n"},{"$f":"\"\"","v":""},{"$f":"\"\"","v":""},{"$f":"\"• Primal Path Feature (\"&VLOOKUP($BI11,$DM$3:$EH$5,EB$2-1,FALSE)&\")\n\"","v":{"$error":"#N/A"}},{"$f":"\"• Persistent Rage\n\"","v":"• Persistent Rage\n"},{"$f":"\"\"","v":""},{"$f":"\"\"","v":""},{"$f":"\"• Indomitable Might\n\"","v":"• Indomitable Might\n"},{"$f":"\"\"","v":""},{"$f":"\"• Primal Champion\n\"","v":"• Primal Champion\n"},null,null,null,null,null,"Tempest","Cleric",0,{"$f":"\"Bonus Proficiency (Martial Weapons, Heavy Armor)\n• Divine Domain Feature (Wrath of the Storm: \"&IF(WISMod<1,1,WISMod)&\" times per day, reaction 2d8 lightning or thunder, dex save ½)\n• Domain Spells\"&\"\n\"&EI11","v":"Bonus Proficiency (Martial Weapons, Heavy Armor)\n• Divine Domain Feature (Wrath of the Storm: 1 times per day, reaction 2d8 lightning or thunder, dex save ½)\n• Domain Spells\n"},"Channel Divinity: Turn Undead, Destructive Wrath",{"$f":"\"\"","v":""},{"$f":"\"\"","v":""},{"$f":"\"\"","v":""},"Thunderbolt Strike",{"$f":"\"\"","v":""},{"$f":"IF(ClericLevel>=14,\"Divine Strike 2d8\",\"Divine Strike 1d8\")","v":"Divine Strike 1d8"},{"$f":"\"\"","v":""},{"$f":"\"\"","v":""},{"$f":"\"\"","v":""},{"$f":"\"\"","v":""},{"$f":"\"\"","v":""},{"$f":"\"\"","v":""},{"$f":"\"\"","v":""},{"$f":"\"\"","v":""},"Stormborn",{"$f":"\"\"","v":""},{"$f":"\"\"","v":""},{"$f":"\"\"","v":""},{"$f":"IF(ClericLevel>=9,\"  1st (fog cloud, thunderwave)\n  3rd (gust of wind, shatter)\n  5th (call lightning, sleet storm)\n  7th (control water, ice storm)\n  9th (destructive wave, insect plague)\",IF(ClericLevel>=7,\"  1st (fog cloud, thunderwave)\n  3rd (gust of wind, shatter)\n  5th (call lightning, sleet storm)\n  7th (control water, ice storm)\",IF(ClericLevel>=5,\"  1st (fog cloud, thunderwave)\n  3rd (gust of wind, shatter)\n  5th (call lightning, sleet storm)\",IF(ClericLevel>=3,\"  1st (fog cloud, thunderwave)\n  3rd (gust of wind, shatter)\",IF(ClericLevel>=1,\"  1st (fog cloud, thunderwave)\",\"\")))))","v":""},{"$f":"IF(ClericLevel>=1,$DM11&\" (fog cloud, thunderwave)\n\",\"\")","v":""},null,{"$f":"IF(ClericLevel>=3,$DM11&\" (gust of wind, shatter)\n\",\"\")","v":""},null,{"$f":"IF(ClericLevel>=5,$DM11&\" (call lightning, sleet storm)\n\",\"\")","v":""},null,{"$f":"IF(ClericLevel>=7,$DM11&\" (control water, ice storm)\n\",\"\")","v":""},null,{"$f":"IF(ClericLevel>=9,$DM11&\" (destructive wave, insect plague)\n\",\"\")","v":""},null,{"$f":"\"\"","v":""},{"$f":"\"\"","v":""},{"$f":"\"\"","v":""},{"$f":"\"\"","v":""},{"$f":"\"\"","v":""},{"$f":"\"\"","v":""},null,{"$f":"IF($DM11=FB$5,MAX(FA$6:FA10)+1,\"\")","v":""},"",6,"",{"$f":"IF($DM11=FF$5,MAX(FE$6:FE10)+1,\"\")","v":""},"",6,"",{"$f":"IF($DM11=FJ$5,MAX(FI$6:FI10)+1,\"\")","v":""},"",6,"","Intimidation",{"$f":"Start!L72","v":0},{"$f":"IF($FM11=$FP11,MAX(FO$3:FO10)+1,\"\")","v":""},"",9,"",null,null,null,null,4,"",null,null,null,"Menacing Attack","   When you hit a creature with a weapon attack, expend one superiority die to attempt to frighten the target. Add the superiority\n   die to the damage roll, the target must make a Wisdom saving throw. On a failed save, it is frightened of you until the end of\n   your next turn.",9,10,"","MANEUVER 9",{"$f":"Start!AJ86","v":"Select…"},"","",{"$f":"\"\"","v":""},null,null,null,null,null,"Gong of the Summit","   Spend 3 ki points to cast shatter.",6,3,{"$f":"IF(GV11=\"\",\"\",MAX($GU$3:GU10)+1)","v":""},"",9,"",null,null,null,null,null,null,null,null,null,null,null,null,"fiends",{"$f":"\"\"","v":""},"dwarf",null,null,null,null,null,null,"Underdark",null,null,null,"Multiattack Defense",null,null,null,"Twinned Spell","   When you cast a spell that targets only one creature and doesn’t have a range of self, spend a number of sorcery points\n   equal to the spell’s level to target a second creature in range with the same spell (1 sorcery point if the spell is a cantrip).",{"$f":"\"\"","v":""},null,null,null,{"$f":"IF(IJ11=1,MAX($IH$2:IH10)+1,\"\")","v":4},"Devil’s Sight",{"$f":"1","v":1},"   You can see normally in darkness, both magical and nonmagical, to a distance of 120 feet.",9,"Mask of Many Faces",8,"",{"$f":"IF($IO$3>=IN11,\"Warlock Level 17\",\"INVOCATION 8\")","v":"INVOCATION 8"},{"$f":"Start!AJ120","v":"Select…"},"",null,null,"NE","Neutral Evil","Neutral evil is the alignment of those that do whatever they can get away with, without compassion or qualms. Many drow, some cloud giants, and yugoloths are neutral evil.  ","Cyric (CE)","God of lies","Chaotic Evil","Trickery","White jawless skull on black or purple sunburst",{"$f":"IF(JD11=\"\",\"\",MAX($JC$1:JC10)+1)","v":9},"Orc","Dwarvish",10,"Abyssal",10,64000,10,4,null,9,4,3,3,3,1,"-","-","-","-",5,{"$f":"IF(AND(SUMPRODUCT(--(LEN($BO$3:$BO$5)>1))>=2,WarlockLevel>1),TRUE,FALSE)","v":false},"Sorcerer","CHA","KNOWN",{"$f":"VLOOKUP(SorcererLevel,$KD$1:$KJ$22,$KC11,FALSE)","v":{"$error":"#N/A"}},6,9,6,12,6,6,10,10,9,4,4,2,3,3,5,3,null,"name",null,"group",null,null,null,null,null,null,null,null,null,null,null,null,null,null,null,null,null,null,null,null,null,null,null,null,null,null,null,null,null,null,null,null,null,null,null,null,null,null,null,null,null,null,null,null,null,null,null,null,null,null,null,null,null,null,null,null,null,null,null,null,null,null,null,null,null,null,null,null,null,null,null,null,null,null,null,null,null,null,null,null,null,null,null,null,null,null,null,null,null,null,null,null,null,null,null,null,null,null,null,null,null,null,null,null,null,null,null,null,null,null,null,null,null,null,null,null,null,null,null,null,null,null,null,null,null,null,null,null,null,null,null,null,null,"Dagger","Simple Melee","not proficient","1d4","piercing","20/60",1,{"$f":"\"\"","v":""},"finesse",{"$f":"\"\"","v":""},"light",{"$f":"\"\"","v":""},{"$f":"\"\"","v":""},{"$f":"\"\"","v":""},"thrown",{"$f":"\"\"","v":""},{"$f":"\"\"","v":""},{"$f":"\"\"","v":""},{"$f":"\"\"","v":""},"proficient",11,"Light",null,null,null,null,{"$f":"VLOOKUP(Start!AV$137,Tables!$PZ$2:$QQ$500,$QT11,FALSE)","v":""},null,null,null,null,null,null,null,{"$f":"VLOOKUP(Start!BD$137,Tables!$PZ$2:$QQ$500,$QT11,FALSE)","v":""},null,null,null,null,null,null,null,{"$f":"VLOOKUP(Start!BL$137,Tables!$PZ$2:$QQ$500,$QT11,FALSE)","v":""},null,null,null,null,null,null,null,{"$f":"VLOOKUP(Start!BT$137,Tables!$PZ$2:$QQ$500,$QT11,FALSE)","v":""},null,null,null,null,null,null,null,{"$f":"VLOOKUP(Start!CB$137,Tables!$PZ$2:$QQ$500,$QT11,FALSE)","v":""},null,null,null,null,null,null,null,{"$f":"VLOOKUP(Start!CJ$137,Tables!$PZ$2:$QQ$500,$QT11,FALSE)","v":""},null,null,null,"Breast plate","medium",{"$f":"IF(SR11=\"\",\"\",IF(Start!$Y$157=$QS$12,$QS$12&\" (disadvantage)\",IF(Start!$Y$157=$QS$11,$QS$11,IF(VLOOKUP(SR11,$KT$60:$KV$78,2,FALSE)=\"No\",$QS$12&\" (disadvantage)\",$QS$11))))","v":"not proficient (disadvantage)"},14,{"$f":"IF($OY$1>0,IF(DEXMod>3,3,DEXMod),IF(DEXMod>2,2,DEXMod))","v":-5},"-","-",20,{"$f":"ST11&\", Don: 5min, Doff: 1min\"","v":"not proficient (disadvantage), Don: 5min, Doff: 1min"},null,null,null,null,null,null,null,null,null,9,"Animate Objects","LEVEL 5",5,"Animate Objects ᴴ ","ᴴ ","",{"$f":"IF(OR(TK11=Spellcasting!$AC$18,TK11=Spellcasting!$AC$19),\"ᵐ\",\"\")","v":""},{"$f":"IF(OR(TK11=Spellcasting!$AC$20,TK11=Spellcasting!$AC$21),\"ˢ\",\"\")","v":""},{"$f":"\"\"","v":""},"1 act","120 ft","1 min ᶜᵒᶰ","VS",{"$f":"\"\"","v":""},"transmutation","trans","Objects come to life at your command. Choose up to ten nonmagical objects within range that are not being worn or carried. Medium targets count as two objects, Large targets count as four objects, Huge targets count as eight objects. You can’t animate any object larger than Huge. Each target animates and becomes a creature under your control until the spell ends or until reduced to 0 hit points. \n\nAs a bonus action, you can mentally command any creature you made with this spell if the creature is within 500 feet of you (if you control multiple creatures, you can command any or all of them at the same time, issuing the same command to each one). You decide what action the creature will take and where it will move during its next turn, or you can issue a general command, such as to guard a particular chamber or corridor. If you issue no commands, the creature only defends itself against hostile creatures. Once given an order, the creature continues to follow it until its task is complete.\n\nAnimated Object Statistics\nSize          HP    AC    Attack                                      Str  Dex \nTiny          20    18    +8 to hit, 1d4+4 damage         4    18 \nSmall       25    16    +6 to hit, 1d8+2 damage         6    14 \nMedium   40    13    +5 to hit, 2d6+1 damage        10   12 \nLarge       50    10    +6 to hit, 2d10+2 damage      14   10 \nHuge        80    10    +8 to hit, 2d12+4 damage      18    6\n\nAn animated object is a construct with AC, hit points, attacks, Strength, and Dexterity determined by its size. Its Constitution is 10 and its Intelligence and Wisdom are 3, and its Charisma is 1. Its speed is 30 feet; if the object lacks legs or other appendages it can use for locomotion, it instead has a flying speed of 30 feet and can hover. If the object is securely attached to a surface or a larger object, such as a chain bolted to a wall, its speed is 0. It has blindsight with a radius of 30 feet and is blind beyond that distance. When the animated object drops to 0 hit points, it reverts to its original object form, and any remaining damage carries over to its original object form. \n\nIf you command an object to attack, it can make a single melee attack against a creature within 5 feet of it. It makes a slam attack with an attack bonus and bludgeoning damage determined by its size. The DM might rule that a specific object inflicts slashing or piercing damage based on its form. \n\nAt Higher Levels. If you cast this spell using a spell slot of 6th level or higher, you can animate two additional objects for each slot level above 5th.","animate up to 10 objects",{"$f":"IF(UC$1>=$TM11,1,\"0\")","v":"0"},null,null,{"$f":"IF(UF$1>=$TM11,1,\"0\")","v":"0"},null,null,null,null,null,{"$f":"IF(UL$1>=$TM11,1,\"0\")","v":"0"},null,null,null,null,null,null,null,null,null,null,null,null,null,null,null,null,null,null,null,null,null,null,null,null,null,null,null,null,null,null,null,null,null,null,null,null,null,null,null,null,null,null,null,{"$f":"IF(SUM($VZ$1:$WC$1)>0,IF(AND(SUM($VZ11:$WC11)>0,$TM11=WE$1),MAX(WD$2:WD10)+1,\"\"),IF(AND(SUM($UC11:$VY11)>0,$TM11=WE$1),MAX(WD$2:WD10)+1,\"\"))","v":""},"",{"$f":"IF(AND(SUM($UB11:$VY11)>0,$TM11=WG$1),MAX(WF$2:WF10)+1,\"\")","v":""},"",{"$f":"IF(AND(SUM($UB11:$VY11)>0,$TM11=WI$1),MAX(WH$2:WH10)+1,\"\")","v":""},"",{"$f":"IF(AND(SUM($UB11:$VY11)>0,$TM11=WK$1),MAX(WJ$2:WJ10)+1,\"\")","v":""},"",{"$f":"IF(AND(SUM($UB11:$VY11)>0,$TM11=WM$1),MAX(WL$2:WL10)+1,\"\")","v":""},"",{"$f":"IF(AND(SUM($UB11:$VY11)>0,$TM11=WO$1),MAX(WN$2:WN10)+1,\"\")","v":""},"",{"$f":"IF(AND(SUM($UB11:$VY11)>0,$TM11=WQ$1),MAX(WP$2:WP10)+1,\"\")","v":""},"",{"$f":"IF(AND(SUM($UB11:$VY11)>0,$TM11=WS$1),MAX(WR$2:WR10)+1,\"\")","v":""},"",{"$f":"IF(AND(SUM($UB11:$VY11)>0,$TM11=WU$1),MAX(WT$2:WT10)+1,\"\")","v":""},"",{"$f":"IF(AND(SUM($UB11:$VY11)>0,$TM11=WW$1),MAX(WV$2:WV10)+1,\"\")","v":""},"",{"$f":"IF(AND(SUM($UB11:$VY11)>0,$TM11=WY$1),MAX(WX$2:WX10)+1,\"\")","v":""},"",10,"","","","","","","","","","","","Small",7,"Lizard","Beast","Tiny",10,2,"20 ft, climb 20 ft",2,11,10,1,8,3,"none","passive Perception 9, darkvision 30 ft","Bite melee +0, reach 5ft, 1 piercing","none",null,null,{"$f":"\"\"","v":""},null,null,null,null,null,null,null,null,null,null,null,null,null,"Bard",16,{"$f":"VLOOKUP(YY11,$ZE$2:$ZP$23,$ZE$1,FALSE)","v":""},{"$f":"IF(YX11=\"\",\"\",MAX($YW$1:YW10)+1)","v":""},"","",8,{"$f":"IF(ZB11=\"\",\"\",MAX($ZA$2:ZA10)+1)","v":""},"",{"$f":"IF(Start!AF27=SelectText,\"\",Start!AF27)","v":""},{"$f":"IF(OR(COUNTIF($ZC$4:$ZC11,ZD$2)=0,COUNTIF($ZC$4:$ZC11,ZD$2)=MAX(ZD$2:ZD10)),\"-\",COUNTIF($ZC$4:$ZC11,ZD$2))","v":"-"},{"$f":"IF(OR(COUNTIF($ZC$4:$ZC11,ZE$2)=0,COUNTIF($ZC$4:$ZC11,ZE$2)=MAX(ZE$2:ZE10)),\"-\",COUNTIF($ZC$4:$ZC11,ZE$2))","v":"-"},{"$f":"IF(OR(COUNTIF($ZC$4:$ZC11,ZF$2)=0,COUNTIF($ZC$4:$ZC11,ZF$2)=MAX(ZF$2:ZF10)),\"-\",COUNTIF($ZC$4:$ZC11,ZF$2))","v":"-"},{"$f":"IF(OR(COUNTIF($ZC$4:$ZC11,ZG$2)=0,COUNTIF($ZC$4:$ZC11,ZG$2)=MAX(ZG$2:ZG10)),\"-\",COUNTIF($ZC$4:$ZC11,ZG$2))","v":"-"},{"$f":"IF(OR(COUNTIF($ZC$4:$ZC11,ZH$2)=0,COUNTIF($ZC$4:$ZC11,ZH$2)=MAX(ZH$2:ZH10)),\"-\",COUNTIF($ZC$4:$ZC11,ZH$2))","v":"-"},{"$f":"IF(OR(COUNTIF($ZC$4:$ZC11,ZI$2)=0,COUNTIF($ZC$4:$ZC11,ZI$2)=MAX(ZI$2:ZI10)),\"-\",COUNTIF($ZC$4:$ZC11,ZI$2))","v":"-"},{"$f":"IF(OR(COUNTIF($ZC$4:$ZC11,ZJ$2)=0,COUNTIF($ZC$4:$ZC11,ZJ$2)=MAX(ZJ$2:ZJ10)),\"-\",COUNTIF($ZC$4:$ZC11,ZJ$2))","v":"-"},{"$f":"IF(OR(COUNTIF($ZC$4:$ZC11,ZK$2)=0,COUNTIF($ZC$4:$ZC11,ZK$2)=MAX(ZK$2:ZK10)),\"-\",COUNTIF($ZC$4:$ZC11,ZK$2))","v":"-"},{"$f":"IF(OR(COUNTIF($ZC$4:$ZC11,ZL$2)=0,COUNTIF($ZC$4:$ZC11,ZL$2)=MAX(ZL$2:ZL10)),\"-\",COUNTIF($ZC$4:$ZC11,ZL$2))","v":"-"},{"$f":"IF(OR(COUNTIF($ZC$4:$ZC11,ZM$2)=0,COUNTIF($ZC$4:$ZC11,ZM$2)=MAX(ZM$2:ZM10)),\"-\",COUNTIF($ZC$4:$ZC11,ZM$2))","v":"-"},{"$f":"IF(OR(COUNTIF($ZC$4:$ZC11,ZN$2)=0,COUNTIF($ZC$4:$ZC11,ZN$2)=MAX(ZN$2:ZN10)),\"-\",COUNTIF($ZC$4:$ZC11,ZN$2))","v":"-"},{"$f":"IF(OR(COUNTIF($ZC$4:$ZC11,ZO$2)=0,COUNTIF($ZC$4:$ZC11,ZO$2)=MAX(ZO$2:ZO10)),\"-\",COUNTIF($ZC$4:$ZC11,ZO$2))","v":"-"},8,"Sorcerer",5]
["Half-Orc","Medium",30,"Darkvision 60ft","• +2 Strength, +1 Constition\n• Size: Medium\n• Speed: 30ft\n• Darkvision 60ft\n• Menacing: advantage on Charisma [Intimidation] checks\n• Relentless Endurance: if reduced to 0 hit points but not killed outright, drop to 1 hit point. Long rest to reuse. \n• Savage Attacks: critical hits with a melee weapon attack allows one additional roll of one of the weapon’s damage dice and\n   add to the damage of the critical hit\n• Languages: Orcish, Common","Orcish, Common",2,"Intimidation",1,"none",0,2,{"$f":"\"\"","v":""},1,{"$f":"\"\"","v":""},{"$f":"\"\"","v":""},{"$f":"\"\"","v":""},"Half-orcs mature a little faster than humans, reaching adulthood around age 14. They age noticeably faster and rarely live longer than 75 years.","4' 10'' + 2d10","140 lb. x 2d6","Stout","• +1 Constitution\n• Stout Resilience: advantange on poison saving throws, resistance to poison damage",null,{"$f":"IF(Y12=\"\",\"\",MAX($X$3:X11)+1)","v":""},{"$f":"IF(A7=$A$3,U12,\"\")","v":""},9,"",null,null,null,"Noble","Position of Privilege","   Thanks to your noble birth, people are inclined to think the best of you. You are welcome in high society, and people assume\n   you have the right to be wherever you are.","History, Persuasion",2,"One type of gaming set",1,"One of your choice",1,null,11,"",{"$f":"\"\"","v":""},"I’ve spent so long in the temple that I have little practical experience dealing with people in the outside world.","I pocket anything I see that might have some value.","I blow up at the slightest insult.","I change my mood or my mind as quickly as I change key in a song.","I get bored easily. When am I going to get on with my destiny?","I’m well known for my work, and I want to make sure everyone appreciates it. I'm always taken aback when people haven’t heard of me.","I am working on a grand philosophical theory and love sharing my ideas.","If you do me an injury, I will crush you, ruin your name, and salt your fields.","I was, in fact, raised by wolves.","I’m convinced that people are always trying to steal my secrets.\n","I like a job well done, especially if I can convince someone else to do it.","I face problems head-on. A simple, direct solution is the best path to success.","I bluntly say what other people are hinting at or hiding.\n",{"$f":"\"\"","v":""},null,null,null,"Bard",8,{"$f":"IF(BL12=0,\"\",MAX($BK$6:BK11)+1)","v":""},{"$f":"COUNTIF(Start!$AF$20:$AF$39,Tables!BI12)","v":0},{"$f":"IF(OR(BK12=\"\",BO12=\"\"),\"\",MAX($BM$6:BM11)+1)","v":""},"Bard","CHA","","Bard College",3,null,null,null,{"$f":"10","v":10},0,0,{"$f":"\"\"","v":""},"Light armor","Light armor","Simple weapons, hand crossbows, long swords, rapiers, short swords","none","Three musical instruments of your choice",3,"One musical instrument of your choice",1,"Dexterity,  Charisma","Choose any 3",3,{"$f":"IF(BardLoreLevel>=3,\"Choose 1 of your choice\nLore: Choose any 3\",\"Choose 1 of your choice\")","v":"Choose 1 of your choice"},1,{"$f":"\"• Spellcasting, \"&IF(BardLevel>=DA6,\"Bardic Inspiration (d12)\",IF(BardLevel>=CV6,\"Bardic Inspiration (d10)\",IF(BardLevel>=CQ6,\"Bardic Inspiration (d8)\",\"Bardic Inspiration (d6)\")))&\"\n\"","v":"• Spellcasting, Bardic Inspiration (d6)\n"},{"$f":"\"• Jack of All Trades, \"&IF(BardLevel>=DC6,\"Songs of Rest (d12)\",IF(BardLevel>=CY6,\"Songs of Rest (d10)\",IF(BardLevel>=CU6,\"Songs of Rest (d8)\",\"Songs of Rest (d6)\")))&\"\n\"","v":"• Jack of All Trades, Songs of Rest (d6)\n"},{"$f":"\"• Bard College (\"&VLOOKUP($BI12,$BN$3:$BQ$5,4,FALSE)&\"), Expertise (\"&Start!AJ63&\", \"&Start!AJ64&\")\n• Bard College Feature (\"&VLOOKUP($BI12,$DM$3:$EH$5,DQ$2-1,FALSE)&\")\n\"","v":{"$error":"#N/A"}},{"$f":"IF(BardLevel>=DE$6,\"• Ability Score Improvement / Feat: level \"&DE$6&\", \"&DB$6&\", \"&CX$6&\", \"&CT$6&\", \"&CP$6,IF(BardLevel>=DB$6,\"• Ability Score Improvement / Feat: level \"&DB$6&\", \"&CX$6&\", \"&CT$6&\", \"&CP$6,IF(BardLevel>=CX$6,\"• Ability Score Improvement / Feat: level \"&CX$6&\", \"&CT$6&\", \"&CP$6,IF(BardLevel>=CT$6,\"• Ability Score Improvement / Feat : level \"&CT$6&\", \"&CP$6,\"• Ability Score Improvement / Feat: level \"&CP$6))))&\"\n\"","v":"• Ability Score Improvement / Feat: level 4\n"},{"$f":"\"• Fond of Inspiration\n\"","v":"• Fond of Inspiration\n"},{"$f":"\"• Countercharm\n• Bard College Feature (\"&VLOOKUP($BI12,$DM$3:$EH$5,DT$2-1,FALSE)&\")\n\"","v":{"$error":"#N/A"}},{"$f":"\"\"","v":""},{"$f":"\"\"","v":""},{"$f":"\"\"","v":""},{"$f":"\"• Expertise (\"&Start!AJ65&\", \"&Start!AJ66&\"), Magical Secrets 1st\n\"","v":"• Expertise (Select…, Select…), Magical Secrets 1st\n"},{"$f":"\"\"","v":""},{"$f":"\"\"","v":""},{"$f":"\"\"","v":""},{"$f":"\"• Magical Secrets 2nd\n• Bard College Feature (\"&VLOOKUP($BI12,$DM$3:$EH$5,EB$2-1,FALSE)&\")\n\"","v":{"$error":"#N/A"}},{"$f":"\"\"","v":""},{"$f":"\"\"","v":""},{"$f":"\"\"","v":""},{"$f":"\"• Magical Secrets 3rd\n\"","v":"• Magical Secrets 3rd\n"},{"$f":"\"\"","v":""},{"$f":"\"• Superior Inspiration\n\"","v":"• Superior Inspiration\n"},null,null,null,null,null,"Trickery","Cleric",0,{"$f":"\"\n• Divine Domain Feature (Blessing of the Trickster)\n• Domain Spells\"&\"\n\"&EI12","v":"\n• Divine Domain Feature (Blessing of the Trickster)\n• Domain Spells\n"},"Channel Divinity: Turn Undead,  Invoke Duplicity",{"$f":"\"\"","v":""},{"$f":"\"\"","v":""},{"$f":"\"\"","v":""},"Channel Divinity: Cloak of Shadows",{"$f":"\"\"","v":""},{"$f":"IF(ClericLevel>=14,\"Divine Strike 2d8\",\"Divine Strike 1d8\")","v":"Divine Strike 1d8"},{"$f":"\"\"","v":""},{"$f":"\"\"","v":""},{"$f":"\"\"","v":""},{"$f":"\"\"","v":""},{"$f":"\"\"","v":""},{"$f":"\"\"","v":""},{"$f":"\"\"","v":""},{"$f":"\"\"","v":""},"Improved Dupilicty",{"$f":"\"\"","v":""},{"$f":"\"\"","v":""},{"$f":"\"\"","v":""},{"$f":"IF(ClericLevel>=9,\"  1st (charm person, disguise self)\n  3rd (mirror image, pass without trace)\n  5th (blink, dispel magic)\n  7th (dimension door, polymorph)\n  9th (dominate person, modify memory)\",IF(ClericLevel>=7,\"  1st (charm person, disguise self)\n  3rd (mirror image, pass without trace)\n  5th (blink, dispel magic)\n  7th (dimension door, polymorph)\",IF(ClericLevel>=5,\"  1st (charm person, disguise self)\n  3rd (mirror image, pass without trace)\n  5th (blink, dispel magic)\",IF(ClericLevel>=3,\"1st (charm person, disguise self)\n  3rd (mirror image, pass without trace)\",IF(ClericLevel>=1,\"  1st (charm person, disguise self)\",\"\")))))","v":""},{"$f":"IF(ClericLevel>=1,$DM12&\" (charm person, disguise self)\n\",\"\")","v":""},null,{"$f":"IF(ClericLevel>=3,$DM12&\" (mirror image, pass without trace)\n\",\"\")","v":""},null,{"$f":"IF(ClericLevel>=5,$DM12&\" (blink, dispel magic)\n\",\"\")","v":""},null,{"$f":"IF(ClericLevel>=7,$DM12&\" (dimension door, polymorph)\n\",\"\")","v":""},null,{"$f":"IF(ClericLevel>=9,$DM12&\" (dominate person, modify memory)\n\",\"\")","v":""},null,{"$f":"\"\"","v":""},{"$f":"\"\"","v":""},{"$f":"\"\"","v":""},{"$f":"\"\"","v":""},{"$f":"\"\"","v":""},{"$f":"\"\"","v":""},null,{"$f":"IF($DM12=FB$5,MAX(FA$6:FA11)+1,\"\")","v":""},"",7,"",{"$f":"IF($DM12=FF$5,MAX(FE$6:FE11)+1,\"\")","v":""},"",7,"",{"$f":"IF($DM12=FJ$5,MAX(FI$6:FI11)+1,\"\")","v":""},"",7,"","Investigation",{"$f":"Start!L73","v":0},{"$f":"IF($FM12=$FP12,MAX(FO$3:FO11)+1,\"\")","v":""},"",10,"",null,null,null,null,5,"",null,null,null,"Parry","   When another creature damages you with a melee attack, use your reaction and expend one superiority die to reduce the\n   damage by the number you roll on your superiority die + your Dexterity modifier.",10,15,"","MANEUVER 10",{"$f":"Start!AJ87","v":"Select…"},"",{"$f":"IF(GF12=TRUE,\"\n \"&GH12&\"\n\"&GI12,\"\")","v":""},null,null,null,null,null,null,"Mist Stance","   Spend 4 ki points to cast gaseous form, targeting yourself.",11,4,{"$f":"IF(GV12=\"\",\"\",MAX($GU$3:GU11)+1)","v":""},"",10,"",null,null,null,null,null,null,null,null,null,null,null,null,"giants",{"$f":"\"\"","v":""},"eladrin",null,null,null,null,null,null,null,null,null,null,"Steel Will",null,null,null,null,null,null,null,null,null,{"$f":"IF(IJ12=1,MAX($IH$2:IH11)+1,\"\")","v":""},"Dreadful Word",{"$f":"IF(WarlockLevel>=7,1,\"\")","v":""},"   You can cast confusion once using a warlock spell slot. You can’t do so again until you finish a long rest.",10,"Misty Visions",null,null,null,null,null,null,null,"CE","Chaotic Evil","Chaotic evil creatures act with arbitrary violence, spurred by their greed, hatred, or bloodlust. Demons, red dragons, and orcs are chaotic evil.","Deneir (NG)","God of writing","Neutral Good","Knowledge","Lit candle above an open eye",{"$f":"IF(JD12=\"\",\"\",MAX($JC$1:JC11)+1)","v":""},{"$f":"IF(RogueLevel>=1,\"Thieve's cant\",\"\")","v":""},null,11,"Celestial",11,85000,11,4,null,10,4,3,3,3,2,"-","-","-","-",5,"Cantrips","Warlock","CHA","KNOWN",{"$f":"VLOOKUP(WarlockLevel,$KD$1:$KJ$22,$KC12,FALSE)","v":{"$error":"#N/A"}},7,10,7,14,7,6,11,10,10,5,5,3,4,4,6,4,null,{"$f":"SelectText","v":"Select…"},null,null,null,null,null,null,null,null,null,null,null,null,null,null,null,null,null,null,null,null,null,null,null,null,null,null,null,null,null,null,null,null,null,null,null,null,null,null,null,null,null,null,null,null,null,null,null,null,null,null,null,null,null,null,null,null,null,null,null,null,null,null,null,null,null,null,null,null,null,null,null,null,null,null,null,null,null,null,null,null,null,null,null,null,null,null,null,null,null,null,null,null,null,null,null,null,null,null,null,null,null,null,null,null,null,null,null,null,null,null,null,null,null,null,null,null,null,null,null,null,null,null,null,null,null,null,null,null,null,null,null,null,null,null,null,"Dart","Simple Ranged","not proficient","1d4","piercing","20/60",0.25,{"$f":"\"\"","v":""},"finesse",{"$f":"\"\"","v":""},{"$f":"\"\"","v":""},{"$f":"\"\"","v":""},{"$f":"\"\"","v":""},{"$f":"\"\"","v":""},"thrown",{"$f":"\"\"","v":""},{"$f":"\"\"","v":""},{"$f":"\"\"","v":""},{"$f":"\"\"","v":""},"not proficient",12,"Loading",null,null,null,null,{"$f":"VLOOKUP(Start!AV$137,Tables!$PZ$2:$QQ$500,$QT12,FALSE)","v":""},null,null,null,null,null,null,null,{"$f":"VLOOKUP(Start!BD$137,Tables!$PZ$2:$QQ$500,$QT12,FALSE)","v":""},null,null,null,null,null,null,null,{"$f":"VLOOKUP(Start!BL$137,Tables!$PZ$2:$QQ$500,$QT12,FALSE)","v":""},null,null,null,null,null,null,null,{"$f":"VLOOKUP(Start!BT$137,Tables!$PZ$2:$QQ$500,$QT12,FALSE)","v":""},null,null,null,null,null,null,null,{"$f":"VLOOKUP(Start!CB$137,Tables!$PZ$2:$QQ$500,$QT12,FALSE)","v":""},null,null,null,null,null,null,null,{"$f":"VLOOKUP(Start!CJ$137,Tables!$PZ$2:$QQ$500,$QT12,FALSE)","v":""},null,null,null,"Half plate","medium",{"$f":"IF(SR12=\"\",\"\",IF(Start!$Y$157=$QS$12,$QS$12&\" (disadvantage)\",IF(Start!$Y$157=$QS$11,$QS$11,IF(VLOOKUP(SR12,$KT$60:$KV$78,2,FALSE)=\"No\",$QS$12&\" (disadvantage)\",$QS$11))))","v":"not proficient (disadvantage)"},15,{"$f":"IF($OY$1>0,IF(DEXMod>3,3,DEXMod),IF(DEXMod>2,2,DEXMod))","v":-5},"-","Disadvantage",40,{"$f":"ST12&\", Don: 5min, Doff: 1min\"","v":"not proficient (disadvantage), Don: 5min, Doff: 1min"},null,null,null,null,null,null,null,null,null,10,"Antilife Shell","LEVEL 5",5,"Antilife Shell ",{"$f":"\"\"","v":""},"",{"$f":"IF(OR(TK12=Spellcasting!$AC$18,TK12=Spellcasting!$AC$19),\"ᵐ\",\"\")","v":""},{"$f":"IF(OR(TK12=Spellcasting!$AC$20,TK12=Spellcasting!$AC$21),\"ˢ\",\"\")","v":""},{"$f":"\"\"","v":""},"1 act","self","1 hr ᶜᵒᶰ","VS",{"$f":"\"\"","v":""},"abjuration","abjur","A shimmering barrier extends out from you in a 10-foot radius and moves with you, remaining centered on you and hedging out creatures other than undead and constructs. The barrier lasts for the duration. \n\nThe barrier prevents an affected creature from passing or reaching through. An affected creature can cast spells or make attacks with ranged or reach weapons through the barrier. \n\nIf you move so that an affected creature is forced to pass through the barrier, the spell ends.","10ft rad barrier, prevents creatures except undead & constructs",null,null,null,null,null,null,{"$f":"IF(UI$1>=$TM12,1,\"0\")","v":"0"},null,null,null,null,null,null,null,null,null,null,null,null,null,null,null,null,null,null,null,null,null,null,null,null,null,null,null,null,null,null,null,null,null,null,null,null,null,null,null,null,null,null,null,null,null,null,{"$f":"IF(SUM($VZ$1:$WC$1)>0,IF(AND(SUM($VZ12:$WC12)>0,$TM12=WE$1),MAX(WD$2:WD11)+1,\"\"),IF(AND(SUM($UC12:$VY12)>0,$TM12=WE$1),MAX(WD$2:WD11)+1,\"\"))","v":""},"",{"$f":"IF(AND(SUM($UB12:$VY12)>0,$TM12=WG$1),MAX(WF$2:WF11)+1,\"\")","v":""},"",{"$f":"IF(AND(SUM($UB12:$VY12)>0,$TM12=WI$1),MAX(WH$2:WH11)+1,\"\")","v":""},"",{"$f":"IF(AND(SUM($UB12:$VY12)>0,$TM12=WK$1),MAX(WJ$2:WJ11)+1,\"\")","v":""},"",{"$f":"IF(AND(SUM($UB12:$VY12)>0,$TM12=WM$1),MAX(WL$2:WL11)+1,\"\")","v":""},"",{"$f":"IF(AND(SUM($UB12:$VY12)>0,$TM12=WO$1),MAX(WN$2:WN11)+1,\"\")","v":""},"",{"$f":"IF(AND(SUM($UB12:$VY12)>0,$TM12=WQ$1),MAX(WP$2:WP11)+1,\"\")","v":""},"",{"$f":"IF(AND(SUM($UB12:$VY12)>0,$TM12=WS$1),MAX(WR$2:WR11)+1,\"\")","v":""},"",{"$f":"IF(AND(SUM($UB12:$VY12)>0,$TM12=WU$1),MAX(WT$2:WT11)+1,\"\")","v":""},"",{"$f":"IF(AND(SUM($UB12:$VY12)>0,$TM12=WW$1),MAX(WV$2:WV11)+1,\"\")","v":""},"",{"$f":"IF(AND(SUM($UB12:$VY12)>0,$TM12=WY$1),MAX(WX$2:WX11)+1,\"\")","v":""},"",11,"","","","","","","","","","","","Medium",8,"Octopus","Beast","Tiny",12,3,"5 ft, swim 30ft",4,15,11,3,10,4,"Perception +2, Stealth +4","passive Perception 12, darkvision 30 ft","Tentacles melee +4, reach 5ft, 1 bludgeoning. [Ink Cloud 5ft rad. 1min]","Hold Breath. While out of water can hold its breath for 30 minutes\nUnderwater Camouflage. Advantage on Dexterity (Stealth) checks made while underwater\nWater Breathing. Can breathe only underwater",null,null,{"$f":"\"\"","v":""},"name","prerequisite","description","short",null,null,null,null,null,null,null,null,null,"Bard",19,{"$f":"VLOOKUP(YY12,$ZE$2:$ZP$23,$ZE$1,FALSE)","v":""},{"$f":"IF(YX12=\"\",\"\",MAX($YW$1:YW11)+1)","v":""},"","",9,{"$f":"IF(ZB12=\"\",\"\",MAX($ZA$2:ZA11)+1)","v":""},"",{"$f":"IF(Start!AF28=SelectText,\"\",Start!AF28)","v":""},{"$f":"IF(OR(COUNTIF($ZC$4:$ZC12,ZD$2)=0,COUNTIF($ZC$4:$ZC12,ZD$2)=MAX(ZD$2:ZD11)),\"-\",COUNTIF($ZC$4:$ZC12,ZD$2))","v":"-"},{"$f":"IF(OR(COUNTIF($ZC$4:$ZC12,ZE$2)=0,COUNTIF($ZC$4:$ZC12,ZE$2)=MAX(ZE$2:ZE11)),\"-\",COUNTIF($ZC$4:$ZC12,ZE$2))","v":"-"},{"$f":"IF(OR(COUNTIF($ZC$4:$ZC12,ZF$2)=0,COUNTIF($ZC$4:$ZC12,ZF$2)=MAX(ZF$2:ZF11)),\"-\",COUNTIF($ZC$4:$ZC12,ZF$2))","v":"-"},{"$f":"IF(OR(COUNTIF($ZC$4:$ZC12,ZG$2)=0,COUNTIF($ZC$4:$ZC12,ZG$2)=MAX(ZG$2:ZG11)),\"-\",COUNTIF($ZC$4:$ZC12,ZG$2))","v":"-"},{"$f":"IF(OR(COUNTIF($ZC$4:$ZC12,ZH$2)=0,COUNTIF($ZC$4:$ZC12,ZH$2)=MAX(ZH$2:ZH11)),\"-\",COUNTIF($ZC$4:$ZC12,ZH$2))","v":"-"},{"$f":"IF(OR(COUNTIF($ZC$4:$ZC12,ZI$2)=0,COUNTIF($ZC$4:$ZC12,ZI$2)=MAX(ZI$2:ZI11)),\"-\",COUNTIF($ZC$4:$ZC12,ZI$2))","v":"-"},{"$f":"IF(OR(COUNTIF($ZC$4:$ZC12,ZJ$2)=0,COUNTIF($ZC$4:$ZC12,ZJ$2)=MAX(ZJ$2:ZJ11)),\"-\",COUNTIF($ZC$4:$ZC12,ZJ$2))","v":"-"},{"$f":"IF(OR(COUNTIF($ZC$4:$ZC12,ZK$2)=0,COUNTIF($ZC$4:$ZC12,ZK$2)=MAX(ZK$2:ZK11)),\"-\",COUNTIF($ZC$4:$ZC12,ZK$2))","v":"-"},{"$f":"IF(OR(COUNTIF($ZC$4:$ZC12,ZL$2)=0,COUNTIF($ZC$4:$ZC12,ZL$2)=MAX(ZL$2:ZL11)),\"-\",COUNTIF($ZC$4:$ZC12,ZL$2))","v":"-"},{"$f":"IF(OR(COUNTIF($ZC$4:$ZC12,ZM$2)=0,COUNTIF($ZC$4:$ZC12,ZM$2)=MAX(ZM$2:ZM11)),\"-\",COUNTIF($ZC$4:$ZC12,ZM$2))","v":"-"},{"$f":"IF(OR(COUNTIF($ZC$4:$ZC12,ZN$2)=0,COUNTIF($ZC$4:$ZC12,ZN$2)=MAX(ZN$2:ZN11)),\"-\",COUNTIF($ZC$4:$ZC12,ZN$2))","v":"-"},{"$f":"IF(OR(COUNTIF($ZC$4:$ZC12,ZO$2)=0,COUNTIF($ZC$4:$ZC12,ZO$2)=MAX(ZO$2:ZO11)),\"-\",COUNTIF($ZC$4:$ZC12,ZO$2))","v":"-"},9,"Warlock",5,"Martial Adept",{"$f":"IF(COUNTIF($YH$3:$YH$10,ZS12)>0,ZS12&\" Level - \"&VLOOKUP(ZS12,YH3:YS10,12,FALSE),\"\")","v":""}]
["Tiefling","Medium",30,"Darkvision 60ft",{"$f":"\"• +1 Intelligence, +2 Charisma\n• Size: Medium\n• Speed: 30ft\n• Darkvision 60ft\n• Hellish Resistance: resistance to fire damage\n• Infernal Legacy: know thaumaturgy cantrip\"&IF(CharacterLevel>=3,\", once per day - hellish rebuke as a 2nd-level spell\",\"\")&IF(CharacterLevel>=5,\", darkness\",\"\")&\" (Cha)\n• Languages: Infernal, Common\"","v":"• +1 Intelligence, +2 Charisma\n• Size: Medium\n• Speed: 30ft\n• Darkvision 60ft\n• Hellish Resistance: resistance to fire damage\n• Infernal Legacy: know thaumaturgy cantrip (Cha)\n• Languages: Infernal, Common"},"Infernal, Common",2,"none",0,"none",0,{"$f":"\"\"","v":""},{"$f":"\"\"","v":""},{"$f":"\"\"","v":""},1,{"$f":"\"\"","v":""},2,"Tieflings mature at the same rate as humans but live a few years longer.","4' 9'' + 2d8","110 lb. x 2d4","Forest","• +1 Dexterity\n• Natural Illusionist: know the minor illusion cantrip (Int)\n• Speak with Small Beasts: communicate simple ideas to Small or smaller beasts",null,{"$f":"IF(Y13=\"\",\"\",MAX($X$3:X12)+1)","v":""},{"$f":"IF(A10=$A$3,U13,\"\")","v":""},10,"",null,null,null,"Outlander","Wanderer","   You have an excellent memory for maps and geography, and can always recall the general layout of terrain, settlements, and\n   other features around you. In addition, you can find food and fresh water for yourself and up to five other people each day,\n   provided that the land offers berries, small game, water, and so forth.","Atheletics, Survival",2,"One type of musical instrument",1,"One of your choice",1,null,12,{"$f":"HLOOKUP(CharacterBackground,$AQ$2:$BD$53,$AO13,FALSE)","v":""},{"$f":"\"\"","v":""},{"$f":"\"\"","v":""},{"$f":"\"\"","v":""},{"$f":"\"\"","v":""},{"$f":"\"\"","v":""},{"$f":"\"\"","v":""},{"$f":"\"\"","v":""},{"$f":"\"\"","v":""},{"$f":"\"\"","v":""},{"$f":"\"\"","v":""},{"$f":"\"\"","v":""},{"$f":"\"\"","v":""},{"$f":"\"\"","v":""},{"$f":"\"\"","v":""},{"$f":"\"\"","v":""},null,null,null,"Druid",8,{"$f":"IF(BL13=0,\"\",MAX($BK$6:BK12)+1)","v":""},{"$f":"COUNTIF(Start!$AF$20:$AF$39,Tables!BI13)","v":0},{"$f":"IF(OR(BK13=\"\",BO13=\"\"),\"\",MAX($BM$6:BM12)+1)","v":""},"Druid","WIS","","Druid Circle",2,null,null,null,10,0,0,{"$f":"\"\"","v":""},"Light & medium armor, shields (non-metal)","Light & medium armor, shields (non-metal)","Club, dagger, dart, javelin, mace, quartstaff, scimitar, sickle, sling, spear","none","Herbalism kit",1,"none",0,"Intelligence, Wisdom","Choose 2 from Arcana, Animal Handling, Insight, Medicine, Nature, Perception, Religion, and Survival",2,"none",0,{"$f":"\"• Druidic, Spellcasting\n\"","v":"• Druidic, Spellcasting\n"},{"$f":"\"• Druid Circle (\"&VLOOKUP($BI13,$BN$3:$BQ$5,4,FALSE)&IF(DruidLandLevel>=1,\" - \"&DruidLandOrigin,\"\")&\")\n• Wild Shape: \"&IF(DruidLandLevel>=8,\"1 action, max CR 1, No limitations, \"&ROUNDDOWN(DruidLevel/2,0)&\" hours\",IF(DruidLandLevel>=4,\"1 action, max CR ½, No flying, \"&ROUNDDOWN(DruidLevel/2,0)&\" hours\",IF(DruidLandLevel>=2,\"1 action, max CR ¼, No flying or swimming speed, \"&ROUNDDOWN(DruidLevel/2,0)&\" hours\",\"\")))&IF(DruidMoonLevel>=8,\"1 bonus action, max CR \"&ROUNDDOWN(DruidLevel/3,0)&\", No limitations, \"&ROUNDDOWN(DruidLevel/2,0)&\" hours\",IF(DruidMoonLevel>=4,\"1 bonus action, max CR \"&ROUNDDOWN(DruidLevel/3,0)&\", No flying, \"&ROUNDDOWN(DruidLevel/2,0)&\" hours\",IF(DruidMoonLevel>=4,\"1 bonus action, max CR 1, No flying, \"&ROUNDDOWN(DruidLevel/2,0)&\" hours\",IF(DruidMoonLevel>=2,\"1 bonus action, max CR 1, No flying or swimming speed, \"&ROUNDDOWN(DruidLevel/2,0)&\" hours\",\"\"))))&\"\n\"&VLOOKUP($BI13,$DM$3:$EH$5,DP$2-1,FALSE)&\"\n\"","v":{"$error":"#N/A"}},{"$f":"\"\"","v":""},{"$f":"IF(DruidLevel>=DE$6,\"• Ability Score Improvement / Feat: level \"&DE$6&\", \"&DB$6&\", \"&CX$6&\", \"&CT$6&\", \"&CP$6,IF(DruidLevel>=DB$6,\"• Ability Score Improvement / Feat: level \"&DB$6&\", \"&CX$6&\", \"&CT$6&\", \"&CP$6,IF(DruidLevel>=CX$6,\"• Ability Score Improvement / Feat: level \"&CX$6&\", \"&CT$6&\", \"&CP$6,IF(DruidLevel>=CT$6,\"• Ability Score Improvement / Feat : level \"&CT$6&\", \"&CP$6,\"• Ability Score Improvement / Feat: level \"&CP$6))))&\"\n\"","v":"• Ability Score Improvement / Feat: level 4\n"},{"$f":"\"\"","v":""},{"$f":"\"• Druid Circle Feature (\"&VLOOKUP($BI13,$DM$3:$EH$5,DT$2-1,FALSE)&\")\"&\"\n\"","v":{"$error":"#N/A"}},{"$f":"\"\"","v":""},{"$f":"\"\"","v":""},{"$f":"\"\"","v":""},{"$f":"\"• Druid Circle Feature (\"&VLOOKUP($BI13,$DM$3:$EH$5,DX$2-1,FALSE)&\")\"&\"\n\"","v":{"$error":"#N/A"}},{"$f":"\"\"","v":""},{"$f":"\"\"","v":""},{"$f":"\"\"","v":""},{"$f":"\"• Druid Circle Feature (\"&VLOOKUP($BI13,$DM$3:$EH$5,EB$2-1,FALSE)&\")\"&\"\n\"","v":{"$error":"#N/A"}},{"$f":"\"\"","v":""},{"$f":"\"\"","v":""},{"$f":"\"\"","v":""},{"$f":"\"• Timeless Body, Beast Spells\"&\"\n\"","v":"• Timeless Body, Beast Spells\n"},{"$f":"\"\"","v":""},{"$f":"\"• Archdruid: Wild Shape an unlimited number of times\n\"","v":"• Archdruid: Wild Shape an unlimited number of times\n"},null,null,null,null,null,"War","Cleric",0,{"$f":"\"Bonus Proficiency (Martial Weapons, Heavy Armor)\n• Divine Domain Feature (War Priest: additional attack \"&IF(WISMod<1,1,WISMod)&\" times per day as a bonus action)\n• Domain Spells\"&\"\n\"&EI13","v":"Bonus Proficiency (Martial Weapons, Heavy Armor)\n• Divine Domain Feature (War Priest: additional attack 1 times per day as a bonus action)\n• Domain Spells\n"},"Channel Divinity: Turn Undead, Guided Strike",{"$f":"\"\"","v":""},{"$f":"\"\"","v":""},{"$f":"\"\"","v":""},"Channel Divinity: War God's Blessing",{"$f":"\"\"","v":""},{"$f":"IF(ClericLevel>=14,\"Divine Strike 2d8\",\"Divine Strike 1d8\")","v":"Divine Strike 1d8"},{"$f":"\"\"","v":""},{"$f":"\"\"","v":""},{"$f":"\"\"","v":""},{"$f":"\"\"","v":""},{"$f":"\"\"","v":""},{"$f":"\"\"","v":""},{"$f":"\"\"","v":""},{"$f":"\"\"","v":""},"Avatar of Battle",{"$f":"\"\"","v":""},{"$f":"\"\"","v":""},{"$f":"\"\"","v":""},{"$f":"IF(ClericLevel>=9,\"  1st (divine favor, shield of faith)\n  3rd (magic weapon, spirtual weapon)\n  5th (crusader's mantle, spirit guardians)\n  7th (freedom of movement, stoneskin)\n  9th (flame strike, hold monster)\",IF(ClericLevel>=7,\"  1st (divine favor, shield of faith)\n  3rd (magic weapon, spirtual weapon)\n  5th (crusader's mantle, spirit guardians)\n  7th (freedom of movement, stoneskin)\",IF(ClericLevel>=5,\"  1st (divine favor, shield of faith)\n  3rd (magic weapon, spirtual weapon)\n  5th (crusader's mantle, spirit guardians)\",IF(ClericLevel>=3,\"  1st (divine favor, shield of faith)\n  3rd (magic weapon, spirtual weapon)\",IF(ClericLevel>=1,\"  1st (divine favor, shield of faith)\",\"\")))))","v":""},{"$f":"IF(ClericLevel>=1,$DM13&\" (divine favor, shield of faith)\n\",\"\")","v":""},null,{"$f":"IF(ClericLevel>=3,$DM13&\" (magic weapon, spirtual weapon)\n\",\"\")","v":""},null,{"$f":"IF(ClericLevel>=5,$DM13&\" (crusader's mantle, spirit guardians)\n\",\"\")","v":""},null,{"$f":"IF(ClericLevel>=7,$DM13&\" (freedom of movement, stoneskin)\n\",\"\")","v":""},null,{"$f":"IF(ClericLevel>=9,$DM13&\" (flame strike, hold monster)\n\",\"\")","v":""},null,{"$f":"\"\"","v":""},{"$f":"\"\"","v":""},{"$f":"\"\"","v":""},{"$f":"\"\"","v":""},{"$f":"\"\"","v":""},{"$f":"\"\"","v":""},null,{"$f":"IF($DM13=FB$5,MAX(FA$6:FA12)+1,\"\")","v":""},"",8,"",{"$f":"IF($DM13=FF$5,MAX(FE$6:FE12)+1,\"\")","v":""},"",8,"",{"$f":"IF($DM13=FJ$5,MAX(FI$6:FI12)+1,\"\")","v":""},"",8,"","Medicine",{"$f":"Start!X65","v":0},{"$f":"IF($FM13=$FP13,MAX(FO$3:FO12)+1,\"\")","v":""},"",11,"",null,null,null,null,6,"",null,null,null,"Precision Attack","   When you make a weapon attack roll against a creature, expend one superiority die to add it to the roll. You can use this\n   maneuver before or after making the attack roll, but before any effects of the attack are applied.",11,15,"","MANEUVER 11",{"$f":"Start!AJ88","v":"Select…"},"","",null,null,null,null,null,null,"Ride the Wind","   Spend 4 ki points to cast fly, targeting yourself.",11,4,{"$f":"IF(GV13=\"\",\"\",MAX($GU$3:GU12)+1)","v":""},"",11,"",null,null,null,null,null,null,null,null,null,null,null,null,"monstrosities",{"$f":"\"\"","v":""},"elf",null,null,null,null,null,null,null,null,null,null,null,null,null,null,null,null,null,null,null,null,{"$f":"IF(IJ13=1,MAX($IH$2:IH12)+1,\"\")","v":5},"Eldritch Sight",{"$f":"1","v":1},"   You can cast detect magic at will, without expending a spell slot.",11,"Repelling Blast",null,null,null,null,null,null,null,null,null,null,"Eldath (NG)","Goddess of peace","Neutral Good","Life, Nature","Waterfall plunging into still pool",{"$f":"IF(JD13=\"\",\"\",MAX($JC$1:JC12)+1)","v":10},"Abyssal","Infernal",12,"Deep Speech",12,100000,12,4,null,11,{"$f":"IF($JX$9=TRUE,VLOOKUP($JM13,$JM$33:$JW$52,JN$2+1),IF(OR(RogueArcaneTricksterLevel>0,FighterEldritchKnightLevel>0),VLOOKUP($JM13,$JM$56:$JW$75,JN$2+1,FALSE),IF(OR(PaladinLevel>0,RangerLevel>0),VLOOKUP($JM13,$JM$79:$JW$98,JN$2+1,FALSE),VLOOKUP($JM13,$JM$33:$JW$52,JN$2+1,FALSE))))","v":4},3,3,3,2,1,"-","-","-",6,{"$f":"SUM(KL23:KR23)","v":0},null,null,null,null,null,11,8,15,8,7,12,11,11,5,5,3,4,4,6,4,null,"-- Artisan’s tools",{"$f":"IF(COUNTIF(KW13:PT13,\"><\"),\"Yes\",\"No\")","v":"No"},"Tools",null,null,null,null,null,null,null,null,null,null,null,null,null,null,null,null,null,null,null,null,null,null,null,null,null,null,null,null,null,null,null,null,null,null,null,null,null,null,null,null,null,null,null,null,null,null,null,null,null,null,null,null,null,null,null,null,null,null,null,null,null,null,null,null,null,null,null,null,null,null,null,null,null,null,null,null,null,null,null,null,null,null,null,null,null,null,null,null,null,null,null,null,null,null,null,null,null,null,null,null,null,null,null,null,null,null,null,null,null,null,null,null,null,null,null,null,null,null,null,null,null,null,null,null,null,null,{"$f":"IF(COUNTIF(Start!$AX$59:$BF$68,Tables!KT13)>0,Tables!KT13,\"\")","v":""},null,{"$f":"IF(COUNTIF(KW13:PT13,\"><\"),KT13,\"\")","v":""},{"$f":"IF(PU13=\"\",\"\",IF(COUNTIF(PU13:$PU$57,\"><\")>1,PU13&\", \", PU13))","v":""},null,null,null,"Flail","Martial Melee","not proficient","1d8","bludgeoning","-",2,{"$f":"\"\"","v":""},{"$f":"\"\"","v":""},{"$f":"\"\"","v":""},{"$f":"\"\"","v":""},{"$f":"\"\"","v":""},{"$f":"\"\"","v":""},{"$f":"\"\"","v":""},{"$f":"\"\"","v":""},{"$f":"\"\"","v":""},{"$f":"\"\"","v":""},{"$f":"\"\"","v":""},{"$f":"\"\"","v":""},null,13,"Mounted",null,null,null,null,{"$f":"VLOOKUP(Start!AV$137,Tables!$PZ$2:$QQ$500,$QT13,FALSE)","v":""},null,null,null,null,null,null,null,{"$f":"VLOOKUP(Start!BD$137,Tables!$PZ$2:$QQ$500,$QT13,FALSE)","v":""},null,null,null,null,null,null,null,{"$f":"VLOOKUP(Start!BL$137,Tables!$PZ$2:$QQ$500,$QT13,FALSE)","v":""},null,null,null,null,null,null,null,{"$f":"VLOOKUP(Start!BT$137,Tables!$PZ$2:$QQ$500,$QT13,FALSE)","v":""},null,null,null,null,null,null,null,{"$f":"VLOOKUP(Start!CB$137,Tables!$PZ$2:$QQ$500,$QT13,FALSE)","v":""},null,null,null,null,null,null,null,{"$f":"VLOOKUP(Start!CJ$137,Tables!$PZ$2:$QQ$500,$QT13,FALSE)","v":""},null,null,null,"Ring mail","heavy",{"$f":"IF(SR13=\"\",\"\",IF(Start!$Y$157=$QS$12,$QS$12&\" (disadvantage)\",IF(Start!$Y$157=$QS$11,$QS$11,IF(VLOOKUP(SR13,$KT$60:$KV$78,2,FALSE)=\"No\",$QS$12&\" (disadvantage)\",$QS$11))))","v":"not proficient (disadvantage)"},14,0,"-","Disadvantage",40,{"$f":"ST13&\", Don: 10min, Doff: 5min\"","v":"not proficient (disadvantage), Don: 10min, Doff: 5min"},null,null,null,null,null,null,null,null,null,11,"Antimagic Field","LEVEL 8",8,"Antimagic Field ",{"$f":"\"\"","v":""},"",{"$f":"IF(OR(TK13=Spellcasting!$AC$18,TK13=Spellcasting!$AC$19),\"ᵐ\",\"\")","v":""},{"$f":"IF(OR(TK13=Spellcasting!$AC$20,TK13=Spellcasting!$AC$21),\"ˢ\",\"\")","v":""},{"$f":"\"\"","v":""},"1 act","self","1 hr ᶜᵒᶰ","VSM","a pinch of powdered iron or iron filings","abjuration","abjur","A 10-foot-radius invisible sphere of antimagic surrounds you. This area is divorced from the magical energy that suffuses the multiverse. Within the sphere, spells can’t be cast, summoned creatures disappear, and even magic items become mundane. Until the spell ends, the sphere moves with you, centered on you. \n\nSpells and other magical effects, except those created by an artifact or a deity, are suppressed in the sphere and can’t protrude into it. A slot expended to cast a suppressed spell is consumed. While an effect is suppressed, it doesn’t function, but the time it spends suppressed counts against its duration. \n\nTargeted Effects. Spells and other magical effects, such as magic missile and charm person, that target a creature or an object in the sphere have no effect on that target.\n\nAreas of Magic. The area of another spell or magical effect, such as fireball, can’t extend into the sphere. If the sphere overlaps an area of magic, the part of the area that is covered by the sphere is suppressed. For example, the flames created by a wall of fire are suppressed within the sphere, creating a gap in the wall if the overlap is large enough. \n\nSpells. Any active spell or other magical effect on a creature or an object in the sphere is suppressed while the creature or object is in it. \n\nMagic Items. The properties and powers of magic items are suppressed in the sphere. For example, a +1 longsword in the sphere functions as a nonmagical longsword. A magic weapon’s properties and powers are suppressed if it is used against a target in the sphere or wielded by an attacker in the sphere. If a magic weapon or a piece of magic ammunition fully leaves the sphere (for example, if you fire a magic arrow or throw a magic spear at a target outside the sphere), the magic of the item ceases to be suppressed as soon as it exits. \n\nMagical Travel. Teleportation and planar travel fail to work in the sphere, whether the sphere is the destination or the departure point for such magical travel. A portal to another location, world, or plane of existence, as well as an opening to an extradimensional space such as that created by the rope trick spell, temporarily closes while in the sphere. \n\nCreatures and Objects. A creature or object summoned or created by magic temporarily winks out of existence in the sphere. Such a creature instantly reappears once the space the creature occupied is no longer within the sphere. Dispel Magic. Spells and magical effects such as dispel magic have no effect on the sphere. Likewise, the spheres created by different antimagic field spells don’t nullify each other.","10ft rad invisible sphere of antimagic",null,null,null,null,null,{"$f":"IF(UH$1>=$TM13,1,\"0\")","v":"0"},null,null,null,{"$f":"IF(UL$1>=$TM13,1,\"0\")","v":"0"},null,null,null,null,null,null,null,null,null,null,null,null,null,null,null,null,null,null,null,null,null,null,null,null,null,null,null,null,null,null,null,null,null,null,null,null,null,null,null,null,null,null,null,{"$f":"IF(SUM($VZ$1:$WC$1)>0,IF(AND(SUM($VZ13:$WC13)>0,$TM13=WE$1),MAX(WD$2:WD12)+1,\"\"),IF(AND(SUM($UC13:$VY13)>0,$TM13=WE$1),MAX(WD$2:WD12)+1,\"\"))","v":""},"",{"$f":"IF(AND(SUM($UB13:$VY13)>0,$TM13=WG$1),MAX(WF$2:WF12)+1,\"\")","v":""},"",{"$f":"IF(AND(SUM($UB13:$VY13)>0,$TM13=WI$1),MAX(WH$2:WH12)+1,\"\")","v":""},"",{"$f":"IF(AND(SUM($UB13:$VY13)>0,$TM13=WK$1),MAX(WJ$2:WJ12)+1,\"\")","v":""},"",{"$f":"IF(AND(SUM($UB13:$VY13)>0,$TM13=WM$1),MAX(WL$2:WL12)+1,\"\")","v":""},"",{"$f":"IF(AND(SUM($UB13:$VY13)>0,$TM13=WO$1),MAX(WN$2:WN12)+1,\"\")","v":""},"",{"$f":"IF(AND(SUM($UB13:$VY13)>0,$TM13=WQ$1),MAX(WP$2:WP12)+1,\"\")","v":""},"",{"$f":"IF(AND(SUM($UB13:$VY13)>0,$TM13=WS$1),MAX(WR$2:WR12)+1,\"\")","v":""},"",{"$f":"IF(AND(SUM($UB13:$VY13)>0,$TM13=WU$1),MAX(WT$2:WT12)+1,\"\")","v":""},"",{"$f":"IF(AND(SUM($UB13:$VY13)>0,$TM13=WW$1),MAX(WV$2:WV12)+1,\"\")","v":""},"",{"$f":"IF(AND(SUM($UB13:$VY13)>0,$TM13=WY$1),MAX(WX$2:WX12)+1,\"\")","v":""},"",12,"","","","","","","","","","","","Large",9,"Owl","Beast","Tiny",11,1,"5 ft, fly 60 ft",3,13,8,2,12,7,"Perception +3, Stealth +3","passive Perception 13, darkvision 120 ft","Talons melee +3, reach 5ft, 1 slashing","Flyby. Provokes no opportunity attacks when it flies out of an enemy’s reach\nKeen Sight. Advantage on Wisdom (Perception) checks that rely on sight",null,null,null,{"$f":"SelectText","v":"Select…"},{"$f":"\"\"","v":""},{"$f":"\"\"","v":""},{"$f":"\"\"","v":""},{"$f":"\"\"","v":""},{"$f":"\"\"","v":""},null,{"$f":"\"\"","v":""},{"$f":"\"\"","v":""},{"$f":"\"\"","v":""},{"$f":"\"\"","v":""},{"$f":"\"\"","v":""},null,"Cleric",4,{"$f":"VLOOKUP(YY13,$ZF$2:$ZP$23,$ZF$1,FALSE)","v":""},{"$f":"IF(YX13=\"\",\"\",MAX($YW$1:YW12)+1)","v":""},"","",10,{"$f":"IF(ZB13=\"\",\"\",MAX($ZA$2:ZA12)+1)","v":""},"",{"$f":"IF(Start!AF29=SelectText,\"\",Start!AF29)","v":""},{"$f":"IF(OR(COUNTIF($ZC$4:$ZC13,ZD$2)=0,COUNTIF($ZC$4:$ZC13,ZD$2)=MAX(ZD$2:ZD12)),\"-\",COUNTIF($ZC$4:$ZC13,ZD$2))","v":"-"},{"$f":"IF(OR(COUNTIF($ZC$4:$ZC13,ZE$2)=0,COUNTIF($ZC$4:$ZC13,ZE$2)=MAX(ZE$2:ZE12)),\"-\",COUNTIF($ZC$4:$ZC13,ZE$2))","v":"-"},{"$f":"IF(OR(COUNTIF($ZC$4:$ZC13,ZF$2)=0,COUNTIF($ZC$4:$ZC13,ZF$2)=MAX(ZF$2:ZF12)),\"-\",COUNTIF($ZC$4:$ZC13,ZF$2))","v":"-"},{"$f":"IF(OR(COUNTIF($ZC$4:$ZC13,ZG$2)=0,COUNTIF($ZC$4:$ZC13,ZG$2)=MAX(ZG$2:ZG12)),\"-\",COUNTIF($ZC$4:$ZC13,ZG$2))","v":"-"},{"$f":"IF(OR(COUNTIF($ZC$4:$ZC13,ZH$2)=0,COUNTIF($ZC$4:$ZC13,ZH$2)=MAX(ZH$2:ZH12)),\"-\",COUNTIF($ZC$4:$ZC13,ZH$2))","v":"-"},{"$f":"IF(OR(COUNTIF($ZC$4:$ZC13,ZI$2)=0,COUNTIF($ZC$4:$ZC13,ZI$2)=MAX(ZI$2:ZI12)),\"-\",COUNTIF($ZC$4:$ZC13,ZI$2))","v":"-"},{"$f":"IF(OR(COUNTIF($ZC$4:$ZC13,ZJ$2)=0,COUNTIF($ZC$4:$ZC13,ZJ$2)=MAX(ZJ$2:ZJ12)),\"-\",COUNTIF($ZC$4:$ZC13,ZJ$2))","v":"-"},{"$f":"IF(OR(COUNTIF($ZC$4:$ZC13,ZK$2)=0,COUNTIF($ZC$4:$ZC13,ZK$2)=MAX(ZK$2:ZK12)),\"-\",COUNTIF($ZC$4:$ZC13,ZK$2))","v":"-"},{"$f":"IF(OR(COUNTIF($ZC$4:$ZC13,ZL$2)=0,COUNTIF($ZC$4:$ZC13,ZL$2)=MAX(ZL$2:ZL12)),\"-\",COUNTIF($ZC$4:$ZC13,ZL$2))","v":"-"},{"$f":"IF(OR(COUNTIF($ZC$4:$ZC13,ZM$2)=0,COUNTIF($ZC$4:$ZC13,ZM$2)=MAX(ZM$2:ZM12)),\"-\",COUNTIF($ZC$4:$ZC13,ZM$2))","v":"-"},{"$f":"IF(OR(COUNTIF($ZC$4:$ZC13,ZN$2)=0,COUNTIF($ZC$4:$ZC13,ZN$2)=MAX(ZN$2:ZN12)),\"-\",COUNTIF($ZC$4:$ZC13,ZN$2))","v":"-"},{"$f":"IF(OR(COUNTIF($ZC$4:$ZC13,ZO$2)=0,COUNTIF($ZC$4:$ZC13,ZO$2)=MAX(ZO$2:ZO12)),\"-\",COUNTIF($ZC$4:$ZC13,ZO$2))","v":"-"},10,"Wizard",5]
["Aasimar","Medium",30,"Darkvision 60ft",{"$f":"\"• +1 Wisdom, +2 Charisma\n• Size: Medium\n• Speed: 30ft\n• Darkvision 60ft\n• Celestial Resistance: resistance to necrotic and radiant damage\n• Celestial Legacy: know light cantrip\"&IF(CharacterLevel>=3,\", once per day - lesser restoration\",\"\")&IF(CharacterLevel>=5,\", daylight as a 3rd level spell\",\"\")&\" (Cha)\n• Languages: Celestial, Common\"","v":"• +1 Wisdom, +2 Charisma\n• Size: Medium\n• Speed: 30ft\n• Darkvision 60ft\n• Celestial Resistance: resistance to necrotic and radiant damage\n• Celestial Legacy: know light cantrip (Cha)\n• Languages: Celestial, Common"},"Celestial, Common",2,"none",0,"none",0,{"$f":"\"\"","v":""},{"$f":"\"\"","v":""},{"$f":"\"\"","v":""},{"$f":"\"\"","v":""},1,2,"Aasimar mature at the same rate as humans but live a few years longer.","4' 9'' + 2d8","110 lb. x 2d4","Rock","• +1 Constitution\n• Articifer's Lore: advantage on Intelligence checks on alchemy, magic items, and technological devices\n• Tinker: proficiency with Tinker's tools and can construct a Tiny clockwork device [AC 5, HP 1] in 1 hr and 10 gp.",null,{"$f":"IF(Y14=\"\",\"\",MAX($X$3:X13)+1)","v":""},{"$f":"IF(A10=$A$3,U14,\"\")","v":""},11,"",null,null,null,"Sage","Researcher","   When you attempt to learn or recall a piece of lore, if you do not know that information, you often know where and from\n   whom you can obtain it.","Arcana, History",2,"none",0,"Two of your choice",2,null,13,"Ideal",{"$f":"\"\"","v":""},null,null,null,null,null,null,null,null,null,null,null,null,null,{"$f":"\"\"","v":""},null,null,null,"Monk",8,{"$f":"IF(BL14=0,\"\",MAX($BK$6:BK13)+1)","v":""},{"$f":"COUNTIF(Start!$AF$20:$AF$39,Tables!BI14)","v":0},{"$f":"IF(OR(BK14=\"\",BO14=\"\"),\"\",MAX($BM$6:BM13)+1)","v":""},{"$f":"\"\"","v":""},{"$f":"\"\"","v":""},"","Monastic Tradition",3,null,null,null,{"$f":"IF(AND(OR(ArmorName=\"\",ArmorName=\"none\"),OR(ShieldName=\"\",ShieldName=\"none\")),10+DEXMod+WISMod,10)","v":0},{"$f":"IF(AND(OR(ArmorName=\"\",ArmorName=\"none\"),OR(ShieldName=\"\",ShieldName=\"none\"),MonkLevel>=2),10,0)","v":0},0,{"$f":"\"\"","v":""},"none","none","Simple weapons, short sword","Simple weapons, short sword","Choose one type of artisan's tools or one musical instrument",1,"none",0,{"$f":"IF(MonkLevel>=14,\"Strength, Dexterity, Constitution, Intelligence, Wisdom, Charisma\",\"Strength, Dexterity\")","v":"Strength, Dexterity"},"Choose 2 from Acrobatics, Athletics, History, Insight, Religion and Stealth",2,"none",0,{"$f":"\"• Unarmored Defense, Martial Arts\n\"","v":"• Unarmored Defense, Martial Arts\n"},{"$f":"\"• Ki (\"&MonkLevel&\" points - DC \"&10+ProfBonus+WISMod&\") , Unarmoured Movement\n\"","v":"• Ki (0 points - DC 7) , Unarmoured Movement\n"},{"$f":"\"• Monastic Tradition (\"&VLOOKUP($BI14,$BN$3:$BQ$5,4,FALSE)&\")\n• Deflect Missiles: reaction, ranged weapon damage reduced by 1d10+\"&DEXMod+MonkLevel&\"\n\"&VLOOKUP($BI14,$DM$3:$EH$5,DQ$2-1,FALSE)","v":{"$error":"#N/A"}},{"$f":"\"• Slow Fall (\"&5*MonkLevel&\" ft)\n\"&IF(MonkLevel>=DE$6,\"• Ability Score Improvement / Feat: level \"&DE$6&\", \"&DB$6&\", \"&CX$6&\", \"&CT$6&\", \"&CP$6,IF(MonkLevel>=DB$6,\"• Ability Score Improvement / Feat: level \"&DB$6&\", \"&CX$6&\", \"&CT$6&\", \"&CP$6,IF(MonkLevel>=CX$6,\"• Ability Score Improvement / Feat: level \"&CX$6&\", \"&CT$6&\", \"&CP$6,IF(MonkLevel>=CT$6,\"• Ability Score Improvement / Feat : level \"&CT$6&\", \"&CP$6,\"• Ability Score Improvement / Feat: level \"&CP$6))))&\"\n\"","v":"• Slow Fall (0 ft)\n• Ability Score Improvement / Feat: level 4\n"},{"$f":"\"• Extra Attack, Stunning Strike\n\"","v":"• Extra Attack, Stunning Strike\n"},{"$f":"\"• Ki-Empowered Strikes\n\"&VLOOKUP($BI14,$DM$3:$EH$5,DT$2-1,FALSE)","v":{"$error":"#N/A"}},{"$f":"\"• Evasion, Stillness of Mind\n\"","v":"• Evasion, Stillness of Mind\n"},{"$f":"\"\"","v":""},{"$f":"\"• Unarmoured Movement Improvement\n\"","v":"• Unarmoured Movement Improvement\n"},{"$f":"\"• Purity of Body\n\"","v":"• Purity of Body\n"},{"$f":"VLOOKUP($BI14,$DM$3:$EH$5,DY$2-1,FALSE)","v":{"$error":"#N/A"}},{"$f":"\"\"","v":""},{"$f":"\"• Tongue of Sun and Moon\n\"","v":"• Tongue of Sun and Moon\n"},{"$f":"\"• Diamond Soul\n\"","v":"• Diamond Soul\n"},{"$f":"\"• Timeless Body\n\"","v":"• Timeless Body\n"},{"$f":"\"\"","v":""},{"$f":"VLOOKUP($BI14,$DM$3:$EH$5,EE$2-1,FALSE)","v":{"$error":"#N/A"}},{"$f":"\"• Empty Body\n\"","v":"• Empty Body\n"},{"$f":"\"\"","v":""},{"$f":"\"• Perfect Self\n\"","v":"• Perfect Self\n"},null,null,null,null,null,"Battle Master","Fighter",0,{"$f":"\"\"","v":""},{"$f":"\"\"","v":""},{"$f":"\"• Student of War: gain proficiency with one type of artisan’s tools of your choice\n• Martial Archetype Feature (\"&IF(FighterLevel>=10,\"Improved Combat Superiority\",\"Combat Superiority\")&\")\n  - \"&IF(FighterLevel>=18,\"Superiority Dice \"&6+IF($ZT$12=\"\",0,1)&\"d12\",IF(FighterLevel>=15,\"Superiority Dice \"&6+IF($ZT$12=\"\",0,1)&\"d10\",IF(FighterLevel>=10,\"Superiority Dice \"&5+IF($ZT$12=\"\",0,1)&\"d10\",IF(FighterLevel>=7,\"Superiority Dice \"&5+IF($ZT$12=\"\",0,1)&\"d8\",\"Superiority Dice \"&4+IF($ZT$12=\"\",0,1)&\"d8\"))))&\"\n  - \"&IF(FighterLevel>=15,9+IF($ZT$12=\"\",0,2)&\" Manuevers\",IF(FighterLevel>=10,7+IF($ZT$12=\"\",0,2)&\" Manuevers\",IF(FighterLevel>=7,5+IF($ZT$12=\"\",0,2)&\" Manuevers\",\"3 Manuevers\")))&\" - use only one maneuver per attack.\"&GJ2&\"\n\"","v":"• Student of War: gain proficiency with one type of artisan’s tools of your choice\n• Martial Archetype Feature (Combat Superiority)\n  - Superiority Dice 4d8\n  - 3 Manuevers - use only one maneuver per attack.\n"},{"$f":"\"\"","v":""},{"$f":"\"\"","v":""},{"$f":"\"\"","v":""},{"$f":"\"• Martial Archetype Feature (Know Your Enemy)\n\"","v":"• Martial Archetype Feature (Know Your Enemy)\n"},{"$f":"\"\"","v":""},{"$f":"\"\"","v":""},{"$f":"\"\"","v":""},{"$f":"\"\"","v":""},{"$f":"\"\"","v":""},{"$f":"\"\"","v":""},{"$f":"\"\"","v":""},{"$f":"\"• Martial Archetype Feature (Relentless)\n\"","v":"• Martial Archetype Feature (Relentless)\n"},{"$f":"\"\"","v":""},{"$f":"\"\"","v":""},{"$f":"\"\"","v":""},{"$f":"\"\"","v":""},{"$f":"\"\"","v":""},{"$f":"\"\"","v":""},{"$f":"\"\"","v":""},null,{"$f":"\"\"","v":""},null,{"$f":"\"\"","v":""},null,{"$f":"\"\"","v":""},null,{"$f":"\"\"","v":""},null,{"$f":"IF(FighterLevel>=1,\"One type of artisan’s tools of your choice.\n\",\"\")","v":""},{"$f":"IF(FighterLevel>=1,1,\"\")","v":""},{"$f":"\"\"","v":""},{"$f":"\"\"","v":""},{"$f":"\"\"","v":""},{"$f":"\"\"","v":""},null,{"$f":"IF($DM14=FB$5,MAX(FA$6:FA13)+1,\"\")","v":""},"",9,"",{"$f":"IF($DM14=FF$5,MAX(FE$6:FE13)+1,\"\")","v":""},"",9,"",{"$f":"IF($DM14=FJ$5,MAX(FI$6:FI13)+1,\"\")","v":""},"",9,"","Nature",{"$f":"Start!X66","v":0},{"$f":"IF($FM14=$FP14,MAX(FO$3:FO13)+1,\"\")","v":""},"",12,"",null,null,null,null,null,null,null,null,null,"Pushing Attack","   When you hit a creature with a weapon attack, expend one superiority die to attempt to drive the target back. Add the\n   superiority die to the damage roll,  if the target is Large or smaller, it must make a Strength saving throw. On a failed save,\n   you push the target up to 15 feet away from you.",null,15,null,null,null,null,null,null,null,null,null,null,null,"River of Hungry Flame","   Send 5 ki points to cast wall of fire.",17,5,{"$f":"IF(GV14=\"\",\"\",MAX($GU$3:GU13)+1)","v":""},"",12,"",null,null,null,null,null,null,null,null,null,null,null,null,"oozes",{"$f":"\"\"","v":""},"genasi",null,null,null,null,null,null,null,null,null,null,"Multiattack",null,null,null,null,null,null,null,null,null,{"$f":"IF(IJ14=1,MAX($IH$2:IH13)+1,\"\")","v":""},"Eldritch Spear",{"$f":"IF(COUNTIF(Spellcasting!$AC$6:$AL$15,\"=Eldritch Blast\")>0,1,\"\")","v":""},"   When you cast eldritch blast, its range is 300 feet.",12,"Thief of Five Fates",null,null,null,null,null,null,null,null,null,null,"Gond (N)","God of craft","Neutral","Knowledge","Toothed cog with four spokes",{"$f":"IF(JD14=\"\",\"\",MAX($JC$1:JC13)+1)","v":11},"Celestial","Celestial",13,"Draconic",13,120000,13,5,null,12,4,3,3,3,2,1,"-","-","-",6,null,null,null,null,null,null,12,8,15,8,7,12,11,12,5,5,3,4,4,6,4,null,"Alchemist’s supplies","No","Tools",null,null,null,null,null,null,null,null,null,null,null,null,null,null,null,null,null,null,null,null,null,null,null,null,null,null,null,null,null,null,null,null,null,null,null,null,null,null,null,null,null,null,null,null,null,null,null,null,null,null,null,null,null,null,null,null,null,null,null,null,null,null,null,null,null,null,null,null,null,null,null,null,null,null,null,null,null,null,null,null,null,null,null,null,null,null,null,null,null,null,null,null,null,null,null,null,null,null,null,null,null,null,null,null,null,null,null,null,null,null,null,null,null,null,null,null,null,null,null,null,null,null,null,null,null,null,{"$f":"IF(COUNTIF(Start!$AX$59:$BF$68,Tables!KT14)>0,Tables!KT14,\"\")","v":""},null,"",{"$f":"IF(PU14=\"\",\"\",IF(COUNTIF(PU14:$PU$57,\"><\")>1,PU14&\", \", PU14))","v":""},null,null,null,"Glaive","Martial Melee","not proficient","1d10","slashing","-",6,{"$f":"\"\"","v":""},{"$f":"\"\"","v":""},"heavy",{"$f":"\"\"","v":""},{"$f":"\"\"","v":""},{"$f":"\"\"","v":""},"reach",{"$f":"\"\"","v":""},"two-handed",{"$f":"\"\"","v":""},{"$f":"\"\"","v":""},{"$f":"\"\"","v":""},null,14,"Reach",null,null,null,null,{"$f":"VLOOKUP(Start!AV$137,Tables!$PZ$2:$QQ$500,$QT14,FALSE)","v":""},null,null,null,null,null,null,null,{"$f":"VLOOKUP(Start!BD$137,Tables!$PZ$2:$QQ$500,$QT14,FALSE)","v":""},null,null,null,null,null,null,null,{"$f":"VLOOKUP(Start!BL$137,Tables!$PZ$2:$QQ$500,$QT14,FALSE)","v":""},null,null,null,null,null,null,null,{"$f":"VLOOKUP(Start!BT$137,Tables!$PZ$2:$QQ$500,$QT14,FALSE)","v":""},null,null,null,null,null,null,null,{"$f":"VLOOKUP(Start!CB$137,Tables!$PZ$2:$QQ$500,$QT14,FALSE)","v":""},null,null,null,null,null,null,null,{"$f":"VLOOKUP(Start!CJ$137,Tables!$PZ$2:$QQ$500,$QT14,FALSE)","v":""},null,null,null,"Chain mail","heavy",{"$f":"IF(SR14=\"\",\"\",IF(Start!$Y$157=$QS$12,$QS$12&\" (disadvantage)\",IF(Start!$Y$157=$QS$11,$QS$11,IF(VLOOKUP(SR14,$KT$60:$KV$78,2,FALSE)=\"No\",$QS$12&\" (disadvantage)\",$QS$11))))","v":"not proficient (disadvantage)"},16,0,13,"Disadvantage",55,{"$f":"ST14&\", Don: 10min, Doff: 5min\"","v":"not proficient (disadvantage), Don: 10min, Doff: 5min"},null,null,null,null,null,null,null,null,null,12,"Antipathy/Sympathy","LEVEL 8",8,"Antipathy/Sympathy ",{"$f":"\"\"","v":""},"",{"$f":"IF(OR(TK14=Spellcasting!$AC$18,TK14=Spellcasting!$AC$19),\"ᵐ\",\"\")","v":""},{"$f":"IF(OR(TK14=Spellcasting!$AC$20,TK14=Spellcasting!$AC$21),\"ˢ\",\"\")","v":""},{"$f":"\"\"","v":""},"1 hr","60 ft","10 days","VSM","either a lump of alum soaked in vinegar for the antipathy effect or a drop of honey for the sympathy effect","enchantment","ench","This spell attracts or repels creatures of your choice. You target something within range, either a Huge or smaller object or creature or an area that is no larger than a 200-foot cube. Then specify a kind of intelligent creature, such as red dragons, goblins, or vampires. You invest the target with an aura that either attracts or repels the specified creatures for the duration. Choose antipathy or sympathy as the aura’s effect. \n\nAntipathy. The enchantment causes creatures of the kind you designated to feel an intense urge to leave the area and avoid the target. When such a creature can see the target or comes within 60 feet of it, the creature must succeed on a Wisdom saving throw or become frightened. The creature remains frightened while it can see the target or is within 60 feet of it. While frightened by the target, the creature must use its movement to move to the nearest safe spot from which it can’t see the target. If the creature moves more than 60 feet from the target and can’t see it, the creature is no longer frightened, but the creature becomes frightened again if it regains sight of the target or moves within 60 feet of it. \n\nSympathy. The enchantment causes the specified creatures to feel an intense urge to approach the target while within 60 feet of it or able to see it. When such a creature can see the target or comes within 60 feet of it, the creature must succeed on a Wisdom saving throw or use its movement on each of its turns to enter the area or move within reach of the target. When the creature has done so, it can’t willingly move away from the target. If the target damages or otherwise harms an affected creature, the affected creature can make a Wisdom saving throw to end the effect, as described below. \n\nEnding the Effect. If an affected creature ends its turn while not within 60 feet of the target or able to see it, the creature makes a Wisdom saving throw. On a successful save, the creature is no longer affected by the target and recognizes the feeling of repugnance or attraction as magical. In addition, a creature affected by the spell is allowed another Wisdom saving throw every 24 hours while the spell persists. A creature that successfully saves against this effect is immune to it for 1 minute, after which time it can be affected again.","attract or repel creatures, choose Antipathy or Sympathy",null,null,null,null,null,null,{"$f":"IF(UI$1>=$TM14,1,\"0\")","v":"0"},null,null,{"$f":"IF(UL$1>=$TM14,1,\"0\")","v":"0"},null,null,null,null,null,null,null,null,null,null,null,null,null,null,null,null,null,null,null,null,null,null,null,null,null,null,null,null,null,null,null,null,null,null,null,null,null,null,null,null,null,null,null,{"$f":"IF(SUM($VZ$1:$WC$1)>0,IF(AND(SUM($VZ14:$WC14)>0,$TM14=WE$1),MAX(WD$2:WD13)+1,\"\"),IF(AND(SUM($UC14:$VY14)>0,$TM14=WE$1),MAX(WD$2:WD13)+1,\"\"))","v":""},"",{"$f":"IF(AND(SUM($UB14:$VY14)>0,$TM14=WG$1),MAX(WF$2:WF13)+1,\"\")","v":""},"",{"$f":"IF(AND(SUM($UB14:$VY14)>0,$TM14=WI$1),MAX(WH$2:WH13)+1,\"\")","v":""},"",{"$f":"IF(AND(SUM($UB14:$VY14)>0,$TM14=WK$1),MAX(WJ$2:WJ13)+1,\"\")","v":""},"",{"$f":"IF(AND(SUM($UB14:$VY14)>0,$TM14=WM$1),MAX(WL$2:WL13)+1,\"\")","v":""},"",{"$f":"IF(AND(SUM($UB14:$VY14)>0,$TM14=WO$1),MAX(WN$2:WN13)+1,\"\")","v":""},"",{"$f":"IF(AND(SUM($UB14:$VY14)>0,$TM14=WQ$1),MAX(WP$2:WP13)+1,\"\")","v":""},"",{"$f":"IF(AND(SUM($UB14:$VY14)>0,$TM14=WS$1),MAX(WR$2:WR13)+1,\"\")","v":""},"",{"$f":"IF(AND(SUM($UB14:$VY14)>0,$TM14=WU$1),MAX(WT$2:WT13)+1,\"\")","v":""},"",{"$f":"IF(AND(SUM($UB14:$VY14)>0,$TM14=WW$1),MAX(WV$2:WV13)+1,\"\")","v":""},"",{"$f":"IF(AND(SUM($UB14:$VY14)>0,$TM14=WY$1),MAX(WX$2:WX13)+1,\"\")","v":""},"",13,"","","","","","","","","","","",null,10,"Quipper","Beast","Tiny",13,2,"0 ft, swim 40 ft",2,16,9,1,7,2,"none","passive Perception 8, darkvision 60 ft","Bite melee +5, reach 5ft, 1 piercing\nDC10 Con save ½ , 2d4 poison","Blood Frenzy. Advantage on melee attack rolls against any creature that doesn't have all its hit points\nWater Breathing. Can breathe only underwater",null,null,null,"Ability Score Improvement","none","You can increase one ability score of your choice by 2, or you can increase two ability scores of your choice by 1. \nYou cannot increase an ability score above 20 using this feature.","  - Increase one ability score of your choice by 2, or increase two ability scores of your choice by 1.",{"$f":"\"\"","v":""},{"$f":"\"\"","v":""},"A",2,null,null,null,null,null,"Cleric",8,{"$f":"VLOOKUP(YY14,$ZF$2:$ZP$23,$ZF$1,FALSE)","v":""},{"$f":"IF(YX14=\"\",\"\",MAX($YW$1:YW13)+1)","v":""},"","",11,{"$f":"IF(ZB14=\"\",\"\",MAX($ZA$2:ZA13)+1)","v":""},"",{"$f":"IF(Start!AF30=SelectText,\"\",Start!AF30)","v":""},{"$f":"IF(OR(COUNTIF($ZC$4:$ZC14,ZD$2)=0,COUNTIF($ZC$4:$ZC14,ZD$2)=MAX(ZD$2:ZD13)),\"-\",COUNTIF($ZC$4:$ZC14,ZD$2))","v":"-"},{"$f":"IF(OR(COUNTIF($ZC$4:$ZC14,ZE$2)=0,COUNTIF($ZC$4:$ZC14,ZE$2)=MAX(ZE$2:ZE13)),\"-\",COUNTIF($ZC$4:$ZC14,ZE$2))","v":"-"},{"$f":"IF(OR(COUNTIF($ZC$4:$ZC14,ZF$2)=0,COUNTIF($ZC$4:$ZC14,ZF$2)=MAX(ZF$2:ZF13)),\"-\",COUNTIF($ZC$4:$ZC14,ZF$2))","v":"-"},{"$f":"IF(OR(COUNTIF($ZC$4:$ZC14,ZG$2)=0,COUNTIF($ZC$4:$ZC14,ZG$2)=MAX(ZG$2:ZG13)),\"-\",COUNTIF($ZC$4:$ZC14,ZG$2))","v":"-"},{"$f":"IF(OR(COUNTIF($ZC$4:$ZC14,ZH$2)=0,COUNTIF($ZC$4:$ZC14,ZH$2)=MAX(ZH$2:ZH13)),\"-\",COUNTIF($ZC$4:$ZC14,ZH$2))","v":"-"},{"$f":"IF(OR(COUNTIF($ZC$4:$ZC14,ZI$2)=0,COUNTIF($ZC$4:$ZC14,ZI$2)=MAX(ZI$2:ZI13)),\"-\",COUNTIF($ZC$4:$ZC14,ZI$2))","v":"-"},{"$f":"IF(OR(COUNTIF($ZC$4:$ZC14,ZJ$2)=0,COUNTIF($ZC$4:$ZC14,ZJ$2)=MAX(ZJ$2:ZJ13)),\"-\",COUNTIF($ZC$4:$ZC14,ZJ$2))","v":"-"},{"$f":"IF(OR(COUNTIF($ZC$4:$ZC14,ZK$2)=0,COUNTIF($ZC$4:$ZC14,ZK$2)=MAX(ZK$2:ZK13)),\"-\",COUNTIF($ZC$4:$ZC14,ZK$2))","v":"-"},{"$f":"IF(OR(COUNTIF($ZC$4:$ZC14,ZL$2)=0,COUNTIF($ZC$4:$ZC14,ZL$2)=MAX(ZL$2:ZL13)),\"-\",COUNTIF($ZC$4:$ZC14,ZL$2))","v":"-"},{"$f":"IF(OR(COUNTIF($ZC$4:$ZC14,ZM$2)=0,COUNTIF($ZC$4:$ZC14,ZM$2)=MAX(ZM$2:ZM13)),\"-\",COUNTIF($ZC$4:$ZC14,ZM$2))","v":"-"},{"$f":"IF(OR(COUNTIF($ZC$4:$ZC14,ZN$2)=0,COUNTIF($ZC$4:$ZC14,ZN$2)=MAX(ZN$2:ZN13)),\"-\",COUNTIF($ZC$4:$ZC14,ZN$2))","v":"-"},{"$f":"IF(OR(COUNTIF($ZC$4:$ZC14,ZO$2)=0,COUNTIF($ZC$4:$ZC14,ZO$2)=MAX(ZO$2:ZO13)),\"-\",COUNTIF($ZC$4:$ZC14,ZO$2))","v":"-"},11]
[null,null,null,null,null,null,null,{"$f":"\"\"","v":""},null,null,null,{"$f":"\"\"","v":""},{"$f":"\"\"","v":""},{"$f":"\"\"","v":""},{"$f":"\"\"","v":""},{"$f":"\"\"","v":""},{"$f":"\"\"","v":""},null,null,null,{"$f":"SelectText","v":"Select…"},{"$f":"\"\"","v":""},{"$f":"\"\"","v":""},{"$f":"IF(Y15=\"\",\"\",MAX($X$3:X14)+1)","v":""},{"$f":"\"\"","v":""},12,"",null,null,null,"Sailor","Ship's Passage","   You can secure free passage on a sailing ship for yourself and your adventuring companions. You might sail on the ship you\n   served on, or another ship you have good relations with. Because you’re calling in a favor, you can’t be certain of a schedule\n   or route that will meet your every need. In return for your free passage, you and your companions are expected to assist the\n   crew during the voyage.","Athletics, Perception",2,"Navigator’s tools, vehicles (water)",2,"none",0,null,14,{"$f":"SelectText","v":"Select…"},{"$f":"\"\"","v":""},null,null,null,null,null,null,null,null,null,null,null,null,null,{"$f":"\"\"","v":""},null,null,null,"Paladin",10,{"$f":"IF(BL15=0,\"\",MAX($BK$6:BK14)+1)","v":""},{"$f":"COUNTIF(Start!$AF$20:$AF$39,Tables!BI15)","v":0},{"$f":"IF(OR(BK15=\"\",BO15=\"\"),\"\",MAX($BM$6:BM14)+1)","v":""},"Paladin","CHA","","Sacred Oath",3,null,null,null,10,0,0,{"$f":"\"\"","v":""},"All armor, shields","Light & medium armor, shields","Simple and martial weapons","Simple & martial weapons","none",0,"none",0,"Wisdom, Charisma","Choose 2 from Athletics, Insight, Intimidation, Medicine, Persuasion, and Religion",2,"none",0,{"$f":"\"• Divine Sense (60ft)\n• Lay on Hands (\"&PaladinLevel*5&\" HP)\n\"","v":"• Divine Sense (60ft)\n• Lay on Hands (0 HP)\n"},{"$f":"\"• Spellcasting\n• Divine Smite\n   When you hit a creature with a melee weapon attack, you can expend one paladin spell slot to deal radiant damage to the target,\n   in addition to the weapon’s damage. \"&\"The extra damage is 2d8 for a 1st-level spell slot, plus 1d8 for each spell level higher than 1st,\n   to a maximum of 5d8. The damage increases by 1d8 if the target is an undead or a fiend.\n\"&\"• Fighting Style (\"&VLOOKUP($BI15,$FZ$2:$GA$5,2,FALSE)&\")\n\"&VLOOKUP(VLOOKUP($BI15,Tables!$FZ$2:$GA$5,2,FALSE),Tables!$FX$24:$FY$30,2,FALSE)&\"\n\"","v":{"$error":"#N/A"}},{"$f":"\"• Divine Health, Sacred Oath (\"&VLOOKUP($BI15,$BN$3:$BQ$5,4,FALSE)&\")\n\"&VLOOKUP($BI15,$DM$3:$EH$5,DQ$2-1,FALSE)&VLOOKUP($BI15,$DM$3:$EH$5,DQ$2-2,FALSE)","v":{"$error":"#N/A"}},{"$f":"IF(PaladinLevel>=DE$6,\"• Ability Score Improvement / Feat: level \"&DE$6&\", \"&DB$6&\", \"&CX$6&\", \"&CT$6&\", \"&CP$6,IF(PaladinLevel>=DB$6,\"• Ability Score Improvement / Feat: level \"&DB$6&\", \"&CX$6&\", \"&CT$6&\", \"&CP$6,IF(PaladinLevel>=CX$6,\"• Ability Score Improvement / Feat: level \"&CX$6&\", \"&CT$6&\", \"&CP$6,IF(PaladinLevel>=CT$6,\"• Ability Score Improvement / Feat : level \"&CT$6&\", \"&CP$6,\"• Ability Score Improvement / Feat: level \"&CP$6))))&\"\n\"","v":"• Ability Score Improvement / Feat: level 4\n"},{"$f":"\"• Extra Attack\n\"","v":"• Extra Attack\n"},{"$f":"\"• Aura of Protection: \"&IF(PaladinLevel>=18,\"30ft\", \"10ft\")&\", +\"&IF(CHAMod<=0,1,CHAMod)&\" to saving throws\n\"","v":"• Aura of Protection: 10ft, +1 to saving throws\n"},{"$f":"VLOOKUP($BI15,$DM$3:$EH$5,DU$2-1,FALSE)","v":{"$error":"#N/A"}},{"$f":"\"\"","v":""},{"$f":"\"\"","v":""},{"$f":"\"• Aura of Courage: \"&IF(PaladinLevel>=18,\"30ft\", \"10ft\")&\", can't be frightened\n\"","v":"• Aura of Courage: 10ft, can't be frightened\n"},{"$f":"\"• Improved Divine Smite: melee weapon attacks deal an extra 1d8 radiant damage\n\"","v":"• Improved Divine Smite: melee weapon attacks deal an extra 1d8 radiant damage\n"},{"$f":"\"\"","v":""},{"$f":"\"\"","v":""},{"$f":"\"• Cleansing Touch\n\"","v":"• Cleansing Touch\n"},{"$f":"VLOOKUP($BI15,$DM$3:$EH$5,EC$2-1,FALSE)","v":{"$error":"#N/A"}},{"$f":"\"\"","v":""},{"$f":"\"\"","v":""},{"$f":"\"• Aura Improvements\n\"","v":"• Aura Improvements\n"},{"$f":"\"\"","v":""},{"$f":"VLOOKUP($BI15,$DM$3:$EH$5,EH$2-1,FALSE)","v":{"$error":"#N/A"}},null,null,null,null,null,"Champion","Fighter",0,{"$f":"\"\"","v":""},{"$f":"\"\"","v":""},{"$f":"\"• Martial Archetype Feature (Improved Critical 19-20)\n\"","v":"• Martial Archetype Feature (Improved Critical 19-20)\n"},{"$f":"\"\"","v":""},{"$f":"\"\"","v":""},{"$f":"\"\"","v":""},{"$f":"\"• Martial Archetype Feature (Remarkable Athlete)\n\"","v":"• Martial Archetype Feature (Remarkable Athlete)\n"},{"$f":"\"\"","v":""},{"$f":"\"\"","v":""},{"$f":"\"• Martial Archetype Feature (Additional Fighting Style: \"&VLOOKUP($DL$15,$FZ$2:$GA$5,2,FALSE)&\")\n\"&VLOOKUP(VLOOKUP($DL$15,$FZ$2:$GA$5,2,FALSE),FX24:FY30,2,FALSE)&\"\n\"","v":{"$error":"#N/A"}},{"$f":"\"\"","v":""},{"$f":"\"\"","v":""},{"$f":"\"\"","v":""},{"$f":"\"\"","v":""},{"$f":"\"• Martial Archetype Feature (Superior Critical 18-20)\n\"","v":"• Martial Archetype Feature (Superior Critical 18-20)\n"},{"$f":"\"\"","v":""},{"$f":"\"\"","v":""},{"$f":"\"• Martial Archetype Feature (Survivor)\n\"","v":"• Martial Archetype Feature (Survivor)\n"},{"$f":"\"\"","v":""},{"$f":"\"\"","v":""},{"$f":"\"\"","v":""},{"$f":"\"\"","v":""},null,{"$f":"\"\"","v":""},null,{"$f":"\"\"","v":""},null,{"$f":"\"\"","v":""},null,{"$f":"\"\"","v":""},null,{"$f":"\"\"","v":""},{"$f":"\"\"","v":""},{"$f":"\"\"","v":""},{"$f":"\"\"","v":""},{"$f":"\"\"","v":""},{"$f":"\"\"","v":""},null,{"$f":"IF($DM15=FB$5,MAX(FA$6:FA14)+1,\"\")","v":""},"",10,"",{"$f":"IF($DM15=FF$5,MAX(FE$6:FE14)+1,\"\")","v":""},"",10,"",{"$f":"IF($DM15=FJ$5,MAX(FI$6:FI14)+1,\"\")","v":""},"",10,"","Perception",{"$f":"Start!X67","v":0},{"$f":"IF($FM15=$FP15,MAX(FO$3:FO14)+1,\"\")","v":""},"",13,"",null,null,null,null,null,null,null,null,null,"Rally","   On your turn, use a bonus action and expend one superiority die to bolster the resolve of one of your companions. Choose a\n   friendly creature who can see or hear you. It gains temporary HP equal to the superiority die roll + your Charisma modifier.",null,15,null,null,null,null,null,null,null,null,null,null,null,"Rush of the Gale Spirits","   Spend 2 ki points to cast gust of wind.",3,2,{"$f":"IF(GV15=\"\",\"\",MAX($GU$3:GU14)+1)","v":""},"",13,"",null,null,null,null,null,null,null,null,null,null,null,null,"plants",{"$f":"\"\"","v":""},"gibberling",null,null,null,null,null,null,null,null,null,null,{"$f":"SelectText","v":"Select…"},null,null,null,null,null,null,null,null,null,{"$f":"IF(IJ15=1,MAX($IH$2:IH14)+1,\"\")","v":6},"Eyes of the Rune Keeper",{"$f":"1","v":1},"   You can read all writing.",13,"",null,null,null,null,null,null,null,null,null,null,"Helm (LN)","God of protection","Lawful Neutral","Life, Light","Staring eye on upright left gauntlet",{"$f":"IF(JD15=\"\",\"\",MAX($JC$1:JC14)+1)","v":12},"Deep Speech","-",14,"Infernal",14,140000,14,5,null,13,4,3,3,3,2,1,1,"-","-",7,null,null,null,null,null,null,13,9,16,9,8,13,12,13,5,5,3,4,4,6,4,null,"Brewer’s supplies","No","Tools",null,null,null,null,null,null,null,null,null,null,null,null,null,null,null,null,null,null,null,null,null,null,null,null,null,null,null,null,null,null,null,null,null,null,null,null,null,null,null,null,null,null,null,null,null,null,null,null,null,null,null,null,null,null,null,null,null,null,null,null,null,null,null,null,null,null,null,null,null,null,null,null,null,null,null,null,null,null,null,null,null,null,null,null,null,null,null,null,null,null,null,null,null,null,null,null,null,null,null,null,null,null,null,null,null,null,null,null,null,null,null,null,null,null,null,null,null,null,null,null,null,null,null,null,null,null,{"$f":"IF(COUNTIF(Start!$AX$59:$BF$68,Tables!KT15)>0,Tables!KT15,\"\")","v":""},null,"",{"$f":"IF(PU15=\"\",\"\",IF(COUNTIF(PU15:$PU$57,\"><\")>1,PU15&\", \", PU15))","v":""},null,null,null,"Great axe","Martial Melee","not proficient","1d12","slashing","-",7,{"$f":"\"\"","v":""},{"$f":"\"\"","v":""},"heavy",{"$f":"\"\"","v":""},{"$f":"\"\"","v":""},{"$f":"\"\"","v":""},{"$f":"\"\"","v":""},{"$f":"\"\"","v":""},"two-handed",{"$f":"\"\"","v":""},{"$f":"\"\"","v":""},{"$f":"\"\"","v":""},null,15,"Thrown",null,null,null,null,{"$f":"VLOOKUP(Start!AV$137,Tables!$PZ$2:$QQ$500,$QT15,FALSE)","v":""},null,null,null,null,null,null,null,{"$f":"VLOOKUP(Start!BD$137,Tables!$PZ$2:$QQ$500,$QT15,FALSE)","v":""},null,null,null,null,null,null,null,{"$f":"VLOOKUP(Start!BL$137,Tables!$PZ$2:$QQ$500,$QT15,FALSE)","v":""},null,null,null,null,null,null,null,{"$f":"VLOOKUP(Start!BT$137,Tables!$PZ$2:$QQ$500,$QT15,FALSE)","v":""},null,null,null,null,null,null,null,{"$f":"VLOOKUP(Start!CB$137,Tables!$PZ$2:$QQ$500,$QT15,FALSE)","v":""},null,null,null,null,null,null,null,{"$f":"VLOOKUP(Start!CJ$137,Tables!$PZ$2:$QQ$500,$QT15,FALSE)","v":""},null,null,null,"Splint mail","heavy",{"$f":"IF(SR15=\"\",\"\",IF(Start!$Y$157=$QS$12,$QS$12&\" (disadvantage)\",IF(Start!$Y$157=$QS$11,$QS$11,IF(VLOOKUP(SR15,$KT$60:$KV$78,2,FALSE)=\"No\",$QS$12&\" (disadvantage)\",$QS$11))))","v":"not proficient (disadvantage)"},17,0,15,"Disadvantage",60,{"$f":"ST15&\", Don: 10min, Doff: 5min\"","v":"not proficient (disadvantage), Don: 10min, Doff: 5min"},null,null,null,null,null,null,null,null,null,13,"Arcane Eye","LEVEL 4",4,"Arcane Eye ",{"$f":"\"\"","v":""},"",{"$f":"IF(OR(TK15=Spellcasting!$AC$18,TK15=Spellcasting!$AC$19),\"ᵐ\",\"\")","v":""},{"$f":"IF(OR(TK15=Spellcasting!$AC$20,TK15=Spellcasting!$AC$21),\"ˢ\",\"\")","v":""},{"$f":"\"\"","v":""},"1 act","30 ft","1 hr ᶜᵒᶰ","VSM","a bit of bat fur","divination","divin","You create an invisible, magical eye within range that hovers in the air for the duration. \n\nYou mentally receive visual information from the eye, which has normal vision and darkvision out to 30 feet. The eye can look in every direction. \n\nAs an action, you can move the eye up to 30 feet in any direction. There is no limit to how far away from you the eye can move, but it can’t enter another plane of existence. A solid barrier blocks the eye’s movement, but the eye can pass through an opening as small as 1 inch in diameter.","invisible, magical eye 30ft normal vision and darkvision",null,null,null,null,null,null,null,null,null,{"$f":"IF(UL$1>=$TM15,1,\"0\")","v":"0"},null,null,null,null,null,null,null,null,null,null,null,null,{"$f":"IF(UY$1>=$TM15,1,\"0\")","v":"0"},null,null,null,null,null,null,null,null,null,null,null,null,null,null,null,null,null,null,null,null,null,null,null,null,null,null,null,null,null,null,{"$f":"IF(SUM($VZ$1:$WC$1)>0,IF(AND(SUM($VZ15:$WC15)>0,$TM15=WE$1),MAX(WD$2:WD14)+1,\"\"),IF(AND(SUM($UC15:$VY15)>0,$TM15=WE$1),MAX(WD$2:WD14)+1,\"\"))","v":""},"",{"$f":"IF(AND(SUM($UB15:$VY15)>0,$TM15=WG$1),MAX(WF$2:WF14)+1,\"\")","v":""},"",{"$f":"IF(AND(SUM($UB15:$VY15)>0,$TM15=WI$1),MAX(WH$2:WH14)+1,\"\")","v":""},"",{"$f":"IF(AND(SUM($UB15:$VY15)>0,$TM15=WK$1),MAX(WJ$2:WJ14)+1,\"\")","v":""},"",{"$f":"IF(AND(SUM($UB15:$VY15)>0,$TM15=WM$1),MAX(WL$2:WL14)+1,\"\")","v":""},"",{"$f":"IF(AND(SUM($UB15:$VY15)>0,$TM15=WO$1),MAX(WN$2:WN14)+1,\"\")","v":""},"",{"$f":"IF(AND(SUM($UB15:$VY15)>0,$TM15=WQ$1),MAX(WP$2:WP14)+1,\"\")","v":""},"",{"$f":"IF(AND(SUM($UB15:$VY15)>0,$TM15=WS$1),MAX(WR$2:WR14)+1,\"\")","v":""},"",{"$f":"IF(AND(SUM($UB15:$VY15)>0,$TM15=WU$1),MAX(WT$2:WT14)+1,\"\")","v":""},"",{"$f":"IF(AND(SUM($UB15:$VY15)>0,$TM15=WW$1),MAX(WV$2:WV14)+1,\"\")","v":""},"",{"$f":"IF(AND(SUM($UB15:$VY15)>0,$TM15=WY$1),MAX(WX$2:WX14)+1,\"\")","v":""},"",14,"","","","","","","","","","","",null,11,{"$f":"IF(ISERROR(VLOOKUP($XM15,$XM$27:$YC$58,XN$3+1,FALSE)),\"\",VLOOKUP($XM15,$XM$27:$YC$58,XN$3+1,FALSE))","v":"Rat"},"Beast","Tiny",10,1,"20 ft",2,11,9,2,10,4,"none","passive Perception 10, darkvision 30 ft","Bite melee +0, reach 5ft, 1 piercing","Keen Smell. Advantage on Wisdom (Perception) checks that rely on smell",null,null,null,"Alert","none","Always on the lookout for danger, you gain the following benefits:\n• You gain a +5 bonus to initiative. \n• You can’t be surprised while you are conscious. \n• Other creatures don’t gain advantage on attack rolls against you as a result of being hidden from you.","  - Gain a +5 bonus to initiative. \n  - You can’t be surprised while you are conscious. \n  - Other creatures don’t gain advantage on attack rolls against you as a result of being hidden from you.",{"$f":"\"\"","v":""},{"$f":"\"\"","v":""},{"$f":"\"\"","v":""},{"$f":"\"\"","v":""},null,null,null,null,null,"Cleric",12,{"$f":"VLOOKUP(YY15,$ZF$2:$ZP$23,$ZF$1,FALSE)","v":""},{"$f":"IF(YX15=\"\",\"\",MAX($YW$1:YW14)+1)","v":""},"","",12,{"$f":"IF(ZB15=\"\",\"\",MAX($ZA$2:ZA14)+1)","v":""},"",{"$f":"IF(Start!AF31=SelectText,\"\",Start!AF31)","v":""},{"$f":"IF(OR(COUNTIF($ZC$4:$ZC15,ZD$2)=0,COUNTIF($ZC$4:$ZC15,ZD$2)=MAX(ZD$2:ZD14)),\"-\",COUNTIF($ZC$4:$ZC15,ZD$2))","v":"-"},{"$f":"IF(OR(COUNTIF($ZC$4:$ZC15,ZE$2)=0,COUNTIF($ZC$4:$ZC15,ZE$2)=MAX(ZE$2:ZE14)),\"-\",COUNTIF($ZC$4:$ZC15,ZE$2))","v":"-"},{"$f":"IF(OR(COUNTIF($ZC$4:$ZC15,ZF$2)=0,COUNTIF($ZC$4:$ZC15,ZF$2)=MAX(ZF$2:ZF14)),\"-\",COUNTIF($ZC$4:$ZC15,ZF$2))","v":"-"},{"$f":"IF(OR(COUNTIF($ZC$4:$ZC15,ZG$2)=0,COUNTIF($ZC$4:$ZC15,ZG$2)=MAX(ZG$2:ZG14)),\"-\",COUNTIF($ZC$4:$ZC15,ZG$2))","v":"-"},{"$f":"IF(OR(COUNTIF($ZC$4:$ZC15,ZH$2)=0,COUNTIF($ZC$4:$ZC15,ZH$2)=MAX(ZH$2:ZH14)),\"-\",COUNTIF($ZC$4:$ZC15,ZH$2))","v":"-"},{"$f":"IF(OR(COUNTIF($ZC$4:$ZC15,ZI$2)=0,COUNTIF($ZC$4:$ZC15,ZI$2)=MAX(ZI$2:ZI14)),\"-\",COUNTIF($ZC$4:$ZC15,ZI$2))","v":"-"},{"$f":"IF(OR(COUNTIF($ZC$4:$ZC15,ZJ$2)=0,COUNTIF($ZC$4:$ZC15,ZJ$2)=MAX(ZJ$2:ZJ14)),\"-\",COUNTIF($ZC$4:$ZC15,ZJ$2))","v":"-"},{"$f":"IF(OR(COUNTIF($ZC$4:$ZC15,ZK$2)=0,COUNTIF($ZC$4:$ZC15,ZK$2)=MAX(ZK$2:ZK14)),\"-\",COUNTIF($ZC$4:$ZC15,ZK$2))","v":"-"},{"$f":"IF(OR(COUNTIF($ZC$4:$ZC15,ZL$2)=0,COUNTIF($ZC$4:$ZC15,ZL$2)=MAX(ZL$2:ZL14)),\"-\",COUNTIF($ZC$4:$ZC15,ZL$2))","v":"-"},{"$f":"IF(OR(COUNTIF($ZC$4:$ZC15,ZM$2)=0,COUNTIF($ZC$4:$ZC15,ZM$2)=MAX(ZM$2:ZM14)),\"-\",COUNTIF($ZC$4:$ZC15,ZM$2))","v":"-"},{"$f":"IF(OR(COUNTIF($ZC$4:$ZC15,ZN$2)=0,COUNTIF($ZC$4:$ZC15,ZN$2)=MAX(ZN$2:ZN14)),\"-\",COUNTIF($ZC$4:$ZC15,ZN$2))","v":"-"},{"$f":"IF(OR(COUNTIF($ZC$4:$ZC15,ZO$2)=0,COUNTIF($ZC$4:$ZC15,ZO$2)=MAX(ZO$2:ZO14)),\"-\",COUNTIF($ZC$4:$ZC15,ZO$2))","v":"-"},12]
[null,null,null,null,null,null,null,null,null,null,null,{"$f":"\"\"","v":""},{"$f":"\"\"","v":""},{"$f":"\"\"","v":""},{"$f":"\"\"","v":""},{"$f":"\"\"","v":""},{"$f":"\"\"","v":""},null,null,null,"Black",{"$f":"\"• Damage Type: Acid\n• Breath Weapon: 5 by 30 ft. line. DC \"&8+IF(CONMod=\"\",0,CONMod)+IF(ProfBonus=\"\",0,ProfBonus)&\" Dex save for \"&IF(CharacterLevel<6,\"2d6\",IF(CharacterLevel<11,\"3d6\",IF(CharacterLevel<15,\"4d6\", \"5d6\")))&\" on failed save, half on success.\"","v":"• Damage Type: Acid\n• Breath Weapon: 5 by 30 ft. line. DC 5 Dex save for 2d6 on failed save, half on success."},"Acid",{"$f":"IF(Y16=\"\",\"\",MAX($X$3:X15)+1)","v":""},{"$f":"IF(A$9=$A$3,U16,\"\")","v":""},13,"",null,null,null,"Soldier","Military Rank","   You have a military rank from your career as a soldier. Soldiers loyal to your former military organization still recognize your\n   authority and influence, and they defer to you if they are of a lower rank.","Atheletics, Intimidation",2,"One type of gaming set, vehicles (land)",2,"none",0,null,15,{"$f":"HLOOKUP(CharacterBackground,$AQ$2:$BD$63,$AO16,FALSE)","v":""},{"$f":"\"\"","v":""},"Tradition. The ancient traditions of worship and sacrifice must be preserved and upheld. (Lawful)","Independence. I am a free spirit— no one tells me what to do. (Chaotic)","Honor. I don’t steal from others in the trade. (Lawful)","Beauty. When I perform, I make the world better than it was. (Good) ","Respect. People deserve to be treated with dignity and respect. (Good)","Community. It is the duty of all civilized people to strengthen the bonds of community and the security of civilization. (Lawful)","Greater Good. My gifts are meant to be shared with all, not used for my own benefit. (Good)","Respect. Respect is due to me because of my position, but all people regardless of station deserve to be treated with dignity. (Good)","Change. Life is like the seasons, in constant change, and we must change with it. (Chaotic) ","Knowledge. The path to power and self-improvement is through knowledge. (Neutral) ","Respect. The thing that keeps a ship together is mutual respect between captain and crew. (Good) ","Greater Good. Our lot is to lay down our lives in defense of others. (Good)","Respect. All people, rich or poor, deserve respect. (Good)",{"$f":"\"\"","v":""},null,null,null,"Ranger",10,{"$f":"IF(BL16=0,\"\",MAX($BK$6:BK15)+1)","v":""},{"$f":"COUNTIF(Start!$AF$20:$AF$39,Tables!BI16)","v":0},{"$f":"IF(OR(BK16=\"\",BO16=\"\"),\"\",MAX($BM$6:BM15)+1)","v":""},"Ranger","WIS","","Ranger Archetype",1,null,null,null,10,0,{"$f":"IF(RangerLevel>=14,3,IF(RangerLevel>=6,2,IF(RangerLevel>=1,1,0)))","v":0},{"$f":"IF(RangerLevel>=14,\"Favored Enemy x3\n\",IF(RangerLevel>=6,\"Favored Enemy x2\n\",IF(RangerLevel>=1,\"Favored Enemy x 1\n\",\"\")))","v":""},"Light & medium armor, shields","Light & medium armor, shields","Simple and martial weapons","Simple & martial weapons","none",0,"none",0,"Strength, Dexterity","Choose 3 from Animal Handling, Athletics, Insight, Investigation, Nature, Perception, Stealth, and Survival",3,"Choose 1 from Animal Handling, Athletics, Insight, Investigation, Nature, Perception, Stealth, and Survival",1,{"$f":"\"• Favored Enemy\n\"&IF(RangerLevel>=14,\"   Level 1: \"&HS4&\"\n   Level 6: \"&HS5&\"\n   Level 14: \"&HS6,IF(RangerLevel>=6,\"   Level 1: \"&HS4&\"\n   Level 6: \"&HS5,\"   Level 1: \"&HS4))&\"\n• Natural Explorer\n\"&IF(RangerLevel>=10,\"   Level 1: \"&HW4&\"\n   Level 6: \"&HW5&\"\n   Level 10: \"&HW6,IF(RangerLevel>=6,\"   Level 1: \"&HW4&\"\n   Level 6: \"&HW5,\"   Level 1: \"&HW4))&\"\n\"","v":"• Favored Enemy\n   Level 1: Select…\n• Natural Explorer\n   Level 1: Select…\n"},{"$f":"\"• Spellcasting\n• Fighting Style (\"&VLOOKUP($BI16,$FZ$2:$GA$5,2,FALSE)&\")\n\"&VLOOKUP(VLOOKUP($BI16,$FZ$2:$GA$5,2,FALSE),$FX$24:$FY$30,2,FALSE)&\"\n\"","v":{"$error":"#N/A"}},{"$f":"\"• Ranger Archetype (\"&VLOOKUP($BI16,$BN$3:$BQ$5,4,FALSE)&\"), Primeval Awareness\n• Ranger Archetype Feature (\"&VLOOKUP($BI16,$DM$3:$EH$5,DQ$2-1,FALSE)&\")\n\"","v":{"$error":"#N/A"}},{"$f":"IF(RangerLevel>=DE$6,\"• Ability Score Improvement / Feat: level \"&DE$6&\", \"&DB$6&\", \"&CX$6&\", \"&CT$6&\", \"&CP$6,IF(RangerLevel>=DB$6,\"• Ability Score Improvement / Feat: level \"&DB$6&\", \"&CX$6&\", \"&CT$6&\", \"&CP$6,IF(RangerLevel>=CX$6,\"• Ability Score Improvement / Feat: level \"&CX$6&\", \"&CT$6&\", \"&CP$6,IF(RangerLevel>=CT$6,\"• Ability Score Improvement / Feat : level \"&CT$6&\", \"&CP$6,\"• Ability Score Improvement / Feat: level \"&CP$6))))&\"\n\"","v":"• Ability Score Improvement / Feat: level 4\n"},{"$f":"\"• Extra Attack\n\"","v":"• Extra Attack\n"},{"$f":"\"\"","v":""},{"$f":"\"• Ranger Archetype Feature (\"&VLOOKUP($BI16,$DM$3:$EH$5,DU$2-1,FALSE)&\")\n\"","v":{"$error":"#N/A"}},{"$f":"\"• Land's Stride\n\"","v":"• Land's Stride\n"},{"$f":"\"\"","v":""},{"$f":"\"• Hide in Plain Sight\n\"","v":"• Hide in Plain Sight\n"},{"$f":"\"• Ranger Archetype Feature (\"&VLOOKUP($BI16,$DM$3:$EH$5,DY$2-1,FALSE)&\")\n\"","v":{"$error":"#N/A"}},{"$f":"\"\"","v":""},{"$f":"\"\"","v":""},{"$f":"\"• Vanish\n\"","v":"• Vanish\n"},{"$f":"\"• Ranger Archetype Feature (\"&VLOOKUP($BI16,$DM$3:$EH$5,EC$2-1,FALSE)&\")\n\"","v":{"$error":"#N/A"}},{"$f":"\"\"","v":""},{"$f":"\"\"","v":""},{"$f":"\"• Feral Senses\n\"","v":"• Feral Senses\n"},{"$f":"\"\"","v":""},{"$f":"\"• Foe Slayer\n\"","v":"• Foe Slayer\n"},null,null,null,null,null,"Eldritch Knight","Fighter",0,{"$f":"\"\"","v":""},{"$f":"\"\"","v":""},{"$f":"\"• Martial Archetype Feature (Spellcasting\"&IF(FighterEldritchKnightLevel>=10,\", Cantrips: any 3 wizard\",\"Cantrips: any 2 wizard\")&\", Weapon Bond)\n\"","v":"• Martial Archetype Feature (SpellcastingCantrips: any 2 wizard, Weapon Bond)\n"},{"$f":"\"\"","v":""},{"$f":"\"\"","v":""},{"$f":"\"\"","v":""},{"$f":"\"• Martial Archetype Feature (War Magic)\n\"","v":"• Martial Archetype Feature (War Magic)\n"},{"$f":"\"\"","v":""},{"$f":"\"\"","v":""},{"$f":"\"• Martial Archetype Feature (Eldritch Strike)\n\"","v":"• Martial Archetype Feature (Eldritch Strike)\n"},{"$f":"\"\"","v":""},{"$f":"\"\"","v":""},{"$f":"\"\"","v":""},{"$f":"\"\"","v":""},{"$f":"\"• Martial Archetype Feature (Arcane Charge)\n\"","v":"• Martial Archetype Feature (Arcane Charge)\n"},{"$f":"\"\"","v":""},{"$f":"\"\"","v":""},{"$f":"\"• Martial Archetype Feature (Improved War Magic)\n\"","v":"• Martial Archetype Feature (Improved War Magic)\n"},{"$f":"\"\"","v":""},{"$f":"\"\"","v":""},{"$f":"\"\"","v":""},{"$f":"\"\"","v":""},null,{"$f":"\"\"","v":""},null,{"$f":"\"\"","v":""},null,{"$f":"\"\"","v":""},null,{"$f":"\"\"","v":""},null,{"$f":"\"\"","v":""},{"$f":"\"\"","v":""},{"$f":"\"\"","v":""},{"$f":"\"\"","v":""},{"$f":"\"\"","v":""},{"$f":"\"\"","v":""},null,{"$f":"IF($DM16=FB$5,MAX(FA$6:FA15)+1,\"\")","v":""},"",null,null,{"$f":"IF($DM16=FF$5,MAX(FE$6:FE15)+1,\"\")","v":""},"",null,null,{"$f":"IF($DM16=FJ$5,MAX(FI$6:FI15)+1,\"\")","v":""},"",null,null,"Performance",{"$f":"Start!X68","v":0},{"$f":"IF($FM16=$FP16,MAX(FO$3:FO15)+1,\"\")","v":""},"",14,"",null,null,null,null,{"$f":"IF(FX16=\"\",\"\",MAX($FW$15:FW15)+1)","v":""},{"$f":"IF(OR(FighterLevel>0,RangerLevel>1),FX25,\"\")","v":""},null,null,null,"Riposte","   When a creature misses you with a melee attack, use your reaction and expend one superiority die to make a melee weapon\n   attack against the creature. If you hit, add the superiority die to the damage roll.",null,null,null,null,null,null,null,null,null,null,null,null,null,"Shape the Flowing River","   As an action, spend 1 ki point to choose an area of ice or water no larger than 30 feet on a side within 120 feet of you. You\n   can change water to ice within the area and vice versa, and you can reshape ice in the area in any manner you choose. You\n   can raise or lower the ice’s elevation, create or fill in a trench, erect or flatten a wall, or form a pillar. The extent of any such\n   changes can’t exceed half the area’s largest dimension. For example, if you affect a 30-foot square, you can create a pillar up\n   to 15 feet high, raise or lower the square’s elevation by up to 15 feet, dig a trench up to 15 feet deep, and so on. You can’t\n   shape the ice to trap or injure a creature in the area.",3,1,{"$f":"IF(GV16=\"\",\"\",MAX($GU$3:GU15)+1)","v":""},"",14,"",null,null,null,null,null,null,null,null,null,null,null,null,"undead",{"$f":"\"\"","v":""},"githyanki",null,null,null,null,null,null,null,null,null,null,"Volley",null,null,null,null,null,null,null,null,null,{"$f":"IF(IJ16=1,MAX($IH$2:IH15)+1,\"\")","v":7},"Fiendish Vigor",{"$f":"1","v":1},"   You can cast false life on yourself at will as a 1st-level spell, without expending a spell slot or material components.",14,"",null,null,null,null,null,null,null,null,null,null,"Ilmater (LG)","God of endurance","Lawful Good","Life","Hands bound at the wrist with red cord",{"$f":"IF(JD16=\"\",\"\",MAX($JC$1:JC15)+1)","v":13},"Draconic","Draconic",15,"Primordial",15,165000,15,5,null,14,4,3,3,3,2,1,1,"-","-",7,null,null,null,null,null,null,14,10,18,10,8,13,12,14,5,5,3,4,4,6,4,null,"Calligrapher's supplies","No","Tools",null,null,null,null,null,null,null,null,null,null,null,null,null,null,null,null,null,null,null,null,null,null,null,null,null,null,null,null,null,null,null,null,null,null,null,null,null,null,null,null,null,null,null,null,null,null,null,null,null,null,null,null,null,null,null,null,null,null,null,null,null,null,null,null,null,null,null,null,null,null,null,null,null,null,null,null,null,null,null,null,null,null,null,null,null,null,null,null,null,null,null,null,null,null,null,null,null,null,null,null,null,null,null,null,null,null,null,null,null,null,null,null,null,null,null,null,null,null,null,null,null,null,null,null,null,null,{"$f":"IF(COUNTIF(Start!$AX$59:$BF$68,Tables!KT16)>0,Tables!KT16,\"\")","v":""},null,"",{"$f":"IF(PU16=\"\",\"\",IF(COUNTIF(PU16:$PU$57,\"><\")>1,PU16&\", \", PU16))","v":""},null,null,null,"Great club","Simple Melee","not proficient","1d8","bludgeoning","-",10,{"$f":"\"\"","v":""},{"$f":"\"\"","v":""},{"$f":"\"\"","v":""},{"$f":"\"\"","v":""},{"$f":"\"\"","v":""},{"$f":"\"\"","v":""},{"$f":"\"\"","v":""},{"$f":"\"\"","v":""},"two-handed",{"$f":"\"\"","v":""},{"$f":"\"\"","v":""},{"$f":"\"\"","v":""},null,16,"Two-Handed",null,null,null,null,{"$f":"VLOOKUP(Start!AV$137,Tables!$PZ$2:$QQ$500,$QT16,FALSE)","v":""},null,null,null,null,null,null,null,{"$f":"VLOOKUP(Start!BD$137,Tables!$PZ$2:$QQ$500,$QT16,FALSE)","v":""},null,null,null,null,null,null,null,{"$f":"VLOOKUP(Start!BL$137,Tables!$PZ$2:$QQ$500,$QT16,FALSE)","v":""},null,null,null,null,null,null,null,{"$f":"VLOOKUP(Start!BT$137,Tables!$PZ$2:$QQ$500,$QT16,FALSE)","v":""},null,null,null,null,null,null,null,{"$f":"VLOOKUP(Start!CB$137,Tables!$PZ$2:$QQ$500,$QT16,FALSE)","v":""},null,null,null,null,null,null,null,{"$f":"VLOOKUP(Start!CJ$137,Tables!$PZ$2:$QQ$500,$QT16,FALSE)","v":""},null,null,null,"Plate mail","heavy",{"$f":"IF(SR16=\"\",\"\",IF(Start!$Y$157=$QS$12,$QS$12&\" (disadvantage)\",IF(Start!$Y$157=$QS$11,$QS$11,IF(VLOOKUP(SR16,$KT$60:$KV$78,2,FALSE)=\"No\",$QS$12&\" (disadvantage)\",$QS$11))))","v":"not proficient (disadvantage)"},18,0,15,"Disadvantage",65,{"$f":"ST16&\", Don: 10min, Doff: 5min\"","v":"not proficient (disadvantage), Don: 10min, Doff: 5min"},null,null,null,null,null,null,null,null,null,14,"Arcane Gate","LEVEL 6",6,"Arcane Gate ",{"$f":"\"\"","v":""},"",{"$f":"IF(OR(TK16=Spellcasting!$AC$18,TK16=Spellcasting!$AC$19),\"ᵐ\",\"\")","v":""},{"$f":"IF(OR(TK16=Spellcasting!$AC$20,TK16=Spellcasting!$AC$21),\"ˢ\",\"\")","v":""},{"$f":"\"\"","v":""},"1 act","500 ft","10 min ᶜᵒᶰ","VS",{"$f":"\"\"","v":""},"conjuration","conjur","You create linked teleportation portals that remain open for the duration. Choose two points on the ground that you can see, one point within 10 feet of you and one point within 500 feet of you. A circular portal, 10 feet in diameter, opens over each point. If the portal would open in the space occupied by a creature, the spell fails, and the casting is lost. \n\nThe portals are two-dimensional glowing rings filled with mist, hovering inches from the ground and perpendicular to it at the points you choose. A ring is visible only from one side (your choice), which is the side that functions as a portal. \n\nAny creature or object entering the portal exits from the other portal as if the two were adjacent to each other; passing through a portal from the nonportal side has no effect. The mist that fills each portal is opaque and blocks vision through it. On your turn, you can rotate the rings as a bonus action so that the active side faces in a different direction.","create linked teleport portals",null,null,null,{"$f":"IF(UF$1>=$TM16,1,\"0\")","v":"0"},{"$f":"IF(UG$1>=$TM16,1,\"0\")","v":"0"},null,null,null,null,{"$f":"IF(UL$1>=$TM16,1,\"0\")","v":"0"},null,null,null,null,null,null,null,null,null,null,null,null,null,null,null,null,null,null,null,null,null,null,null,null,null,null,null,null,null,null,null,null,null,null,null,null,null,null,null,null,null,null,null,{"$f":"IF(SUM($VZ$1:$WC$1)>0,IF(AND(SUM($VZ16:$WC16)>0,$TM16=WE$1),MAX(WD$2:WD15)+1,\"\"),IF(AND(SUM($UC16:$VY16)>0,$TM16=WE$1),MAX(WD$2:WD15)+1,\"\"))","v":""},"",{"$f":"IF(AND(SUM($UB16:$VY16)>0,$TM16=WG$1),MAX(WF$2:WF15)+1,\"\")","v":""},"",{"$f":"IF(AND(SUM($UB16:$VY16)>0,$TM16=WI$1),MAX(WH$2:WH15)+1,\"\")","v":""},"",{"$f":"IF(AND(SUM($UB16:$VY16)>0,$TM16=WK$1),MAX(WJ$2:WJ15)+1,\"\")","v":""},"",{"$f":"IF(AND(SUM($UB16:$VY16)>0,$TM16=WM$1),MAX(WL$2:WL15)+1,\"\")","v":""},"",{"$f":"IF(AND(SUM($UB16:$VY16)>0,$TM16=WO$1),MAX(WN$2:WN15)+1,\"\")","v":""},"",{"$f":"IF(AND(SUM($UB16:$VY16)>0,$TM16=WQ$1),MAX(WP$2:WP15)+1,\"\")","v":""},"",{"$f":"IF(AND(SUM($UB16:$VY16)>0,$TM16=WS$1),MAX(WR$2:WR15)+1,\"\")","v":""},"",{"$f":"IF(AND(SUM($UB16:$VY16)>0,$TM16=WU$1),MAX(WT$2:WT15)+1,\"\")","v":""},"",{"$f":"IF(AND(SUM($UB16:$VY16)>0,$TM16=WW$1),MAX(WV$2:WV15)+1,\"\")","v":""},"",{"$f":"IF(AND(SUM($UB16:$VY16)>0,$TM16=WY$1),MAX(WX$2:WX15)+1,\"\")","v":""},"",15,"","","","","","","","","","","",null,12,"Raven","Beast","Tiny",12,1,"10 ft, fly 50 ft",2,14,8,2,12,6,"Perception +3","passive Perception 13","Beak melee +4, reach 5ft, 1 piercing","Mimicry. Mimic simple sounds, such as a person whispering, a baby crying, or an animal chittering\nA creature that hears the sounds can tell they are imitations with a DC 10 Wisdom (Insight) check",null,null,null,"Athlete","none","You have undergone extensive physical training to gain the following benefits:\n• Increase your Strength or Dexterity score by 1, to a maximum of 20. \n• When you are prone, standing up uses only 5 feet of your movement.\n• Climbing doesn’t halve your speed. \n• You can make a running long jump or a running high jump after moving only 5 feet on foot, rather than 10 feet.","  - Increase your Strength or Dexterity score by 1, to a maximum of 20. \n  - When you are prone, standing up uses only 5 feet of your movement.\n  - Climbing doesn’t halve your speed. \n  - You can make a running long jump or a running high jump after moving only 5 feet on foot, rather than 10 feet.",{"$f":"\"\"","v":""},{"$f":"\"\"","v":""},"SD",1,null,null,null,null,null,"Cleric",16,{"$f":"VLOOKUP(YY16,$ZF$2:$ZP$23,$ZF$1,FALSE)","v":""},{"$f":"IF(YX16=\"\",\"\",MAX($YW$1:YW15)+1)","v":""},"","",13,{"$f":"IF(ZB16=\"\",\"\",MAX($ZA$2:ZA15)+1)","v":""},"",{"$f":"IF(Start!AF32=SelectText,\"\",Start!AF32)","v":""},{"$f":"IF(OR(COUNTIF($ZC$4:$ZC16,ZD$2)=0,COUNTIF($ZC$4:$ZC16,ZD$2)=MAX(ZD$2:ZD15)),\"-\",COUNTIF($ZC$4:$ZC16,ZD$2))","v":"-"},{"$f":"IF(OR(COUNTIF($ZC$4:$ZC16,ZE$2)=0,COUNTIF($ZC$4:$ZC16,ZE$2)=MAX(ZE$2:ZE15)),\"-\",COUNTIF($ZC$4:$ZC16,ZE$2))","v":"-"},{"$f":"IF(OR(COUNTIF($ZC$4:$ZC16,ZF$2)=0,COUNTIF($ZC$4:$ZC16,ZF$2)=MAX(ZF$2:ZF15)),\"-\",COUNTIF($ZC$4:$ZC16,ZF$2))","v":"-"},{"$f":"IF(OR(COUNTIF($ZC$4:$ZC16,ZG$2)=0,COUNTIF($ZC$4:$ZC16,ZG$2)=MAX(ZG$2:ZG15)),\"-\",COUNTIF($ZC$4:$ZC16,ZG$2))","v":"-"},{"$f":"IF(OR(COUNTIF($ZC$4:$ZC16,ZH$2)=0,COUNTIF($ZC$4:$ZC16,ZH$2)=MAX(ZH$2:ZH15)),\"-\",COUNTIF($ZC$4:$ZC16,ZH$2))","v":"-"},{"$f":"IF(OR(COUNTIF($ZC$4:$ZC16,ZI$2)=0,COUNTIF($ZC$4:$ZC16,ZI$2)=MAX(ZI$2:ZI15)),\"-\",COUNTIF($ZC$4:$ZC16,ZI$2))","v":"-"},{"$f":"IF(OR(COUNTIF($ZC$4:$ZC16,ZJ$2)=0,COUNTIF($ZC$4:$ZC16,ZJ$2)=MAX(ZJ$2:ZJ15)),\"-\",COUNTIF($ZC$4:$ZC16,ZJ$2))","v":"-"},{"$f":"IF(OR(COUNTIF($ZC$4:$ZC16,ZK$2)=0,COUNTIF($ZC$4:$ZC16,ZK$2)=MAX(ZK$2:ZK15)),\"-\",COUNTIF($ZC$4:$ZC16,ZK$2))","v":"-"},{"$f":"IF(OR(COUNTIF($ZC$4:$ZC16,ZL$2)=0,COUNTIF($ZC$4:$ZC16,ZL$2)=MAX(ZL$2:ZL15)),\"-\",COUNTIF($ZC$4:$ZC16,ZL$2))","v":"-"},{"$f":"IF(OR(COUNTIF($ZC$4:$ZC16,ZM$2)=0,COUNTIF($ZC$4:$ZC16,ZM$2)=MAX(ZM$2:ZM15)),\"-\",COUNTIF($ZC$4:$ZC16,ZM$2))","v":"-"},{"$f":"IF(OR(COUNTIF($ZC$4:$ZC16,ZN$2)=0,COUNTIF($ZC$4:$ZC16,ZN$2)=MAX(ZN$2:ZN15)),\"-\",COUNTIF($ZC$4:$ZC16,ZN$2))","v":"-"},{"$f":"IF(OR(COUNTIF($ZC$4:$ZC16,ZO$2)=0,COUNTIF($ZC$4:$ZC16,ZO$2)=MAX(ZO$2:ZO15)),\"-\",COUNTIF($ZC$4:$ZC16,ZO$2))","v":"-"},13]
[null,null,null,null,null,null,null,null,null,null,null,null,null,null,null,null,null,null,null,null,"Blue",{"$f":"\"• Damage Type: Lightning\n• Breath Weapon: 5 by 30 ft. line. DC \"&8+IF(CONMod=\"\",0,CONMod)+IF(ProfBonus=\"\",0,ProfBonus)&\" Dex save for \"&IF(CharacterLevel<6,\"2d6\",IF(CharacterLevel<11,\"3d6\",IF(CharacterLevel<15,\"4d6\", \"5d6\")))&\" on failed save, half on success.\"","v":"• Damage Type: Lightning\n• Breath Weapon: 5 by 30 ft. line. DC 5 Dex save for 2d6 on failed save, half on success."},"Lightning",{"$f":"IF(Y17=\"\",\"\",MAX($X$3:X16)+1)","v":""},"",14,"",null,null,null,"Urchin","City Secrets","   You know the secret patterns and flow to cities and can find passages through the urban sprawl that others would miss.\n   When you are not in combat, you (and companions you lead) can travel between any two locations in the city twice as fast\n   as your speed would normally allow.","Sleight of Hand, Stealth",2,"Disguise kit, thieves’ tools",2,"none",0,null,16,"",{"$f":"\"\"","v":""},"Charity. I always try to help those in need, no matter what the personal cost. (Good)","Fairness. I never target people who can’t afford to lose a few coins. (Lawful) ","Freedom. Chains are meant to be broken, as are those who would forge them. (Chaotic)","Tradition. The stories, legends, and songs of the past must never be forgotten, for they teach us who we are. (Lawful)","Fairness. No one should get preferential treatment before the law, and no one is above the law. (Lawful)","Generosity. My talents were given to me so that I could use them to benefit the world. (Good) ","Logic. Emotions must not cloud our sense of what is right and true, or our logical thinking. (Lawful) ","Responsibility. It is my duty to respect the authority of those above me, just as those below me must respect mine. (Lawful)","Greater Good. It is each person’s responsibility to make the most happiness for the whole tribe. (Good) ","Beauty. What is beautiful points us beyond itself toward what is true. (Good)","Fairness. We all do the work, so we all share in the rewards. (Lawful) ","Responsibility. I do what I must and obey just authority. (Lawful)","Community. We have to take care of each other, \nbecause no one else is going to do it. (Lawful)",{"$f":"\"\"","v":""},null,null,null,"Sorcerer",6,{"$f":"IF(BL17=0,\"\",MAX($BK$6:BK16)+1)","v":""},{"$f":"COUNTIF(Start!$AF$20:$AF$39,Tables!BI17)","v":0},{"$f":"IF(OR(BK17=\"\",BO17=\"\"),\"\",MAX($BM$6:BM16)+1)","v":""},"Sorcerer","CHA","","Sorcerous Origin",1,null,null,null,{"$f":"IF(AND(SorcererDraconicBloodlineLevel>0,ArmorName=\"\",ArmorName=\"none\"),13,10)","v":10},0,0,{"$f":"\"\"","v":""},"none","none","Daggers, darts, slings, quarterstaffs, light crossbows","none","none",0,"none",0,"Constitution, Charisma","Choose 2 from Arcana, Deception, Insight, Intimidation, Persuasion, and Religion",2,"none",0,{"$f":"\"• Spellcasting, Sorcerer Origin (\"&VLOOKUP($BN17,$BN$3:$BQ$5,4,FALSE)&\")\n• Sorcerer Origin Feature (\"&VLOOKUP($BI17,$DM$3:$EH$5,DO$2-1,FALSE)&\")\n\"","v":{"$error":"#N/A"}},{"$f":"\"• Font of Magic (\"&SorcererLevel&\" Sorcery Points)\n\"","v":"• Font of Magic (0 Sorcery Points)\n"},{"$f":"\"• Metamagic\n\"&IG2","v":"• Metamagic\n"},{"$f":"IF(SorcererLevel>=DE$6,\"• Ability Score Improvement / Feat: level \"&DE$6&\", \"&DB$6&\", \"&CX$6&\", \"&CT$6&\", \"&CP$6,IF(SorcererLevel>=DB$6,\"• Ability Score Improvement / Feat: level \"&DB$6&\", \"&CX$6&\", \"&CT$6&\", \"&CP$6,IF(SorcererLevel>=CX$6,\"• Ability Score Improvement / Feat: level \"&CX$6&\", \"&CT$6&\", \"&CP$6,IF(SorcererLevel>=CT$6,\"• Ability Score Improvement / Feat : level \"&CT$6&\", \"&CP$6,\"• Ability Score Improvement / Feat: level \"&CP$6))))&\"\n\"","v":"• Ability Score Improvement / Feat: level 4\n"},{"$f":"\"\"","v":""},{"$f":"\"• Sorcerer Origin Feature (\"&VLOOKUP($BI17,$DM$3:$EH$5,DT$2-1,FALSE)&\")\n\"","v":{"$error":"#N/A"}},{"$f":"\"\"","v":""},{"$f":"\"\"","v":""},{"$f":"\"\"","v":""},{"$f":"\"• Metamagic\n\"","v":"• Metamagic\n"},{"$f":"\"\"","v":""},{"$f":"\"\"","v":""},{"$f":"\"\"","v":""},{"$f":"\"• Sorcerer Origin Feature (\"&VLOOKUP($BI17,$DM$3:$EH$5,EB$2-1,FALSE)&\")\n\"","v":{"$error":"#N/A"}},{"$f":"\"\"","v":""},{"$f":"\"\"","v":""},{"$f":"\"\"","v":""},{"$f":"\"• Sorcerer Origin Feature (\"&VLOOKUP($BI17,$DM$3:$EH$5,EF$2-1,FALSE)&\")\n\"","v":{"$error":"#N/A"}},{"$f":"\"\"","v":""},{"$f":"\"• Sorcerous Restoration\n\"","v":"• Sorcerous Restoration\n"},null,null,null,null,null,"Arcane Trickster","Rogue",0,{"$f":"\"\"","v":""},{"$f":"\"\"","v":""},"Spellcasting, Mage Hand Legerdmain",{"$f":"\"\"","v":""},{"$f":"\"\"","v":""},{"$f":"\"\"","v":""},{"$f":"\"\"","v":""},{"$f":"\"\"","v":""},"Magical Ambush",{"$f":"\"\"","v":""},{"$f":"\"\"","v":""},{"$f":"\"\"","v":""},"Versatile Trickster",{"$f":"\"\"","v":""},{"$f":"\"\"","v":""},{"$f":"\"\"","v":""},"Spell Thief",{"$f":"\"\"","v":""},{"$f":"\"\"","v":""},{"$f":"\"\"","v":""},{"$f":"\"\"","v":""},{"$f":"\"\"","v":""},null,{"$f":"\"\"","v":""},null,{"$f":"\"\"","v":""},null,{"$f":"\"\"","v":""},null,{"$f":"\"\"","v":""},null,{"$f":"\"\"","v":""},{"$f":"\"\"","v":""},{"$f":"\"\"","v":""},{"$f":"\"\"","v":""},{"$f":"\"\"","v":""},{"$f":"\"\"","v":""},null,{"$f":"IF($DM17=FB$5,MAX(FA$6:FA16)+1,\"\")","v":""},"",null,null,{"$f":"IF($DM17=FF$5,MAX(FE$6:FE16)+1,\"\")","v":""},"",null,null,{"$f":"IF($DM17=FJ$5,MAX(FI$6:FI16)+1,\"\")","v":""},"",null,null,"Persuasion",{"$f":"Start!X69","v":0},{"$f":"IF($FM17=$FP17,MAX(FO$3:FO16)+1,\"\")","v":""},"",15,"",null,null,null,null,{"$f":"IF(FX17=\"\",\"\",MAX($FW$15:FW16)+1)","v":""},{"$f":"IF(OR(FighterLevel>0,PaladinLevel>1,RangerLevel>1),FX26,\"\")","v":""},null,null,null,"Sweeping Attack","   When you hit a creature with a melee weapon attack, expend one superiority die to attempt to damage another creature with\n   the same attack. Choose another creature within 5 feet of the original target and within your reach. If the original attack roll\n   would hit the second creature, it takes damage equal to the number you roll on your superiority die.",null,null,null,null,null,null,null,null,null,null,null,null,null,"Sweeping Cinder Strike","   Spend 2 ki points to cast burning hands.",3,2,{"$f":"IF(GV17=\"\",\"\",MAX($GU$3:GU16)+1)","v":""},"",15,"",null,null,null,null,null,null,null,null,null,null,null,null,"--HUMANOIDS--",{"$f":"\"\"","v":""},"githzerai",null,null,null,null,null,null,null,null,null,null,"Whirlwind Attack",null,null,null,null,null,null,null,null,null,{"$f":"IF(IJ17=1,MAX($IH$2:IH16)+1,\"\")","v":8},"Gaze of Two Minds",{"$f":"1","v":1},"   You can use your action to touch a willing humanoid and perceive through its senses until the end of your next turn.\n   As long as the creature is on the same plane of existence as you, you can use your action on subsequent turns to\n   maintain this connection, extending the duration until the end of your next turn. While perceiving through the other\n   creature’s senses, you benefit from any special senses possessed by that creature, and you are blinded and deafened\n   to your own surroundings.",15,"",null,null,null,null,null,null,null,null,null,null,"Kelemvor (LN)","God of the dead","Lawful Neutral","Death","Upright skeletal arm holding balanced scales",{"$f":"IF(JD17=\"\",\"\",MAX($JC$1:JC16)+1)","v":14},"Infernal","Infernal",16,"Sylvan",16,195000,16,5,null,15,4,3,3,3,2,1,1,1,"-",8,null,null,null,null,null,null,15,10,19,10,9,14,13,15,5,5,3,4,4,6,4,null,"Carpenter’s tools","No","Tools",null,null,null,null,null,null,null,null,null,null,null,null,null,null,null,null,null,null,null,null,null,null,null,null,null,null,null,null,null,null,null,null,null,null,null,null,null,null,null,null,null,null,null,null,null,null,null,null,null,null,null,null,null,null,null,null,null,null,null,null,null,null,null,null,null,null,null,null,null,null,null,null,null,null,null,null,null,null,null,null,null,null,null,null,null,null,null,null,null,null,null,null,null,null,null,null,null,null,null,null,null,null,null,null,null,null,null,null,null,null,null,null,null,null,null,null,null,null,null,null,null,null,null,null,null,null,{"$f":"IF(COUNTIF(Start!$AX$59:$BF$68,Tables!KT17)>0,Tables!KT17,\"\")","v":""},null,"",{"$f":"IF(PU17=\"\",\"\",IF(COUNTIF(PU17:$PU$57,\"><\")>1,PU17&\", \", PU17))","v":""},null,null,null,"Great sword","Martial Melee","not proficient","2d6","slashing","-",6,{"$f":"\"\"","v":""},{"$f":"\"\"","v":""},"heavy",{"$f":"\"\"","v":""},{"$f":"\"\"","v":""},{"$f":"\"\"","v":""},{"$f":"\"\"","v":""},{"$f":"\"\"","v":""},"two-handed",{"$f":"\"\"","v":""},{"$f":"\"\"","v":""},{"$f":"\"\"","v":""},null,17,"Versatile",null,null,null,null,{"$f":"VLOOKUP(Start!AV$137,Tables!$PZ$2:$QQ$500,$QT17,FALSE)","v":""},null,null,null,null,null,null,null,{"$f":"VLOOKUP(Start!BD$137,Tables!$PZ$2:$QQ$500,$QT17,FALSE)","v":""},null,null,null,null,null,null,null,{"$f":"VLOOKUP(Start!BL$137,Tables!$PZ$2:$QQ$500,$QT17,FALSE)","v":""},null,null,null,null,null,null,null,{"$f":"VLOOKUP(Start!BT$137,Tables!$PZ$2:$QQ$500,$QT17,FALSE)","v":""},null,null,null,null,null,null,null,{"$f":"VLOOKUP(Start!CB$137,Tables!$PZ$2:$QQ$500,$QT17,FALSE)","v":""},null,null,null,null,null,null,null,{"$f":"VLOOKUP(Start!CJ$137,Tables!$PZ$2:$QQ$500,$QT17,FALSE)","v":""},null,null,null,"Mage Armor","force",{"$f":"IF(SR17=\"\",\"\",IF(Start!$Y$157=$QS$12,$QS$12&\" (disadvantage)\",IF(Start!$Y$157=$QS$11,$QS$11,IF(VLOOKUP(SR17,$KT$60:$KV$78,2,FALSE)=\"No\",$QS$12&\" (disadvantage)\",$QS$11))))","v":"not proficient (disadvantage)"},13,{"$f":"DEXMod","v":-5},"-","-","-",{"$f":"ST17&\", spell (8 hrs)\"","v":"not proficient (disadvantage), spell (8 hrs)"},null,null,null,null,null,null,null,null,null,15,"Arcane Lock","LEVEL 2",2,"Arcane Lock ",{"$f":"\"\"","v":""},"",{"$f":"IF(OR(TK17=Spellcasting!$AC$18,TK17=Spellcasting!$AC$19),\"ᵐ\",\"\")","v":""},{"$f":"IF(OR(TK17=Spellcasting!$AC$20,TK17=Spellcasting!$AC$21),\"ˢ\",\"\")","v":""},{"$f":"\"\"","v":""},"1 act","touch","dispelled","VSM","gold dust worth at least 25 gp, which the spell consumes","conjuration","conjur","You touch a closed door, window, gate, chest, or other entryway, and it becomes locked for the duration. You and the creatures you designate when you cast this spell can open the object normally. You can also set a password that, when spoken within 5 feet of the object, suppresses this spell for 1 minute. Otherwise, it is impassable until it is broken or the spell is dispelled or suppressed. Casting knock on the object suppresses arcane lock for 10 minutes. \n\nWhile affected by this spell, the object is more difficult to break or force open; the DC to break it or pick any locks on it increases by 10. ","lock a door, window, gate, chest password suppressed 1 min",null,null,null,null,null,null,null,null,null,{"$f":"IF(UL$1>=$TM17,1,\"0\")","v":"0"},null,null,null,null,null,null,null,null,null,null,null,null,null,null,null,null,null,null,null,null,null,null,null,null,null,null,null,null,null,null,null,null,null,null,null,null,null,null,null,null,null,null,null,{"$f":"IF(SUM($VZ$1:$WC$1)>0,IF(AND(SUM($VZ17:$WC17)>0,$TM17=WE$1),MAX(WD$2:WD16)+1,\"\"),IF(AND(SUM($UC17:$VY17)>0,$TM17=WE$1),MAX(WD$2:WD16)+1,\"\"))","v":""},"",{"$f":"IF(AND(SUM($UB17:$VY17)>0,$TM17=WG$1),MAX(WF$2:WF16)+1,\"\")","v":""},"",{"$f":"IF(AND(SUM($UB17:$VY17)>0,$TM17=WI$1),MAX(WH$2:WH16)+1,\"\")","v":""},"",{"$f":"IF(AND(SUM($UB17:$VY17)>0,$TM17=WK$1),MAX(WJ$2:WJ16)+1,\"\")","v":""},"",{"$f":"IF(AND(SUM($UB17:$VY17)>0,$TM17=WM$1),MAX(WL$2:WL16)+1,\"\")","v":""},"",{"$f":"IF(AND(SUM($UB17:$VY17)>0,$TM17=WO$1),MAX(WN$2:WN16)+1,\"\")","v":""},"",{"$f":"IF(AND(SUM($UB17:$VY17)>0,$TM17=WQ$1),MAX(WP$2:WP16)+1,\"\")","v":""},"",{"$f":"IF(AND(SUM($UB17:$VY17)>0,$TM17=WS$1),MAX(WR$2:WR16)+1,\"\")","v":""},"",{"$f":"IF(AND(SUM($UB17:$VY17)>0,$TM17=WU$1),MAX(WT$2:WT16)+1,\"\")","v":""},"",{"$f":"IF(AND(SUM($UB17:$VY17)>0,$TM17=WW$1),MAX(WV$2:WV16)+1,\"\")","v":""},"",{"$f":"IF(AND(SUM($UB17:$VY17)>0,$TM17=WY$1),MAX(WX$2:WX16)+1,\"\")","v":""},"",16,"","","","","","","","","","","",null,13,"Scorpion","Beast","Tiny",11,1,"10 ft",2,1,8,1,8,2,"none","passive Perception 9, blindsight 10ft","Sting melee +2, reach 5ft, 1 piercing\nDC 9 Con save ½, 1d8 poison","none",null,null,null,"Actor","none","Skilled at mimicry and dramatics, you gain the following benefits:\n• Increase your Charisma score by 1, to a maximum of 20. \n• You have advantage on Charisma (Deception) and Charisma (Performance) checks when trying to pass yourself off as a different person. \n• You can mimic the speech of another person or the sounds made by other creatures. You must have heard the person speaking, or heard the creature make the sound, for at least 1 minute. A successful Wisdom (Insight) check contested by your Charisma (Deception) check allows a listener to determine that the effect is faked.","  - Increase your Charisma score by 1, to a maximum of 20. \n  - Advantage on Charisma (Deception) and Charisma (Performance) checks when trying to pass as a different person. \n  - You can mimic the speech of another person or the sounds made by other creatures. You must have heard the person\n     speaking, or heard the creature make the sound, for at least 1 minute. A successful Wisdom (Insight) check contested\n     by your Charisma (Deception) check allows a listener to determine that the effect is faked.",{"$f":"\"\"","v":""},{"$f":"\"\"","v":""},"CH",1,null,null,null,null,null,"Cleric",19,{"$f":"VLOOKUP(YY17,$ZF$2:$ZP$23,$ZF$1,FALSE)","v":""},{"$f":"IF(YX17=\"\",\"\",MAX($YW$1:YW16)+1)","v":""},"","",14,{"$f":"IF(ZB17=\"\",\"\",MAX($ZA$2:ZA16)+1)","v":""},"",{"$f":"IF(Start!AF33=SelectText,\"\",Start!AF33)","v":""},{"$f":"IF(OR(COUNTIF($ZC$4:$ZC17,ZD$2)=0,COUNTIF($ZC$4:$ZC17,ZD$2)=MAX(ZD$2:ZD16)),\"-\",COUNTIF($ZC$4:$ZC17,ZD$2))","v":"-"},{"$f":"IF(OR(COUNTIF($ZC$4:$ZC17,ZE$2)=0,COUNTIF($ZC$4:$ZC17,ZE$2)=MAX(ZE$2:ZE16)),\"-\",COUNTIF($ZC$4:$ZC17,ZE$2))","v":"-"},{"$f":"IF(OR(COUNTIF($ZC$4:$ZC17,ZF$2)=0,COUNTIF($ZC$4:$ZC17,ZF$2)=MAX(ZF$2:ZF16)),\"-\",COUNTIF($ZC$4:$ZC17,ZF$2))","v":"-"},{"$f":"IF(OR(COUNTIF($ZC$4:$ZC17,ZG$2)=0,COUNTIF($ZC$4:$ZC17,ZG$2)=MAX(ZG$2:ZG16)),\"-\",COUNTIF($ZC$4:$ZC17,ZG$2))","v":"-"},{"$f":"IF(OR(COUNTIF($ZC$4:$ZC17,ZH$2)=0,COUNTIF($ZC$4:$ZC17,ZH$2)=MAX(ZH$2:ZH16)),\"-\",COUNTIF($ZC$4:$ZC17,ZH$2))","v":"-"},{"$f":"IF(OR(COUNTIF($ZC$4:$ZC17,ZI$2)=0,COUNTIF($ZC$4:$ZC17,ZI$2)=MAX(ZI$2:ZI16)),\"-\",COUNTIF($ZC$4:$ZC17,ZI$2))","v":"-"},{"$f":"IF(OR(COUNTIF($ZC$4:$ZC17,ZJ$2)=0,COUNTIF($ZC$4:$ZC17,ZJ$2)=MAX(ZJ$2:ZJ16)),\"-\",COUNTIF($ZC$4:$ZC17,ZJ$2))","v":"-"},{"$f":"IF(OR(COUNTIF($ZC$4:$ZC17,ZK$2)=0,COUNTIF($ZC$4:$ZC17,ZK$2)=MAX(ZK$2:ZK16)),\"-\",COUNTIF($ZC$4:$ZC17,ZK$2))","v":"-"},{"$f":"IF(OR(COUNTIF($ZC$4:$ZC17,ZL$2)=0,COUNTIF($ZC$4:$ZC17,ZL$2)=MAX(ZL$2:ZL16)),\"-\",COUNTIF($ZC$4:$ZC17,ZL$2))","v":"-"},{"$f":"IF(OR(COUNTIF($ZC$4:$ZC17,ZM$2)=0,COUNTIF($ZC$4:$ZC17,ZM$2)=MAX(ZM$2:ZM16)),\"-\",COUNTIF($ZC$4:$ZC17,ZM$2))","v":"-"},{"$f":"IF(OR(COUNTIF($ZC$4:$ZC17,ZN$2)=0,COUNTIF($ZC$4:$ZC17,ZN$2)=MAX(ZN$2:ZN16)),\"-\",COUNTIF($ZC$4:$ZC17,ZN$2))","v":"-"},{"$f":"IF(OR(COUNTIF($ZC$4:$ZC17,ZO$2)=0,COUNTIF($ZC$4:$ZC17,ZO$2)=MAX(ZO$2:ZO16)),\"-\",COUNTIF($ZC$4:$ZC17,ZO$2))","v":"-"},14]
[null,null,null,null,null,null,null,null,null,null,null,null,null,null,null,null,null,null,null,null,"Brass",{"$f":"\"• Damage Type: Fire\n• Breath Weapon: 5 by 30 ft. line. DC \"&8+IF(CONMod=\"\",0,CONMod)+IF(ProfBonus=\"\",0,ProfBonus)&\" Dex save for \"&IF(CharacterLevel<6,\"2d6\",IF(CharacterLevel<11,\"3d6\",IF(CharacterLevel<15,\"4d6\", \"5d6\")))&\" on failed save, half on success.\"","v":"• Damage Type: Fire\n• Breath Weapon: 5 by 30 ft. line. DC 5 Dex save for 2d6 on failed save, half on success."},"Fire",{"$f":"IF(Y18=\"\",\"\",MAX($X$3:X17)+1)","v":""},"",15,"",null,null,null,null,null,null,null,null,null,null,null,null,null,17,"",{"$f":"\"\"","v":""},"Change. We must help bring about the changes the gods are constantly working in the world. (Chaotic)","Charity. I distribute the money I acquire to the people who really need it. (Good) ","Charity. I steal from the wealthy so that I can help people in need. (Good)","Creativity. The world is in need of new ideas and bold action. (Chaotic) ","Freedom. Tyrants must not be allowed to oppress the people. (Chaotic)","Freedom. Everyone should be free to pursue his or her own livelihood. (Chaotic)","Free Thinking. Inquiry and curiosity are the pillars of progress. (Chaotic) ","Independence. I must prove that I can handle myself without the coddling of my family. (Chaotic)","Honor. If I dishonor myself, I dishonor my whole clan. (Lawful)","Logic. Emotions must not cloud our logical thinking. (Lawful)","Freedom. The sea is freedom—the freedom to go anywhere and do anything. (Chaotic) ","Independence. When people follow orders blindly, they embrace a kind of tyranny. (Chaotic)","Change. The low are lifted up, and the high and mighty are brought down. Change is the nature of things. (Chaotic)",{"$f":"\"\"","v":""},null,null,null,"Warlock",8,{"$f":"IF(BL18=0,\"\",MAX($BK$6:BK17)+1)","v":""},{"$f":"COUNTIF(Start!$AF$20:$AF$39,Tables!BI18)","v":0},{"$f":"IF(OR(BK18=\"\",BO18=\"\"),\"\",MAX($BM$6:BM17)+1)","v":""},"Warlock","CHA","","Otherworldy Patron",1,null,null,null,10,0,0,{"$f":"\"\"","v":""},"Light armor","Light armor","Simple weapons","Simple weapons","none",0,"none",0,"Wisdom, Charisma","Choose 2 from Arcana, Deception, History, Intimidation, Investigation, Nature, and Religion",{"$f":"IF(COUNTIF(IQ4:IQ11,II7)=0,2,4)","v":2},"none",0,{"$f":"\"• Pact Magic, Otherworldly Patron (\"&VLOOKUP($BN18,$BN$3:$BQ$5,4,FALSE)&\")\n\"&VLOOKUP($BI18,$DM$3:$EH$5,DO$2-1,FALSE)&\"\n\"","v":{"$error":"#N/A"}},{"$f":"\"• Eldritch Invocations\n\"&IR2","v":"• Eldritch Invocations\n"},{"$f":"\"• Pact Boon (\"&Start!AJ54&\")\n\"&VLOOKUP(Start!AJ54,IS2:IT5,2,FALSE)&\"\n\"","v":"• Pact Boon (Select…)\n\n"},{"$f":"IF(WarlockLevel>=DE$6,\"• Ability Score Improvement / Feat: level \"&DE$6&\", \"&DB$6&\", \"&CX$6&\", \"&CT$6&\", \"&CP$6,IF(WarlockLevel>=DB$6,\"• Ability Score Improvement / Feat: level \"&DB$6&\", \"&CX$6&\", \"&CT$6&\", \"&CP$6,IF(WarlockLevel>=CX$6,\"• Ability Score Improvement / Feat: level \"&CX$6&\", \"&CT$6&\", \"&CP$6,IF(WarlockLevel>=CT$6,\"• Ability Score Improvement / Feat : level \"&CT$6&\", \"&CP$6,\"• Ability Score Improvement / Feat: level \"&CP$6))))&\"\n\"","v":"• Ability Score Improvement / Feat: level 4\n"},{"$f":"\"\"","v":""},{"$f":"\"• Otherworldly Patron Feature (\"&VLOOKUP($BI18,$DM$3:$EH$5,DT$2-1,FALSE)&\")\n\"","v":{"$error":"#N/A"}},{"$f":"\"\"","v":""},{"$f":"\"\"","v":""},{"$f":"\"\"","v":""},{"$f":"\"• Otherworldly Patron Feature (\"&VLOOKUP($BI18,$DM$3:$EH$5,DX$2-1,FALSE)&\")\n\"","v":{"$error":"#N/A"}},{"$f":"IF(WarlockLevel>=17,\"• Mystic Arcanum (6th, 7th, 8th, 9th level)\",IF(WarlockLevel>=15,\"• Mystic Arcanum (6th, 7th, 8th level)\",IF(WarlockLevel>=13,\"• Mystic Arcanum (6th, 7th level)\",\"• Mystic Arcanum (6th level)\")))&\"\n\"","v":"• Mystic Arcanum (6th level)\n"},{"$f":"\"\"","v":""},{"$f":"\"\"","v":""},{"$f":"\"• Otherworldly Patron Feature (\"&VLOOKUP($BI18,$DM$3:$EH$5,EB$2-1,FALSE)&\")\n\"","v":{"$error":"#N/A"}},{"$f":"\"\"","v":""},{"$f":"\"\"","v":""},{"$f":"\"\"","v":""},{"$f":"\"\"","v":""},{"$f":"\"\"","v":""},{"$f":"\"• Eldritch Master\n\"","v":"• Eldritch Master\n"},null,null,null,null,null,"Assassin","Rogue",0,{"$f":"\"\"","v":""},{"$f":"\"\"","v":""},"Assasinate, Bonus Proficiencies: disguise kit, poisoner's kit",{"$f":"\"\"","v":""},{"$f":"\"\"","v":""},{"$f":"\"\"","v":""},{"$f":"\"\"","v":""},{"$f":"\"\"","v":""},"Infiltration Expertise",{"$f":"\"\"","v":""},{"$f":"\"\"","v":""},{"$f":"\"\"","v":""},"Imposter",{"$f":"\"\"","v":""},{"$f":"\"\"","v":""},{"$f":"\"\"","v":""},"Death Strike",{"$f":"\"\"","v":""},{"$f":"\"\"","v":""},{"$f":"\"\"","v":""},{"$f":"\"\"","v":""},{"$f":"\"\"","v":""},null,{"$f":"\"\"","v":""},null,{"$f":"\"\"","v":""},null,{"$f":"\"\"","v":""},null,{"$f":"\"\"","v":""},null,{"$f":"IF(RogueLevel>=1,\"Disguise kit, Poisoner's kit\n\",\"\")","v":""},{"$f":"IF(RogueLevel>=1,2,\"\")","v":""},{"$f":"\"\"","v":""},{"$f":"\"\"","v":""},{"$f":"\"\"","v":""},{"$f":"\"\"","v":""},null,{"$f":"IF($DM18=FB$5,MAX(FA$6:FA17)+1,\"\")","v":""},"",null,null,{"$f":"IF($DM18=FF$5,MAX(FE$6:FE17)+1,\"\")","v":""},"",null,null,{"$f":"IF($DM18=FJ$5,MAX(FI$6:FI17)+1,\"\")","v":""},"",null,null,"Religion",{"$f":"Start!X70","v":0},{"$f":"IF($FM18=$FP18,MAX(FO$3:FO17)+1,\"\")","v":""},"",16,"",null,null,null,null,{"$f":"IF(FX18=\"\",\"\",MAX($FW$15:FW17)+1)","v":""},{"$f":"IF(OR(FighterLevel>0,PaladinLevel>1,RangerLevel>1),FX27,\"\")","v":""},null,null,null,"Trip Attack","   When you hit a creature with a weapon attack, expend one superiority die to attempt to knock the target down. Add the\n   superiority die to the damage roll, and if the target is Large or smaller, it must make a Strength saving throw. On a failed save,\n   you knock the target prone.",null,null,null,null,null,null,null,null,null,null,null,null,null,"Water Whip","   Spend 2 ki points as a bonus action to create a whip of water that shoves and pulls a creature to unbalance it. A creature you\n   can see that is within 30 feet must make a Dexterity saving throw. On a failed save, it takes 3d10 bludgeoning damage, plus\n   an extra 1d10 bludgeoning damage for each additional ki point you spend, and you can either knock it prone or pull it up to\n   25 feet closer to you. On a successful save, the creature takes half as much damage, and you don’t pull it or knock it prone.",3,"2+n",{"$f":"IF(GV18=\"\",\"\",MAX($GU$3:GU17)+1)","v":""},"",16,"",null,null,null,null,null,null,null,null,null,null,null,null,"aasimar","humanoid","gnoll",null,null,null,null,null,null,null,null,null,null,null,null,null,null,null,null,null,null,null,null,{"$f":"IF(IJ18=1,MAX($IH$2:IH17)+1,\"\")","v":""},"Lifedrinker",{"$f":"IF(AND(WarlockLevel>=12,Start!AJ62=\"Pact of the Blade\"),1,\"\")","v":""},{"$f":"\"   When you hit a creature with your pact weapon, it takes an extra \"&IF(COUNTIF(IQ4:IQ11,II18)>0,IF(CHAMod<1,1,CHAMod),\"\")&\" necrotic damage.\"","v":"   When you hit a creature with your pact weapon, it takes an extra  necrotic damage."},16,"",null,null,null,null,null,null,null,null,null,null,"Lathander (NG)","God of birth and renewal","Neutral Good","Life,Light","Road traveling into a sunrise",{"$f":"IF(JD18=\"\",\"\",MAX($JC$1:JC17)+1)","v":15},"Primordial","Dwarvish",17,"Undercommon",17,225000,17,6,null,16,4,3,3,3,2,1,1,1,"-",8,null,null,null,null,null,null,16,11,19,11,9,14,13,16,5,5,3,4,4,6,4,null,"Cartographer’s tools","No","Tools",null,null,null,null,null,null,null,null,null,null,null,null,null,null,null,null,null,null,null,null,null,null,null,null,null,null,null,null,null,null,null,null,null,null,null,null,null,null,null,null,null,null,null,null,null,null,null,null,null,null,null,null,null,null,null,null,null,null,null,null,null,null,null,null,null,null,null,null,null,null,null,null,null,null,null,null,null,null,null,null,null,null,null,null,null,null,null,null,null,null,null,null,null,null,null,null,null,null,null,null,null,null,null,null,null,null,null,null,null,null,null,null,null,null,null,null,null,null,null,null,null,null,null,null,null,null,{"$f":"IF(COUNTIF(Start!$AX$59:$BF$68,Tables!KT18)>0,Tables!KT18,\"\")","v":""},null,"",{"$f":"IF(PU18=\"\",\"\",IF(COUNTIF(PU18:$PU$57,\"><\")>1,PU18&\", \", PU18))","v":""},null,null,null,"Halberd","Martial Melee","not proficient","1d10","slashing","-",6,{"$f":"\"\"","v":""},{"$f":"\"\"","v":""},"heavy",{"$f":"\"\"","v":""},{"$f":"\"\"","v":""},{"$f":"\"\"","v":""},"reach",{"$f":"\"\"","v":""},"two-handed",{"$f":"\"\"","v":""},{"$f":"\"\"","v":""},{"$f":"\"\"","v":""},null,18,"Special",null,null,null,null,{"$f":"VLOOKUP(Start!AV$137,Tables!$PZ$2:$QQ$500,$QT18,FALSE)","v":""},null,null,null,null,null,null,null,{"$f":"VLOOKUP(Start!BD$137,Tables!$PZ$2:$QQ$500,$QT18,FALSE)","v":""},null,null,null,null,null,null,null,{"$f":"VLOOKUP(Start!BL$137,Tables!$PZ$2:$QQ$500,$QT18,FALSE)","v":""},null,null,null,null,null,null,null,{"$f":"VLOOKUP(Start!BT$137,Tables!$PZ$2:$QQ$500,$QT18,FALSE)","v":""},null,null,null,null,null,null,null,{"$f":"VLOOKUP(Start!CB$137,Tables!$PZ$2:$QQ$500,$QT18,FALSE)","v":""},null,null,null,null,null,null,null,{"$f":"VLOOKUP(Start!CJ$137,Tables!$PZ$2:$QQ$500,$QT18,FALSE)","v":""},null,null,null,null,null,null,null,null,null,null,null,null,null,null,null,null,null,null,null,null,null,16,"Armor of Agathys","LEVEL 1",1,"Armor of Agathys ᴴ ","ᴴ ","",{"$f":"IF(OR(TK18=Spellcasting!$AC$18,TK18=Spellcasting!$AC$19),\"ᵐ\",\"\")","v":""},{"$f":"IF(OR(TK18=Spellcasting!$AC$20,TK18=Spellcasting!$AC$21),\"ˢ\",\"\")","v":""},{"$f":"\"\"","v":""},"1 act","self","1 hr","VSM","a cup of water","abjuration","abjur","A protective magical force surrounds you, manifesting as a spectral frost that covers you and your gear. You gain 5 temporary hit points for the duration. If a creature hits you with a melee attack while you have these hit points, the creature takes 5 cold damage. \n\nAt Higher Levels. When you cast this spell using a spell slot of 2nd level or higher, both the temporary hit points and the cold damage increase by 5 for each slot level above 1st.","+5 temp HP, 5 cold damage",null,null,null,null,{"$f":"IF(UG$1>=$TM18,1,\"0\")","v":"0"},null,null,null,null,null,null,null,null,null,null,null,null,null,null,null,null,null,null,null,null,null,null,null,null,null,null,null,null,null,null,null,null,null,null,null,null,null,null,null,null,null,null,null,null,null,null,null,null,{"$f":"IF(SUM($VZ$1:$WC$1)>0,IF(AND(SUM($VZ18:$WC18)>0,$TM18=WE$1),MAX(WD$2:WD17)+1,\"\"),IF(AND(SUM($UC18:$VY18)>0,$TM18=WE$1),MAX(WD$2:WD17)+1,\"\"))","v":""},"",{"$f":"IF(AND(SUM($UB18:$VY18)>0,$TM18=WG$1),MAX(WF$2:WF17)+1,\"\")","v":""},"",{"$f":"IF(AND(SUM($UB18:$VY18)>0,$TM18=WI$1),MAX(WH$2:WH17)+1,\"\")","v":""},"",{"$f":"IF(AND(SUM($UB18:$VY18)>0,$TM18=WK$1),MAX(WJ$2:WJ17)+1,\"\")","v":""},"",{"$f":"IF(AND(SUM($UB18:$VY18)>0,$TM18=WM$1),MAX(WL$2:WL17)+1,\"\")","v":""},"",{"$f":"IF(AND(SUM($UB18:$VY18)>0,$TM18=WO$1),MAX(WN$2:WN17)+1,\"\")","v":""},"",{"$f":"IF(AND(SUM($UB18:$VY18)>0,$TM18=WQ$1),MAX(WP$2:WP17)+1,\"\")","v":""},"",{"$f":"IF(AND(SUM($UB18:$VY18)>0,$TM18=WS$1),MAX(WR$2:WR17)+1,\"\")","v":""},"",{"$f":"IF(AND(SUM($UB18:$VY18)>0,$TM18=WU$1),MAX(WT$2:WT17)+1,\"\")","v":""},"",{"$f":"IF(AND(SUM($UB18:$VY18)>0,$TM18=WW$1),MAX(WV$2:WV17)+1,\"\")","v":""},"",{"$f":"IF(AND(SUM($UB18:$VY18)>0,$TM18=WY$1),MAX(WX$2:WX17)+1,\"\")","v":""},"",17,"","","","","","","","","","","",null,14,"Snake","Beast","Tiny",13,2,"30 ft, swim 30 ft",2,16,11,1,10,3,"none","passive Perception 10, blindsight 10 ft","Bite melee +5, reach 5ft, 1 piercing\nDC10 Con save ½ , 2d4 poison","none",null,null,null,"Charger","none","When you use your action to Dash, you can use a bonus action to make one melee weapon attack or to shove a creature. \nIf you move at least 10 feet in a straight line immediately before taking this bonus action, you either gain a +5 bonus to the attack’s damage roll (if you chose to make a melee attack and hit) or push the target up to 10 feet away from you (if you chose to shove and you succeed).","  - When you use your action to Dash, you can use a bonus action to make one melee weapon attack or to shove a creature. \n  - If you move at least 10 feet in a straight line immediately before taking this bonus action, you either \n    - Gain a +5 bonus to the attack’s damage roll (if you chose to make a melee attack and hit) \n    - Push the target up to 10 feet away from you (if you chose to shove and you succeed).",{"$f":"\"\"","v":""},{"$f":"\"\"","v":""},{"$f":"\"\"","v":""},{"$f":"\"\"","v":""},null,null,null,null,null,"Druid",4,null,{"$f":"IF(YX18=\"\",\"\",MAX($YW$1:YW17)+1)","v":""},"","",15,{"$f":"IF(ZB18=\"\",\"\",MAX($ZA$2:ZA17)+1)","v":""},"",{"$f":"IF(Start!AF34=SelectText,\"\",Start!AF34)","v":""},{"$f":"IF(OR(COUNTIF($ZC$4:$ZC18,ZD$2)=0,COUNTIF($ZC$4:$ZC18,ZD$2)=MAX(ZD$2:ZD17)),\"-\",COUNTIF($ZC$4:$ZC18,ZD$2))","v":"-"},{"$f":"IF(OR(COUNTIF($ZC$4:$ZC18,ZE$2)=0,COUNTIF($ZC$4:$ZC18,ZE$2)=MAX(ZE$2:ZE17)),\"-\",COUNTIF($ZC$4:$ZC18,ZE$2))","v":"-"},{"$f":"IF(OR(COUNTIF($ZC$4:$ZC18,ZF$2)=0,COUNTIF($ZC$4:$ZC18,ZF$2)=MAX(ZF$2:ZF17)),\"-\",COUNTIF($ZC$4:$ZC18,ZF$2))","v":"-"},{"$f":"IF(OR(COUNTIF($ZC$4:$ZC18,ZG$2)=0,COUNTIF($ZC$4:$ZC18,ZG$2)=MAX(ZG$2:ZG17)),\"-\",COUNTIF($ZC$4:$ZC18,ZG$2))","v":"-"},{"$f":"IF(OR(COUNTIF($ZC$4:$ZC18,ZH$2)=0,COUNTIF($ZC$4:$ZC18,ZH$2)=MAX(ZH$2:ZH17)),\"-\",COUNTIF($ZC$4:$ZC18,ZH$2))","v":"-"},{"$f":"IF(OR(COUNTIF($ZC$4:$ZC18,ZI$2)=0,COUNTIF($ZC$4:$ZC18,ZI$2)=MAX(ZI$2:ZI17)),\"-\",COUNTIF($ZC$4:$ZC18,ZI$2))","v":"-"},{"$f":"IF(OR(COUNTIF($ZC$4:$ZC18,ZJ$2)=0,COUNTIF($ZC$4:$ZC18,ZJ$2)=MAX(ZJ$2:ZJ17)),\"-\",COUNTIF($ZC$4:$ZC18,ZJ$2))","v":"-"},{"$f":"IF(OR(COUNTIF($ZC$4:$ZC18,ZK$2)=0,COUNTIF($ZC$4:$ZC18,ZK$2)=MAX(ZK$2:ZK17)),\"-\",COUNTIF($ZC$4:$ZC18,ZK$2))","v":"-"},{"$f":"IF(OR(COUNTIF($ZC$4:$ZC18,ZL$2)=0,COUNTIF($ZC$4:$ZC18,ZL$2)=MAX(ZL$2:ZL17)),\"-\",COUNTIF($ZC$4:$ZC18,ZL$2))","v":"-"},{"$f":"IF(OR(COUNTIF($ZC$4:$ZC18,ZM$2)=0,COUNTIF($ZC$4:$ZC18,ZM$2)=MAX(ZM$2:ZM17)),\"-\",COUNTIF($ZC$4:$ZC18,ZM$2))","v":"-"},{"$f":"IF(OR(COUNTIF($ZC$4:$ZC18,ZN$2)=0,COUNTIF($ZC$4:$ZC18,ZN$2)=MAX(ZN$2:ZN17)),\"-\",COUNTIF($ZC$4:$ZC18,ZN$2))","v":"-"},{"$f":"IF(OR(COUNTIF($ZC$4:$ZC18,ZO$2)=0,COUNTIF($ZC$4:$ZC18,ZO$2)=MAX(ZO$2:ZO17)),\"-\",COUNTIF($ZC$4:$ZC18,ZO$2))","v":"-"},15]
[null,null,null,null,null,null,null,null,null,null,null,null,null,null,null,null,null,null,null,null,"Bronze",{"$f":"\"• Damage Type: Lightning\n• Breath Weapon: 5 by 30 ft. line. DC \"&8+IF(CONMod=\"\",0,CONMod)+IF(ProfBonus=\"\",0,ProfBonus)&\" Dex save for \"&IF(CharacterLevel<6,\"2d6\",IF(CharacterLevel<11,\"3d6\",IF(CharacterLevel<15,\"4d6\", \"5d6\")))&\" on failed save, half on success.\"","v":"• Damage Type: Lightning\n• Breath Weapon: 5 by 30 ft. line. DC 5 Dex save for 2d6 on failed save, half on success."},"Lightning",{"$f":"IF(Y19=\"\",\"\",MAX($X$3:X18)+1)","v":""},"",16,"",null,null,null,null,null,null,null,null,null,null,null,null,null,18,"",{"$f":"\"\"","v":""},"Power. I hope to one day rise to the top of my faith’s religious hierarchy. (Lawful)","Creativity. I never run the same con twice. (Chaotic)","Greed. I will do whatever it takes to become wealthy. (Evil)","Greed. I’m only in it for the money and fame. (Evil)","Might. If I become strong, I can take what I want— what I deserve. (Evil)","Greed. I’m only in it for the money. (Evil) ","Power. Solitude and contemplation are paths toward mystical or magical power. (Evil)","Power. If I can attain more power, no one will tell me what to do. (Evil)","Might. The strongest are meant to rule. (Evil)","No Limits. Nothing should fetter the infinite possibility inherent in all existence. (Chaotic) ","Mastery. I’m a predator, and the other ships on the sea are my prey. (Evil) ","Might. In life as in war, the stronger force wins. (Evil)","Retribution. The rich need to be shown what life and death are like in the gutters. (Evil)",{"$f":"\"\"","v":""},null,null,null,null,null,null,null,null,null,null,null,null,null,null,null,null,null,null,null,null,null,null,null,null,null,null,null,null,null,null,null,null,null,null,null,null,null,null,null,null,null,null,null,null,null,null,null,null,null,null,null,null,null,null,null,null,null,null,"Thief","Rogue",0,{"$f":"\"\"","v":""},{"$f":"\"\"","v":""},"Fast Hands, Second Story Work",{"$f":"\"\"","v":""},{"$f":"\"\"","v":""},{"$f":"\"\"","v":""},{"$f":"\"\"","v":""},{"$f":"\"\"","v":""},"Supreme Sneak",{"$f":"\"\"","v":""},{"$f":"\"\"","v":""},{"$f":"\"\"","v":""},"Use Magic Device",{"$f":"\"\"","v":""},{"$f":"\"\"","v":""},{"$f":"\"\"","v":""},"Thief's Reflexes",{"$f":"\"\"","v":""},{"$f":"\"\"","v":""},{"$f":"\"\"","v":""},{"$f":"\"\"","v":""},{"$f":"\"\"","v":""},null,{"$f":"\"\"","v":""},null,{"$f":"\"\"","v":""},null,{"$f":"\"\"","v":""},null,{"$f":"\"\"","v":""},null,{"$f":"\"\"","v":""},{"$f":"\"\"","v":""},{"$f":"\"\"","v":""},{"$f":"\"\"","v":""},{"$f":"\"\"","v":""},{"$f":"\"\"","v":""},null,{"$f":"IF($DM19=FB$5,MAX(FA$6:FA18)+1,\"\")","v":""},"",null,null,{"$f":"IF($DM19=FF$5,MAX(FE$6:FE18)+1,\"\")","v":""},"",null,null,{"$f":"IF($DM19=FJ$5,MAX(FI$6:FI18)+1,\"\")","v":""},"",null,null,"Sleight of Hand",{"$f":"Start!X71","v":0},{"$f":"IF($FM19=$FP19,MAX(FO$3:FO18)+1,\"\")","v":""},"",17,"",null,null,null,null,{"$f":"IF(FX19=\"\",\"\",MAX($FW$15:FW18)+1)","v":""},{"$f":"IF(OR(FighterLevel>0,PaladinLevel>1),FX28,\"\")","v":""},null,null,null,null,null,null,null,null,null,null,null,null,null,null,null,null,null,null,"Wave of Rolling Earth","   Spend 6 ki points to cast wall of stone.",17,6,{"$f":"IF(GV19=\"\",\"\",MAX($GU$3:GU18)+1)","v":""},"",17,"",null,null,null,null,null,null,null,null,null,null,null,null,"bugbear","humanoid","gnome",null,null,null,null,null,null,null,null,null,null,"Superior Defense",null,null,null,null,null,null,null,null,null,{"$f":"IF(IJ19=1,MAX($IH$2:IH18)+1,\"\")","v":9},"Mask of Many Faces",{"$f":"1","v":1},"   You can cast disguise self at will, without expending a spell slot.",17,"",null,null,null,null,null,null,null,null,null,null,"Leira (CN)","Goddess of illusion","Chaotic Neutral","Trickery","Point-down triangle containing a swirl of mist",{"$f":"IF(JD19=\"\",\"\",MAX($JC$1:JC18)+1)","v":16},"Sylvan","Elvish",18,"",18,265000,18,6,null,17,4,3,3,3,2,1,1,1,1,9,null,null,null,null,null,null,17,11,20,11,10,15,14,17,5,5,3,4,4,6,4,null,"Cobbler’s tools","No","Tools",null,null,null,null,null,null,null,null,null,null,null,null,null,null,null,null,null,null,null,null,null,null,null,null,null,null,null,null,null,null,null,null,null,null,null,null,null,null,null,null,null,null,null,null,null,null,null,null,null,null,null,null,null,null,null,null,null,null,null,null,null,null,null,null,null,null,null,null,null,null,null,null,null,null,null,null,null,null,null,null,null,null,null,null,null,null,null,null,null,null,null,null,null,null,null,null,null,null,null,null,null,null,null,null,null,null,null,null,null,null,null,null,null,null,null,null,null,null,null,null,null,null,null,null,null,null,{"$f":"IF(COUNTIF(Start!$AX$59:$BF$68,Tables!KT19)>0,Tables!KT19,\"\")","v":""},null,"",{"$f":"IF(PU19=\"\",\"\",IF(COUNTIF(PU19:$PU$57,\"><\")>1,PU19&\", \", PU19))","v":""},null,null,null,"Handaxe","Simple Melee","not proficient","1d6","slashing","20/60",2,{"$f":"\"\"","v":""},{"$f":"\"\"","v":""},{"$f":"\"\"","v":""},"light",{"$f":"\"\"","v":""},{"$f":"\"\"","v":""},{"$f":"\"\"","v":""},"thrown",{"$f":"\"\"","v":""},{"$f":"\"\"","v":""},{"$f":"\"\"","v":""},{"$f":"\"\"","v":""},null,null,null,null,null,null,null,null,null,null,null,null,null,null,null,null,null,null,null,null,null,null,null,null,null,null,null,null,null,null,null,null,null,null,null,null,null,null,null,null,null,null,null,null,null,null,null,null,null,null,null,null,null,null,null,null,null,null,null,null,null,null,null,null,null,null,null,null,null,17,"Arms of Hadar","LEVEL 1",1,"Arms of Hadar ᴴ ","ᴴ ","",{"$f":"IF(OR(TK19=Spellcasting!$AC$18,TK19=Spellcasting!$AC$19),\"ᵐ\",\"\")","v":""},{"$f":"IF(OR(TK19=Spellcasting!$AC$20,TK19=Spellcasting!$AC$21),\"ˢ\",\"\")","v":""},{"$f":"\"\"","v":""},"1 act","self","instant","VS",{"$f":"\"\"","v":""},"conjuration","conjur","You invoke the power of Hadar, the Dark Hunger. Tendrils of dark energy erupt from you and batter all creatures within 10 feet of you. Each creature in that area must make a Strength saving throw. On a failed save, a target takes 2d6 necrotic damage and can’t take reactions until its next turn. On a successful save, the creature takes half damage, but suffers no other effect.\n\nAt Higher Levels. When you cast this spell using a spell slot of 2nd level or higher, the damage increases by 1d6 for each slot level above 1st.","10ft rad, 2d6 necrotic, str save ½",null,null,null,null,{"$f":"IF(UG$1>=$TM19,1,\"0\")","v":"0"},null,null,null,null,null,null,null,null,null,null,null,null,null,null,null,null,null,null,null,null,null,null,null,null,null,null,null,null,null,null,null,null,null,null,null,null,null,null,null,null,null,null,null,null,null,null,null,null,{"$f":"IF(SUM($VZ$1:$WC$1)>0,IF(AND(SUM($VZ19:$WC19)>0,$TM19=WE$1),MAX(WD$2:WD18)+1,\"\"),IF(AND(SUM($UC19:$VY19)>0,$TM19=WE$1),MAX(WD$2:WD18)+1,\"\"))","v":""},"",{"$f":"IF(AND(SUM($UB19:$VY19)>0,$TM19=WG$1),MAX(WF$2:WF18)+1,\"\")","v":""},"",{"$f":"IF(AND(SUM($UB19:$VY19)>0,$TM19=WI$1),MAX(WH$2:WH18)+1,\"\")","v":""},"",{"$f":"IF(AND(SUM($UB19:$VY19)>0,$TM19=WK$1),MAX(WJ$2:WJ18)+1,\"\")","v":""},"",{"$f":"IF(AND(SUM($UB19:$VY19)>0,$TM19=WM$1),MAX(WL$2:WL18)+1,\"\")","v":""},"",{"$f":"IF(AND(SUM($UB19:$VY19)>0,$TM19=WO$1),MAX(WN$2:WN18)+1,\"\")","v":""},"",{"$f":"IF(AND(SUM($UB19:$VY19)>0,$TM19=WQ$1),MAX(WP$2:WP18)+1,\"\")","v":""},"",{"$f":"IF(AND(SUM($UB19:$VY19)>0,$TM19=WS$1),MAX(WR$2:WR18)+1,\"\")","v":""},"",{"$f":"IF(AND(SUM($UB19:$VY19)>0,$TM19=WU$1),MAX(WT$2:WT18)+1,\"\")","v":""},"",{"$f":"IF(AND(SUM($UB19:$VY19)>0,$TM19=WW$1),MAX(WV$2:WV18)+1,\"\")","v":""},"",{"$f":"IF(AND(SUM($UB19:$VY19)>0,$TM19=WY$1),MAX(WX$2:WX18)+1,\"\")","v":""},"",18,"","","","","","","","","","","",null,15,"Spider","Beast","Tiny",12,1,"20 ft, climb 20 ft",2,14,8,1,10,2,"Stealth +4","passive Perception 10, darkvision 30 ft","Bite melee +4, reach 5ft, 1 piercing\nDC 9 Con save ½, 1d4 poison","Spider Climb. Climb difficult surfaces, upside down on ceilings, without needing an ability check\nWeb Sense. Knows the exact location of any other creature in contact with the same web\nWeb Walker. Ignores movement restrictions caused by webbing",null,null,null,"Crossbow Expert","none","Thanks to extensive practice with the crossbow, you gain the following benefits:\n• You ignore the loading quality of crossbows with which you are proficient. \n• Being within 5 feet of a hostile creature doesn’t impose disadvantage on your ranged attack rolls. \n• When you use the Attack action and attack with a one-handed weapon, you can use a bonus action to attack with a loaded hand crossbow you are holding.","  - Ignore the loading quality of crossbows with which you are proficient. \n  - Being within 5 feet of a hostile creature doesn’t impose disadvantage on your ranged attack rolls. \n  - When you use the Attack action and attack with a one-handed weapon, you can use a bonus action to attack with a loaded\n     hand crossbow you are holding.",{"$f":"\"\"","v":""},{"$f":"\"\"","v":""},{"$f":"\"\"","v":""},{"$f":"\"\"","v":""},null,null,null,null,null,"Druid",8,null,{"$f":"IF(YX19=\"\",\"\",MAX($YW$1:YW18)+1)","v":""},"","",16,{"$f":"IF(ZB19=\"\",\"\",MAX($ZA$2:ZA18)+1)","v":""},"",{"$f":"IF(Start!AF35=SelectText,\"\",Start!AF35)","v":""},{"$f":"IF(OR(COUNTIF($ZC$4:$ZC19,ZD$2)=0,COUNTIF($ZC$4:$ZC19,ZD$2)=MAX(ZD$2:ZD18)),\"-\",COUNTIF($ZC$4:$ZC19,ZD$2))","v":"-"},{"$f":"IF(OR(COUNTIF($ZC$4:$ZC19,ZE$2)=0,COUNTIF($ZC$4:$ZC19,ZE$2)=MAX(ZE$2:ZE18)),\"-\",COUNTIF($ZC$4:$ZC19,ZE$2))","v":"-"},{"$f":"IF(OR(COUNTIF($ZC$4:$ZC19,ZF$2)=0,COUNTIF($ZC$4:$ZC19,ZF$2)=MAX(ZF$2:ZF18)),\"-\",COUNTIF($ZC$4:$ZC19,ZF$2))","v":"-"},{"$f":"IF(OR(COUNTIF($ZC$4:$ZC19,ZG$2)=0,COUNTIF($ZC$4:$ZC19,ZG$2)=MAX(ZG$2:ZG18)),\"-\",COUNTIF($ZC$4:$ZC19,ZG$2))","v":"-"},{"$f":"IF(OR(COUNTIF($ZC$4:$ZC19,ZH$2)=0,COUNTIF($ZC$4:$ZC19,ZH$2)=MAX(ZH$2:ZH18)),\"-\",COUNTIF($ZC$4:$ZC19,ZH$2))","v":"-"},{"$f":"IF(OR(COUNTIF($ZC$4:$ZC19,ZI$2)=0,COUNTIF($ZC$4:$ZC19,ZI$2)=MAX(ZI$2:ZI18)),\"-\",COUNTIF($ZC$4:$ZC19,ZI$2))","v":"-"},{"$f":"IF(OR(COUNTIF($ZC$4:$ZC19,ZJ$2)=0,COUNTIF($ZC$4:$ZC19,ZJ$2)=MAX(ZJ$2:ZJ18)),\"-\",COUNTIF($ZC$4:$ZC19,ZJ$2))","v":"-"},{"$f":"IF(OR(COUNTIF($ZC$4:$ZC19,ZK$2)=0,COUNTIF($ZC$4:$ZC19,ZK$2)=MAX(ZK$2:ZK18)),\"-\",COUNTIF($ZC$4:$ZC19,ZK$2))","v":"-"},{"$f":"IF(OR(COUNTIF($ZC$4:$ZC19,ZL$2)=0,COUNTIF($ZC$4:$ZC19,ZL$2)=MAX(ZL$2:ZL18)),\"-\",COUNTIF($ZC$4:$ZC19,ZL$2))","v":"-"},{"$f":"IF(OR(COUNTIF($ZC$4:$ZC19,ZM$2)=0,COUNTIF($ZC$4:$ZC19,ZM$2)=MAX(ZM$2:ZM18)),\"-\",COUNTIF($ZC$4:$ZC19,ZM$2))","v":"-"},{"$f":"IF(OR(COUNTIF($ZC$4:$ZC19,ZN$2)=0,COUNTIF($ZC$4:$ZC19,ZN$2)=MAX(ZN$2:ZN18)),\"-\",COUNTIF($ZC$4:$ZC19,ZN$2))","v":"-"},{"$f":"IF(OR(COUNTIF($ZC$4:$ZC19,ZO$2)=0,COUNTIF($ZC$4:$ZC19,ZO$2)=MAX(ZO$2:ZO18)),\"-\",COUNTIF($ZC$4:$ZC19,ZO$2))","v":"-"},16]
[null,null,null,null,null,null,null,null,null,null,null,null,null,null,null,null,null,null,null,null,"Copper",{"$f":"\"• Damage Type: Acid\n• Breath Weapon: 5 by 30 ft. line. DC \"&8+IF(CONMod=\"\",0,CONMod)+IF(ProfBonus=\"\",0,ProfBonus)&\" Dex save for \"&IF(CharacterLevel<6,\"2d6\",IF(CharacterLevel<11,\"3d6\",IF(CharacterLevel<15,\"4d6\", \"5d6\")))&\" on failed save, half on success.\"","v":"• Damage Type: Acid\n• Breath Weapon: 5 by 30 ft. line. DC 5 Dex save for 2d6 on failed save, half on success."},"Acid",{"$f":"IF(Y20=\"\",\"\",MAX($X$3:X19)+1)","v":""},"",17,"",null,null,null,null,null,null,null,null,null,null,null,null,null,19,"",{"$f":"\"\"","v":""},"Faith. I trust that my deity will guide my actions. I have faith that if I work hard, things will go well. (Lawful)","Friendship. Material goods come and go. Bonds of friendship last forever. (Good) ","People. I’m loyal to my friends, not to any ideals, and everyone else can take a trip down the Styx for all I care. (Neutral)","People. I like seeing the smiles on people’s faces when I perform. That’s all that matters. (Neutral)","Sincerity. There’s no good in pretending to be something I’m not. (Neutral)","People. I’m committed to the people I care about, not to ideals. (Neutral) ","Live and Let Live. Meddling in the affairs of others only causes trouble. (Neutral)","Family. Blood runs thicker than water. (Any)","Nature. The natural world is more important than all the constructs of civilization. (Neutral) ","Power. Knowledge is the path to power and domination. (Evil)","People. I’m committed to my crewmates, not to ideals. (Neutral) ","Live and Let Live. Ideals aren’t worth killing over or going to war for. (Neutral)","People. I help the people who help me—that’s what keeps us alive. (Neutral)",{"$f":"\"\"","v":""},null,null,null,null,null,null,null,null,null,null,null,null,null,null,null,null,null,null,null,null,null,null,null,null,null,null,null,null,null,null,null,null,null,null,null,null,null,null,null,null,null,null,null,null,null,null,null,null,null,null,null,null,null,null,null,null,null,null,"Abjuration","Wizard",0,{"$f":"\"\"","v":""},{"$f":"\"Abjuration Savant, Arcane Ward: \"&2*WizardLevel+INTMod&\" HP\"","v":"Abjuration Savant, Arcane Ward: -5 HP"},{"$f":"\"\"","v":""},{"$f":"\"\"","v":""},{"$f":"\"\"","v":""},"Projected Ward",{"$f":"\"\"","v":""},{"$f":"\"\"","v":""},{"$f":"\"\"","v":""},"Improved Abjuration",{"$f":"\"\"","v":""},{"$f":"\"\"","v":""},{"$f":"\"\"","v":""},"Spell Resistance",{"$f":"\"\"","v":""},{"$f":"\"\"","v":""},{"$f":"\"\"","v":""},{"$f":"\"\"","v":""},{"$f":"\"\"","v":""},{"$f":"\"\"","v":""},{"$f":"\"\"","v":""},{"$f":"\"\"","v":""},null,{"$f":"\"\"","v":""},null,{"$f":"\"\"","v":""},null,{"$f":"\"\"","v":""},null,{"$f":"\"\"","v":""},null,{"$f":"\"\"","v":""},{"$f":"\"\"","v":""},{"$f":"\"\"","v":""},{"$f":"\"\"","v":""},{"$f":"\"\"","v":""},{"$f":"\"\"","v":""},null,{"$f":"IF($DM20=FB$5,MAX(FA$6:FA19)+1,\"\")","v":""},"",null,null,{"$f":"IF($DM20=FF$5,MAX(FE$6:FE19)+1,\"\")","v":""},"",null,null,{"$f":"IF($DM20=FJ$5,MAX(FI$6:FI19)+1,\"\")","v":""},"",null,null,"Stealth",{"$f":"Start!X72","v":0},{"$f":"IF($FM20=$FP20,MAX(FO$3:FO19)+1,\"\")","v":""},"",18,"",null,null,null,null,{"$f":"IF(FX20=\"\",\"\",MAX($FW$15:FW19)+1)","v":""},{"$f":"IF(OR(FighterLevel>0,PaladinLevel>1),FX29,\"\")","v":""},null,null,null,null,null,null,null,null,null,null,null,null,null,null,null,null,null,null,null,null,null,null,null,null,null,null,null,null,null,null,null,null,null,null,null,null,null,null,"bullywug","humanoid","goblin",null,null,null,null,null,null,null,null,null,null,{"$f":"SelectText","v":"Select…"},null,null,null,null,null,null,null,null,null,{"$f":"IF(IJ20=1,MAX($IH$2:IH19)+1,\"\")","v":""},"Master of Myriad Forms",{"$f":"IF(WarlockLevel>=15,1,\"\")","v":""},"   You can cast alter self at will, without expending a spell slot.",18,"",null,null,null,null,null,null,null,null,null,null,"Lliira (CG)","Goddess of joy","Chaotic Good","Life","Triangle of three six-pointed stars",{"$f":"IF(JD20=\"\",\"\",MAX($JC$1:JC19)+1)","v":17},"Undercommon","Elvish",19,"",19,305000,19,6,null,18,4,3,3,3,3,1,1,1,1,9,null,null,null,null,null,null,18,11,22,11,10,15,14,18,5,5,3,4,4,6,4,null,"Cook’s utensils","No","Tools",null,null,null,null,null,null,null,null,null,null,null,null,null,null,null,null,null,null,null,null,null,null,null,null,null,null,null,null,null,null,null,null,null,null,null,null,null,null,null,null,null,null,null,null,null,null,null,null,null,null,null,null,null,null,null,null,null,null,null,null,null,null,null,null,null,null,null,null,null,null,null,null,null,null,null,null,null,null,null,null,null,null,null,null,null,null,null,null,null,null,null,null,null,null,null,null,null,null,null,null,null,null,null,null,null,null,null,null,null,null,null,null,null,null,null,null,null,null,null,null,null,null,null,null,null,null,{"$f":"IF(COUNTIF(Start!$AX$59:$BF$68,Tables!KT20)>0,Tables!KT20,\"\")","v":""},null,"",{"$f":"IF(PU20=\"\",\"\",IF(COUNTIF(PU20:$PU$57,\"><\")>1,PU20&\", \", PU20))","v":""},null,null,null,"Javelin","Simple Melee","not proficient","1d6","piercing","30/120",2,{"$f":"\"\"","v":""},{"$f":"\"\"","v":""},{"$f":"\"\"","v":""},{"$f":"\"\"","v":""},{"$f":"\"\"","v":""},{"$f":"\"\"","v":""},{"$f":"\"\"","v":""},"thrown",{"$f":"\"\"","v":""},{"$f":"\"\"","v":""},{"$f":"\"\"","v":""},{"$f":"\"\"","v":""},null,null,"Proficiency",null,null,null,null,{"$f":"IF(QZ7=\"\",\"\",IF(COUNTIF(QZ7:$QZ$18,\"><$Q$1\")>1,QZ7&\", \",QZ7))","v":""},null,null,null,null,null,null,null,{"$f":"IF(RH7=\"\",\"\",IF(COUNTIF($RH7:RH$18,\"><$Q$1\")>1,RH7&\", \",RH7))","v":""},null,null,null,null,null,null,null,{"$f":"IF(RP7=\"\",\"\",IF(COUNTIF($RP7:RP$18,\"><$Q$1\")>1,RP7&\", \",RP7))","v":""},null,null,null,null,null,null,null,{"$f":"IF(RX7=\"\",\"\",IF(COUNTIF($RX7:RX$18,\"><$Q$1\")>1,RX7&\", \",RX7))","v":""},null,null,null,null,null,null,null,{"$f":"IF(SF7=\"\",\"\",IF(COUNTIF($SF7:SF$18,\"><$Q$1\")>1,SF7&\", \",SF7))","v":""},null,null,null,null,null,null,null,{"$f":"IF(SN7=\"\",\"\",IF(COUNTIF($SN7:SN$18,\"><$Q$1\")>1,SN7&\", \",SN7))","v":""},null,null,null,null,null,null,null,null,null,null,null,null,null,null,null,null,null,null,null,null,null,18,"Astral Projection","LEVEL 9",9,"Astral Projection ",{"$f":"\"\"","v":""},"",{"$f":"IF(OR(TK20=Spellcasting!$AC$18,TK20=Spellcasting!$AC$19),\"ᵐ\",\"\")","v":""},{"$f":"IF(OR(TK20=Spellcasting!$AC$20,TK20=Spellcasting!$AC$21),\"ˢ\",\"\")","v":""},{"$f":"\"\"","v":""},"1 hr","10 ft","special","VSM","for each creature you affect with this spell, you must provide one jacinth worth at least 1,000 gp and one ornately carved bar of silver worth at least 100 gp, all of which the spell consumes","necromancy","necro","You and up to eight willing creatures within range project your astral bodies into the Astral Plane (the spell fails and the casting is wasted if you are already on that plane). The material body you leave behind is unconscious and in a state of suspended animation; it doesn’t need food or air and doesn’t age. \n\nYour astral body resembles your mortal form in almost every way, replicating your game statistics and possessions. The principal difference is the addition of a silvery cord that extends from between your shoulder blades and trails behind you, fading to invisibility after 1 foot. This cord is your tether to your material body. As long as the tether remains intact, you can find your way home. If the cord is cut—something that can happen only when an effect specifically states that it does—your soul and body are separated, killing you instantly. \n\nYour astral form can freely travel through the Astral Plane and can pass through portals there leading to any other plane. If you enter a new plane or return to the plane you were on when casting this spell, your body and possessions are transported along the silver cord, allowing you to re-enter your body as you enter the new plane. Your astral form is a separate incarnation. Any damage or other effects that apply to it have no effect on your physical body, nor do they persist when you return to it. \n\nThe spell ends for you and your companions when you use your action to dismiss it. When the spell ends, the affected creature returns to its physical body, and it awakens. \n\nThe spell might also end early for you or one of your companions. A successful dispel magic spell used against an astral or physical body ends the spell for that creature. If a creature’s original body or its astral form drops to 0 hit points, the spell ends for that creature. If the spell ends and the silver cord is intact, the cord pulls the creature’s astral form back to its body, ending its state of suspended animation. \n\nIf you are returned to your body prematurely, your companions remain in their astral forms and must find their own way back to their bodies, usually by dropping to 0 hit points.","project you and up to 8 willing creatures into Astral Plane",null,null,null,null,{"$f":"IF(UG$1>=$TM20,1,\"0\")","v":"0"},{"$f":"IF(UH$1>=$TM20,1,\"0\")","v":"0"},null,null,null,{"$f":"IF(UL$1>=$TM20,1,\"0\")","v":"0"},null,null,null,null,null,null,null,null,null,null,null,null,null,null,null,null,null,null,null,null,null,null,null,null,null,null,null,null,null,null,null,null,null,null,null,null,null,null,null,null,null,null,null,{"$f":"IF(SUM($VZ$1:$WC$1)>0,IF(AND(SUM($VZ20:$WC20)>0,$TM20=WE$1),MAX(WD$2:WD19)+1,\"\"),IF(AND(SUM($UC20:$VY20)>0,$TM20=WE$1),MAX(WD$2:WD19)+1,\"\"))","v":""},"",{"$f":"IF(AND(SUM($UB20:$VY20)>0,$TM20=WG$1),MAX(WF$2:WF19)+1,\"\")","v":""},"",{"$f":"IF(AND(SUM($UB20:$VY20)>0,$TM20=WI$1),MAX(WH$2:WH19)+1,\"\")","v":""},"",{"$f":"IF(AND(SUM($UB20:$VY20)>0,$TM20=WK$1),MAX(WJ$2:WJ19)+1,\"\")","v":""},"",{"$f":"IF(AND(SUM($UB20:$VY20)>0,$TM20=WM$1),MAX(WL$2:WL19)+1,\"\")","v":""},"",{"$f":"IF(AND(SUM($UB20:$VY20)>0,$TM20=WO$1),MAX(WN$2:WN19)+1,\"\")","v":""},"",{"$f":"IF(AND(SUM($UB20:$VY20)>0,$TM20=WQ$1),MAX(WP$2:WP19)+1,\"\")","v":""},"",{"$f":"IF(AND(SUM($UB20:$VY20)>0,$TM20=WS$1),MAX(WR$2:WR19)+1,\"\")","v":""},"",{"$f":"IF(AND(SUM($UB20:$VY20)>0,$TM20=WU$1),MAX(WT$2:WT19)+1,\"\")","v":""},"",{"$f":"IF(AND(SUM($UB20:$VY20)>0,$TM20=WW$1),MAX(WV$2:WV19)+1,\"\")","v":""},"",{"$f":"IF(AND(SUM($UB20:$VY20)>0,$TM20=WY$1),MAX(WX$2:WX19)+1,\"\")","v":""},"",19,"","","","","","","","","","","",null,16,"Weasel","Beast","Tiny",13,1,"30 ft",3,16,8,2,12,3,"Perception +3, Stealth +5","passive Perception 13","Bite melee +5, reach 5ft, 1 piercing","Keen Hearing and Smell. Advantage on Wisdom (Perception) checks that rely on hearing or smell",null,null,null,"Defensive Duelist","Dexterity 13 or higher","When you are wielding a finesse weapon with which you are proficient and another creature hits you with a melee attack, you can use your reaction to add your proficiency bonus to your AC for that attack, potentially causing the attack to miss you.","  - When wielding a finesse weapon with which you are proficient and another creature hits you with a melee attack,  you can\n     use your reaction to add your proficiency bonus to your AC for that attack, potentially causing the attack to miss you.",{"$f":"\"\"","v":""},{"$f":"\"\"","v":""},{"$f":"\"\"","v":""},{"$f":"\"\"","v":""},null,null,null,null,null,"Druid",12,null,{"$f":"IF(YX20=\"\",\"\",MAX($YW$1:YW19)+1)","v":""},"","",17,{"$f":"IF(ZB20=\"\",\"\",MAX($ZA$2:ZA19)+1)","v":""},"",{"$f":"IF(Start!AF36=SelectText,\"\",Start!AF36)","v":""},{"$f":"IF(OR(COUNTIF($ZC$4:$ZC20,ZD$2)=0,COUNTIF($ZC$4:$ZC20,ZD$2)=MAX(ZD$2:ZD19)),\"-\",COUNTIF($ZC$4:$ZC20,ZD$2))","v":"-"},{"$f":"IF(OR(COUNTIF($ZC$4:$ZC20,ZE$2)=0,COUNTIF($ZC$4:$ZC20,ZE$2)=MAX(ZE$2:ZE19)),\"-\",COUNTIF($ZC$4:$ZC20,ZE$2))","v":"-"},{"$f":"IF(OR(COUNTIF($ZC$4:$ZC20,ZF$2)=0,COUNTIF($ZC$4:$ZC20,ZF$2)=MAX(ZF$2:ZF19)),\"-\",COUNTIF($ZC$4:$ZC20,ZF$2))","v":"-"},{"$f":"IF(OR(COUNTIF($ZC$4:$ZC20,ZG$2)=0,COUNTIF($ZC$4:$ZC20,ZG$2)=MAX(ZG$2:ZG19)),\"-\",COUNTIF($ZC$4:$ZC20,ZG$2))","v":"-"},{"$f":"IF(OR(COUNTIF($ZC$4:$ZC20,ZH$2)=0,COUNTIF($ZC$4:$ZC20,ZH$2)=MAX(ZH$2:ZH19)),\"-\",COUNTIF($ZC$4:$ZC20,ZH$2))","v":"-"},{"$f":"IF(OR(COUNTIF($ZC$4:$ZC20,ZI$2)=0,COUNTIF($ZC$4:$ZC20,ZI$2)=MAX(ZI$2:ZI19)),\"-\",COUNTIF($ZC$4:$ZC20,ZI$2))","v":"-"},{"$f":"IF(OR(COUNTIF($ZC$4:$ZC20,ZJ$2)=0,COUNTIF($ZC$4:$ZC20,ZJ$2)=MAX(ZJ$2:ZJ19)),\"-\",COUNTIF($ZC$4:$ZC20,ZJ$2))","v":"-"},{"$f":"IF(OR(COUNTIF($ZC$4:$ZC20,ZK$2)=0,COUNTIF($ZC$4:$ZC20,ZK$2)=MAX(ZK$2:ZK19)),\"-\",COUNTIF($ZC$4:$ZC20,ZK$2))","v":"-"},{"$f":"IF(OR(COUNTIF($ZC$4:$ZC20,ZL$2)=0,COUNTIF($ZC$4:$ZC20,ZL$2)=MAX(ZL$2:ZL19)),\"-\",COUNTIF($ZC$4:$ZC20,ZL$2))","v":"-"},{"$f":"IF(OR(COUNTIF($ZC$4:$ZC20,ZM$2)=0,COUNTIF($ZC$4:$ZC20,ZM$2)=MAX(ZM$2:ZM19)),\"-\",COUNTIF($ZC$4:$ZC20,ZM$2))","v":"-"},{"$f":"IF(OR(COUNTIF($ZC$4:$ZC20,ZN$2)=0,COUNTIF($ZC$4:$ZC20,ZN$2)=MAX(ZN$2:ZN19)),\"-\",COUNTIF($ZC$4:$ZC20,ZN$2))","v":"-"},{"$f":"IF(OR(COUNTIF($ZC$4:$ZC20,ZO$2)=0,COUNTIF($ZC$4:$ZC20,ZO$2)=MAX(ZO$2:ZO19)),\"-\",COUNTIF($ZC$4:$ZC20,ZO$2))","v":"-"},17]
[null,null,null,null,null,null,null,null,null,null,null,null,null,null,null,null,null,null,null,null,"Gold",{"$f":"\"• Damage Type: Fire\n• Breath Weapon: 15 ft. cone. DC \"&8+IF(CONMod=\"\",0,CONMod)+IF(ProfBonus=\"\",0,ProfBonus)&\" Dex save for \"&IF(CharacterLevel<6,\"2d6\",IF(CharacterLevel<11,\"3d6\",IF(CharacterLevel<15,\"4d6\", \"5d6\")))&\" on failed save, half on success.\"","v":"• Damage Type: Fire\n• Breath Weapon: 15 ft. cone. DC 5 Dex save for 2d6 on failed save, half on success."},"Fire",{"$f":"IF(Y21=\"\",\"\",MAX($X$3:X20)+1)","v":""},"",18,"",null,null,null,null,null,null,null,null,null,null,null,null,null,20,"",{"$f":"\"\"","v":""},"Aspiration. I seek to prove myself worthy of my god’s favor by matching my actions against his or her teachings. (Any)","Aspiration. I’m determined to make something of myself. (Any)","Redemption. There’s a spark of good in everyone. (Good)","Honesty. Art should reflect the soul; it should come from within and reveal who we really are. (Any)","Destiny. Nothing and no one can steer me away from my higher calling. (Any)","Aspiration. I work hard to be the best there is at my craft.","Self-Knowledge. If you know yourself, there’s nothing left to know. (Any)","Noble Obligation. It is my duty to protect and care for the people beneath me. (Good)","Glory. I must earn glory in battle, for myself and my clan. (Any)","Self-Improvement. The goal of a life of study is the betterment of oneself. (Any)\n","Aspiration. Someday I’ll own my own ship and chart my own destiny. (Any)","Nation. My city, nation, or people are all that matter. (Any)","Aspiration. I'm going to prove that I'm worthy of a better life.",{"$f":"\"\"","v":""},null,null,null,null,null,null,null,null,null,null,null,null,null,null,null,null,null,null,null,null,null,null,null,null,null,null,null,null,null,null,null,null,null,null,null,null,null,null,null,null,null,null,null,null,null,null,null,null,null,null,null,null,null,null,null,null,null,null,"Conjuration","Wizard",0,{"$f":"\"\"","v":""},"Conjuration Savant, Minor Conjuration",{"$f":"\"\"","v":""},{"$f":"\"\"","v":""},{"$f":"\"\"","v":""},"Benign Transposition",{"$f":"\"\"","v":""},{"$f":"\"\"","v":""},{"$f":"\"\"","v":""},"Focused Conjuration",{"$f":"\"\"","v":""},{"$f":"\"\"","v":""},{"$f":"\"\"","v":""},"Durable Summons",{"$f":"\"\"","v":""},{"$f":"\"\"","v":""},{"$f":"\"\"","v":""},{"$f":"\"\"","v":""},{"$f":"\"\"","v":""},{"$f":"\"\"","v":""},{"$f":"\"\"","v":""},{"$f":"\"\"","v":""},null,{"$f":"\"\"","v":""},null,{"$f":"\"\"","v":""},null,{"$f":"\"\"","v":""},null,{"$f":"\"\"","v":""},null,{"$f":"\"\"","v":""},{"$f":"\"\"","v":""},{"$f":"\"\"","v":""},{"$f":"\"\"","v":""},{"$f":"\"\"","v":""},{"$f":"\"\"","v":""},null,{"$f":"IF($DM21=FB$5,MAX(FA$6:FA20)+1,\"\")","v":""},"",null,null,{"$f":"IF($DM21=FF$5,MAX(FE$6:FE20)+1,\"\")","v":""},"",null,null,{"$f":"IF($DM21=FJ$5,MAX(FI$6:FI20)+1,\"\")","v":""},"",null,null,"Survival",{"$f":"Start!X73","v":0},{"$f":"IF($FM21=$FP21,MAX(FO$3:FO20)+1,\"\")","v":""},"",19,"",null,null,null,null,{"$f":"IF(FX21=\"\",\"\",MAX($FW$15:FW20)+1)","v":""},{"$f":"IF(OR(FighterLevel>0,RangerLevel>1),FX30,\"\")","v":""},null,null,null,null,null,null,null,null,null,null,null,null,null,null,null,null,null,null,null,null,null,null,null,null,null,null,null,null,null,null,null,null,null,null,null,null,null,null,"catfolk","humanoid","goliath",null,null,null,null,null,null,null,null,null,null,"Evasion",null,null,null,null,null,null,null,null,null,{"$f":"IF(IJ21=1,MAX($IH$2:IH20)+1,\"\")","v":""},"Minions of Chaos",{"$f":"IF(WarlockLevel>=9,1,\"\")","v":""},"   You can cast conjure elemental once using a warlock spell slot. You can’t do so again until you finish a long rest.",19,"",null,null,null,null,null,null,null,null,null,null,"Loviatar (LE)","Goddess of pain","Lawful Evil","Death","Nine-tailed barbed scourge",{"$f":"IF(JD21=\"\",\"\",MAX($JC$1:JC20)+1)","v":""},null,null,20,"",20,355000,20,6,null,19,4,3,3,3,3,2,1,1,1,9,null,null,null,null,null,null,19,12,22,12,11,15,15,19,5,5,3,4,4,6,4,null,"Glassblower’s tools","No","Tools",null,null,null,null,null,null,null,null,null,null,null,null,null,null,null,null,null,null,null,null,null,null,null,null,null,null,null,null,null,null,null,null,null,null,null,null,null,null,null,null,null,null,null,null,null,null,null,null,null,null,null,null,null,null,null,null,null,null,null,null,null,null,null,null,null,null,null,null,null,null,null,null,null,null,null,null,null,null,null,null,null,null,null,null,null,null,null,null,null,null,null,null,null,null,null,null,null,null,null,null,null,null,null,null,null,null,null,null,null,null,null,null,null,null,null,null,null,null,null,null,null,null,null,null,null,null,{"$f":"IF(COUNTIF(Start!$AX$59:$BF$68,Tables!KT21)>0,Tables!KT21,\"\")","v":""},null,"",{"$f":"IF(PU21=\"\",\"\",IF(COUNTIF(PU21:$PU$57,\"><\")>1,PU21&\", \", PU21))","v":""},null,null,null,"Lance","Martial Melee","not proficient","1d12","piercing","-",6,{"$f":"\"\"","v":""},{"$f":"\"\"","v":""},{"$f":"\"\"","v":""},{"$f":"\"\"","v":""},{"$f":"\"\"","v":""},"special","reach",{"$f":"\"\"","v":""},{"$f":"\"\"","v":""},{"$f":"\"\"","v":""},{"$f":"\"\"","v":""},{"$f":"\"\"","v":""},null,null,"Ammunition",null,null,null,null,{"$f":"IF(QZ8=\"\",\"\",IF(COUNTIF(QZ8:$QZ$18,\"><$Q$1\")>1,QZ8&\", \",QZ8))","v":""},null,null,null,null,null,null,null,{"$f":"IF(RH8=\"\",\"\",IF(COUNTIF($RH8:RH$18,\"><$Q$1\")>1,RH8&\", \",RH8))","v":""},null,null,null,null,null,null,null,{"$f":"IF(RP8=\"\",\"\",IF(COUNTIF($RP8:RP$18,\"><$Q$1\")>1,RP8&\", \",RP8))","v":""},null,null,null,null,null,null,null,{"$f":"IF(RX8=\"\",\"\",IF(COUNTIF($RX8:RX$18,\"><$Q$1\")>1,RX8&\", \",RX8))","v":""},null,null,null,null,null,null,null,{"$f":"IF(SF8=\"\",\"\",IF(COUNTIF($SF8:SF$18,\"><$Q$1\")>1,SF8&\", \",SF8))","v":""},null,null,null,null,null,null,null,{"$f":"IF(SN8=\"\",\"\",IF(COUNTIF($SN8:SN$18,\"><$Q$1\")>1,SN8&\", \",SN8))","v":""},null,null,null,null,null,null,null,null,null,null,null,null,null,null,null,null,null,null,null,null,null,19,"Augury","LEVEL 2",2,"Augury ",{"$f":"\"\"","v":""},"",{"$f":"IF(OR(TK21=Spellcasting!$AC$18,TK21=Spellcasting!$AC$19),\"ᵐ\",\"\")","v":""},{"$f":"IF(OR(TK21=Spellcasting!$AC$20,TK21=Spellcasting!$AC$21),\"ˢ\",\"\")","v":""},"ritual","1 min ᴿ","self","instant","VSM","specially marked sticks, bones, or similar tokens worth at least 25 gp","divination","divin","By casting gem-inlaid sticks, rolling dragon bones, laying out ornate cards, or employing some other divining tool, you receive an omen from an otherworldly entity about the results of a specific course of action that you plan to take within the next 30 minutes. The DM chooses from the following possible omens: \n\n• Weal, for good results \n• Woe, for bad results \n• Weal and woe, for both good and bad results \n• Nothing, for results that aren’t especially good or bad \n\nThe spell doesn’t take into account any possible circumstances that might change the outcome, such as the casting of additional spells or the loss or gain of a companion. \n\nIf you cast the spell two or more times before completing your next long rest, there is a cumulative 25 percent chance for each casting after the first that you get a random reading. The DM makes this roll in secret. ","result of next 30min, woe, weal, woe and weal or nothing",null,null,null,null,null,{"$f":"IF(UH$1>=$TM21,1,\"0\")","v":"0"},null,null,null,null,null,null,null,null,null,null,null,null,null,null,null,null,{"$f":"IF(UY$1>=$TM21,1,\"0\")","v":"0"},null,null,null,null,null,null,null,null,null,null,null,null,null,null,null,null,null,null,null,null,null,null,null,null,null,null,null,null,null,null,{"$f":"IF(SUM($VZ$1:$WC$1)>0,IF(AND(SUM($VZ21:$WC21)>0,$TM21=WE$1),MAX(WD$2:WD20)+1,\"\"),IF(AND(SUM($UC21:$VY21)>0,$TM21=WE$1),MAX(WD$2:WD20)+1,\"\"))","v":""},"",{"$f":"IF(AND(SUM($UB21:$VY21)>0,$TM21=WG$1),MAX(WF$2:WF20)+1,\"\")","v":""},"",{"$f":"IF(AND(SUM($UB21:$VY21)>0,$TM21=WI$1),MAX(WH$2:WH20)+1,\"\")","v":""},"",{"$f":"IF(AND(SUM($UB21:$VY21)>0,$TM21=WK$1),MAX(WJ$2:WJ20)+1,\"\")","v":""},"",{"$f":"IF(AND(SUM($UB21:$VY21)>0,$TM21=WM$1),MAX(WL$2:WL20)+1,\"\")","v":""},"",{"$f":"IF(AND(SUM($UB21:$VY21)>0,$TM21=WO$1),MAX(WN$2:WN20)+1,\"\")","v":""},"",{"$f":"IF(AND(SUM($UB21:$VY21)>0,$TM21=WQ$1),MAX(WP$2:WP20)+1,\"\")","v":""},"",{"$f":"IF(AND(SUM($UB21:$VY21)>0,$TM21=WS$1),MAX(WR$2:WR20)+1,\"\")","v":""},"",{"$f":"IF(AND(SUM($UB21:$VY21)>0,$TM21=WU$1),MAX(WT$2:WT20)+1,\"\")","v":""},"",{"$f":"IF(AND(SUM($UB21:$VY21)>0,$TM21=WW$1),MAX(WV$2:WV20)+1,\"\")","v":""},"",{"$f":"IF(AND(SUM($UB21:$VY21)>0,$TM21=WY$1),MAX(WX$2:WX20)+1,\"\")","v":""},"",20,"","","","","","","","","","","",null,17,"","","","","","","","","","","","","","","","",null,null,null,"Dual Wielder","none","You master fighting with two weapons, gaining the following benefits:\n• You gain a +1 bonus to AC while you are wielding a separate melee weapon in each hand. \n• You can use two-weapon fighting even when the one-handed melee weapons you are wielding aren’t light. \n• You can draw or stow two one-handed weapons when you would normally be able to draw or stow only one.","  - You gain a +1 bonus to AC while you are wielding a separate melee weapon in each hand. \n  - You can use two-weapon fighting even when the one-handed melee weapons you are wielding aren’t light. \n  - You can draw or stow two one-handed weapons when you would normally be able to draw or stow only one.",{"$f":"\"\"","v":""},{"$f":"\"\"","v":""},{"$f":"\"\"","v":""},{"$f":"\"\"","v":""},null,null,null,null,null,"Druid",16,null,{"$f":"IF(YX21=\"\",\"\",MAX($YW$1:YW20)+1)","v":""},"","",18,{"$f":"IF(ZB21=\"\",\"\",MAX($ZA$2:ZA20)+1)","v":""},"",{"$f":"IF(Start!AF37=SelectText,\"\",Start!AF37)","v":""},{"$f":"IF(OR(COUNTIF($ZC$4:$ZC21,ZD$2)=0,COUNTIF($ZC$4:$ZC21,ZD$2)=MAX(ZD$2:ZD20)),\"-\",COUNTIF($ZC$4:$ZC21,ZD$2))","v":"-"},{"$f":"IF(OR(COUNTIF($ZC$4:$ZC21,ZE$2)=0,COUNTIF($ZC$4:$ZC21,ZE$2)=MAX(ZE$2:ZE20)),\"-\",COUNTIF($ZC$4:$ZC21,ZE$2))","v":"-"},{"$f":"IF(OR(COUNTIF($ZC$4:$ZC21,ZF$2)=0,COUNTIF($ZC$4:$ZC21,ZF$2)=MAX(ZF$2:ZF20)),\"-\",COUNTIF($ZC$4:$ZC21,ZF$2))","v":"-"},{"$f":"IF(OR(COUNTIF($ZC$4:$ZC21,ZG$2)=0,COUNTIF($ZC$4:$ZC21,ZG$2)=MAX(ZG$2:ZG20)),\"-\",COUNTIF($ZC$4:$ZC21,ZG$2))","v":"-"},{"$f":"IF(OR(COUNTIF($ZC$4:$ZC21,ZH$2)=0,COUNTIF($ZC$4:$ZC21,ZH$2)=MAX(ZH$2:ZH20)),\"-\",COUNTIF($ZC$4:$ZC21,ZH$2))","v":"-"},{"$f":"IF(OR(COUNTIF($ZC$4:$ZC21,ZI$2)=0,COUNTIF($ZC$4:$ZC21,ZI$2)=MAX(ZI$2:ZI20)),\"-\",COUNTIF($ZC$4:$ZC21,ZI$2))","v":"-"},{"$f":"IF(OR(COUNTIF($ZC$4:$ZC21,ZJ$2)=0,COUNTIF($ZC$4:$ZC21,ZJ$2)=MAX(ZJ$2:ZJ20)),\"-\",COUNTIF($ZC$4:$ZC21,ZJ$2))","v":"-"},{"$f":"IF(OR(COUNTIF($ZC$4:$ZC21,ZK$2)=0,COUNTIF($ZC$4:$ZC21,ZK$2)=MAX(ZK$2:ZK20)),\"-\",COUNTIF($ZC$4:$ZC21,ZK$2))","v":"-"},{"$f":"IF(OR(COUNTIF($ZC$4:$ZC21,ZL$2)=0,COUNTIF($ZC$4:$ZC21,ZL$2)=MAX(ZL$2:ZL20)),\"-\",COUNTIF($ZC$4:$ZC21,ZL$2))","v":"-"},{"$f":"IF(OR(COUNTIF($ZC$4:$ZC21,ZM$2)=0,COUNTIF($ZC$4:$ZC21,ZM$2)=MAX(ZM$2:ZM20)),\"-\",COUNTIF($ZC$4:$ZC21,ZM$2))","v":"-"},{"$f":"IF(OR(COUNTIF($ZC$4:$ZC21,ZN$2)=0,COUNTIF($ZC$4:$ZC21,ZN$2)=MAX(ZN$2:ZN20)),\"-\",COUNTIF($ZC$4:$ZC21,ZN$2))","v":"-"},{"$f":"IF(OR(COUNTIF($ZC$4:$ZC21,ZO$2)=0,COUNTIF($ZC$4:$ZC21,ZO$2)=MAX(ZO$2:ZO20)),\"-\",COUNTIF($ZC$4:$ZC21,ZO$2))","v":"-"},18]
[null,null,null,null,null,null,null,null,null,null,null,null,null,null,null,null,null,null,null,null,"Green",{"$f":"\"• Damage Type: Poison\n• Breath Weapon: 15 ft. cone. DC \"&8+IF(CONMod=\"\",0,CONMod)+IF(ProfBonus=\"\",0,ProfBonus)&\" Con save for \"&IF(CharacterLevel<6,\"2d6\",IF(CharacterLevel<11,\"3d6\",IF(CharacterLevel<15,\"4d6\", \"5d6\")))&\" on failed save, half on success.\"","v":"• Damage Type: Poison\n• Breath Weapon: 15 ft. cone. DC 5 Con save for 2d6 on failed save, half on success."},"Poison",{"$f":"IF(Y22=\"\",\"\",MAX($X$3:X21)+1)","v":""},"",19,"",null,null,null,null,null,null,null,null,null,null,null,null,null,21,{"$f":"HLOOKUP(CharacterBackground,$AQ$2:$BD$53,$AO22,FALSE)","v":""},{"$f":"\"\"","v":""},{"$f":"\"\"","v":""},{"$f":"\"\"","v":""},{"$f":"\"\"","v":""},{"$f":"\"\"","v":""},{"$f":"\"\"","v":""},{"$f":"\"\"","v":""},{"$f":"\"\"","v":""},{"$f":"\"\"","v":""},{"$f":"\"\"","v":""},{"$f":"\"\"","v":""},{"$f":"\"\"","v":""},{"$f":"\"\"","v":""},{"$f":"\"\"","v":""},{"$f":"\"\"","v":""},null,null,null,null,null,null,null,null,null,null,null,null,null,null,null,null,null,null,null,null,null,null,null,null,null,null,null,null,null,null,null,null,null,null,null,null,null,null,null,null,null,null,null,null,null,null,null,null,null,null,null,null,null,null,null,null,null,null,"Divination","Wizard",0,{"$f":"\"\"","v":""},{"$f":"\"Divination Savant, Portent \"&IF(WizardDivinationLevel>=14,\"\",\"2d20\")","v":"Divination Savant, Portent 2d20"},{"$f":"\"\"","v":""},{"$f":"\"\"","v":""},{"$f":"\"\"","v":""},"Expert Divination",{"$f":"\"\"","v":""},{"$f":"\"\"","v":""},{"$f":"\"\"","v":""},"The Third Eye",{"$f":"\"\"","v":""},{"$f":"\"\"","v":""},{"$f":"\"\"","v":""},"Greater Portent 3d20",{"$f":"\"\"","v":""},{"$f":"\"\"","v":""},{"$f":"\"\"","v":""},{"$f":"\"\"","v":""},{"$f":"\"\"","v":""},{"$f":"\"\"","v":""},{"$f":"\"\"","v":""},{"$f":"\"\"","v":""},null,{"$f":"\"\"","v":""},null,{"$f":"\"\"","v":""},null,{"$f":"\"\"","v":""},null,{"$f":"\"\"","v":""},null,{"$f":"\"\"","v":""},{"$f":"\"\"","v":""},{"$f":"\"\"","v":""},{"$f":"\"\"","v":""},{"$f":"\"\"","v":""},{"$f":"\"\"","v":""},null,{"$f":"IF($DM22=FB$5,MAX(FA$6:FA21)+1,\"\")","v":""},"",null,null,{"$f":"IF($DM22=FF$5,MAX(FE$6:FE21)+1,\"\")","v":""},"",null,null,{"$f":"IF($DM22=FJ$5,MAX(FI$6:FI21)+1,\"\")","v":""},"",null,null,"Thieves' tools",{"$f":"IF(RogueLevel>0,\"•\",0)","v":0},{"$f":"IF($FM22=$FP22,MAX(FO$3:FO21)+1,\"\")","v":""},{"$f":"IF(FN22=\"•\",FM22,\"\")","v":""},20,"",null,null,null,null,null,null,null,null,null,null,null,null,null,null,null,null,null,null,null,null,null,null,null,null,null,null,null,null,null,null,null,null,null,null,null,null,null,null,null,null,null,null,null,null,"darfellan","humanoid","grippli",null,null,null,null,null,null,null,null,null,null,"Stand Against the Tide",null,null,null,null,null,null,null,null,null,{"$f":"IF(IJ22=1,MAX($IH$2:IH21)+1,\"\")","v":""},"Mire the Mind",{"$f":"IF(WarlockLevel>=5,1,\"\")","v":""},"   You can cast slow once using a warlock spell slot. You can’t do so again until you finish a long rest.",20,"",null,null,null,null,null,null,null,null,null,null,"Malar (CE)","God of the hunt","Chaotic Evil","Nature","Clawed paw",{"$f":"IF(JD22=\"\",\"\",MAX($JC$1:JC21)+1)","v":""},null,null,null,null,null,null,null,null,null,20,4,3,3,3,3,2,2,1,1,9,null,null,null,null,null,null,20,13,22,13,11,15,15,20,5,5,3,4,4,6,4,null,"Jeweler’s tools","No","Tools",null,null,null,null,null,null,null,null,null,null,null,null,null,null,null,null,null,null,null,null,null,null,null,null,null,null,null,null,null,null,null,null,null,null,null,null,null,null,null,null,null,null,null,null,null,null,null,null,null,null,null,null,null,null,null,null,null,null,null,null,null,null,null,null,null,null,null,null,null,null,null,null,null,null,null,null,null,null,null,null,null,null,null,null,null,null,null,null,null,null,null,null,null,null,null,null,null,null,null,null,null,null,null,null,null,null,null,null,null,null,null,null,null,null,null,null,null,null,null,null,null,null,null,null,null,null,{"$f":"IF(COUNTIF(Start!$AX$59:$BF$68,Tables!KT22)>0,Tables!KT22,\"\")","v":""},null,"",{"$f":"IF(PU22=\"\",\"\",IF(COUNTIF(PU22:$PU$57,\"><\")>1,PU22&\", \", PU22))","v":""},null,null,null,"Light hammer","Simple Melee","not proficient","1d4","bludgeoning","20/60",2,{"$f":"\"\"","v":""},{"$f":"\"\"","v":""},{"$f":"\"\"","v":""},"light",{"$f":"\"\"","v":""},{"$f":"\"\"","v":""},{"$f":"\"\"","v":""},"thrown",{"$f":"\"\"","v":""},{"$f":"\"\"","v":""},{"$f":"\"\"","v":""},{"$f":"\"\"","v":""},null,null,"Finesse",null,null,null,null,{"$f":"IF(QZ9=\"\",\"\",IF(COUNTIF(QZ9:$QZ$18,\"><$Q$1\")>1,QZ9&\", \",QZ9))","v":""},null,null,null,null,null,null,null,{"$f":"IF(RH9=\"\",\"\",IF(COUNTIF($RH9:RH$18,\"><$Q$1\")>1,RH9&\", \",RH9))","v":""},null,null,null,null,null,null,null,{"$f":"IF(RP9=\"\",\"\",IF(COUNTIF($RP9:RP$18,\"><$Q$1\")>1,RP9&\", \",RP9))","v":""},null,null,null,null,null,null,null,{"$f":"IF(RX9=\"\",\"\",IF(COUNTIF($RX9:RX$18,\"><$Q$1\")>1,RX9&\", \",RX9))","v":""},null,null,null,null,null,null,null,{"$f":"IF(SF9=\"\",\"\",IF(COUNTIF($SF9:SF$18,\"><$Q$1\")>1,SF9&\", \",SF9))","v":""},null,null,null,null,null,null,null,{"$f":"IF(SN9=\"\",\"\",IF(COUNTIF($SN9:SN$18,\"><$Q$1\")>1,SN9&\", \",SN9))","v":""},null,null,null,null,null,null,null,null,null,null,null,null,null,null,null,null,null,null,null,null,null,20,"Aura of Life","LEVEL 4",4,"Aura of Life ",{"$f":"\"\"","v":""},"",{"$f":"IF(OR(TK22=Spellcasting!$AC$18,TK22=Spellcasting!$AC$19),\"ᵐ\",\"\")","v":""},{"$f":"IF(OR(TK22=Spellcasting!$AC$20,TK22=Spellcasting!$AC$21),\"ˢ\",\"\")","v":""},{"$f":"\"\"","v":""},"1 act","self","10 min ᶜᵒᶰ","V",{"$f":"\"\"","v":""},"abjuration","abjur","Life-preserving energy radiates from you in an aura with a 30-foot radius. Until the spell ends, the aura moves with you, centered on you. Each nonhostile creature in the aura (including you) has resistance to necrotic damage, and its hit point maximum can't be reduced. In addition, a nonhostile, living creature regains 1 hit point when it starts its turn in the aura with 0 hit points.","30ft rad, resistance to necrotic, allies on 0 HP gain +1 HP",null,{"$f":"IF(UD$1>=$TM22,1,\"0\")","v":"0"},null,null,null,null,null,null,null,null,null,null,null,null,null,null,null,null,null,null,null,null,null,null,null,null,null,null,null,null,null,null,null,null,null,null,null,null,null,null,null,null,null,null,null,null,null,null,null,null,null,null,null,{"$f":"IF(SUM($VZ$1:$WC$1)>0,IF(AND(SUM($VZ22:$WC22)>0,$TM22=WE$1),MAX(WD$2:WD21)+1,\"\"),IF(AND(SUM($UC22:$VY22)>0,$TM22=WE$1),MAX(WD$2:WD21)+1,\"\"))","v":""},"",{"$f":"IF(AND(SUM($UB22:$VY22)>0,$TM22=WG$1),MAX(WF$2:WF21)+1,\"\")","v":""},"",{"$f":"IF(AND(SUM($UB22:$VY22)>0,$TM22=WI$1),MAX(WH$2:WH21)+1,\"\")","v":""},"",{"$f":"IF(AND(SUM($UB22:$VY22)>0,$TM22=WK$1),MAX(WJ$2:WJ21)+1,\"\")","v":""},"",{"$f":"IF(AND(SUM($UB22:$VY22)>0,$TM22=WM$1),MAX(WL$2:WL21)+1,\"\")","v":""},"",{"$f":"IF(AND(SUM($UB22:$VY22)>0,$TM22=WO$1),MAX(WN$2:WN21)+1,\"\")","v":""},"",{"$f":"IF(AND(SUM($UB22:$VY22)>0,$TM22=WQ$1),MAX(WP$2:WP21)+1,\"\")","v":""},"",{"$f":"IF(AND(SUM($UB22:$VY22)>0,$TM22=WS$1),MAX(WR$2:WR21)+1,\"\")","v":""},"",{"$f":"IF(AND(SUM($UB22:$VY22)>0,$TM22=WU$1),MAX(WT$2:WT21)+1,\"\")","v":""},"",{"$f":"IF(AND(SUM($UB22:$VY22)>0,$TM22=WW$1),MAX(WV$2:WV21)+1,\"\")","v":""},"",{"$f":"IF(AND(SUM($UB22:$VY22)>0,$TM22=WY$1),MAX(WX$2:WX21)+1,\"\")","v":""},"",21,"","","","","","","","","","","",null,18,"","","","","","","","","","","","","","","","",null,null,null,"Dungeon Delver","none","Alert to the hidden traps and secret doors found in many dungeons, you gain the following benefits:\n• You have advantage on Wisdom (Perception) and Intelligence (Investigation) checks made to detect the presence of secret doors. \n• You have advantage on saving throws made to avoid or resist traps. \n• You have resistance to the damage dealt by traps. \n• You can search for traps while traveling at a normal pace, instead of only at a slow pace.","  - Advantage on Wisdom (Perception) and Intelligence (Investigation) checks made to detect the presence of secret doors. \n  - You have advantage on saving throws made to avoid or resist traps. \n  - You have resistance to the damage dealt by traps.\n  - You can search for traps while traveling at a normal pace, instead of only at a slow pace.",{"$f":"\"\"","v":""},{"$f":"\"\"","v":""},{"$f":"\"\"","v":""},{"$f":"\"\"","v":""},null,null,null,null,null,"Druid",19,null,{"$f":"IF(YX22=\"\",\"\",MAX($YW$1:YW21)+1)","v":""},"","",19,{"$f":"IF(ZB22=\"\",\"\",MAX($ZA$2:ZA21)+1)","v":""},"",{"$f":"IF(Start!AF38=SelectText,\"\",Start!AF38)","v":""},{"$f":"IF(OR(COUNTIF($ZC$4:$ZC22,ZD$2)=0,COUNTIF($ZC$4:$ZC22,ZD$2)=MAX(ZD$2:ZD21)),\"-\",COUNTIF($ZC$4:$ZC22,ZD$2))","v":"-"},{"$f":"IF(OR(COUNTIF($ZC$4:$ZC22,ZE$2)=0,COUNTIF($ZC$4:$ZC22,ZE$2)=MAX(ZE$2:ZE21)),\"-\",COUNTIF($ZC$4:$ZC22,ZE$2))","v":"-"},{"$f":"IF(OR(COUNTIF($ZC$4:$ZC22,ZF$2)=0,COUNTIF($ZC$4:$ZC22,ZF$2)=MAX(ZF$2:ZF21)),\"-\",COUNTIF($ZC$4:$ZC22,ZF$2))","v":"-"},{"$f":"IF(OR(COUNTIF($ZC$4:$ZC22,ZG$2)=0,COUNTIF($ZC$4:$ZC22,ZG$2)=MAX(ZG$2:ZG21)),\"-\",COUNTIF($ZC$4:$ZC22,ZG$2))","v":"-"},{"$f":"IF(OR(COUNTIF($ZC$4:$ZC22,ZH$2)=0,COUNTIF($ZC$4:$ZC22,ZH$2)=MAX(ZH$2:ZH21)),\"-\",COUNTIF($ZC$4:$ZC22,ZH$2))","v":"-"},{"$f":"IF(OR(COUNTIF($ZC$4:$ZC22,ZI$2)=0,COUNTIF($ZC$4:$ZC22,ZI$2)=MAX(ZI$2:ZI21)),\"-\",COUNTIF($ZC$4:$ZC22,ZI$2))","v":"-"},{"$f":"IF(OR(COUNTIF($ZC$4:$ZC22,ZJ$2)=0,COUNTIF($ZC$4:$ZC22,ZJ$2)=MAX(ZJ$2:ZJ21)),\"-\",COUNTIF($ZC$4:$ZC22,ZJ$2))","v":"-"},{"$f":"IF(OR(COUNTIF($ZC$4:$ZC22,ZK$2)=0,COUNTIF($ZC$4:$ZC22,ZK$2)=MAX(ZK$2:ZK21)),\"-\",COUNTIF($ZC$4:$ZC22,ZK$2))","v":"-"},{"$f":"IF(OR(COUNTIF($ZC$4:$ZC22,ZL$2)=0,COUNTIF($ZC$4:$ZC22,ZL$2)=MAX(ZL$2:ZL21)),\"-\",COUNTIF($ZC$4:$ZC22,ZL$2))","v":"-"},{"$f":"IF(OR(COUNTIF($ZC$4:$ZC22,ZM$2)=0,COUNTIF($ZC$4:$ZC22,ZM$2)=MAX(ZM$2:ZM21)),\"-\",COUNTIF($ZC$4:$ZC22,ZM$2))","v":"-"},{"$f":"IF(OR(COUNTIF($ZC$4:$ZC22,ZN$2)=0,COUNTIF($ZC$4:$ZC22,ZN$2)=MAX(ZN$2:ZN21)),\"-\",COUNTIF($ZC$4:$ZC22,ZN$2))","v":"-"},{"$f":"IF(OR(COUNTIF($ZC$4:$ZC22,ZO$2)=0,COUNTIF($ZC$4:$ZC22,ZO$2)=MAX(ZO$2:ZO21)),\"-\",COUNTIF($ZC$4:$ZC22,ZO$2))","v":"-"},19]
[null,null,null,null,null,null,null,null,null,null,null,null,null,null,null,null,null,null,null,null,"Red",{"$f":"\"• Damage Type: Fire\n• Breath Weapon: 15 ft. cone. DC \"&8+IF(CONMod=\"\",0,CONMod)+IF(ProfBonus=\"\",0,ProfBonus)&\" Dex save for \"&IF(CharacterLevel<6,\"2d6\",IF(CharacterLevel<11,\"3d6\",IF(CharacterLevel<15,\"4d6\", \"5d6\")))&\" on failed save, half on success.\"","v":"• Damage Type: Fire\n• Breath Weapon: 15 ft. cone. DC 5 Dex save for 2d6 on failed save, half on success."},"Fire",{"$f":"IF(Y23=\"\",\"\",MAX($X$3:X22)+1)","v":""},"",20,"",null,null,null,null,null,null,null,null,null,null,null,null,null,22,"Bond",{"$f":"\"\"","v":""},null,null,null,null,null,null,null,null,null,null,null,null,null,{"$f":"\"\"","v":""},null,null,null,null,null,null,null,null,null,null,null,null,null,null,null,null,null,null,null,null,null,null,null,null,null,null,null,null,null,null,null,null,null,null,null,null,null,null,null,null,null,null,null,null,null,null,null,null,null,null,null,null,null,null,null,null,null,null,"Enchantment","Wizard",0,{"$f":"\"\"","v":""},"Enchantment Savant, Hypnotic Gaze",{"$f":"\"\"","v":""},{"$f":"\"\"","v":""},{"$f":"\"\"","v":""},"Instinctive Charm",{"$f":"\"\"","v":""},{"$f":"\"\"","v":""},{"$f":"\"\"","v":""},"Split Enchantment",{"$f":"\"\"","v":""},{"$f":"\"\"","v":""},{"$f":"\"\"","v":""},"Alter Memories",{"$f":"\"\"","v":""},{"$f":"\"\"","v":""},{"$f":"\"\"","v":""},{"$f":"\"\"","v":""},{"$f":"\"\"","v":""},{"$f":"\"\"","v":""},{"$f":"\"\"","v":""},{"$f":"\"\"","v":""},null,{"$f":"\"\"","v":""},null,{"$f":"\"\"","v":""},null,{"$f":"\"\"","v":""},null,{"$f":"\"\"","v":""},null,{"$f":"\"\"","v":""},{"$f":"\"\"","v":""},{"$f":"\"\"","v":""},{"$f":"\"\"","v":""},{"$f":"\"\"","v":""},{"$f":"\"\"","v":""},null,{"$f":"IF($DM23=FB$5,MAX(FA$6:FA22)+1,\"\")","v":""},"",null,null,{"$f":"IF($DM23=FF$5,MAX(FE$6:FE22)+1,\"\")","v":""},"",null,null,{"$f":"IF($DM23=FJ$5,MAX(FI$6:FI22)+1,\"\")","v":""},"",null,null,null,null,null,null,null,null,null,null,null,null,null,null,null,null,null,null,null,null,null,null,null,null,null,null,null,null,null,null,null,null,null,null,null,null,null,null,null,null,null,null,null,null,null,null,null,null,null,null,null,null,"dark one","humanoid","half-elf",null,null,null,null,null,null,null,null,null,null,"Uncanny Dodge",null,null,null,null,null,null,null,null,null,{"$f":"IF(IJ23=1,MAX($IH$2:IH22)+1,\"\")","v":10},"Misty Visions",{"$f":"1","v":1},"   You can cast silent image at will, without expending a spell slot or material components.",21,"",null,null,null,null,null,null,null,null,null,null,"Mask (CN)","God of thieves","Chaotic Neutral","Trickery","Black mask",null,null,null,null,null,null,null,null,null,null,null,null,null,null,null,null,null,null,null,null,null,null,null,null,null,null,null,null,null,null,null,null,null,null,"TOTAL",{"$f":"IF(INDIRECT(TEXT(KL$2&\"Level\",0))>0,VLOOKUP(INDIRECT(TEXT(KL$2&\"Level\",0)),$KK$3:$KR$22,KL$1,FALSE),\"\")","v":""},"","","","","",{"$f":"IF(INDIRECT(TEXT(KR$2&\"Level\",0))>0,VLOOKUP(INDIRECT(TEXT(KR$2&\"Level\",0)),$KK$3:$KR$22,KR$1,FALSE),\"\")","v":""},null,"Leatherworker’s tools","No","Tools",null,null,null,null,null,null,null,null,null,null,null,null,null,null,null,null,null,null,null,null,null,null,null,null,null,null,null,null,null,null,null,null,null,null,null,null,null,null,null,null,null,null,null,null,null,null,null,null,null,null,null,null,null,null,null,null,null,null,null,null,null,null,null,null,null,null,null,null,null,null,null,null,null,null,null,null,null,null,null,null,null,null,null,null,null,null,null,null,null,null,null,null,null,null,null,null,null,null,null,null,null,null,null,null,null,null,null,null,null,null,null,null,null,null,null,null,null,null,null,null,null,null,null,null,null,null,{"$f":"IF(COUNTIF(Start!$AX$59:$BF$68,Tables!KT23)>0,Tables!KT23,\"\")","v":""},null,"",{"$f":"IF(PU23=\"\",\"\",IF(COUNTIF(PU23:$PU$57,\"><\")>1,PU23&\", \", PU23))","v":""},null,null,null,"Long sword","Martial Melee","not proficient","1d8","slashing","-",3,{"$f":"\"\"","v":""},{"$f":"\"\"","v":""},{"$f":"\"\"","v":""},{"$f":"\"\"","v":""},{"$f":"\"\"","v":""},{"$f":"\"\"","v":""},{"$f":"\"\"","v":""},{"$f":"\"\"","v":""},{"$f":"\"\"","v":""},"versatile (1d10)",{"$f":"\"\"","v":""},{"$f":"\"\"","v":""},null,null,"Heavy",null,null,null,null,{"$f":"IF(QZ10=\"\",\"\",IF(COUNTIF(QZ10:$QZ$18,\"><$Q$1\")>1,QZ10&\", \",QZ10))","v":""},null,null,null,null,null,null,null,{"$f":"IF(RH10=\"\",\"\",IF(COUNTIF($RH10:RH$18,\"><$Q$1\")>1,RH10&\", \",RH10))","v":""},null,null,null,null,null,null,null,{"$f":"IF(RP10=\"\",\"\",IF(COUNTIF($RP10:RP$18,\"><$Q$1\")>1,RP10&\", \",RP10))","v":""},null,null,null,null,null,null,null,{"$f":"IF(RX10=\"\",\"\",IF(COUNTIF($RX10:RX$18,\"><$Q$1\")>1,RX10&\", \",RX10))","v":""},null,null,null,null,null,null,null,{"$f":"IF(SF10=\"\",\"\",IF(COUNTIF($SF10:SF$18,\"><$Q$1\")>1,SF10&\", \",SF10))","v":""},null,null,null,null,null,null,null,{"$f":"IF(SN10=\"\",\"\",IF(COUNTIF($SN10:SN$18,\"><$Q$1\")>1,SN10&\", \",SN10))","v":""},null,null,null,null,null,null,null,null,null,null,null,null,null,null,null,null,null,null,null,null,null,21,"Aura of Purity","LEVEL 4",4,"Aura of Purity ",{"$f":"\"\"","v":""},"",{"$f":"IF(OR(TK23=Spellcasting!$AC$18,TK23=Spellcasting!$AC$19),\"ᵐ\",\"\")","v":""},{"$f":"IF(OR(TK23=Spellcasting!$AC$20,TK23=Spellcasting!$AC$21),\"ˢ\",\"\")","v":""},{"$f":"\"\"","v":""},"1 act","self","10 min ᶜᵒᶰ","V",{"$f":"\"\"","v":""},"abjuration","abjur","Purifying energy radiates from you in an aura with a 30-foot radius. Until the spell ends, the aura moves with you, centered on you. Each nonhostile creature in the aura (including you) can’t become diseased, has resistance to poison damage, and has advantage on saving throws against effects that cause any of the following conditions: blinded, charmed, deafened, frightened, paralyzed, poisoned, and stunned.","30ft rad, resist poison, can't be diseased, save adv. see spell",null,{"$f":"IF(UD$1>=$TM23,1,\"0\")","v":"0"},null,null,null,null,null,null,null,null,null,null,null,null,null,null,null,null,null,null,null,null,null,null,null,null,null,null,null,null,null,null,null,null,null,null,null,null,null,null,null,null,null,null,null,null,null,null,null,null,null,null,null,{"$f":"IF(SUM($VZ$1:$WC$1)>0,IF(AND(SUM($VZ23:$WC23)>0,$TM23=WE$1),MAX(WD$2:WD22)+1,\"\"),IF(AND(SUM($UC23:$VY23)>0,$TM23=WE$1),MAX(WD$2:WD22)+1,\"\"))","v":""},"",{"$f":"IF(AND(SUM($UB23:$VY23)>0,$TM23=WG$1),MAX(WF$2:WF22)+1,\"\")","v":""},"",{"$f":"IF(AND(SUM($UB23:$VY23)>0,$TM23=WI$1),MAX(WH$2:WH22)+1,\"\")","v":""},"",{"$f":"IF(AND(SUM($UB23:$VY23)>0,$TM23=WK$1),MAX(WJ$2:WJ22)+1,\"\")","v":""},"",{"$f":"IF(AND(SUM($UB23:$VY23)>0,$TM23=WM$1),MAX(WL$2:WL22)+1,\"\")","v":""},"",{"$f":"IF(AND(SUM($UB23:$VY23)>0,$TM23=WO$1),MAX(WN$2:WN22)+1,\"\")","v":""},"",{"$f":"IF(AND(SUM($UB23:$VY23)>0,$TM23=WQ$1),MAX(WP$2:WP22)+1,\"\")","v":""},"",{"$f":"IF(AND(SUM($UB23:$VY23)>0,$TM23=WS$1),MAX(WR$2:WR22)+1,\"\")","v":""},"",{"$f":"IF(AND(SUM($UB23:$VY23)>0,$TM23=WU$1),MAX(WT$2:WT22)+1,\"\")","v":""},"",{"$f":"IF(AND(SUM($UB23:$VY23)>0,$TM23=WW$1),MAX(WV$2:WV22)+1,\"\")","v":""},"",{"$f":"IF(AND(SUM($UB23:$VY23)>0,$TM23=WY$1),MAX(WX$2:WX22)+1,\"\")","v":""},"",22,"","","","","","","","","","","",null,19,"","","","","","","","","","","","","","","","",null,null,null,"Durable","none","Hardy and resilient, you gain the following benefits:\n• Increase your Constitution score by 1, to a maximum of 20.\n• When you roll a Hit Die to regain hit points, the minimum number of hit points you regain from the roll equals twice your Constitution modifier (minimum of 2).","  - Increase your Constitution score by 1, to a maximum of 20.\n  - When you roll a Hit Die to regain hit points, the minimum number of hit points you regain from the roll equals twice your\n     Constitution modifier (minimum of 2).",{"$f":"\"\"","v":""},{"$f":"\"\"","v":""},"CO",1,null,null,null,null,null,"Fighter",4,{"$f":"VLOOKUP(YY23,$ZH$2:$ZP$23,$ZH$1,FALSE)","v":""},{"$f":"IF(YX23=\"\",\"\",MAX($YW$1:YW22)+1)","v":""},"","",20,{"$f":"IF(ZB23=\"\",\"\",MAX($ZA$2:ZA22)+1)","v":""},"",{"$f":"IF(Start!AF39=SelectText,\"\",Start!AF39)","v":""},{"$f":"IF(OR(COUNTIF($ZC$4:$ZC23,ZD$2)=0,COUNTIF($ZC$4:$ZC23,ZD$2)=MAX(ZD$2:ZD22)),\"-\",COUNTIF($ZC$4:$ZC23,ZD$2))","v":"-"},{"$f":"IF(OR(COUNTIF($ZC$4:$ZC23,ZE$2)=0,COUNTIF($ZC$4:$ZC23,ZE$2)=MAX(ZE$2:ZE22)),\"-\",COUNTIF($ZC$4:$ZC23,ZE$2))","v":"-"},{"$f":"IF(OR(COUNTIF($ZC$4:$ZC23,ZF$2)=0,COUNTIF($ZC$4:$ZC23,ZF$2)=MAX(ZF$2:ZF22)),\"-\",COUNTIF($ZC$4:$ZC23,ZF$2))","v":"-"},{"$f":"IF(OR(COUNTIF($ZC$4:$ZC23,ZG$2)=0,COUNTIF($ZC$4:$ZC23,ZG$2)=MAX(ZG$2:ZG22)),\"-\",COUNTIF($ZC$4:$ZC23,ZG$2))","v":"-"},{"$f":"IF(OR(COUNTIF($ZC$4:$ZC23,ZH$2)=0,COUNTIF($ZC$4:$ZC23,ZH$2)=MAX(ZH$2:ZH22)),\"-\",COUNTIF($ZC$4:$ZC23,ZH$2))","v":"-"},{"$f":"IF(OR(COUNTIF($ZC$4:$ZC23,ZI$2)=0,COUNTIF($ZC$4:$ZC23,ZI$2)=MAX(ZI$2:ZI22)),\"-\",COUNTIF($ZC$4:$ZC23,ZI$2))","v":"-"},{"$f":"IF(OR(COUNTIF($ZC$4:$ZC23,ZJ$2)=0,COUNTIF($ZC$4:$ZC23,ZJ$2)=MAX(ZJ$2:ZJ22)),\"-\",COUNTIF($ZC$4:$ZC23,ZJ$2))","v":"-"},{"$f":"IF(OR(COUNTIF($ZC$4:$ZC23,ZK$2)=0,COUNTIF($ZC$4:$ZC23,ZK$2)=MAX(ZK$2:ZK22)),\"-\",COUNTIF($ZC$4:$ZC23,ZK$2))","v":"-"},{"$f":"IF(OR(COUNTIF($ZC$4:$ZC23,ZL$2)=0,COUNTIF($ZC$4:$ZC23,ZL$2)=MAX(ZL$2:ZL22)),\"-\",COUNTIF($ZC$4:$ZC23,ZL$2))","v":"-"},{"$f":"IF(OR(COUNTIF($ZC$4:$ZC23,ZM$2)=0,COUNTIF($ZC$4:$ZC23,ZM$2)=MAX(ZM$2:ZM22)),\"-\",COUNTIF($ZC$4:$ZC23,ZM$2))","v":"-"},{"$f":"IF(OR(COUNTIF($ZC$4:$ZC23,ZN$2)=0,COUNTIF($ZC$4:$ZC23,ZN$2)=MAX(ZN$2:ZN22)),\"-\",COUNTIF($ZC$4:$ZC23,ZN$2))","v":"-"},{"$f":"IF(OR(COUNTIF($ZC$4:$ZC23,ZO$2)=0,COUNTIF($ZC$4:$ZC23,ZO$2)=MAX(ZO$2:ZO22)),\"-\",COUNTIF($ZC$4:$ZC23,ZO$2))","v":"-"},20]
[null,null,null,null,null,null,null,null,null,null,null,null,null,null,null,null,null,null,null,null,"Silver",{"$f":"\"• Damage Type: Cold\n• Breath Weapon: 15 ft. cone. DC \"&8+IF(CONMod=\"\",0,CONMod)+IF(ProfBonus=\"\",0,ProfBonus)&\" Con save for \"&IF(CharacterLevel<6,\"2d6\",IF(CharacterLevel<11,\"3d6\",IF(CharacterLevel<15,\"4d6\", \"5d6\")))&\" on failed save, half on success.\"","v":"• Damage Type: Cold\n• Breath Weapon: 15 ft. cone. DC 5 Con save for 2d6 on failed save, half on success."},"Cold",{"$f":"IF(Y24=\"\",\"\",MAX($X$3:X23)+1)","v":""},"",null,null,null,null,null,null,null,null,null,null,null,null,null,null,null,23,{"$f":"SelectText","v":"Select…"},{"$f":"\"\"","v":""},null,null,null,null,null,null,null,null,null,null,null,null,null,{"$f":"\"\"","v":""},null,null,null,null,null,null,null,null,null,null,null,null,null,null,null,null,null,null,null,null,null,null,null,null,null,null,null,null,null,null,null,null,null,null,null,null,null,null,null,null,null,null,null,null,null,null,null,null,null,null,null,null,null,null,null,null,null,null,"Evocation","Wizard",0,{"$f":"\"\"","v":""},{"$f":"\"Evocation Savant, Sculpt Spells\"","v":"Evocation Savant, Sculpt Spells"},{"$f":"\"\"","v":""},{"$f":"\"\"","v":""},{"$f":"\"\"","v":""},"Potent Cantrip",{"$f":"\"\"","v":""},{"$f":"\"\"","v":""},{"$f":"\"\"","v":""},"Empowered Evocation",{"$f":"\"\"","v":""},{"$f":"\"\"","v":""},{"$f":"\"\"","v":""},"Overchannel",{"$f":"\"\"","v":""},{"$f":"\"\"","v":""},{"$f":"\"\"","v":""},{"$f":"\"\"","v":""},{"$f":"\"\"","v":""},{"$f":"\"\"","v":""},{"$f":"\"\"","v":""},{"$f":"\"\"","v":""},null,{"$f":"\"\"","v":""},null,{"$f":"\"\"","v":""},null,{"$f":"\"\"","v":""},null,{"$f":"\"\"","v":""},null,{"$f":"\"\"","v":""},{"$f":"\"\"","v":""},{"$f":"\"\"","v":""},{"$f":"\"\"","v":""},{"$f":"\"\"","v":""},{"$f":"\"\"","v":""},null,{"$f":"IF($DM24=FB$5,MAX(FA$6:FA23)+1,\"\")","v":""},"",null,null,{"$f":"IF($DM24=FF$5,MAX(FE$6:FE23)+1,\"\")","v":""},"",null,null,{"$f":"IF($DM24=FJ$5,MAX(FI$6:FI23)+1,\"\")","v":""},"",null,null,null,null,null,null,null,null,null,null,null,null,null,{"$f":"SelectText","v":"Select…"},{"$f":"\"\"","v":""},null,null,null,null,null,null,null,null,null,null,null,null,null,null,null,null,null,null,null,null,null,null,null,null,null,null,null,null,null,null,null,null,null,null,null,null,null,"dragonborn","humanoid","half-orc",null,null,null,null,null,null,null,null,null,null,null,null,null,null,null,null,null,null,null,null,{"$f":"IF(IJ24=1,MAX($IH$2:IH23)+1,\"\")","v":""},"One with Shadows",{"$f":"IF(WarlockLevel>=5,1,\"\")","v":""},"   When you are in an area of dim light or darkness, you can use your action to become invisible until you move or take\n   an action or a reaction.",22,"",null,null,null,null,null,null,null,null,null,null,"Mielikki (NG)","Goddess of forests","Neutral Good","Nature","Unicorn’s head",null,null,null,null,null,null,null,null,null,null,null,1,2,3,4,5,6,7,8,9,null,null,null,null,null,null,null,null,null,null,null,null,null,null,null,null,null,null,null,null,null,null,null,"Mason’s tools","No","Tools",null,null,null,null,null,null,null,null,null,null,null,null,null,null,null,null,null,null,null,null,null,null,null,null,null,null,null,null,null,null,null,null,null,null,null,null,null,null,null,null,null,null,null,null,null,null,null,null,null,null,null,null,null,null,null,null,null,null,null,null,null,null,null,null,null,null,null,null,null,null,null,null,null,null,null,null,null,null,null,null,null,null,null,null,null,null,null,null,null,null,null,null,null,null,null,null,null,null,null,null,null,null,null,null,null,null,null,null,null,null,null,null,null,null,null,null,null,null,null,null,null,null,null,null,null,null,{"$f":"IF(COUNTIF(Start!$AX$59:$BF$68,Tables!KT24)>0,Tables!KT24,\"\")","v":""},null,"",{"$f":"IF(PU24=\"\",\"\",IF(COUNTIF(PU24:$PU$57,\"><\")>1,PU24&\", \", PU24))","v":""},null,null,null,"Longbow","Martial Ranged","not proficient","1d8","piercing","150/600",2,"ammunition",{"$f":"\"\"","v":""},"heavy",{"$f":"\"\"","v":""},{"$f":"\"\"","v":""},{"$f":"\"\"","v":""},{"$f":"\"\"","v":""},{"$f":"\"\"","v":""},"two-handed",{"$f":"\"\"","v":""},{"$f":"\"\"","v":""},"Arrows",null,null,"Light",null,null,null,null,{"$f":"IF(QZ11=\"\",\"\",IF(COUNTIF(QZ11:$QZ$18,\"><$Q$1\")>1,QZ11&\", \",QZ11))","v":""},null,null,null,null,null,null,null,{"$f":"IF(RH11=\"\",\"\",IF(COUNTIF($RH11:RH$18,\"><$Q$1\")>1,RH11&\", \",RH11))","v":""},null,null,null,null,null,null,null,{"$f":"IF(RP11=\"\",\"\",IF(COUNTIF($RP11:RP$18,\"><$Q$1\")>1,RP11&\", \",RP11))","v":""},null,null,null,null,null,null,null,{"$f":"IF(RX11=\"\",\"\",IF(COUNTIF($RX11:RX$18,\"><$Q$1\")>1,RX11&\", \",RX11))","v":""},null,null,null,null,null,null,null,{"$f":"IF(SF11=\"\",\"\",IF(COUNTIF($SF11:SF$18,\"><$Q$1\")>1,SF11&\", \",SF11))","v":""},null,null,null,null,null,null,null,{"$f":"IF(SN11=\"\",\"\",IF(COUNTIF($SN11:SN$18,\"><$Q$1\")>1,SN11&\", \",SN11))","v":""},null,null,null,null,null,null,null,null,null,null,null,null,null,null,null,null,null,null,null,null,null,22,"Aura of Vitality","LEVEL 3",3,"Aura of Vitality ",{"$f":"\"\"","v":""},"",{"$f":"IF(OR(TK24=Spellcasting!$AC$18,TK24=Spellcasting!$AC$19),\"ᵐ\",\"\")","v":""},{"$f":"IF(OR(TK24=Spellcasting!$AC$20,TK24=Spellcasting!$AC$21),\"ˢ\",\"\")","v":""},{"$f":"\"\"","v":""},"1 act","self","1 min ᶜᵒᶰ","V",{"$f":"\"\"","v":""},"abjuration","abjur","Healing energy radiates from you in an aura with a 30-foot radius. Until the spell ends, the aura moves with you, centered on you. You can use a bonus action to cause one creature in the aura (including you) to regain 2d6 hit points.","30ft rad, bonus action to heal one creature 2d6 HP",null,{"$f":"IF(UD$1>=$TM24,1,\"0\")","v":"0"},null,null,null,null,null,null,null,null,null,null,null,null,null,null,null,null,null,null,null,null,null,null,null,null,null,null,null,null,null,null,null,null,null,null,null,null,null,null,null,null,null,null,null,null,null,null,null,null,null,null,null,{"$f":"IF(SUM($VZ$1:$WC$1)>0,IF(AND(SUM($VZ24:$WC24)>0,$TM24=WE$1),MAX(WD$2:WD23)+1,\"\"),IF(AND(SUM($UC24:$VY24)>0,$TM24=WE$1),MAX(WD$2:WD23)+1,\"\"))","v":""},"",{"$f":"IF(AND(SUM($UB24:$VY24)>0,$TM24=WG$1),MAX(WF$2:WF23)+1,\"\")","v":""},"",{"$f":"IF(AND(SUM($UB24:$VY24)>0,$TM24=WI$1),MAX(WH$2:WH23)+1,\"\")","v":""},"",{"$f":"IF(AND(SUM($UB24:$VY24)>0,$TM24=WK$1),MAX(WJ$2:WJ23)+1,\"\")","v":""},"",{"$f":"IF(AND(SUM($UB24:$VY24)>0,$TM24=WM$1),MAX(WL$2:WL23)+1,\"\")","v":""},"",{"$f":"IF(AND(SUM($UB24:$VY24)>0,$TM24=WO$1),MAX(WN$2:WN23)+1,\"\")","v":""},"",{"$f":"IF(AND(SUM($UB24:$VY24)>0,$TM24=WQ$1),MAX(WP$2:WP23)+1,\"\")","v":""},"",{"$f":"IF(AND(SUM($UB24:$VY24)>0,$TM24=WS$1),MAX(WR$2:WR23)+1,\"\")","v":""},"",{"$f":"IF(AND(SUM($UB24:$VY24)>0,$TM24=WU$1),MAX(WT$2:WT23)+1,\"\")","v":""},"",{"$f":"IF(AND(SUM($UB24:$VY24)>0,$TM24=WW$1),MAX(WV$2:WV23)+1,\"\")","v":""},"",{"$f":"IF(AND(SUM($UB24:$VY24)>0,$TM24=WY$1),MAX(WX$2:WX23)+1,\"\")","v":""},"",23,"","","","","","","","","","","",null,20,"","","","","","","","","","","","","","","","",null,null,null,"Elemental Adept","The ability to cast at least one spell","When you gain this feat, choose one of the following damage types: acid, cold, fire, lightning, or thunder. \nSpells you cast ignore resistance to damage of the chosen type. In addition, when you roll damage for a spell you cast that deals damage of that type, you can treat any 1 on a damage die as a 2. \nYou can select this feat multiple times. Each time you do so, you must choose a different damage type.","  - Choose one of the following damage types: acid, cold, fire, lightning, or thunder. \n  - Spells you cast ignore resistance to damage of the chosen type. \n  - When you roll damage for a spell you cast that deals damage of that type, treat any 1 on a damage die as a 2. ",{"$f":"\"\"","v":""},{"$f":"\"\"","v":""},{"$f":"\"\"","v":""},{"$f":"\"\"","v":""},null,null,null,null,null,"Fighter",6,"",{"$f":"IF(YX24=\"\",\"\",MAX($YW$1:YW23)+1)","v":""},"",""]
[null,null,null,null,null,null,null,null,null,null,null,null,null,null,null,null,null,null,null,null,"White",{"$f":"\"• Damage Type: Cold\n• Breath Weapon: 15 ft. cone. DC \"&8+IF(CONMod=\"\",0,CONMod)+IF(ProfBonus=\"\",0,ProfBonus)&\" Con save for \"&IF(CharacterLevel<6,\"2d6\",IF(CharacterLevel<11,\"3d6\",IF(CharacterLevel<15,\"4d6\", \"5d6\")))&\" on failed save, half on success.\"","v":"• Damage Type: Cold\n• Breath Weapon: 15 ft. cone. DC 5 Con save for 2d6 on failed save, half on success."},"Cold",{"$f":"IF(Y25=\"\",\"\",MAX($X$3:X24)+1)","v":""},"",null,null,null,null,null,null,null,null,null,null,null,null,null,null,null,24,{"$f":"HLOOKUP(CharacterBackground,$AQ$2:$BD$63,$AO25,FALSE)","v":""},{"$f":"\"\"","v":""},"I would die to recover an ancient relic of my faith that was lost long ago. ","I fleeced the wrong person and must work to ensure that this individual never crosses paths with me or those I care about. ","I’m trying to pay off an old debt I owe to a generous benefactor.","My instrument is my most treasured possession, and it reminds me of someone I love. ","I have a family, but I have no idea where they are. One day, I hope to see them again.","The workshop where I learned my trade is the most important place in the world to me. ","Nothing is more important than the other members of my hermitage, order, or association.","I will face any challenge to win the approval of my family.","My family, clan, or tribe is the most important thing in my life, even when they are far from me.","It is my duty to protect my students.","I’m loyal to my captain first, everything else second. ","I would still lay down my life for the people I served with.","My town or city is my home, and I’ll fight to defend it. ",{"$f":"\"\"","v":""},null,null,null,null,null,null,null,null,null,null,null,null,null,null,null,null,null,null,null,null,null,null,null,null,null,null,null,null,null,null,null,null,null,null,null,null,null,null,null,null,null,null,null,null,null,null,null,null,null,null,null,null,null,null,null,null,null,null,"Illusion","Wizard",0,{"$f":"\"\"","v":""},"Illusion Savant, Improved Minor Illusion",{"$f":"\"\"","v":""},{"$f":"\"\"","v":""},{"$f":"\"\"","v":""},"Malleable Illusions",{"$f":"\"\"","v":""},{"$f":"\"\"","v":""},{"$f":"\"\"","v":""},"Illusory Self",{"$f":"\"\"","v":""},{"$f":"\"\"","v":""},{"$f":"\"\"","v":""},"Illusionary Reality",{"$f":"\"\"","v":""},{"$f":"\"\"","v":""},{"$f":"\"\"","v":""},{"$f":"\"\"","v":""},{"$f":"\"\"","v":""},{"$f":"\"\"","v":""},{"$f":"\"\"","v":""},{"$f":"\"\"","v":""},null,{"$f":"\"\"","v":""},null,{"$f":"\"\"","v":""},null,{"$f":"\"\"","v":""},null,{"$f":"\"\"","v":""},null,{"$f":"\"\"","v":""},{"$f":"\"\"","v":""},{"$f":"\"\"","v":""},{"$f":"\"\"","v":""},{"$f":"\"\"","v":""},{"$f":"\"\"","v":""},null,{"$f":"IF($DM25=FB$5,MAX(FA$6:FA24)+1,\"\")","v":""},"",null,null,{"$f":"IF($DM25=FF$5,MAX(FE$6:FE24)+1,\"\")","v":""},"",null,null,{"$f":"IF($DM25=FJ$5,MAX(FI$6:FI24)+1,\"\")","v":""},"",null,null,null,null,null,null,null,null,null,null,null,null,null,"Archery","   Gain +2 bonus to attack rolls made with ranged weapons",null,null,null,null,null,null,null,null,null,null,null,null,null,null,null,null,null,null,null,null,null,null,null,null,null,null,null,null,null,null,null,null,null,null,null,null,null,"dwarf","humanoid","halfling",null,null,null,null,null,null,null,null,null,null,null,null,null,null,null,null,null,null,null,null,{"$f":"IF(IJ25=1,MAX($IH$2:IH24)+1,\"\")","v":""},"Otherworldly Leap",{"$f":"IF(WarlockLevel>=9,1,\"\")","v":""},"   You can cast jump on yourself at will, without expending a spell slot or material components.",23,"",null,null,null,null,null,null,null,null,null,null,"Milil (NG)","God of poetry and song","Neutral Good","Light","Five-stringed harp made of leaves",null,null,null,null,null,null,null,null,null,null,"STANDARD",{"$f":"IF(OR(CasterLevel=\"-\",Start!$AF$20=SelectText),\"\",VLOOKUP(CasterLevel,Tables!$JM$3:$JW$22,JN$24+1,FALSE))","v":""},{"$f":"IF(OR(CasterLevel=\"-\",Start!$AF$20=SelectText),\"\",VLOOKUP(CasterLevel,Tables!$JM$3:$JW$22,JO$24+1,FALSE))","v":""},{"$f":"IF(OR(CasterLevel=\"-\",Start!$AF$20=SelectText),\"\",VLOOKUP(CasterLevel,Tables!$JM$3:$JW$22,JP$24+1,FALSE))","v":""},{"$f":"IF(OR(CasterLevel=\"-\",Start!$AF$20=SelectText),\"\",VLOOKUP(CasterLevel,Tables!$JM$3:$JW$22,JQ$24+1,FALSE))","v":""},{"$f":"IF(OR(CasterLevel=\"-\",Start!$AF$20=SelectText),\"\",VLOOKUP(CasterLevel,Tables!$JM$3:$JW$22,JR$24+1,FALSE))","v":""},{"$f":"IF(OR(CasterLevel=\"-\",Start!$AF$20=SelectText),\"\",VLOOKUP(CasterLevel,Tables!$JM$3:$JW$22,JS$24+1,FALSE))","v":""},{"$f":"IF(OR(CasterLevel=\"-\",Start!$AF$20=SelectText),\"\",VLOOKUP(CasterLevel,Tables!$JM$3:$JW$22,JT$24+1,FALSE))","v":""},{"$f":"IF(OR(CasterLevel=\"-\",Start!$AF$20=SelectText),\"\",VLOOKUP(CasterLevel,Tables!$JM$3:$JW$22,JU$24+1,FALSE))","v":""},{"$f":"IF(OR(CasterLevel=\"-\",Start!$AF$20=SelectText),\"\",VLOOKUP(CasterLevel,Tables!$JM$3:$JW$22,JV$24+1,FALSE))","v":""},null,null,null,null,null,null,null,null,null,null,null,null,null,null,null,null,null,null,null,null,null,null,null,"Painter’s supplies","No","Tools",null,null,null,null,null,null,null,null,null,null,null,null,null,null,null,null,null,null,null,null,null,null,null,null,null,null,null,null,null,null,null,null,null,null,null,null,null,null,null,null,null,null,null,null,null,null,null,null,null,null,null,null,null,null,null,null,null,null,null,null,null,null,null,null,null,null,null,null,null,null,null,null,null,null,null,null,null,null,null,null,null,null,null,null,null,null,null,null,null,null,null,null,null,null,null,null,null,null,null,null,null,null,null,null,null,null,null,null,null,null,null,null,null,null,null,null,null,null,null,null,null,null,null,null,null,null,{"$f":"IF(COUNTIF(Start!$AX$59:$BF$68,Tables!KT25)>0,Tables!KT25,\"\")","v":""},null,"",{"$f":"IF(PU25=\"\",\"\",IF(COUNTIF(PU25:$PU$57,\"><\")>1,PU25&\", \", PU25))","v":""},null,null,null,"Mace","Simple Melee","not proficient","1d6","bludgeoning","-",4,{"$f":"\"\"","v":""},{"$f":"\"\"","v":""},{"$f":"\"\"","v":""},{"$f":"\"\"","v":""},{"$f":"\"\"","v":""},{"$f":"\"\"","v":""},{"$f":"\"\"","v":""},{"$f":"\"\"","v":""},{"$f":"\"\"","v":""},{"$f":"\"\"","v":""},{"$f":"\"\"","v":""},{"$f":"\"\"","v":""},null,null,"Loading",null,null,null,null,{"$f":"IF(QZ12=\"\",\"\",IF(COUNTIF(QZ12:$QZ$18,\"><$Q$1\")>1,QZ12&\", \",QZ12))","v":""},{"$f":"IF(RP12=\"\",\"\",IF(COUNTIF($RP12:RP$18,\"><$Q$1\")>1,RP12&\", \",RP12))","v":""},null,null,null,null,null,null,{"$f":"IF(RH12=\"\",\"\",IF(COUNTIF($RH12:RH$18,\"><$Q$1\")>1,RH12&\", \",RH12))","v":""},{"$f":"IF(RX12=\"\",\"\",IF(COUNTIF($RX12:RX$18,\"><$Q$1\")>1,RX12&\", \",RX12))","v":""},null,null,null,null,null,null,{"$f":"IF(RP12=\"\",\"\",IF(COUNTIF($RP12:RP$18,\"><$Q$1\")>1,RP12&\", \",RP12))","v":""},{"$f":"IF(SF12=\"\",\"\",IF(COUNTIF($SF12:SF$18,\"><$Q$1\")>1,SF12&\", \",SF12))","v":""},null,null,null,null,null,null,{"$f":"IF(RX12=\"\",\"\",IF(COUNTIF($RX12:RX$18,\"><$Q$1\")>1,RX12&\", \",RX12))","v":""},{"$f":"IF(SN12=\"\",\"\",IF(COUNTIF($SN12:SN$18,\"><$Q$1\")>1,SN12&\", \",SN12))","v":""},null,null,null,null,null,null,{"$f":"IF(SF12=\"\",\"\",IF(COUNTIF($SF12:SF$18,\"><$Q$1\")>1,SF12&\", \",SF12))","v":""},null,null,null,null,null,null,null,{"$f":"IF(SN12=\"\",\"\",IF(COUNTIF($SN12:SN$18,\"><$Q$1\")>1,SN12&\", \",SN12))","v":""},null,null,null,null,null,null,null,null,null,null,null,null,null,null,null,null,null,null,null,null,null,23,"Awaken","LEVEL 5",5,"Awaken ",{"$f":"\"\"","v":""},"",{"$f":"IF(OR(TK25=Spellcasting!$AC$18,TK25=Spellcasting!$AC$19),\"ᵐ\",\"\")","v":""},{"$f":"IF(OR(TK25=Spellcasting!$AC$20,TK25=Spellcasting!$AC$21),\"ˢ\",\"\")","v":""},{"$f":"\"\"","v":""},"8 hrs","touch","instant","VSM","an agate worth at least 1,000 gp, which the spell consumes","transmutation","trans","After spending the casting time tracing magical pathways within a precious gemstone, you touch a Huge or smaller beast or plant. The target must have either no Intelligence score or an Intelligence of 3 or less. The target gains an Intelligence of 10. The target also gains the ability to speak one language you know. If the target is a plant, it gains the ability to move its limbs, roots, vines, creepers, and so forth, and it gains senses similar to a human’s. Your DM chooses statistics appropriate for the awakened plant, such as the statistics for the awakened shrub or the awakened tree. \n\nThe awakened beast or plant is charmed by you for 30 days or until you or your companions do anything harmful to it. When the charmed condition ends, the awakened creature chooses whether to remain friendly to you, based on how you treated it while it was charmed.","awaken up to huge beast or plant with intelligence < 4, 30 days",{"$f":"IF(UC$1>=$TM25,1,\"0\")","v":"0"},null,null,null,null,null,{"$f":"IF(UI$1>=$TM25,1,\"0\")","v":"0"},null,null,null,null,null,null,null,null,null,null,null,null,null,null,null,null,null,null,null,null,null,null,null,null,null,null,null,null,null,null,null,null,null,null,null,null,null,null,null,null,null,null,null,null,null,null,{"$f":"IF(SUM($VZ$1:$WC$1)>0,IF(AND(SUM($VZ25:$WC25)>0,$TM25=WE$1),MAX(WD$2:WD24)+1,\"\"),IF(AND(SUM($UC25:$VY25)>0,$TM25=WE$1),MAX(WD$2:WD24)+1,\"\"))","v":""},"",{"$f":"IF(AND(SUM($UB25:$VY25)>0,$TM25=WG$1),MAX(WF$2:WF24)+1,\"\")","v":""},"",{"$f":"IF(AND(SUM($UB25:$VY25)>0,$TM25=WI$1),MAX(WH$2:WH24)+1,\"\")","v":""},"",{"$f":"IF(AND(SUM($UB25:$VY25)>0,$TM25=WK$1),MAX(WJ$2:WJ24)+1,\"\")","v":""},"",{"$f":"IF(AND(SUM($UB25:$VY25)>0,$TM25=WM$1),MAX(WL$2:WL24)+1,\"\")","v":""},"",{"$f":"IF(AND(SUM($UB25:$VY25)>0,$TM25=WO$1),MAX(WN$2:WN24)+1,\"\")","v":""},"",{"$f":"IF(AND(SUM($UB25:$VY25)>0,$TM25=WQ$1),MAX(WP$2:WP24)+1,\"\")","v":""},"",{"$f":"IF(AND(SUM($UB25:$VY25)>0,$TM25=WS$1),MAX(WR$2:WR24)+1,\"\")","v":""},"",{"$f":"IF(AND(SUM($UB25:$VY25)>0,$TM25=WU$1),MAX(WT$2:WT24)+1,\"\")","v":""},"",{"$f":"IF(AND(SUM($UB25:$VY25)>0,$TM25=WW$1),MAX(WV$2:WV24)+1,\"\")","v":""},"",{"$f":"IF(AND(SUM($UB25:$VY25)>0,$TM25=WY$1),MAX(WX$2:WX24)+1,\"\")","v":""},"",24,"","","","","","","","","","","",null,null,null,null,null,null,null,null,null,null,null,null,null,null,null,null,null,null,null,null,null,"Grappler","Strength 13 or higher","You’ve developed the skills necessary to hold your own in close-quarters grappling. You gain the following benefits: \n• You have advantage on attack rolls against a creature you are grappling. \n• You can use your action to try to pin a creature grappled by you. To do so, make another grapple check. If you succeed, you and the creature are both restrained until the grapple ends. \n• Creatures that are one size larger than you don’t automatically succeed on checks to escape your grapple.","  - You have advantage on attack rolls against a creature you are grappling. \n  - You can use your action to try to pin a creature grappled by you. To do so, make another grapple check. If you succeed, you\n     and the creature are both restrained until the grapple ends. \n  - Creatures that are one size larger than you don’t automatically succeed on checks to escape your grapple.",{"$f":"\"\"","v":""},{"$f":"\"\"","v":""},{"$f":"\"\"","v":""},{"$f":"\"\"","v":""},null,null,null,null,null,"Fighter",8,"",{"$f":"IF(YX25=\"\",\"\",MAX($YW$1:YW24)+1)","v":""},"",""]
[null,null,null,null,null,null,null,null,null,null,null,null,null,null,null,null,null,null,null,null,null,null,null,null,null,null,null,null,null,null,null,null,null,null,null,null,null,null,null,null,25,"",{"$f":"\"\"","v":""},"I will someday get revenge on the corrupt temple hierarchy who branded me a heretic.","I owe everything to my mentor—a horrible person who’s probably rotting in jail somewhere.","My ill-gotten gains go to support my family.","Someone stole my precious instrument, and someday I’ll get it back.","I worked the land, I love the land, and I will protect the land.","I created a great work for someone, and then found them unworthy to receive it. I’m still looking for someone worthy. ","I entered seclusion to hide from the ones who might still be hunting me. I must someday confront them. ","My house’s alliance with another noble family must be sustained at all costs.","An injury to the unspoiled wilderness of my home is an injury to me.","I have an ancient text that holds terrible secrets that must not fall into the wrong hands. ","The ship is most important—crewmates and captains come and go. ","Someone saved my life on the battlefield. To this day, I will never leave a friend behind.","I sponsor an orphanage to keep others from enduring what I was forced to endure.",{"$f":"\"\"","v":""},null,null,null,null,null,null,null,null,null,null,null,null,null,null,null,null,null,null,null,null,null,null,null,null,null,null,null,null,null,null,null,null,null,null,null,null,null,null,null,null,null,null,null,null,null,null,null,null,null,null,null,null,null,null,null,null,null,null,"Necromancy","Wizard",0,{"$f":"\"\"","v":""},"Necromancy Savant, Grim Harvest",{"$f":"\"\"","v":""},{"$f":"\"\"","v":""},{"$f":"\"\"","v":""},"Undead Thralls",{"$f":"\"\"","v":""},{"$f":"\"\"","v":""},{"$f":"\"\"","v":""},"Inured to Undeath",{"$f":"\"\"","v":""},{"$f":"\"\"","v":""},{"$f":"\"\"","v":""},"Command Undead",{"$f":"\"\"","v":""},{"$f":"\"\"","v":""},{"$f":"\"\"","v":""},{"$f":"\"\"","v":""},{"$f":"\"\"","v":""},{"$f":"\"\"","v":""},{"$f":"\"\"","v":""},{"$f":"\"\"","v":""},null,{"$f":"\"\"","v":""},null,{"$f":"\"\"","v":""},null,{"$f":"\"\"","v":""},null,{"$f":"\"\"","v":""},null,{"$f":"\"\"","v":""},{"$f":"\"\"","v":""},{"$f":"\"\"","v":""},{"$f":"\"\"","v":""},{"$f":"\"\"","v":""},{"$f":"\"\"","v":""},null,{"$f":"IF($DM26=FB$5,MAX(FA$6:FA25)+1,\"\")","v":""},"",null,null,{"$f":"IF($DM26=FF$5,MAX(FE$6:FE25)+1,\"\")","v":""},"",null,null,{"$f":"IF($DM26=FJ$5,MAX(FI$6:FI25)+1,\"\")","v":""},"",null,null,null,null,null,null,null,null,null,null,null,null,null,"Defense","   Gain +1 bonus to armor class when wearing armor",null,null,null,null,null,null,null,null,null,null,null,null,null,null,null,null,null,null,null,null,null,null,null,null,null,null,null,null,null,null,null,null,null,null,null,null,null,"eladrin","humanoid","hobgoblin",null,null,null,null,null,null,null,null,null,null,null,null,null,null,null,null,null,null,null,null,{"$f":"IF(IJ26=1,MAX($IH$2:IH25)+1,\"\")","v":11},"Repelling Blast",{"$f":"1","v":1},"   When you hit a creature with eldritch blast, you can push the creature up to 10 feet away from you in a straight line.",24,"",null,null,null,null,null,null,null,null,null,null,"Myrkul (NE)","God of death","Neutral Evil","Death","White human skull",null,null,null,null,null,null,null,null,null,null,"WARLOCK",{"$f":"IF(OR(WarlockLevel=0,Start!$AF$20=SelectText),\"\",VLOOKUP(WarlockLevel,Tables!$JM$102:$JW$121,JN$24+1,FALSE))","v":""},{"$f":"IF(OR(WarlockLevel=0,Start!$AF$20=SelectText),\"\",VLOOKUP(WarlockLevel,Tables!$JM$102:$JW$121,JO$24+1,FALSE))","v":""},{"$f":"IF(OR(WarlockLevel=0,Start!$AF$20=SelectText),\"\",VLOOKUP(WarlockLevel,Tables!$JM$102:$JW$121,JP$24+1,FALSE))","v":""},{"$f":"IF(OR(WarlockLevel=0,Start!$AF$20=SelectText),\"\",VLOOKUP(WarlockLevel,Tables!$JM$102:$JW$121,JQ$24+1,FALSE))","v":""},{"$f":"IF(OR(WarlockLevel=0,Start!$AF$20=SelectText),\"\",VLOOKUP(WarlockLevel,Tables!$JM$102:$JW$121,JR$24+1,FALSE))","v":""},{"$f":"IF(OR(WarlockLevel=0,Start!$AF$20=SelectText),\"\",VLOOKUP(WarlockLevel,Tables!$JM$102:$JW$121,JS$24+1,FALSE))","v":""},{"$f":"IF(OR(WarlockLevel=0,Start!$AF$20=SelectText),\"\",VLOOKUP(WarlockLevel,Tables!$JM$102:$JW$121,JT$24+1,FALSE))","v":""},{"$f":"IF(OR(WarlockLevel=0,Start!$AF$20=SelectText),\"\",VLOOKUP(WarlockLevel,Tables!$JM$102:$JW$121,JU$24+1,FALSE))","v":""},{"$f":"IF(OR(WarlockLevel=0,Start!$AF$20=SelectText),\"\",VLOOKUP(WarlockLevel,Tables!$JM$102:$JW$121,JV$24+1,FALSE))","v":""},null,null,null,null,null,null,null,null,null,null,null,null,null,null,null,null,null,null,null,null,null,null,null,"Potter’s tools","No","Tools",null,null,null,null,null,null,null,null,null,null,null,null,null,null,null,null,null,null,null,null,null,null,null,null,null,null,null,null,null,null,null,null,null,null,null,null,null,null,null,null,null,null,null,null,null,null,null,null,null,null,null,null,null,null,null,null,null,null,null,null,null,null,null,null,null,null,null,null,null,null,null,null,null,null,null,null,null,null,null,null,null,null,null,null,null,null,null,null,null,null,null,null,null,null,null,null,null,null,null,null,null,null,null,null,null,null,null,null,null,null,null,null,null,null,null,null,null,null,null,null,null,null,null,null,null,null,{"$f":"IF(COUNTIF(Start!$AX$59:$BF$68,Tables!KT26)>0,Tables!KT26,\"\")","v":""},null,"",{"$f":"IF(PU26=\"\",\"\",IF(COUNTIF(PU26:$PU$57,\"><\")>1,PU26&\", \", PU26))","v":""},null,null,null,"Maul","Martial Melee","not proficient","2d6","bludgeoning","-",10,{"$f":"\"\"","v":""},{"$f":"\"\"","v":""},"heavy",{"$f":"\"\"","v":""},{"$f":"\"\"","v":""},{"$f":"\"\"","v":""},{"$f":"\"\"","v":""},{"$f":"\"\"","v":""},"two-handed",{"$f":"\"\"","v":""},{"$f":"\"\"","v":""},{"$f":"\"\"","v":""},null,null,"Mounted",null,null,null,null,{"$f":"IF(QZ13=\"\",\"\",IF(COUNTIF(QZ13:$QZ$18,\"><$Q$1\")>1,QZ13&\", \",QZ13))","v":""},null,null,null,null,null,null,null,{"$f":"IF(RH13=\"\",\"\",IF(COUNTIF($RH13:RH$18,\"><$Q$1\")>1,RH13&\", \",RH13))","v":""},null,null,null,null,null,null,null,{"$f":"IF(RP13=\"\",\"\",IF(COUNTIF($RP13:RP$18,\"><$Q$1\")>1,RP13&\", \",RP13))","v":""},null,null,null,null,null,null,null,{"$f":"IF(RX13=\"\",\"\",IF(COUNTIF($RX13:RX$18,\"><$Q$1\")>1,RX13&\", \",RX13))","v":""},null,null,null,null,null,null,null,{"$f":"IF(SF13=\"\",\"\",IF(COUNTIF($SF13:SF$18,\"><$Q$1\")>1,SF13&\", \",SF13))","v":""},null,null,null,null,null,null,null,{"$f":"IF(SN13=\"\",\"\",IF(COUNTIF($SN13:SN$18,\"><$Q$1\")>1,SN13&\", \",SN13))","v":""},null,null,null,null,null,null,null,null,null,null,null,null,null,null,null,null,null,null,null,null,null,24,"Bane","LEVEL 1",1,"Bane ᴴ ","ᴴ ","",{"$f":"IF(OR(TK26=Spellcasting!$AC$18,TK26=Spellcasting!$AC$19),\"ᵐ\",\"\")","v":""},{"$f":"IF(OR(TK26=Spellcasting!$AC$20,TK26=Spellcasting!$AC$21),\"ˢ\",\"\")","v":""},{"$f":"\"\"","v":""},"1 act","30 ft","1 min ᶜᵒᶰ","VSM","a drop of blood","enchantment","ench","Up to three creatures of your choice that you can see within range must make Charisma saving throws. Whenever a target that fails this saving throw makes an attack roll or a saving throw before the spell ends, the target must roll a d4 and subtract the number rolled from the attack roll or saving throw. \n\nAt Higher Levels. When you cast this spell using a spell slot of 2nd level or higher, you can target one additional creature for each slot level above 1st.","3 targets, cha save, -1d4 attack and saves",{"$f":"IF(UC$1>=$TM26,1,\"0\")","v":"0"},null,null,null,null,{"$f":"IF(UH$1>=$TM26,1,\"0\")","v":"0"},null,null,null,null,null,null,null,null,{"$f":"IF(UQ$1>=$TM26,1,\"0\")","v":"0"},null,null,null,null,null,null,null,null,null,null,null,null,null,null,null,null,null,null,null,null,null,null,null,null,null,null,null,null,null,null,null,null,null,null,null,null,null,null,{"$f":"IF(SUM($VZ$1:$WC$1)>0,IF(AND(SUM($VZ26:$WC26)>0,$TM26=WE$1),MAX(WD$2:WD25)+1,\"\"),IF(AND(SUM($UC26:$VY26)>0,$TM26=WE$1),MAX(WD$2:WD25)+1,\"\"))","v":""},"",{"$f":"IF(AND(SUM($UB26:$VY26)>0,$TM26=WG$1),MAX(WF$2:WF25)+1,\"\")","v":""},"",{"$f":"IF(AND(SUM($UB26:$VY26)>0,$TM26=WI$1),MAX(WH$2:WH25)+1,\"\")","v":""},"",{"$f":"IF(AND(SUM($UB26:$VY26)>0,$TM26=WK$1),MAX(WJ$2:WJ25)+1,\"\")","v":""},"",{"$f":"IF(AND(SUM($UB26:$VY26)>0,$TM26=WM$1),MAX(WL$2:WL25)+1,\"\")","v":""},"",{"$f":"IF(AND(SUM($UB26:$VY26)>0,$TM26=WO$1),MAX(WN$2:WN25)+1,\"\")","v":""},"",{"$f":"IF(AND(SUM($UB26:$VY26)>0,$TM26=WQ$1),MAX(WP$2:WP25)+1,\"\")","v":""},"",{"$f":"IF(AND(SUM($UB26:$VY26)>0,$TM26=WS$1),MAX(WR$2:WR25)+1,\"\")","v":""},"",{"$f":"IF(AND(SUM($UB26:$VY26)>0,$TM26=WU$1),MAX(WT$2:WT25)+1,\"\")","v":""},"",{"$f":"IF(AND(SUM($UB26:$VY26)>0,$TM26=WW$1),MAX(WV$2:WV25)+1,\"\")","v":""},"",{"$f":"IF(AND(SUM($UB26:$VY26)>0,$TM26=WY$1),MAX(WX$2:WX25)+1,\"\")","v":""},"",25,"","","","","","","","","","","",null,null,null,null,null,null,null,null,null,null,null,null,null,null,null,null,null,null,null,null,null,"Great Weapon Master","none","You’ve learned to put the weight of a weapon to your advantage, letting its momentum empower your strikes. You gain the following benefits:\n• On your turn, when you score a critical hit with a melee weapon or reduce a creature to 0 hit points with one, you can make one melee weapon attack as a bonus action. \n• Before you make a melee attack with a heavy weapon that you are proficient with, you can choose to take a -5 penalty to the attack roll. If the attack hits, you add +10 to the attack’s damage.","  - On your turn, when you score a critical hit with a melee weapon or reduce a creature to 0 hit points with one,\n     you can make one melee weapon attack as a bonus action. \n  - Before you make a melee attack with a heavy weapon that you are proficient with, you can choose to take a -5 penalty to\n     the attack roll. If the attack hits, you add +10 to the attack’s damage.",{"$f":"\"\"","v":""},{"$f":"\"\"","v":""},{"$f":"\"\"","v":""},{"$f":"\"\"","v":""},null,null,null,null,null,"Fighter",12,"",{"$f":"IF(YX26=\"\",\"\",MAX($YW$1:YW25)+1)","v":""},"",""]
[null,null,null,null,null,null,null,null,null,null,null,null,null,null,null,null,null,null,null,null,null,null,null,null,null,null,null,null,null,null,null,null,null,null,null,null,null,null,null,null,26,"",{"$f":"\"\"","v":""},"I owe my life to the priest who took me in when my parents died.","Somewhere out there, I have a child who doesn’t know me. I’m making the world better for him or her. ","Something important was taken from me, and I aim to steal it back.","I want to be famous, whatever it takes.","A proud noble once gave me a horrible beating, and I will take my revenge on any bully I encounter.","I owe my guild a great debt for forging me into the person I am today.","I’m still seeking the enlightenment I pursued in my seclusion, and it still eludes me.","Nothing is more important than the other members of my family.","I will bring terrible wrath down on the evildoers who destroyed my homeland.","I work to preserve a library, university, scriptorium, or monastery. ","I’ll always remember my first ship. ","My honor is my life.","I owe my survival to another urchin who taught me to live on the streets.",{"$f":"\"\"","v":""},null,null,null,null,null,null,null,null,null,null,null,null,null,null,null,null,null,null,null,null,null,null,null,null,null,null,null,null,null,null,null,null,null,null,null,null,null,null,null,null,null,null,null,null,null,null,null,null,null,null,null,null,null,null,null,null,null,null,"Transmutation","Wizard",0,{"$f":"\"\"","v":""},"Transmutation Savant, Minor Alchemy",{"$f":"\"\"","v":""},{"$f":"\"\"","v":""},{"$f":"\"\"","v":""},"Transmuter's Stone",{"$f":"\"\"","v":""},{"$f":"\"\"","v":""},{"$f":"\"\"","v":""},"Shapechanger",{"$f":"\"\"","v":""},{"$f":"\"\"","v":""},{"$f":"\"\"","v":""},"Master Transmuter",{"$f":"\"\"","v":""},{"$f":"\"\"","v":""},{"$f":"\"\"","v":""},{"$f":"\"\"","v":""},{"$f":"\"\"","v":""},{"$f":"\"\"","v":""},{"$f":"\"\"","v":""},{"$f":"\"\"","v":""},null,{"$f":"\"\"","v":""},null,{"$f":"\"\"","v":""},null,{"$f":"\"\"","v":""},null,{"$f":"\"\"","v":""},null,{"$f":"\"\"","v":""},{"$f":"\"\"","v":""},{"$f":"\"\"","v":""},{"$f":"\"\"","v":""},{"$f":"\"\"","v":""},{"$f":"\"\"","v":""},null,{"$f":"IF($DM27=FB$5,MAX(FA$6:FA26)+1,\"\")","v":""},"",null,null,{"$f":"IF($DM27=FF$5,MAX(FE$6:FE26)+1,\"\")","v":""},"",null,null,{"$f":"IF($DM27=FJ$5,MAX(FI$6:FI26)+1,\"\")","v":""},"",null,null,null,null,null,null,null,null,null,null,null,null,null,"Dueling","   Gain +2 bonus to damage rolls when wielding a melee weapon in one hand and no other weapon.",null,null,null,null,null,null,null,null,null,null,null,null,null,null,null,null,null,null,null,null,null,null,null,null,null,null,null,null,null,null,null,null,null,null,null,null,null,"elf","humanoid","human",null,null,null,null,null,null,null,null,null,null,null,null,null,null,null,null,null,null,null,null,{"$f":"IF(IJ27=1,MAX($IH$2:IH26)+1,\"\")","v":""},"Sculptor of Flesh",{"$f":"IF(WarlockLevel>=7,1,\"\")","v":""},"   You can cast polymorph once using a warlock spell slot. You can’t do so again until you finish a long rest.",25,"",null,null,null,null,null,null,null,null,null,null,"Mystra (NG)","Goddess of magic","Neutral Good","Knowledge","Circle of seven stars; or nine stars encircling a flowing red mist; or a single star",null,null,null,null,null,null,null,null,null,null,"TOTAL",{"$f":"IF(SUM(JN25:JN26)=0,\"-\",SUM(JN25:JN26))","v":"-"},{"$f":"IF(SUM(JO25:JO26)=0,\"-\",SUM(JO25:JO26))","v":"-"},"-","-","-","-","-","-","-",null,null,null,null,null,null,null,null,null,null,null,null,null,null,null,null,null,null,null,null,null,null,null,"Smith’s tools","No","Tools",null,null,null,null,null,null,null,null,null,null,null,null,null,null,null,null,null,null,null,null,null,null,null,null,null,null,null,null,null,null,null,null,null,null,null,null,null,null,null,null,null,null,null,null,null,null,null,null,null,null,null,null,null,null,null,null,null,null,null,null,null,null,null,null,null,null,null,null,null,null,null,null,null,null,null,null,null,null,null,null,null,null,null,null,null,null,null,null,null,null,null,null,null,null,null,null,null,null,null,null,null,null,null,null,null,null,null,null,null,null,null,null,null,null,null,null,null,null,null,null,null,null,null,null,null,null,{"$f":"IF(COUNTIF(Start!$AX$59:$BF$68,Tables!KT27)>0,Tables!KT27,\"\")","v":""},null,"",{"$f":"IF(PU27=\"\",\"\",IF(COUNTIF(PU27:$PU$57,\"><\")>1,PU27&\", \", PU27))","v":""},null,null,null,"Morningstar","Martial Melee","not proficient","1d8","piercing","-",4,{"$f":"\"\"","v":""},{"$f":"\"\"","v":""},{"$f":"\"\"","v":""},{"$f":"\"\"","v":""},{"$f":"\"\"","v":""},{"$f":"\"\"","v":""},{"$f":"\"\"","v":""},{"$f":"\"\"","v":""},{"$f":"\"\"","v":""},{"$f":"\"\"","v":""},{"$f":"\"\"","v":""},{"$f":"\"\"","v":""},null,null,"Reach",null,null,null,null,{"$f":"IF(QZ14=\"\",\"\",IF(COUNTIF(QZ14:$QZ$18,\"><$Q$1\")>1,QZ14&\", \",QZ14))","v":""},null,null,null,null,null,null,null,{"$f":"IF(RH14=\"\",\"\",IF(COUNTIF($RH14:RH$18,\"><$Q$1\")>1,RH14&\", \",RH14))","v":""},null,null,null,null,null,null,null,{"$f":"IF(RP14=\"\",\"\",IF(COUNTIF($RP14:RP$18,\"><$Q$1\")>1,RP14&\", \",RP14))","v":""},null,null,null,null,null,null,null,{"$f":"IF(RX14=\"\",\"\",IF(COUNTIF($RX14:RX$18,\"><$Q$1\")>1,RX14&\", \",RX14))","v":""},null,null,null,null,null,null,null,{"$f":"IF(SF14=\"\",\"\",IF(COUNTIF($SF14:SF$18,\"><$Q$1\")>1,SF14&\", \",SF14))","v":""},null,null,null,null,null,null,null,{"$f":"IF(SN14=\"\",\"\",IF(COUNTIF($SN14:SN$18,\"><$Q$1\")>1,SN14&\", \",SN14))","v":""},null,null,null,null,null,null,null,null,null,null,null,null,null,null,null,null,null,null,null,null,null,25,"Banishing Smite","LEVEL 5",5,"Banishing Smite ",{"$f":"\"\"","v":""},"",{"$f":"IF(OR(TK27=Spellcasting!$AC$18,TK27=Spellcasting!$AC$19),\"ᵐ\",\"\")","v":""},{"$f":"IF(OR(TK27=Spellcasting!$AC$20,TK27=Spellcasting!$AC$21),\"ˢ\",\"\")","v":""},{"$f":"\"\"","v":""},"1 bon","self","1 min ᶜᵒᶰ","V",{"$f":"\"\"","v":""},"abjuration","abjur","The next time you hit a creature with a weapon attack before this spell ends, your weapon crackles with force, and the attack deals an extra 5d10 force damage to the target. Additionally, if this attack reduces the target to 50 hit points or fewer, you banish it. If the target is native to a different plane of existence than the one you’re on, the target disappears, returning to its home plane. If the target is native to the plane you’re on, the creature vanishes into a harmless demiplane. While there, the target is incapacitated. It remains there until the spell ends, at which point the target reappears in the space it left or in the nearest unoccupied space if that space is occupied.","melee, weapon deals +5d10 force, < 50HP banished",null,{"$f":"IF(UD$1>=$TM27,1,\"0\")","v":"0"},null,null,null,null,null,null,null,null,null,null,null,null,null,null,null,null,null,null,null,null,null,null,null,null,null,null,null,null,null,null,null,null,null,null,null,null,null,null,null,null,null,null,null,null,null,null,null,null,null,null,null,{"$f":"IF(SUM($VZ$1:$WC$1)>0,IF(AND(SUM($VZ27:$WC27)>0,$TM27=WE$1),MAX(WD$2:WD26)+1,\"\"),IF(AND(SUM($UC27:$VY27)>0,$TM27=WE$1),MAX(WD$2:WD26)+1,\"\"))","v":""},"",{"$f":"IF(AND(SUM($UB27:$VY27)>0,$TM27=WG$1),MAX(WF$2:WF26)+1,\"\")","v":""},"",{"$f":"IF(AND(SUM($UB27:$VY27)>0,$TM27=WI$1),MAX(WH$2:WH26)+1,\"\")","v":""},"",{"$f":"IF(AND(SUM($UB27:$VY27)>0,$TM27=WK$1),MAX(WJ$2:WJ26)+1,\"\")","v":""},"",{"$f":"IF(AND(SUM($UB27:$VY27)>0,$TM27=WM$1),MAX(WL$2:WL26)+1,\"\")","v":""},"",{"$f":"IF(AND(SUM($UB27:$VY27)>0,$TM27=WO$1),MAX(WN$2:WN26)+1,\"\")","v":""},"",{"$f":"IF(AND(SUM($UB27:$VY27)>0,$TM27=WQ$1),MAX(WP$2:WP26)+1,\"\")","v":""},"",{"$f":"IF(AND(SUM($UB27:$VY27)>0,$TM27=WS$1),MAX(WR$2:WR26)+1,\"\")","v":""},"",{"$f":"IF(AND(SUM($UB27:$VY27)>0,$TM27=WU$1),MAX(WT$2:WT26)+1,\"\")","v":""},"",{"$f":"IF(AND(SUM($UB27:$VY27)>0,$TM27=WW$1),MAX(WV$2:WV26)+1,\"\")","v":""},"",{"$f":"IF(AND(SUM($UB27:$VY27)>0,$TM27=WY$1),MAX(WX$2:WX26)+1,\"\")","v":""},"",26,"","","","","","","","","","","",null,null,{"$f":"SelectText","v":"Select…"},{"$f":"\"\"","v":""},{"$f":"\"\"","v":""},{"$f":"\"\"","v":""},{"$f":"\"\"","v":""},{"$f":"\"\"","v":""},{"$f":"\"\"","v":""},{"$f":"\"\"","v":""},{"$f":"\"\"","v":""},{"$f":"\"\"","v":""},{"$f":"\"\"","v":""},{"$f":"\"\"","v":""},{"$f":"\"\"","v":""},{"$f":"\"\"","v":""},{"$f":"\"\"","v":""},{"$f":"\"\"","v":""},null,null,null,"Healer","none","You are an able physician, allowing you to mend wounds quickly and get your allies back in the fight. You gain the following benefits:\n• When you use a healer’s kit to stabilize a dying creature, that creature also regains 1 hit point. \n• As an action, you can spend one use of a healer’s kit to tend to a creature and restore 1d6 + 4 hit points to it, plus additional hit points equal to the creature’s maximum number of Hit Dice. The creature can’t regain hit points from this feat again until it finishes a short or long rest.","  - When you use a healer’s kit to stabilize a dying creature, that creature also regains 1 hit point. \n  - As an action, you can spend one use of a healer’s kit to tend to a creature and restore 1d6+4 hit points to it, plus additional\n     hit points equal to the creature’s maximum number of Hit Dice. The creature can’t regain hit points from this feat again until\n     it finishes a short or long rest.",{"$f":"\"\"","v":""},{"$f":"\"\"","v":""},{"$f":"\"\"","v":""},{"$f":"\"\"","v":""},null,null,null,null,null,"Fighter",14,"",{"$f":"IF(YX27=\"\",\"\",MAX($YW$1:YW26)+1)","v":""},"",""]
[null,null,null,null,null,null,null,null,null,null,null,null,null,null,null,null,null,null,null,null,null,null,null,null,null,null,null,null,null,null,null,null,null,null,null,null,null,null,null,null,27,"",{"$f":"\"\"","v":""},"Everything I do is for the common people.","I come from a noble family, and one day I’ll reclaim my lands and title from those who stole them from me. ","I will become the greatest thief that ever lived.","I idolize a hero of the old tales and measure my deeds against that person’s.","My tools are symbols of my past life, and I carry them so that I will never forget my roots.","I pursue wealth to secure someone’s love. ","I entered seclusion because I loved someone I could not have.","I am in love with the heir of a family that my family despises.","I am the last of my tribe, and it is up to me to ensure their names enter legend.","My life’s work is a series of tomes related to a specific field of lore. ","In a harbor town, I have a paramour whose eyes nearly stole me from the sea. ","I’ll never forget the crushing defeat my company suffered or the enemies who dealt it.","I owe a debt I can never repay to the person who took pity on me.",{"$f":"\"\"","v":""},null,null,null,null,null,null,null,null,null,null,null,null,null,null,null,null,null,null,null,null,null,null,null,null,null,null,null,null,null,null,null,null,null,null,null,null,null,null,null,null,null,null,null,null,null,null,null,null,null,null,null,null,null,null,null,null,null,null,"Beserker","Barbarian",0,{"$f":"\"\"","v":""},{"$f":"\"\"","v":""},"Frenzy",{"$f":"\"\"","v":""},{"$f":"\"\"","v":""},"Mindless Rage",{"$f":"\"\"","v":""},{"$f":"\"\"","v":""},{"$f":"\"\"","v":""},{"$f":"\"Intimidating Presence: DC \"&8+ProfBonus+CHAMod&\" Wisdom save\"","v":"Intimidating Presence: DC 5 Wisdom save"},{"$f":"\"\"","v":""},{"$f":"\"\"","v":""},{"$f":"\"\"","v":""},"Retaliation",{"$f":"\"\"","v":""},{"$f":"\"\"","v":""},{"$f":"\"\"","v":""},{"$f":"\"\"","v":""},{"$f":"\"\"","v":""},{"$f":"\"\"","v":""},{"$f":"\"\"","v":""},{"$f":"\"\"","v":""},null,{"$f":"\"\"","v":""},null,{"$f":"\"\"","v":""},null,{"$f":"\"\"","v":""},null,{"$f":"\"\"","v":""},null,{"$f":"\"\"","v":""},{"$f":"\"\"","v":""},{"$f":"\"\"","v":""},{"$f":"\"\"","v":""},{"$f":"\"\"","v":""},{"$f":"\"\"","v":""},null,{"$f":"IF($DM28=FB$5,MAX(FA$6:FA27)+1,\"\")","v":""},"",null,null,{"$f":"IF($DM28=FF$5,MAX(FE$6:FE27)+1,\"\")","v":""},"",null,null,{"$f":"IF($DM28=FJ$5,MAX(FI$6:FI27)+1,\"\")","v":""},"",null,null,null,null,null,null,null,null,null,null,null,null,null,"Great Weapon Fighting","   When you roll a 1 or 2 on a damage roll using a melee attack with a two-handed or versile melee weapon with two hands,\n   you can reroll the die. You must use the new roll.",null,null,null,null,null,null,null,null,null,null,null,null,null,null,null,null,null,null,null,null,null,null,null,null,null,null,null,null,null,null,null,null,null,null,null,null,null,"genasi","humanoid","kenku",null,null,null,null,null,null,null,null,null,null,null,null,null,null,null,null,null,null,null,null,{"$f":"IF(IJ28=1,MAX($IH$2:IH27)+1,\"\")","v":""},"Sign of Ill Omen",{"$f":"IF(WarlockLevel>=5,1,\"\")","v":""},"   You can cast bestow curse once using a warlock spell slot. You can’t do so again until you finish a long rest.",26,"",null,null,null,null,null,null,null,null,null,null,"Oghma (N)","God of knowledge","Neutral","Knowledge","Blank scroll",null,null,null,null,null,null,null,null,null,null,null,null,null,null,null,null,null,null,null,null,null,null,null,null,null,null,null,null,null,null,null,null,null,null,null,null,null,null,null,null,null,null,null,"Tinker’s tools","No","Tools",null,null,null,null,null,null,null,null,null,null,null,null,null,null,null,null,null,null,null,null,null,null,null,null,null,null,null,null,null,null,null,null,null,null,null,null,null,null,null,null,null,null,null,null,null,null,null,null,null,null,null,null,null,null,null,null,null,null,null,null,null,null,null,null,null,null,null,null,null,null,null,null,null,null,null,null,null,null,null,null,null,null,null,null,null,null,null,null,null,null,null,null,null,null,null,null,null,null,null,null,null,null,null,null,null,null,null,null,null,null,null,null,null,null,null,null,null,null,null,null,null,null,null,null,null,null,{"$f":"IF(COUNTIF(Start!$AX$59:$BF$68,Tables!KT28)>0,Tables!KT28,\"\")","v":""},null,"",{"$f":"IF(PU28=\"\",\"\",IF(COUNTIF(PU28:$PU$57,\"><\")>1,PU28&\", \", PU28))","v":""},null,null,null,"Net","Martial Ranged","not proficient","none","none","5/15",3,{"$f":"\"\"","v":""},{"$f":"\"\"","v":""},{"$f":"\"\"","v":""},{"$f":"\"\"","v":""},{"$f":"\"\"","v":""},"special",{"$f":"\"\"","v":""},"thrown",{"$f":"\"\"","v":""},{"$f":"\"\"","v":""},{"$f":"\"\"","v":""},{"$f":"\"\"","v":""},null,null,"Thrown",null,null,null,null,{"$f":"IF(QZ15=\"\",\"\",IF(COUNTIF(QZ15:$QZ$18,\"><$Q$1\")>1,QZ15&\", \",QZ15))","v":""},null,null,null,null,null,null,null,{"$f":"IF(RH15=\"\",\"\",IF(COUNTIF($RH15:RH$18,\"><$Q$1\")>1,RH15&\", \",RH15))","v":""},null,null,null,null,null,null,null,{"$f":"IF(RP15=\"\",\"\",IF(COUNTIF($RP15:RP$18,\"><$Q$1\")>1,RP15&\", \",RP15))","v":""},null,null,null,null,null,null,null,{"$f":"IF(RX15=\"\",\"\",IF(COUNTIF($RX15:RX$18,\"><$Q$1\")>1,RX15&\", \",RX15))","v":""},null,null,null,null,null,null,null,{"$f":"IF(SF15=\"\",\"\",IF(COUNTIF($SF15:SF$18,\"><$Q$1\")>1,SF15&\", \",SF15))","v":""},null,null,null,null,null,null,null,{"$f":"IF(SN15=\"\",\"\",IF(COUNTIF($SN15:SN$18,\"><$Q$1\")>1,SN15&\", \",SN15))","v":""},null,null,null,null,null,null,null,null,null,null,null,null,null,null,null,null,null,null,null,null,null,26,"Banishment","LEVEL 4",4,"Banishment ᴴ ","ᴴ ","",{"$f":"IF(OR(TK28=Spellcasting!$AC$18,TK28=Spellcasting!$AC$19),\"ᵐ\",\"\")","v":""},{"$f":"IF(OR(TK28=Spellcasting!$AC$20,TK28=Spellcasting!$AC$21),\"ˢ\",\"\")","v":""},{"$f":"\"\"","v":""},"1 act","60 ft","1 min ᶜᵒᶰ","VSM","an item distasteful to the target","abjuration","abjur","You attempt to send one creature that you can see within range to another plane of existence. The target must succeed on a Charisma saving throw or be banished. \n\nIf the target is native to the plane of existence you’re on, you banish the target to a harmless demiplane. While there, the target is incapacitated. The target remains there until the spell ends, at which point the target reappears in the space it left or in the nearest unoccupied space if that space is occupied. \n\nIf the target is native to a different plane of existence than the one you’re on, the target is banished with a faint popping noise, returning to its home plane. If the spell ends before 1 minute has passed, the target reappears in the space it left or in the nearest unoccupied space if that space is occupied. Otherwise, the target doesn't return.\n\n At Higher Levels. When you cast this spell using a spell slot of 5th level or higher, you can target one additional creature for each slot level above 4th.","1 creature, cha save, banished",null,{"$f":"IF(UD$1>=$TM28,1,\"0\")","v":"0"},null,{"$f":"IF(UF$1>=$TM28,1,\"0\")","v":"0"},{"$f":"IF(UG$1>=$TM28,1,\"0\")","v":"0"},{"$f":"IF(UH$1>=$TM28,1,\"0\")","v":"0"},null,null,null,{"$f":"IF(UL$1>=$TM28,1,\"0\")","v":"0"},null,null,null,null,{"$f":"IF(UQ$1>=$TM28,1,\"0\")","v":"0"},null,null,null,null,null,null,null,null,null,null,null,null,null,null,null,null,null,null,null,null,null,null,null,null,{"$f":"IF(VP$1>=$TM28,1,\"0\")","v":"0"},null,null,null,null,null,null,null,null,null,null,null,null,null,{"$f":"IF(SUM($VZ$1:$WC$1)>0,IF(AND(SUM($VZ28:$WC28)>0,$TM28=WE$1),MAX(WD$2:WD27)+1,\"\"),IF(AND(SUM($UC28:$VY28)>0,$TM28=WE$1),MAX(WD$2:WD27)+1,\"\"))","v":""},"",{"$f":"IF(AND(SUM($UB28:$VY28)>0,$TM28=WG$1),MAX(WF$2:WF27)+1,\"\")","v":""},"",{"$f":"IF(AND(SUM($UB28:$VY28)>0,$TM28=WI$1),MAX(WH$2:WH27)+1,\"\")","v":""},"",{"$f":"IF(AND(SUM($UB28:$VY28)>0,$TM28=WK$1),MAX(WJ$2:WJ27)+1,\"\")","v":""},"",{"$f":"IF(AND(SUM($UB28:$VY28)>0,$TM28=WM$1),MAX(WL$2:WL27)+1,\"\")","v":""},"",{"$f":"IF(AND(SUM($UB28:$VY28)>0,$TM28=WO$1),MAX(WN$2:WN27)+1,\"\")","v":""},"",{"$f":"IF(AND(SUM($UB28:$VY28)>0,$TM28=WQ$1),MAX(WP$2:WP27)+1,\"\")","v":""},"",{"$f":"IF(AND(SUM($UB28:$VY28)>0,$TM28=WS$1),MAX(WR$2:WR27)+1,\"\")","v":""},"",{"$f":"IF(AND(SUM($UB28:$VY28)>0,$TM28=WU$1),MAX(WT$2:WT27)+1,\"\")","v":""},"",{"$f":"IF(AND(SUM($UB28:$VY28)>0,$TM28=WW$1),MAX(WV$2:WV27)+1,\"\")","v":""},"",{"$f":"IF(AND(SUM($UB28:$VY28)>0,$TM28=WY$1),MAX(WX$2:WX27)+1,\"\")","v":""},"",27,"","","","","","","","","","","",1,{"$f":"IF(XL28=1,MAX($XM$27:XM27)+1,\"\")","v":1},"Badger","Beast","Tiny",10,3,"20ft, burrow 5ft",4,11,12,2,12,5,"none","passive Perception 11, darkvision 30 ft","Bite melee +2, reach 5ft, 1 piercing","Keen Smell. Advantage on Wisdom (Perception) checks that rely on smell",null,null,null,"Heavily Armored","Proficiency with medium armor","You have trained to master the use of heavy armor, gaining the following benefits:\n• Increase your Strength score by 1, to a maximum of 20. \n• You gain proficiency with heavy armor.","  - Increase your Strength score by 1, to a maximum of 20. \n  - You gain proficiency with heavy armor.",{"$f":"\"\"","v":""},{"$f":"\"\"","v":""},"ST",1,null,null,null,null,null,"Fighter",16,"",{"$f":"IF(YX28=\"\",\"\",MAX($YW$1:YW27)+1)","v":""},"",""]
[null,null,null,null,null,null,null,null,null,null,null,null,null,null,null,null,null,null,null,null,null,null,null,null,null,null,null,null,null,null,null,null,null,null,null,null,null,null,null,null,28,"",{"$f":"\"\"","v":""},"I will do anything to protect the temple where I served.","A powerful person killed someone I love. Some day soon, I’ll have my revenge.","I’m guilty of a terrible crime. I hope I can redeem myself for it.","I will do anything to prove myself superior to my hated rival. ","I protect those who cannot protect themselves.","One day I will return to my guild and prove that I am the greatest artisan of them all. ","Should my discovery come to light, it could bring ruin to the world.","My loyalty to my sovereign is unwavering.","I suffer awful visions of a coming disaster and will do anything to prevent it.","I’ve been searching my whole life for the answer to a certain question. ","I was cheated out of my fair share of the profits, and I want to get my due. ","Those who fight beside me are those worth dying for.","I escaped my life of poverty by robbing an important person, and I’m wanted for it.",{"$f":"\"\"","v":""},null,null,null,null,null,null,null,null,null,null,null,null,null,null,null,null,null,null,null,null,null,null,null,null,null,null,null,null,null,null,null,null,null,null,null,null,null,null,null,null,null,null,null,null,null,null,null,null,null,null,null,null,null,null,null,null,null,null,"Totem Warrior","Barbarian",0,{"$f":"\"\"","v":""},{"$f":"\"\"","v":""},{"$f":"\"Totem Spirit, Spirit Seeker\"","v":"Totem Spirit, Spirit Seeker"},{"$f":"\"\"","v":""},{"$f":"\"\"","v":""},{"$f":"\"Aspect of the Beast: \"&HI5","v":"Aspect of the Beast: Select…"},{"$f":"\"\"","v":""},{"$f":"\"\"","v":""},{"$f":"\"\"","v":""},"Spirit Walker",{"$f":"\"\"","v":""},{"$f":"\"\"","v":""},{"$f":"\"\"","v":""},{"$f":"\"Totemic Attunement: \"&HI6","v":"Totemic Attunement: Select…"},{"$f":"\"\"","v":""},{"$f":"\"\"","v":""},{"$f":"\"\"","v":""},{"$f":"\"\"","v":""},{"$f":"\"\"","v":""},{"$f":"\"\"","v":""},{"$f":"\"\"","v":""},{"$f":"\"\"","v":""},null,{"$f":"\"\"","v":""},null,{"$f":"\"\"","v":""},null,{"$f":"\"\"","v":""},null,{"$f":"\"\"","v":""},null,{"$f":"\"\"","v":""},{"$f":"\"\"","v":""},{"$f":"\"\"","v":""},{"$f":"\"\"","v":""},{"$f":"\"\"","v":""},{"$f":"\"\"","v":""},null,{"$f":"IF($DM29=FB$5,MAX(FA$6:FA28)+1,\"\")","v":""},"",null,null,{"$f":"IF($DM29=FF$5,MAX(FE$6:FE28)+1,\"\")","v":""},"",null,null,{"$f":"IF($DM29=FJ$5,MAX(FI$6:FI28)+1,\"\")","v":""},"",null,null,null,null,null,null,null,null,null,null,null,null,null,"Protection","   When a creature you can see attacks a target other than you within 5 feet, you can use your reaction to impose a\n   disadvantage on the attack roll. You must be wielding a shield.",null,null,null,null,null,null,null,null,null,null,null,null,null,null,null,null,null,null,null,null,null,null,null,null,null,null,null,null,null,null,null,null,null,null,null,null,null,"gibberling","humanoid","kobold",null,null,null,null,null,null,null,null,null,null,null,null,null,null,null,null,null,null,null,null,{"$f":"IF(IJ29=1,MAX($IH$2:IH28)+1,\"\")","v":12},"Thief of Five Fates",{"$f":"1","v":1},"   You can cast bane once using a warlock spell slot. You can’t do so again until you finish a long rest.",27,"",null,null,null,null,null,null,null,null,null,null,"Savras (LN)","God of divination and fate","Lawful Neutral","Knowledge","Crystal ball containing many kinds of eyes",null,null,null,null,null,null,null,null,null,null,null,null,null,null,null,null,null,null,null,null,null,null,null,null,null,null,null,null,null,null,null,null,null,null,null,null,null,null,null,null,null,null,null,"Weaver’s tools","No","Tools",null,null,null,null,null,null,null,null,null,null,null,null,null,null,null,null,null,null,null,null,null,null,null,null,null,null,null,null,null,null,null,null,null,null,null,null,null,null,null,null,null,null,null,null,null,null,null,null,null,null,null,null,null,null,null,null,null,null,null,null,null,null,null,null,null,null,null,null,null,null,null,null,null,null,null,null,null,null,null,null,null,null,null,null,null,null,null,null,null,null,null,null,null,null,null,null,null,null,null,null,null,null,null,null,null,null,null,null,null,null,null,null,null,null,null,null,null,null,null,null,null,null,null,null,null,null,{"$f":"IF(COUNTIF(Start!$AX$59:$BF$68,Tables!KT29)>0,Tables!KT29,\"\")","v":""},null,"",{"$f":"IF(PU29=\"\",\"\",IF(COUNTIF(PU29:$PU$57,\"><\")>1,PU29&\", \", PU29))","v":""},null,null,null,"Pike","Martial Melee","not proficient","1d10","piercing","-",18,{"$f":"\"\"","v":""},{"$f":"\"\"","v":""},"heavy",{"$f":"\"\"","v":""},{"$f":"\"\"","v":""},{"$f":"\"\"","v":""},"reach",{"$f":"\"\"","v":""},"two-handed",{"$f":"\"\"","v":""},{"$f":"\"\"","v":""},{"$f":"\"\"","v":""},null,null,"Two-Handed",null,null,null,null,{"$f":"IF(QZ16=\"\",\"\",IF(COUNTIF(QZ16:$QZ$18,\"><$Q$1\")>1,QZ16&\", \",QZ16))","v":""},null,null,null,null,null,null,null,{"$f":"IF(RH16=\"\",\"\",IF(COUNTIF($RH16:RH$18,\"><$Q$1\")>1,RH16&\", \",RH16))","v":""},null,null,null,null,null,null,null,{"$f":"IF(RP16=\"\",\"\",IF(COUNTIF($RP16:RP$18,\"><$Q$1\")>1,RP16&\", \",RP16))","v":""},null,null,null,null,null,null,null,{"$f":"IF(RX16=\"\",\"\",IF(COUNTIF($RX16:RX$18,\"><$Q$1\")>1,RX16&\", \",RX16))","v":""},null,null,null,null,null,null,null,{"$f":"IF(SF16=\"\",\"\",IF(COUNTIF($SF16:SF$18,\"><$Q$1\")>1,SF16&\", \",SF16))","v":""},null,null,null,null,null,null,null,{"$f":"IF(SN16=\"\",\"\",IF(COUNTIF($SN16:SN$18,\"><$Q$1\")>1,SN16&\", \",SN16))","v":""},null,null,null,null,null,null,null,null,null,null,null,null,null,null,null,null,null,null,null,null,null,27,"Barkskin","LEVEL 2",2,"Barkskin ",{"$f":"\"\"","v":""},"",{"$f":"IF(OR(TK29=Spellcasting!$AC$18,TK29=Spellcasting!$AC$19),\"ᵐ\",\"\")","v":""},{"$f":"IF(OR(TK29=Spellcasting!$AC$20,TK29=Spellcasting!$AC$21),\"ˢ\",\"\")","v":""},{"$f":"\"\"","v":""},"1 act","touch","1 hr ᶜᵒᶰ","VSM","a handful of oak bark","transmutation","trans","You touch a willing creature. Until the spell ends, the target’s skin has a rough, bark-like appearance, and the target’s AC can’t be less than 16, regardless of what kind of armor it is wearing.","AC can't be less than 16, regardless of armor worn",null,null,{"$f":"IF(UE$1>=$TM29,1,\"0\")","v":"0"},null,null,null,{"$f":"IF(UI$1>=$TM29,1,\"0\")","v":"0"},null,null,null,null,null,null,null,null,null,null,null,null,null,null,null,null,null,null,{"$f":"IF(VB$1>=$TM29,1,\"0\")","v":"0"},null,null,null,null,null,null,null,{"$f":"IF(VJ$1>=$TM29,1,\"0\")","v":"0"},null,null,null,null,null,null,null,null,null,null,null,null,null,null,null,null,null,null,null,{"$f":"IF(SUM($VZ$1:$WC$1)>0,IF(AND(SUM($VZ29:$WC29)>0,$TM29=WE$1),MAX(WD$2:WD28)+1,\"\"),IF(AND(SUM($UC29:$VY29)>0,$TM29=WE$1),MAX(WD$2:WD28)+1,\"\"))","v":""},"",{"$f":"IF(AND(SUM($UB29:$VY29)>0,$TM29=WG$1),MAX(WF$2:WF28)+1,\"\")","v":""},"",{"$f":"IF(AND(SUM($UB29:$VY29)>0,$TM29=WI$1),MAX(WH$2:WH28)+1,\"\")","v":""},"",{"$f":"IF(AND(SUM($UB29:$VY29)>0,$TM29=WK$1),MAX(WJ$2:WJ28)+1,\"\")","v":""},"",{"$f":"IF(AND(SUM($UB29:$VY29)>0,$TM29=WM$1),MAX(WL$2:WL28)+1,\"\")","v":""},"",{"$f":"IF(AND(SUM($UB29:$VY29)>0,$TM29=WO$1),MAX(WN$2:WN28)+1,\"\")","v":""},"",{"$f":"IF(AND(SUM($UB29:$VY29)>0,$TM29=WQ$1),MAX(WP$2:WP28)+1,\"\")","v":""},"",{"$f":"IF(AND(SUM($UB29:$VY29)>0,$TM29=WS$1),MAX(WR$2:WR28)+1,\"\")","v":""},"",{"$f":"IF(AND(SUM($UB29:$VY29)>0,$TM29=WU$1),MAX(WT$2:WT28)+1,\"\")","v":""},"",{"$f":"IF(AND(SUM($UB29:$VY29)>0,$TM29=WW$1),MAX(WV$2:WV28)+1,\"\")","v":""},"",{"$f":"IF(AND(SUM($UB29:$VY29)>0,$TM29=WY$1),MAX(WX$2:WX28)+1,\"\")","v":""},"",28,"","","","","","","","","","","",1,{"$f":"IF(XL29=1,MAX($XM$27:XM28)+1,\"\")","v":2},"Bat","Beast","Tiny",12,1,"5 ft, fly 30 ft",2,15,8,2,12,4,"none","passive Perception 11, blindsight 60 ft","Bite melee +0, reach 5ft, 1 piercing","Echolocation. No blindsight while deafened\nKeen Hearing. Advantage on Wisdom (Perception) checks that rely on hearing",null,null,null,"Heavy Armor Master","Proficiency with heavy armor","You can use your armor to deflect strikes that would kill others. You gain the following benefits:\n• Increase your Strength score by 1, to a maximum of 20. \n• While you are wearing heavy armor, bludgeoning, piercing, and slashing damage that you take from non magical weapons is reduced by 3.","  - Increase your Strength score by 1, to a maximum of 20. \n  - While wearing heavy armor, bludgeoning, piercing, and slashing damage taken from non magical weapons is reduced by 3.",{"$f":"\"\"","v":""},{"$f":"\"\"","v":""},"ST",1,null,null,null,null,null,"Fighter",19,"",{"$f":"IF(YX29=\"\",\"\",MAX($YW$1:YW28)+1)","v":""},"",""]
[null,null,null,null,null,null,null,null,null,null,null,null,null,null,null,null,null,null,null,null,null,null,null,null,null,null,null,null,null,null,null,null,null,null,null,null,null,null,null,null,29,"",{"$f":"\"\"","v":""},"I seek to preserve a sacred text that my enemies consider heretical and seek to destroy","I swindled and ruined a person who didn’t deserve it. I seek to atone for my misdeeds but might never be able to forgive myself.","Someone I loved died because of I mistake I made. That will never happen again.","I would do anything for the other members of my old troupe.","I wish my childhood sweetheart had come with me to pursue my destiny.","I will get revenge on the evil forces that destroyed my place of business and ruined my livelihood.","My isolation gave me great insight into a great evil that only I can destroy.","The common folk must see me as a hero of the people.","It is my duty to provide children to sustain my tribe.","I sold my soul for knowledge. I hope to do great deeds and win it back.","Ruthless pirates murdered my captain and crewmates, plundered our ship, and left me to die. Vengeance will be mine.","I fight for those who cannot fight for themselves.","No one else should have to endure the hardships I’ve been through.",{"$f":"\"\"","v":""},null,null,null,null,null,null,null,null,null,null,null,null,null,null,null,null,null,null,null,null,null,null,null,null,null,null,null,null,null,null,null,null,null,null,null,null,null,null,null,null,null,null,null,null,null,null,null,null,null,null,null,null,null,null,null,null,null,null,"Lore","Bard",0,{"$f":"\"\"","v":""},{"$f":"\"\"","v":""},"Bonus Proficiencies, Cutting Words",{"$f":"\"\"","v":""},{"$f":"\"\"","v":""},"Additional Magic Secrets",{"$f":"\"\"","v":""},{"$f":"\"\"","v":""},{"$f":"\"\"","v":""},{"$f":"\"\"","v":""},{"$f":"\"\"","v":""},{"$f":"\"\"","v":""},{"$f":"\"\"","v":""},"Peerless Skill",{"$f":"\"\"","v":""},{"$f":"\"\"","v":""},{"$f":"\"\"","v":""},{"$f":"\"\"","v":""},{"$f":"\"\"","v":""},{"$f":"\"\"","v":""},{"$f":"\"\"","v":""},{"$f":"\"\"","v":""},null,{"$f":"\"\"","v":""},null,{"$f":"\"\"","v":""},null,{"$f":"\"\"","v":""},null,{"$f":"\"\"","v":""},null,{"$f":"\"\"","v":""},{"$f":"\"\"","v":""},{"$f":"IF(BardLevel>=3,DL30&\"\n• Choose 3 skills of your choice.\n\",\"\")","v":""},{"$f":"IF(BardLevel>=3,3,\"\")","v":""},{"$f":"\"\"","v":""},{"$f":"\"\"","v":""},null,{"$f":"IF($DM30=FB$5,MAX(FA$6:FA29)+1,\"\")","v":""},"",null,null,{"$f":"IF($DM30=FF$5,MAX(FE$6:FE29)+1,\"\")","v":""},"",null,null,{"$f":"IF($DM30=FJ$5,MAX(FI$6:FI29)+1,\"\")","v":""},"",null,null,null,null,null,null,null,null,null,null,null,null,null,"Two-Weapon Fighting","   When engaging in two-weapon fighting, add your ability modifier to the second attack",null,null,null,null,null,null,null,null,null,null,null,null,null,null,null,null,null,null,null,null,null,null,null,null,null,null,null,null,null,null,null,null,null,null,null,null,null,"githyanki","humanoid","lizardfolk",null,null,null,null,null,null,null,null,null,null,null,null,null,null,null,null,null,null,null,null,{"$f":"IF(IJ30=1,MAX($IH$2:IH29)+1,\"\")","v":""},"Thirsting Blade",{"$f":"IF(AND(WarlockLevel>=5,Start!AJ70=\"Pact of the Blade\"),1,\"\")","v":""},"   You can attack with your pact weapon twice, instead of once, whenever you take the Attack action on your turn.",28,"",null,null,null,null,null,null,null,null,null,null,"Selûne (CG)","Goddess of the moon","Chaotic Good","Knowledge, Life","Pair of eyes surrounded by seven stars",null,null,null,null,null,null,null,null,null,null,null,null,null,null,null,null,null,null,null,null,null,null,null,null,null,null,null,null,null,null,null,null,null,null,null,null,null,null,null,null,null,null,null,"Woodcarver’s tools","No","Tools",null,null,null,null,null,null,null,null,null,null,null,null,null,null,null,null,null,null,null,null,null,null,null,null,null,null,null,null,null,null,null,null,null,null,null,null,null,null,null,null,null,null,null,null,null,null,null,null,null,null,null,null,null,null,null,null,null,null,null,null,null,null,null,null,null,null,null,null,null,null,null,null,null,null,null,null,null,null,null,null,null,null,null,null,null,null,null,null,null,null,null,null,null,null,null,null,null,null,null,null,null,null,null,null,null,null,null,null,null,null,null,null,null,null,null,null,null,null,null,null,null,null,null,null,null,null,{"$f":"IF(COUNTIF(Start!$AX$59:$BF$68,Tables!KT30)>0,Tables!KT30,\"\")","v":""},null,"",{"$f":"IF(PU30=\"\",\"\",IF(COUNTIF(PU30:$PU$57,\"><\")>1,PU30&\", \", PU30))","v":""},null,null,null,"Quarterstaff","Simple Melee","not proficient","1d6","bludgeoning","-",4,{"$f":"\"\"","v":""},{"$f":"\"\"","v":""},{"$f":"\"\"","v":""},{"$f":"\"\"","v":""},{"$f":"\"\"","v":""},{"$f":"\"\"","v":""},{"$f":"\"\"","v":""},{"$f":"\"\"","v":""},{"$f":"\"\"","v":""},"versatile (1d8)",{"$f":"\"\"","v":""},{"$f":"\"\"","v":""},null,null,"Versatile",null,null,null,null,{"$f":"IF(QZ17=\"\",\"\",IF(COUNTIF(QZ17:$QZ$18,\"><$Q$1\")>1,QZ17&\", \",QZ17))","v":""},null,null,null,null,null,null,null,{"$f":"IF(RH17=\"\",\"\",IF(COUNTIF($RH17:RH$18,\"><$Q$1\")>1,RH17&\", \",RH17))","v":""},null,null,null,null,null,null,null,{"$f":"IF(RP17=\"\",\"\",IF(COUNTIF($RP17:RP$18,\"><$Q$1\")>1,RP17&\", \",RP17))","v":""},null,null,null,null,null,null,null,{"$f":"IF(RX17=\"\",\"\",IF(COUNTIF($RX17:RX$18,\"><$Q$1\")>1,RX17&\", \",RX17))","v":""},null,null,null,null,null,null,null,{"$f":"IF(SF17=\"\",\"\",IF(COUNTIF($SF17:SF$18,\"><$Q$1\")>1,SF17&\", \",SF17))","v":""},null,null,null,null,null,null,null,{"$f":"IF(SN17=\"\",\"\",IF(COUNTIF($SN17:SN$18,\"><$Q$1\")>1,SN17&\", \",SN17))","v":""},null,null,null,null,null,null,null,null,null,null,null,null,null,null,null,null,null,null,null,null,null,28,"Beacon of Hope","LEVEL 3",3,"Beacon of Hope ",{"$f":"\"\"","v":""},"",{"$f":"IF(OR(TK30=Spellcasting!$AC$18,TK30=Spellcasting!$AC$19),\"ᵐ\",\"\")","v":""},{"$f":"IF(OR(TK30=Spellcasting!$AC$20,TK30=Spellcasting!$AC$21),\"ˢ\",\"\")","v":""},{"$f":"\"\"","v":""},"1 act","30 ft","1 min ᶜᵒᶰ","VS",{"$f":"\"\"","v":""},"abjuration","abjur","This spell bestows hope and vitality. Choose any number of creatures within range. For the duration, each target has advantage on Wisdom saving throws and death saving throws, and regains the maximum number of hit points possible from any healing. ","adv wis & death saves, gains maximum HP from healing",null,null,null,null,null,{"$f":"IF(UH$1>=$TM30,1,\"0\")","v":"0"},null,null,null,null,null,null,{"$f":"IF(UO$1>=$TM30,1,\"0\")","v":"0"},null,null,null,null,null,null,null,null,null,null,{"$f":"IF(UZ$1>=$TM30,1,\"0\")","v":"0"},null,null,null,null,null,null,null,null,null,null,null,null,null,null,null,null,null,null,null,null,null,null,null,null,null,null,null,null,null,{"$f":"IF(SUM($VZ$1:$WC$1)>0,IF(AND(SUM($VZ30:$WC30)>0,$TM30=WE$1),MAX(WD$2:WD29)+1,\"\"),IF(AND(SUM($UC30:$VY30)>0,$TM30=WE$1),MAX(WD$2:WD29)+1,\"\"))","v":""},"",{"$f":"IF(AND(SUM($UB30:$VY30)>0,$TM30=WG$1),MAX(WF$2:WF29)+1,\"\")","v":""},"",{"$f":"IF(AND(SUM($UB30:$VY30)>0,$TM30=WI$1),MAX(WH$2:WH29)+1,\"\")","v":""},"",{"$f":"IF(AND(SUM($UB30:$VY30)>0,$TM30=WK$1),MAX(WJ$2:WJ29)+1,\"\")","v":""},"",{"$f":"IF(AND(SUM($UB30:$VY30)>0,$TM30=WM$1),MAX(WL$2:WL29)+1,\"\")","v":""},"",{"$f":"IF(AND(SUM($UB30:$VY30)>0,$TM30=WO$1),MAX(WN$2:WN29)+1,\"\")","v":""},"",{"$f":"IF(AND(SUM($UB30:$VY30)>0,$TM30=WQ$1),MAX(WP$2:WP29)+1,\"\")","v":""},"",{"$f":"IF(AND(SUM($UB30:$VY30)>0,$TM30=WS$1),MAX(WR$2:WR29)+1,\"\")","v":""},"",{"$f":"IF(AND(SUM($UB30:$VY30)>0,$TM30=WU$1),MAX(WT$2:WT29)+1,\"\")","v":""},"",{"$f":"IF(AND(SUM($UB30:$VY30)>0,$TM30=WW$1),MAX(WV$2:WV29)+1,\"\")","v":""},"",{"$f":"IF(AND(SUM($UB30:$VY30)>0,$TM30=WY$1),MAX(WX$2:WX29)+1,\"\")","v":""},"",29,"","","","","","","","","","","",1,{"$f":"IF(XL30=1,MAX($XM$27:XM29)+1,\"\")","v":3},"Cat","Beast","Tiny",12,2,"40 ft, climb 30 ft",3,15,10,3,12,7,"Perception +3, Stealth +4","passive Perception 13","Claw Melee +0, reach 5ft, 1 slashing","Keen Smell. Advantage on Wisdom (Perception) checks that rely on smell",null,null,null,"Inspiring Leader","Charisma 13 or higher","You can spend 10 minutes inspiring your companions, shoring up their resolve to fight. When you do so, choose up to six friendly creatures (which can include yourself) within 30 feet of you who can see or hear you and who can understand you. Each creature can gain temporary hit points equal to your level + your Charisma modifier. A creature can’t gain temporary hit points from this feat again until it has finished a short or long rest.","  - You can spend 10 minutes inspiring your companions, shoring up their resolve to fight. Choose up to 6 friendly creatures\n     (which can include yourself) within 30 feet who can see or hear you and who  can understand you. Each creature can gain\n     temporary hit points equal to your level + your Charisma modifier. A creature can’t gain temporary hit points from this\n     feat again until it has finished a short or long rest.",{"$f":"\"\"","v":""},{"$f":"\"\"","v":""},{"$f":"\"\"","v":""},{"$f":"\"\"","v":""},null,null,null,null,null,"Monk",4,{"$f":"VLOOKUP(YY30,$ZI$2:$ZP$23,$ZI$1,FALSE)","v":""},{"$f":"IF(YX30=\"\",\"\",MAX($YW$1:YW29)+1)","v":""},"",""]
[null,null,null,null,null,null,null,null,null,null,null,null,null,null,null,null,null,null,null,null,null,null,null,null,null,null,null,null,null,null,null,null,null,null,null,null,null,null,null,null,30,{"$f":"HLOOKUP(CharacterBackground,$AQ$2:$BD$53,$AO31,FALSE)","v":""},{"$f":"\"\"","v":""},{"$f":"\"\"","v":""},{"$f":"\"\"","v":""},{"$f":"\"\"","v":""},{"$f":"\"\"","v":""},{"$f":"\"\"","v":""},{"$f":"\"\"","v":""},{"$f":"\"\"","v":""},{"$f":"\"\"","v":""},{"$f":"\"\"","v":""},{"$f":"\"\"","v":""},{"$f":"\"\"","v":""},{"$f":"\"\"","v":""},{"$f":"\"\"","v":""},{"$f":"\"\"","v":""},null,null,null,null,null,null,null,null,null,null,null,null,null,null,null,null,null,null,null,null,null,null,null,null,null,null,null,null,null,null,null,null,null,null,null,null,null,null,null,null,null,null,null,null,null,null,null,null,null,null,null,null,null,null,null,null,null,null,"Valor","Bard",0,{"$f":"\"\"","v":""},{"$f":"\"\"","v":""},"Bonus Proficiencies, Combat Inspiration",{"$f":"\"\"","v":""},{"$f":"\"\"","v":""},"Extra Attack",{"$f":"\"\"","v":""},{"$f":"\"\"","v":""},{"$f":"\"\"","v":""},{"$f":"\"\"","v":""},{"$f":"\"\"","v":""},{"$f":"\"\"","v":""},{"$f":"\"\"","v":""},"Battle Magic",{"$f":"\"\"","v":""},{"$f":"\"\"","v":""},{"$f":"\"\"","v":""},{"$f":"\"\"","v":""},{"$f":"\"\"","v":""},{"$f":"\"\"","v":""},{"$f":"\"\"","v":""},{"$f":"\"\"","v":""},null,{"$f":"\"\"","v":""},null,{"$f":"\"\"","v":""},null,{"$f":"\"\"","v":""},null,{"$f":"\"\"","v":""},null,{"$f":"\"\"","v":""},{"$f":"\"\"","v":""},{"$f":"\"\"","v":""},{"$f":"\"\"","v":""},{"$f":"\"\"","v":""},{"$f":"\"\"","v":""},null,{"$f":"IF($DM31=FB$5,MAX(FA$6:FA30)+1,\"\")","v":""},"",null,null,{"$f":"IF($DM31=FF$5,MAX(FE$6:FE30)+1,\"\")","v":""},"",null,null,{"$f":"IF($DM31=FJ$5,MAX(FI$6:FI30)+1,\"\")","v":""},"",null,null,null,null,null,null,null,null,null,null,null,null,null,null,null,null,null,null,null,null,null,null,null,null,null,null,null,null,null,null,null,null,null,null,null,null,null,null,null,null,null,null,null,null,null,null,null,null,null,null,null,null,"githzerai","humanoid","locathah",null,null,null,null,null,null,null,null,null,null,null,null,null,null,null,null,null,null,null,null,{"$f":"IF(IJ31=1,MAX($IH$2:IH30)+1,\"\")","v":""},"Visions of Distant Realms",{"$f":"IF(WarlockLevel>=15,1,\"\")","v":""},"   You can cast arcane eye at will, without expending a spell slot.",29,"",null,null,null,null,null,null,null,null,null,null,"Shar (NE)","Goddess of darkness and loss","Neutral Evil","Death, Trickery","Black disk encircled with a border",null,null,null,null,null,null,null,null,null,null,"WIZARD, CLERIC, DRUID, BARD, SORCERER",null,null,null,null,null,null,null,null,null,null,null,null,null,null,null,null,null,null,null,null,null,null,null,null,null,null,null,null,null,null,null,null,"--","No","Tools",null,null,null,null,null,null,null,null,null,null,null,null,null,null,null,null,null,null,null,null,null,null,null,null,null,null,null,null,null,null,null,null,null,null,null,null,null,null,null,null,null,null,null,null,null,null,null,null,null,null,null,null,null,null,null,null,null,null,null,null,null,null,null,null,null,null,null,null,null,null,null,null,null,null,null,null,null,null,null,null,null,null,null,null,null,null,null,null,null,null,null,null,null,null,null,null,null,null,null,null,null,null,null,null,null,null,null,null,null,null,null,null,null,null,null,null,null,null,null,null,null,null,null,null,null,null,{"$f":"IF(COUNTIF(Start!$AX$59:$BF$68,Tables!KT31)>0,Tables!KT31,\"\")","v":""},null,"",{"$f":"IF(PU31=\"\",\"\",IF(COUNTIF(PU31:$PU$57,\"><\")>1,PU31&\", \", PU31))","v":""},null,null,null,"Rapier","Martial Melee","not proficient","1d8","piercing","-",2,{"$f":"\"\"","v":""},"finesse",{"$f":"\"\"","v":""},{"$f":"\"\"","v":""},{"$f":"\"\"","v":""},{"$f":"\"\"","v":""},{"$f":"\"\"","v":""},{"$f":"\"\"","v":""},{"$f":"\"\"","v":""},{"$f":"\"\"","v":""},{"$f":"\"\"","v":""},{"$f":"\"\"","v":""},null,null,"Special",null,null,null,null,{"$f":"IF(QZ18=\"\",\"\",IF(COUNTIF(QZ18:$QZ$18,\"><$Q$1\")>1,QZ18&\", \",QZ18))","v":""},null,null,null,null,null,null,null,{"$f":"IF(RH18=\"\",\"\",IF(COUNTIF($RH18:RH$18,\"><$Q$1\")>1,RH18&\", \",RH18))","v":""},null,null,null,null,null,null,null,{"$f":"IF(RP18=\"\",\"\",IF(COUNTIF($RP18:RP$18,\"><$Q$1\")>1,RP18&\", \",RP18))","v":""},null,null,null,null,null,null,null,{"$f":"IF(RX18=\"\",\"\",IF(COUNTIF($RX18:RX$18,\"><$Q$1\")>1,RX18&\", \",RX18))","v":""},null,null,null,null,null,null,null,{"$f":"IF(SF18=\"\",\"\",IF(COUNTIF($SF18:SF$18,\"><$Q$1\")>1,SF18&\", \",SF18))","v":""},null,null,null,null,null,null,null,{"$f":"IF(SN18=\"\",\"\",IF(COUNTIF($SN18:SN$18,\"><$Q$1\")>1,SN18&\", \",SN18))","v":""},null,null,null,null,null,null,null,null,null,null,null,null,null,null,null,null,null,null,null,null,null,29,"Beast Sense","LEVEL 2",2,"Beast Sense ",{"$f":"\"\"","v":""},"",{"$f":"IF(OR(TK31=Spellcasting!$AC$18,TK31=Spellcasting!$AC$19),\"ᵐ\",\"\")","v":""},{"$f":"IF(OR(TK31=Spellcasting!$AC$20,TK31=Spellcasting!$AC$21),\"ˢ\",\"\")","v":""},"ritual","1 act ᴿ","touch","1 hr ᶜᵒᶰ","S",{"$f":"\"\"","v":""},"divination","divin","You touch a willing beast. For the duration of the spell, you can use your action to see through the beast’s eyes and hear what it hears, and continue to do so until you use your action to return to your normal senses. While perceiving through the beast’s senses, you gain the benefits of any special senses possessed by that creature, though you are blinded and deafened to your own surroundings.","see and hear through beast, gain special senses of beast",null,null,null,null,null,null,{"$f":"IF(UI$1>=$TM31,1,\"0\")","v":"0"},null,null,null,null,null,null,null,null,null,null,null,null,null,null,null,null,null,null,null,null,null,null,null,null,null,null,null,null,null,null,null,null,null,null,null,null,null,null,null,null,null,null,null,null,null,null,{"$f":"IF(SUM($VZ$1:$WC$1)>0,IF(AND(SUM($VZ31:$WC31)>0,$TM31=WE$1),MAX(WD$2:WD30)+1,\"\"),IF(AND(SUM($UC31:$VY31)>0,$TM31=WE$1),MAX(WD$2:WD30)+1,\"\"))","v":""},"",{"$f":"IF(AND(SUM($UB31:$VY31)>0,$TM31=WG$1),MAX(WF$2:WF30)+1,\"\")","v":""},"",{"$f":"IF(AND(SUM($UB31:$VY31)>0,$TM31=WI$1),MAX(WH$2:WH30)+1,\"\")","v":""},"",{"$f":"IF(AND(SUM($UB31:$VY31)>0,$TM31=WK$1),MAX(WJ$2:WJ30)+1,\"\")","v":""},"",{"$f":"IF(AND(SUM($UB31:$VY31)>0,$TM31=WM$1),MAX(WL$2:WL30)+1,\"\")","v":""},"",{"$f":"IF(AND(SUM($UB31:$VY31)>0,$TM31=WO$1),MAX(WN$2:WN30)+1,\"\")","v":""},"",{"$f":"IF(AND(SUM($UB31:$VY31)>0,$TM31=WQ$1),MAX(WP$2:WP30)+1,\"\")","v":""},"",{"$f":"IF(AND(SUM($UB31:$VY31)>0,$TM31=WS$1),MAX(WR$2:WR30)+1,\"\")","v":""},"",{"$f":"IF(AND(SUM($UB31:$VY31)>0,$TM31=WU$1),MAX(WT$2:WT30)+1,\"\")","v":""},"",{"$f":"IF(AND(SUM($UB31:$VY31)>0,$TM31=WW$1),MAX(WV$2:WV30)+1,\"\")","v":""},"",{"$f":"IF(AND(SUM($UB31:$VY31)>0,$TM31=WY$1),MAX(WX$2:WX30)+1,\"\")","v":""},"",30,"","","","","","","","","","","",1,{"$f":"IF(XL31=1,MAX($XM$27:XM30)+1,\"\")","v":4},"Crab","Beast","Tiny",11,2,"20ft, swim 20ft",2,11,10,1,8,2,"Stealth +2","passive Perception 9, blindsight 30ft","Claw Melee +0, reach 5ft, 1 bludgeoning","Amphibious. Can breathe air and water",null,null,null,"Keen Mind","none","You have a mind that can track time, direction, and detail with uncanny precision. You gain the following benefits.\n• Increase your Intelligence score by 1, to a maximum of 20. \n• You always know which way is north. \n• You always know the number of hours left before the next sunrise or sunset. \n• You can accurately recall anything you have seen or heard within the past month.","  - Increase your Intelligence score by 1, to a maximum of 20. \n  - You always know which way is north. \n  - You always know the number of hours left before the next sunrise or sunset. \n  - You can accurately recall anything you have seen or heard within the past month.",{"$f":"\"\"","v":""},{"$f":"\"\"","v":""},"IN",1,null,null,null,null,null,"Monk",8,{"$f":"VLOOKUP(YY31,$ZI$2:$ZP$23,$ZI$1,FALSE)","v":""},{"$f":"IF(YX31=\"\",\"\",MAX($YW$1:YW30)+1)","v":""},"",""]
[null,null,null,null,null,null,null,null,null,null,null,null,null,null,null,null,null,null,null,null,null,null,null,null,null,null,null,null,null,null,null,null,null,null,null,null,null,null,null,null,31,"Flaw",{"$f":"\"\"","v":""},null,null,null,null,null,null,null,null,null,null,null,null,null,{"$f":"\"\"","v":""},null,null,null,null,null,null,null,null,null,null,null,null,null,null,null,null,null,null,null,null,null,null,null,null,null,null,null,null,null,null,null,null,null,null,null,null,null,null,null,null,null,null,null,null,null,null,null,null,null,null,null,null,null,null,null,null,null,null,"Land","Druid",0,null,{"$f":"\"• Druid Circle Feature (Bonus Cantrip, Natural Recovery)\n\"&IF(DruidLevel>=3,\"• Circle Spells\n\"&VLOOKUP($BI13,$DM$3:$EI$5,EI$2-1,FALSE),\"\")","v":"• Druid Circle Feature (Bonus Cantrip, Natural Recovery)\n"},{"$f":"\"\"","v":""},{"$f":"\"\"","v":""},{"$f":"\"\"","v":""},"Land Stride",{"$f":"\"\"","v":""},{"$f":"\"\"","v":""},{"$f":"\"\"","v":""},"Nature's Ward",{"$f":"\"\"","v":""},{"$f":"\"\"","v":""},{"$f":"\"\"","v":""},"Nature's Sanctuary",{"$f":"\"\"","v":""},{"$f":"\"\"","v":""},{"$f":"\"\"","v":""},{"$f":"\"\"","v":""},{"$f":"\"\"","v":""},{"$f":"\"\"","v":""},{"$f":"IF(AND(DruidLevel>=9,DruidLandOrigin=\"Arctic\"),\"  3rd (hold person, spike growth)\n  5th (sleet storm, slow)\n  7th (freedom of movement, ice storm)\n  9th (commune with nature, cone of cold)\",IF(AND(DruidLevel>=7,DruidLandOrigin=\"Arctic\"),\"  3rd (hold person, spike growth)\n  5th (sleet storm, slow)\n  7th (freedom of movement, ice storm)\",IF(AND(DruidLevel>=5,DruidLandOrigin=\"Arctic\"),\"  3rd (hold person, spike growth)\n  5th (sleet storm, slow)\",IF(AND(DruidLevel>=3,DruidLandOrigin=\"Arctic\"),\"  3rd (hold person, spike growth)\",IF(AND(DruidLevel>=9,DruidLandOrigin=\"Coast\"),\"  3rd (mirror image, misty step)\n  5th (water breathing, water walk)\n  7th (control water, freedom of movement)\n  9th (conjure elemental, scrying)\",IF(AND(DruidLevel>=7,DruidLandOrigin=\"Coast\"),\"  3rd (mirror image, misty step)\n  5th (water breathing, water walk)\n  7th (control water, freedom of movement)\",IF(AND(DruidLevel>=5,DruidLandOrigin=\"Coast\"),\"  3rd (mirror image, misty step)\n  5th (water breathing, water walk)\",IF(AND(DruidLevel>=3,DruidLandOrigin=\"Coast\"),\"  3rd (mirror image, misty step)\",IF(AND(DruidLevel>=9,DruidLandOrigin=\"Desert\"),\"  3rd (blur, silence)\n  5th (create food and water, protection from energy)\n  7th (blight, hallucinatory terrain)\n  9th (insect plague, wall of stone)\",IF(AND(DruidLevel>=7,DruidLandOrigin=\"Desert\"),\"  3rd (blur, silence)\n  5th (create food and water, protection from energy)\n  7th (blight, hallucinatory terrain)\",IF(AND(DruidLevel>=5,DruidLandOrigin=\"Desert\"),\"  3rd (blur, silence)\n  5th (create food and water, protection from energy)\",IF(AND(DruidLevel>=3,DruidLandOrigin=\"Desert\"),\"  3rd (blur, silence)\",IF(AND(DruidLevel>=9,DruidLandOrigin=\"Forest\"),\"  3rd (barkskin, spider climb)\n  5th (call lightning, plant growth)\n  7th (divination, freedom of movement)\n  9th (commune with nature, tree stride)\",IF(AND(DruidLevel>=7,DruidLandOrigin=\"Forest\"),\"  3rd (barkskin, spider climb)\n  5th (call lightning, plant growth)\n  7th (divination, freedom of movement)\",IF(AND(DruidLevel>=5,DruidLandOrigin=\"Forest\"),\"  3rd (barkskin, spider climb)\n  5th (call lightning, plant growth)\",IF(AND(DruidLevel>=3,DruidLandOrigin=\"Forest\"),\"  3rd (barkskin, spider climb)\",IF(AND(DruidLevel>=9,DruidLandOrigin=\"Grassland\"),\"  3rd (invisibility, pass without trace)\n  5th (daylight, haste)\n  7th (divination, freedom of movement)\n  9th (dream, insect plague)\",IF(AND(DruidLevel>=7,DruidLandOrigin=\"Grassland\"),\"  3rd (invisibility, pass without trace)\n  5th (daylight, haste)\n  7th (divination, freedom of movement)\",IF(AND(DruidLevel>=5,DruidLandOrigin=\"Grassland\"),\"  3rd (invisibility, pass without trace)\n  5th (daylight, haste)\",IF(AND(DruidLevel>=3,DruidLandOrigin=\"Grassland\"),\"  3rd (invisibility, pass without trace)\",IF(AND(DruidLevel>=9,DruidLandOrigin=\"Mountain\"),\"  3rd (spider climb, spike growth)\n  5th (lightning bolt, meld into stone)\n  7th (stone shape, stoneskin)\n  9th (passwall, wall of stone)\",IF(AND(DruidLevel>=7,DruidLandOrigin=\"Mountain\"),\"  3rd (spider climb, spike growth)\n  5th (lightning bolt, meld into stone)\n  7th (stone shape, stoneskin)\",IF(AND(DruidLevel>=5,DruidLandOrigin=\"Mountain\"),\"  3rd (spider climb, spike growth)\n  5th (lightning bolt, meld into stone)\",IF(AND(DruidLevel>=3,DruidLandOrigin=\"Mountain\"),\"  3rd (spider climb, spike growth)\",IF(AND(DruidLevel>=9,DruidLandOrigin=\"Swamp\"),\"  3rd (darkness, Melf ’s acid arrow)\n  5th (water walk, stinking cloud)\n  7th (freedom of movement, locate creature)\n  9th (insect plague, scrying)\",IF(AND(DruidLevel>=7,DruidLandOrigin=\"Swamp\"),\"  3rd (darkness, Melf ’s acid arrow)\n  5th (water walk, stinking cloud)\n  7th (freedom of movement, locate creature)\",IF(AND(DruidLevel>=5,DruidLandOrigin=\"Swamp\"),\"  3rd (darkness, Melf ’s acid arrow)\n  5th (water walk, stinking cloud)\",IF(AND(DruidLevel>=3,DruidLandOrigin=\"Swamp\"),\"  3rd (darkness, Melf ’s acid arrow)\",IF(AND(DruidLevel>=9,DruidLandOrigin=\"Underdark\"),\"  3rd (spider climb, web)\n  5th (gaseous form, stinking cloud)\n  7th (greater invisibility, stone shape)\n  9th (cloudkill, insect plague)\",IF(AND(DruidLevel>=7,DruidLandOrigin=\"Underdark\"),\"  3rd (spider climb, web)\n  5th (gaseous form, stinking cloud)\n  7th (greater invisibility, stone shape)\",IF(AND(DruidLevel>=5,DruidLandOrigin=\"Underdark\"),\"  3rd (spider climb, web)\n  5th (gaseous form, stinking cloud)\",IF(AND(DruidLevel>=3,DruidLandOrigin=\"Underdark\"),\"  3rd (spider climb, web)\",\"\"))))))))))))))))))))))))))))))))","v":""},{"$f":"\"\"","v":""},null,{"$f":"IF(DruidLandLevel>=3,DM32&\" \",\"\")&IF(AND(DruidLevel>=3,DruidLandOrigin=\"Arctic\"),\"(hold person, spike growth)\n\",IF(AND(DruidLevel>=3,DruidLandOrigin=\"Coast\"),\"(mirror image, misty step)\n\",IF(AND(DruidLevel>=3,DruidLandOrigin=\"Desert\"),\"(blur, silence)\n\",IF(AND(DruidLevel>=3,DruidLandOrigin=\"Forest\"),\"(barkskin, spider climb)\n\",IF(AND(DruidLevel>=3,DruidLandOrigin=\"Grassland\"),\"(invisibility, pass without trace)\n\",IF(AND(DruidLevel>=3,DruidLandOrigin=\"Mountain\"),\"(spider climb, spike growth)\n\",IF(AND(DruidLevel>=3,DruidLandOrigin=\"Swamp\"),\"(darkness, Melf ’s acid arrow)\n\",IF(AND(DruidLevel>=3,DruidLandOrigin=\"Underdark\"),\"(spider climb, web)\n\",\"\"))))))))","v":""},null,{"$f":"IF(DruidLandLevel>=5,DM32&\" \",\"\")&IF(AND(DruidLevel>=5,DruidLandOrigin=\"Arctic\"),\"(sleet storm, slow)\n\",IF(AND(DruidLevel>=5,DruidLandOrigin=\"Coast\"),\"(water breathing, water walk)\n\",IF(AND(DruidLevel>=5,DruidLandOrigin=\"Desert\"),\"(create food and water, protection from energy)\n\",IF(AND(DruidLevel>=5,DruidLandOrigin=\"Forest\"),\"(call lightning, plant growth)\n\",IF(AND(DruidLevel>=5,DruidLandOrigin=\"Grassland\"),\"(daylight, haste)\n\",IF(AND(DruidLevel>=5,DruidLandOrigin=\"Mountain\"),\"(lightning bolt, meld into stone)\n\",IF(AND(DruidLevel>=5,DruidLandOrigin=\"Swamp\"),\"(water walk, stinking cloud)\n\",IF(AND(DruidLevel>=5,DruidLandOrigin=\"Underdark\"),\"(gaseous form, stinking cloud)\n\",\"\"))))))))","v":""},null,{"$f":"IF(DruidLandLevel>=7,DM32&\" \",\"\")&IF(AND(DruidLevel>=7,DruidLandOrigin=\"Arctic\"),\"(freedom of movement, ice storm)\n\",IF(AND(DruidLevel>=7,DruidLandOrigin=\"Coast\"),\"(control water, freedom of movement)\n\",IF(AND(DruidLevel>=7,DruidLandOrigin=\"Desert\"),\"(blight, hallucinatory terrain)\n\",IF(AND(DruidLevel>=7,DruidLandOrigin=\"Forest\"),\"(divination, freedom of movement)\n\",IF(AND(DruidLevel>=7,DruidLandOrigin=\"Grassland\"),\"(divination, freedom of movement)\n\",IF(AND(DruidLevel>=7,DruidLandOrigin=\"Mountain\"),\"(stone shape, stoneskin)\n\",IF(AND(DruidLevel>=7,DruidLandOrigin=\"Swamp\"),\"(freedom of movement, locate creature)\n\",IF(AND(DruidLevel>=7,DruidLandOrigin=\"Underdark\"),\"(greater invisibility, stone shape)\n\",\"\"))))))))","v":""},null,{"$f":"IF(DruidLandLevel>=9,DM32&\" \",\"\")&IF(AND(DruidLevel>=9,DruidLandOrigin=\"Arctic\"),\"(commune with nature, cone of cold)\n\",IF(AND(DruidLevel>=9,DruidLandOrigin=\"Coast\"),\"(conjure elemental, scrying)\n\",IF(AND(DruidLevel>=9,DruidLandOrigin=\"Desert\"),\"(insect plague, wall of stone)\n\",IF(AND(DruidLevel>=9,DruidLandOrigin=\"Forest\"),\"(commune with nature, tree stride)\n\",IF(AND(DruidLevel>=9,DruidLandOrigin=\"Grassland\"),\"(dream, insect plague)\n\",IF(AND(DruidLevel>=9,DruidLandOrigin=\"Mountain\"),\"(passwall, wall of stone)\n\",IF(AND(DruidLevel>=9,DruidLandOrigin=\"Swamp\"),\"(insect plague, scrying)\n\",IF(AND(DruidLevel>=9,DruidLandOrigin=\"Underdark\"),\"(cloudkill, insect plague)\n\",\"\"))))))))","v":""},null,{"$f":"\"\"","v":""},{"$f":"\"\"","v":""},{"$f":"\"\"","v":""},{"$f":"\"\"","v":""},{"$f":"\"\"","v":""},{"$f":"\"\"","v":""},null,{"$f":"IF($DM32=FB$5,MAX(FA$6:FA31)+1,\"\")","v":""},"",null,null,{"$f":"IF($DM32=FF$5,MAX(FE$6:FE31)+1,\"\")","v":""},"",null,null,{"$f":"IF($DM32=FJ$5,MAX(FI$6:FI31)+1,\"\")","v":""},"",null,null,null,null,null,null,null,null,null,null,null,null,null,null,null,null,null,null,null,null,null,null,null,null,null,null,null,null,null,null,null,null,null,null,null,null,null,null,null,null,null,null,null,null,null,null,null,null,null,null,null,null,"gnoll","humanoid","merfolk",null,null,null,null,null,null,null,null,null,null,null,null,null,null,null,null,null,null,null,null,{"$f":"IF(IJ32=1,MAX($IH$2:IH31)+1,\"\")","v":""},"Voice of the Chain Master",{"$f":"IF(Start!AJ90=\"Pact of the Chain\",1,\"\")","v":""},"   You can communicate telepathically with your familiar and perceive through your familiar’s senses as long as you are\n   on the same plane of existence. Additionally, while perceiving through your familiar’s senses, you can also speak\n   through your familiar in your own voice, even if your familiar is normally incapable of speech.",30,"",null,null,null,null,null,null,null,null,null,null,"Silvanus (N)","God of wild nature","Neutral","Nature","Oak leaf",null,null,null,null,null,null,null,null,null,null,"LEVEL",1,2,3,4,5,6,7,8,9,null,null,null,null,null,null,null,null,null,null,null,null,null,null,null,null,null,null,null,null,null,null,null,"Disguise kit","No","Tools",null,null,null,null,null,null,null,null,null,null,null,null,null,null,null,null,null,null,null,null,null,null,null,null,null,null,null,null,null,null,null,null,null,null,null,null,null,null,null,null,null,null,null,null,null,null,null,null,null,null,null,null,null,null,null,null,null,null,null,null,null,null,null,null,null,null,null,null,null,null,null,null,null,null,null,null,null,null,null,null,null,null,null,null,null,null,null,null,null,null,null,null,null,null,null,null,null,null,null,null,null,null,null,null,null,null,null,null,null,null,null,null,null,null,null,null,null,null,null,null,null,null,null,null,null,null,{"$f":"IF(COUNTIF(Start!$AX$59:$BF$68,Tables!KT32)>0,Tables!KT32,\"\")","v":""},null,"",{"$f":"IF(PU32=\"\",\"\",IF(COUNTIF(PU32:$PU$57,\"><\")>1,PU32&\", \", PU32))","v":""},null,null,null,"Scimitar","Martial Melee","not proficient","1d6","slashing","-",3,{"$f":"\"\"","v":""},"finesse",{"$f":"\"\"","v":""},"light",{"$f":"\"\"","v":""},{"$f":"\"\"","v":""},{"$f":"\"\"","v":""},{"$f":"\"\"","v":""},{"$f":"\"\"","v":""},{"$f":"\"\"","v":""},{"$f":"\"\"","v":""},{"$f":"\"\"","v":""},null,null,null,null,null,null,null,null,null,null,null,null,null,null,null,null,null,null,null,null,null,null,null,null,null,null,null,null,null,null,null,null,null,null,null,null,null,null,null,null,null,null,null,null,null,null,null,null,null,null,null,null,null,null,null,null,null,null,null,null,null,null,null,null,null,null,null,null,null,30,"Bestow Curse","LEVEL 3",3,"Bestow Curse ᴴ ","ᴴ ","",{"$f":"IF(OR(TK32=Spellcasting!$AC$18,TK32=Spellcasting!$AC$19),\"ᵐ\",\"\")","v":""},{"$f":"IF(OR(TK32=Spellcasting!$AC$20,TK32=Spellcasting!$AC$21),\"ˢ\",\"\")","v":""},{"$f":"\"\"","v":""},"1 act","touch","1 min ᶜᵒᶰ","VS",{"$f":"\"\"","v":""},"necromancy","necro","You touch a creature, and that creature must succeed on a Wisdom saving throw or become cursed for the duration of the spell. When you cast this spell, choose the nature of the curse from the following options:\n\n• Choose one ability score. While cursed, the target has disadvantage on ability checks and saving throws made with that ability score. \n• While cursed, the target has disadvantage on attack rolls against you. \n• While cursed, the target must make a Wisdom saving throw at the start of each of its turns. If it fails, it wastes its action that turn doing nothing. \n• While the target is cursed, your attacks and spells deal an extra 1d8 necrotic damage to the target.\n\nA remove curse spell ends this effect. At the DM’s option, you may choose an alternative curse effect, but it should be no more powerful than those described above. The DM has final say on such a curse’s effect. \n\nAt Higher Levels. If you cast this spell using a spell slot of 4th level or higher, the duration is concentration, up to 10 minutes. If you use a spell slot of 5th level or higher, the duration is 8 hours. If you use a spell slot of 7th level or higher, the duration is 24 hours. If you use a 9th level spell slot, the spell lasts until it is dispelled. Using a spell slot of 5th level or higher grants a duration that doesn’t require concentration.","choose curse, wis save",{"$f":"IF(UC$1>=$TM32,1,\"0\")","v":"0"},null,null,null,null,{"$f":"IF(UH$1>=$TM32,1,\"0\")","v":"0"},null,null,null,{"$f":"IF(UL$1>=$TM32,1,\"0\")","v":"0"},null,null,null,null,null,null,null,null,null,null,null,null,null,null,null,null,null,null,null,null,null,null,null,null,null,null,null,null,null,null,null,null,null,null,null,null,null,null,null,null,null,null,null,{"$f":"IF(SUM($VZ$1:$WC$1)>0,IF(AND(SUM($VZ32:$WC32)>0,$TM32=WE$1),MAX(WD$2:WD31)+1,\"\"),IF(AND(SUM($UC32:$VY32)>0,$TM32=WE$1),MAX(WD$2:WD31)+1,\"\"))","v":""},"",{"$f":"IF(AND(SUM($UB32:$VY32)>0,$TM32=WG$1),MAX(WF$2:WF31)+1,\"\")","v":""},"",{"$f":"IF(AND(SUM($UB32:$VY32)>0,$TM32=WI$1),MAX(WH$2:WH31)+1,\"\")","v":""},"",{"$f":"IF(AND(SUM($UB32:$VY32)>0,$TM32=WK$1),MAX(WJ$2:WJ31)+1,\"\")","v":""},"",{"$f":"IF(AND(SUM($UB32:$VY32)>0,$TM32=WM$1),MAX(WL$2:WL31)+1,\"\")","v":""},"",{"$f":"IF(AND(SUM($UB32:$VY32)>0,$TM32=WO$1),MAX(WN$2:WN31)+1,\"\")","v":""},"",{"$f":"IF(AND(SUM($UB32:$VY32)>0,$TM32=WQ$1),MAX(WP$2:WP31)+1,\"\")","v":""},"",{"$f":"IF(AND(SUM($UB32:$VY32)>0,$TM32=WS$1),MAX(WR$2:WR31)+1,\"\")","v":""},"",{"$f":"IF(AND(SUM($UB32:$VY32)>0,$TM32=WU$1),MAX(WT$2:WT31)+1,\"\")","v":""},"",{"$f":"IF(AND(SUM($UB32:$VY32)>0,$TM32=WW$1),MAX(WV$2:WV31)+1,\"\")","v":""},"",{"$f":"IF(AND(SUM($UB32:$VY32)>0,$TM32=WY$1),MAX(WX$2:WX31)+1,\"\")","v":""},"",31,"","","","","","","","","","","",1,{"$f":"IF(XL32=1,MAX($XM$27:XM31)+1,\"\")","v":5},"Frog","Beast","Tiny",11,1,"20 ft, swim 20 ft",1,13,8,1,8,3,"Perception +1, Stealth +3","passive Perception 11, darkvision 30 ft","none","Amphibious. Can breathe air and water\nStanding Leap. Can long jump up to 10 feet and high jump up to 5 feet",null,null,null,"Lightly Armored","none","You have trained to master the use of light armor, gaining the following benefits:\n• Increase your Strength or Dexterity score by 1, to a maximum of 20. \n• You gain proficiency with light armor.","  - Increase your Strength or Dexterity score by 1, to a maximum of 20. \n  - You gain proficiency with light armor.",{"$f":"\"\"","v":""},{"$f":"\"\"","v":""},"SD",1,null,null,null,null,null,"Monk",12,{"$f":"VLOOKUP(YY32,$ZI$2:$ZP$23,$ZI$1,FALSE)","v":""},{"$f":"IF(YX32=\"\",\"\",MAX($YW$1:YW31)+1)","v":""},"",""]
[null,null,null,null,null,null,null,null,null,null,null,null,null,null,null,null,null,null,null,null,null,null,null,null,null,null,null,null,null,null,null,null,null,null,null,null,null,null,null,null,32,{"$f":"SelectText","v":"Select…"},{"$f":"\"\"","v":""},null,null,null,null,null,null,null,null,null,null,null,null,null,{"$f":"\"\"","v":""},null,null,null,null,null,null,null,null,null,null,null,null,null,null,null,null,null,null,null,null,null,null,null,null,null,null,null,null,null,null,null,null,null,null,null,null,null,null,null,null,null,null,null,null,null,null,null,null,null,null,null,null,null,null,null,null,null,null,"Moon","Druid",0,{"$f":"\"\"","v":""},{"$f":"\"• Druid Circle Feature (Combat Wild Shape, Circle Forms)\"","v":"• Druid Circle Feature (Combat Wild Shape, Circle Forms)"},{"$f":"\"\"","v":""},{"$f":"\"\"","v":""},{"$f":"\"\"","v":""},"Primal Strike",{"$f":"\"\"","v":""},{"$f":"\"\"","v":""},{"$f":"\"\"","v":""},"Elemental Wild Shape",{"$f":"\"\"","v":""},{"$f":"\"\"","v":""},{"$f":"\"\"","v":""},"Thousand Forms",{"$f":"\"\"","v":""},{"$f":"\"\"","v":""},{"$f":"\"\"","v":""},{"$f":"\"\"","v":""},{"$f":"\"\"","v":""},{"$f":"\"\"","v":""},{"$f":"\"\"","v":""},{"$f":"\"\"","v":""},null,{"$f":"\"\"","v":""},null,{"$f":"\"\"","v":""},null,{"$f":"\"\"","v":""},null,{"$f":"\"\"","v":""},null,{"$f":"\"\"","v":""},{"$f":"\"\"","v":""},{"$f":"\"\"","v":""},{"$f":"\"\"","v":""},{"$f":"\"\"","v":""},{"$f":"\"\"","v":""},null,{"$f":"IF($DM33=FB$5,MAX(FA$6:FA32)+1,\"\")","v":""},"",null,null,{"$f":"IF($DM33=FF$5,MAX(FE$6:FE32)+1,\"\")","v":""},"",null,null,{"$f":"IF($DM33=FJ$5,MAX(FI$6:FI32)+1,\"\")","v":""},"",null,null,null,null,null,null,null,null,null,null,null,null,null,null,null,null,null,null,null,null,null,null,null,null,null,null,null,null,null,null,null,null,null,null,null,null,null,null,null,null,null,null,null,null,null,null,null,null,null,null,null,null,"gnome","humanoid","mongrelfolk",null,null,null,null,null,null,null,null,null,null,null,null,null,null,null,null,null,null,null,null,{"$f":"IF(IJ33=1,MAX($IH$2:IH32)+1,\"\")","v":""},"Whispers of the Grave",{"$f":"IF(WarlockLevel>=9,1,\"\")","v":""},"   You can cast speak with dead at will, without expending a spell slot.",31,"",null,null,null,null,null,null,null,null,null,null,"Sune (CG)","Goddess of love and beauty","Chaotic Good","Life, Light","Face of a beautiful red-haired woman",null,null,null,null,null,null,null,null,null,null,1,2,"-","-","-","-","-","-","-","-",1,null,null,null,null,null,null,null,null,null,null,null,null,null,null,null,null,null,null,null,null,null,null,"Forgery kit","No","Tools",null,null,null,null,null,null,null,null,null,null,null,null,null,null,null,null,null,null,null,null,null,null,null,null,null,null,null,null,null,null,null,null,null,null,null,null,null,null,null,null,null,null,null,null,null,null,null,null,null,null,null,null,null,null,null,null,null,null,null,null,null,null,null,null,null,null,null,null,null,null,null,null,null,null,null,null,null,null,null,null,null,null,null,null,null,null,null,null,null,null,null,null,null,null,null,null,null,null,null,null,null,null,null,null,null,null,null,null,null,null,null,null,null,null,null,null,null,null,null,null,null,null,null,null,null,null,{"$f":"IF(COUNTIF(Start!$AX$59:$BF$68,Tables!KT33)>0,Tables!KT33,\"\")","v":""},null,"",{"$f":"IF(PU33=\"\",\"\",IF(COUNTIF(PU33:$PU$57,\"><\")>1,PU33&\", \", PU33))","v":""},null,null,null,"Short sword","Martial Melee","not proficient","1d6","piercing","-",2,{"$f":"\"\"","v":""},"finesse",{"$f":"\"\"","v":""},"light",{"$f":"\"\"","v":""},{"$f":"\"\"","v":""},{"$f":"\"\"","v":""},{"$f":"\"\"","v":""},{"$f":"\"\"","v":""},{"$f":"\"\"","v":""},{"$f":"\"\"","v":""},{"$f":"\"\"","v":""},null,null,null,null,null,null,null,null,null,null,null,null,null,null,null,null,null,null,null,null,null,null,null,null,null,null,null,null,null,null,null,null,null,null,null,null,null,null,null,null,null,null,null,null,null,null,null,null,null,null,null,null,null,null,null,null,null,null,null,null,null,null,null,null,null,null,null,null,null,{"$f":"TJ32+1","v":31},"Bigby's Hand","LEVEL 5",5,{"$f":"TK33&\" \"&TO33&TP33&TQ33&TR33","v":"Bigby's Hand ᴴ "},"ᴴ ","",{"$f":"IF(OR(TK33=Spellcasting!$AC$18,TK33=Spellcasting!$AC$19),\"ᵐ\",\"\")","v":""},{"$f":"IF(OR(TK33=Spellcasting!$AC$20,TK33=Spellcasting!$AC$21),\"ˢ\",\"\")","v":""},{"$f":"\"\"","v":""},"1 act","120 ft","1 min ᶜᵒᶰ","VSM","an eggshell and a snakeskin glove","evocation","evoc","You create a Large hand of shimmering, translucent force in an unoccupied space that you can see within range. The hand lasts for the spell’s duration, and it moves at your command, mimicking the movements of your own hand. \n\nThe hand is an object that has AC 20 and hit points equal to your hit point maximum. If it drops to 0 hit points, the spell ends. It has a Strength of 26 (+8) and a Dexterity of 10 (+0). The hand doesn’t fill its space. \n\nWhen you cast the spell and as a bonus action on your subsequent turns, you can move the hand up to 60 feet and then cause one of the following effects with it. \n\nClenched Fist. The hand strikes one creature or object within 5 feet of it. Make a melee spell attack for the hand using your game statistics. On a hit, the target takes 4d8 force damage. \n\nForceful Hand. The hand attempts to push a creature within 5 feet of it in a direction you choose. Make a check with the hand’s Strength contested by the Strength (Athletics) check of the target. If the target is Medium or smaller, you have advantage on the check. If you succeed, the hand pushes the target up to 5 feet plus a number of feet equal to five times your spellcasting ability modifier. The hand moves with the target to remain within 5 feet of it. \n\nGrasping Hand. The hand attempts to grapple a Huge or smaller creature within 5 feet of it. You use the hand’s Strength score to resolve the grapple. If the target is Medium or smaller, you have advantage on the check. While the hand is grappling the target, you can use a bonus action to have the hand crush it. When you do so, the target takes bludgeoning damage equal to 2d6 + your spellcasting ability modifier. \n\nInterposing Hand. The hand interposes itself between you and a creature you choose until you give the hand a different command. The hand moves to stay between you and the target, providing you with half cover against the target. The target can't move through the hand’s space if its Strength score is less than or equal to the hand’s Strength score. If its Strength score is higher than the hand’s Strength score, the target can move toward you through the hand’s space, but that space is difficult terrain for the target. \n\nAt Higher Levels. When you cast this spell using a spell slot of 6th level or higher, the damage from the clenched fist option increases by 2d8 and the damage from the grasping hand increases by 2d6 for each slot level above 5th.",{"$f":"\"Clenched 4d8+\"&INTMod&\" force, Forceful, Grasping 2d8+\"&INTMod&\" (b), Interposing\"","v":"Clenched 4d8+-5 force, Forceful, Grasping 2d8+-5 (b), Interposing"},null,null,null,null,null,null,null,null,null,{"$f":"IF(UL$1>=$TM33,1,\"0\")","v":"0"},null,null,null,null,null,null,null,null,null,null,null,null,null,null,null,null,null,null,null,null,null,null,null,null,null,null,null,null,null,null,null,null,null,null,null,null,null,null,null,null,null,null,null,{"$f":"IF(SUM($VZ$1:$WC$1)>0,IF(AND(SUM($VZ33:$WC33)>0,$TM33=WE$1),MAX(WD$2:WD32)+1,\"\"),IF(AND(SUM($UC33:$VY33)>0,$TM33=WE$1),MAX(WD$2:WD32)+1,\"\"))","v":""},"",{"$f":"IF(AND(SUM($UB33:$VY33)>0,$TM33=WG$1),MAX(WF$2:WF32)+1,\"\")","v":""},"",{"$f":"IF(AND(SUM($UB33:$VY33)>0,$TM33=WI$1),MAX(WH$2:WH32)+1,\"\")","v":""},"",{"$f":"IF(AND(SUM($UB33:$VY33)>0,$TM33=WK$1),MAX(WJ$2:WJ32)+1,\"\")","v":""},"",{"$f":"IF(AND(SUM($UB33:$VY33)>0,$TM33=WM$1),MAX(WL$2:WL32)+1,\"\")","v":""},"",{"$f":"IF(AND(SUM($UB33:$VY33)>0,$TM33=WO$1),MAX(WN$2:WN32)+1,\"\")","v":""},"",{"$f":"IF(AND(SUM($UB33:$VY33)>0,$TM33=WQ$1),MAX(WP$2:WP32)+1,\"\")","v":""},"",{"$f":"IF(AND(SUM($UB33:$VY33)>0,$TM33=WS$1),MAX(WR$2:WR32)+1,\"\")","v":""},"",{"$f":"IF(AND(SUM($UB33:$VY33)>0,$TM33=WU$1),MAX(WT$2:WT32)+1,\"\")","v":""},"",{"$f":"IF(AND(SUM($UB33:$VY33)>0,$TM33=WW$1),MAX(WV$2:WV32)+1,\"\")","v":""},"",{"$f":"IF(AND(SUM($UB33:$VY33)>0,$TM33=WY$1),MAX(WX$2:WX32)+1,\"\")","v":""},"",32,"","","","","","","","","","","",1,{"$f":"IF(XL33=1,MAX($XM$27:XM32)+1,\"\")","v":6},"Hawk","Beast","Tiny",13,1,"10 ft, fly 60 ft",5,16,8,2,14,6,"Perception +4","passive Perception 14","Talons melee +5, reach 5ft, 1 slashing","Keen Sight. Advantage on Wisdom (Perception) checks that rely on sight",null,null,null,"Linguist","none","You have studied languages and codes, gaining the following benefits:\n• Increase your Intelligence score by 1, to a maximum of 20. \n• You learn three languages of your choice. \n• You can ably create written ciphers. Others can’t decipher a code you create unless you teach them, they succeed on an Intelligence check (DC = Intelligence score + your proficiency bonus), or they use magic to decipher it.",{"$f":"\"  - Increase your Intelligence score by 1, to a maximum of 20. \n  - You learn three languages of your choice. \n  - You can create written ciphers.\"&\" Others can’t decipher a code you create unless you teach them, they succeed on an\n     Intelligence check DC \"&INT+ProfBonus&\", or they use magic to decipher it.\"","v":"  - Increase your Intelligence score by 1, to a maximum of 20. \n  - You learn three languages of your choice. \n  - You can create written ciphers. Others can’t decipher a code you create unless you teach them, they succeed on an\n     Intelligence check DC 2, or they use magic to decipher it."},"• Learn three languages of your choice",3,"IN",1,null,null,null,null,null,"Monk",16,{"$f":"VLOOKUP(YY33,$ZI$2:$ZP$23,$ZI$1,FALSE)","v":""},{"$f":"IF(YX33=\"\",\"\",MAX($YW$1:YW32)+1)","v":""},"",""]
[null,null,null,null,null,null,null,null,null,null,null,null,null,null,null,null,null,null,null,null,null,null,null,null,null,null,null,null,null,null,null,null,null,null,null,null,null,null,null,null,33,{"$f":"HLOOKUP(CharacterBackground,$AQ$2:$BD$63,$AO34,FALSE)","v":""},{"$f":"\"\"","v":""},"I judge others harshly, and myself even more severely.","I can’t resist a pretty face.","When I see something valuable, I can’t think about anything but how to steal it.","I’ll do anything to win fame and renown. ","The tyrant who rules my land will stop at nothing to see me killed.","I’ll do anything to get my hands on something rare or priceless. ","Now that I've returned to the world, I enjoy its delights a little too much.","I secretly believe that everyone is beneath me.","I am too enamored of ale, wine, and other intoxicants. ","I am easily distracted by the promise of information. ","I follow orders, even if I think they’re wrong.","The monstrous enemy we faced in battle still leaves me quivering with fear.","If I'm outnumbered, I will run away from a fight. ",{"$f":"\"\"","v":""},null,null,null,null,null,null,null,null,null,null,null,null,null,null,null,null,null,null,null,null,null,null,null,null,null,null,null,null,null,null,null,null,null,null,null,null,null,null,null,null,null,null,null,null,null,null,null,null,null,null,null,null,null,null,null,null,null,null,"Way of the Four Elements","Monk",0,{"$f":"\"\"","v":""},{"$f":"\"\"","v":""},{"$f":"\"• Monastic Tradition Feature (Disciple of the Elements)\n• Elemental Disciplines\n\"&EI34&\"\n\"","v":"• Monastic Tradition Feature (Disciple of the Elements)\n• Elemental Disciplines\n\n"},{"$f":"\"\"","v":""},{"$f":"\"\"","v":""},{"$f":"\"\"","v":""},{"$f":"\"\"","v":""},{"$f":"\"\"","v":""},{"$f":"\"\"","v":""},{"$f":"\"\"","v":""},{"$f":"\"\"","v":""},{"$f":"\"\"","v":""},{"$f":"\"\"","v":""},{"$f":"\"\"","v":""},{"$f":"\"\"","v":""},{"$f":"\"\"","v":""},{"$f":"\"\"","v":""},{"$f":"\"\"","v":""},{"$f":"\"\"","v":""},{"$f":"\"\"","v":""},{"$f":"IF(MonkLevel>=17,\" 3rd \"&HB3&\"\n 3rd \"&HB4&\"\n 6th \"& HB5&\"\n 11th \"&HB6&\"\n 17th \"&HB7,IF(MonkLevel>=11,\" 3rd \"&HB3&\"\n 3rd \"&HB4&\"\n 6th \"&HB5&\"\n 11th \"&HB6,IF(MonkLevel>=6,\" 3rd \"&HB3&\"\n 3rd \"&HB4&\"\n 6th \"&HB5,IF(MonkLevel>=3,\" 3rd \"&HB3&\"\n  3rd \"&HB4,\"\"))))","v":""},{"$f":"\"\"","v":""},null,{"$f":"\"\"","v":""},null,{"$f":"\"\"","v":""},null,{"$f":"\"\"","v":""},null,{"$f":"\"\"","v":""},null,{"$f":"\"\"","v":""},{"$f":"\"\"","v":""},{"$f":"\"\"","v":""},{"$f":"\"\"","v":""},{"$f":"\"\"","v":""},{"$f":"\"\"","v":""},null,{"$f":"IF($DM34=FB$5,MAX(FA$6:FA33)+1,\"\")","v":""},"",null,null,{"$f":"IF($DM34=FF$5,MAX(FE$6:FE33)+1,\"\")","v":""},"",null,null,{"$f":"IF($DM34=FJ$5,MAX(FI$6:FI33)+1,\"\")","v":""},"",null,null,null,null,null,null,null,null,null,null,null,null,null,null,null,null,null,null,null,null,null,null,null,null,null,null,null,null,null,null,null,null,null,null,null,null,null,null,null,null,null,null,null,null,null,null,null,null,null,null,null,null,"goblin","humanoid","mul",null,null,null,null,null,null,null,null,null,null,null,null,null,null,null,null,null,null,null,null,{"$f":"IF(IJ34=1,MAX($IH$2:IH33)+1,\"\")","v":""},"Witch Sight",{"$f":"IF(WarlockLevel>=15,1,\"\")","v":""},"   You can see the true form of any shapechanger or creature concealed by illusion or transmutation magic while the\n   creature is within 30 feet of you and within line of sight.",32,"",null,null,null,null,null,null,null,null,null,null,"Talona (CE)","Goddess of disease and poison","Chaotic Evil","Death","Three teardrops on a triangle",null,null,null,null,null,null,null,null,null,null,2,3,"-","-","-","-","-","-","-","-",1,null,null,null,null,null,null,null,null,null,null,null,null,null,null,null,null,null,null,null,null,null,null,"-- Gaming set","No","Tools",null,null,null,null,null,null,null,null,null,null,null,null,null,null,null,null,null,null,null,null,null,null,null,null,null,null,null,null,null,null,null,null,null,null,null,null,null,null,null,null,null,null,null,null,null,null,null,null,null,null,null,null,null,null,null,null,null,null,null,null,null,null,null,null,null,null,null,null,null,null,null,null,null,null,null,null,null,null,null,null,null,null,null,null,null,null,null,null,null,null,null,null,null,null,null,null,null,null,null,null,null,null,null,null,null,null,null,null,null,null,null,null,null,null,null,null,null,null,null,null,null,null,null,null,null,null,{"$f":"IF(COUNTIF(Start!$AX$59:$BF$68,Tables!KT34)>0,Tables!KT34,\"\")","v":""},null,"",{"$f":"IF(PU34=\"\",\"\",IF(COUNTIF(PU34:$PU$57,\"><\")>1,PU34&\", \", PU34))","v":""},null,null,null,"Shortbow","Simple Ranged","not proficient","1d6","piercing","80/320",2,"ammunition",{"$f":"\"\"","v":""},{"$f":"\"\"","v":""},{"$f":"\"\"","v":""},{"$f":"\"\"","v":""},{"$f":"\"\"","v":""},{"$f":"\"\"","v":""},{"$f":"\"\"","v":""},"two-handed",{"$f":"\"\"","v":""},{"$f":"\"\"","v":""},"Arrows",null,null,null,null,null,null,null,null,null,null,null,null,null,null,null,null,null,null,null,null,null,null,null,null,null,null,null,null,null,null,null,null,null,null,null,null,null,null,null,null,null,null,null,null,null,null,null,null,null,null,null,null,null,null,null,null,null,null,null,null,null,null,null,null,null,null,null,null,null,32,"Blade Barrier","LEVEL 6",6,"Blade Barrier ",{"$f":"\"\"","v":""},"",{"$f":"IF(OR(TK34=Spellcasting!$AC$18,TK34=Spellcasting!$AC$19),\"ᵐ\",\"\")","v":""},{"$f":"IF(OR(TK34=Spellcasting!$AC$20,TK34=Spellcasting!$AC$21),\"ˢ\",\"\")","v":""},{"$f":"\"\"","v":""},"1 act","90 ft","10 min ᶜᵒᶰ","VS",{"$f":"\"\"","v":""},"evocation","evoc","You create a vertical wall of whirling, razor-sharp blades made of magical energy. The wall appears within range and lasts for the duration. You can make a straight wall up to 100 feet long, 20 feet high, and 5 feet thick, or a ringed wall up to 60 feet in diameter, 20 feet high, and 5 feet thick. The wall provides three-quarters cover to creatures behind it, and its space is difficult terrain. \n\nWhen a creature enters the wall’s area for the first time on a turn or starts its turn there, the creature must make a Dexterity saving throw. On a failed save, the creature takes 6d10 slashing damage. On a successful save, the creature takes half as much damage","5x20x100ft long, 5x20x60ft dia, 6d10 slash, dex save ½",null,null,null,null,null,{"$f":"IF(UH$1>=$TM34,1,\"0\")","v":"0"},null,null,null,null,null,null,null,null,null,null,null,null,null,null,null,null,null,null,null,null,null,null,null,null,null,null,null,null,null,null,null,null,null,null,null,null,null,null,null,null,null,null,null,null,null,null,null,{"$f":"IF(SUM($VZ$1:$WC$1)>0,IF(AND(SUM($VZ34:$WC34)>0,$TM34=WE$1),MAX(WD$2:WD33)+1,\"\"),IF(AND(SUM($UC34:$VY34)>0,$TM34=WE$1),MAX(WD$2:WD33)+1,\"\"))","v":""},"",{"$f":"IF(AND(SUM($UB34:$VY34)>0,$TM34=WG$1),MAX(WF$2:WF33)+1,\"\")","v":""},"",{"$f":"IF(AND(SUM($UB34:$VY34)>0,$TM34=WI$1),MAX(WH$2:WH33)+1,\"\")","v":""},"",{"$f":"IF(AND(SUM($UB34:$VY34)>0,$TM34=WK$1),MAX(WJ$2:WJ33)+1,\"\")","v":""},"",{"$f":"IF(AND(SUM($UB34:$VY34)>0,$TM34=WM$1),MAX(WL$2:WL33)+1,\"\")","v":""},"",{"$f":"IF(AND(SUM($UB34:$VY34)>0,$TM34=WO$1),MAX(WN$2:WN33)+1,\"\")","v":""},"",{"$f":"IF(AND(SUM($UB34:$VY34)>0,$TM34=WQ$1),MAX(WP$2:WP33)+1,\"\")","v":""},"",{"$f":"IF(AND(SUM($UB34:$VY34)>0,$TM34=WS$1),MAX(WR$2:WR33)+1,\"\")","v":""},"",{"$f":"IF(AND(SUM($UB34:$VY34)>0,$TM34=WU$1),MAX(WT$2:WT33)+1,\"\")","v":""},"",{"$f":"IF(AND(SUM($UB34:$VY34)>0,$TM34=WW$1),MAX(WV$2:WV33)+1,\"\")","v":""},"",{"$f":"IF(AND(SUM($UB34:$VY34)>0,$TM34=WY$1),MAX(WX$2:WX33)+1,\"\")","v":""},"",33,"",{"$f":"IF(ISERROR(VLOOKUP($WZ34,$WF$1:$WG$5013,2,FALSE)),\"\",VLOOKUP($WZ34,$WF$1:$WG$5013,2,FALSE))","v":""},{"$f":"IF(ISERROR(VLOOKUP($WZ34,$WH$1:$WI$5013,2,FALSE)),\"\",VLOOKUP($WZ34,$WH$1:$WI$5013,2,FALSE))","v":""},"","","","","","","","",{"$f":"IF(Start!$AJ$54=Tables!$IS$4,1,\"\")","v":""},{"$f":"IF(XL34=1,MAX($XM$27:XM33)+1,\"\")","v":""},"Imp","Fiend","Tiny",13,10,"20 ft, fly 40 ft",6,17,13,11,12,14,"Deception +4, Insight +3, Persuation +4, Stealth +5","passive Perception 11, darkvision 120 ft (devil's sight)","Sting melee +5, reach 5ft, 1d4+3 piercing\nDC11 Con save ½, 3d6 poison","Invisiblity. Use action turn invisible (see spell)\nImmunities. fire, poison (poisoned). Resistances. cold; bludgeon, pierce, slash (silver)\nShapechange. Use action to polymorph into a rat, raven or spider. Equipment not transformed\nMagic Resistance: Advantage on saving throws against spells and magical effects",null,null,null,"Lucky","none","You have inexplicable luck that seems to kick in at just the right moment. \nYou have 3 luck points. Whenever you make an attack roll, an ability check, or a saving throw, you can spend one luck point to roll an additional d20. You can choose to spend one of your luck points after you roll the die, but before the outcome is determined. You choose which of the d20s is used for the attack roll, ability check, or saving throw. \nYou can also spend one luck point when an attack roll is made against you. Roll a d20, and then choose whether the attack uses the attacker’s roll or yours. \nIf more than one creature spends a luck point to influence the outcome of a roll, the points cancel each other out; no additional dice are rolled. \nYou regain your expended luck points when you finish a long rest.","  - You have 3 luck points. \n  - Whenever you make an attack roll, an ability check, or a saving throw, you can spend one luck point to roll an additional d20.\n     You can choose to spend one of your luck points after you roll the die, but before the outcome is determined. You choose\n     which of the d20s is used for the attack roll, ability check, or saving throw. \n  - You can also spend one luck point when an attack roll is made against you. Roll a d20, and then choose whether the attack\n     uses the attacker’s roll or yours. \n  - If more than one creature spends a luck point to influence the outcome of a roll, the points cancel each other out; no\n     additional dice are rolled. \n  - You regain your expended luck points when you finish a long rest.",{"$f":"\"\"","v":""},{"$f":"\"\"","v":""},{"$f":"\"\"","v":""},{"$f":"\"\"","v":""},null,null,null,null,null,"Monk",19,{"$f":"VLOOKUP(YY34,$ZI$2:$ZP$23,$ZI$1,FALSE)","v":""},{"$f":"IF(YX34=\"\",\"\",MAX($YW$1:YW33)+1)","v":""},"",""]
[null,null,null,null,null,null,null,null,null,null,null,null,null,null,null,null,null,null,null,null,null,null,null,null,null,null,null,null,null,null,null,null,null,null,null,null,null,null,null,null,34,"",{"$f":"\"\"","v":""},"I put too much trust in those who wield power within my temple’s hierarchy.","I'm always in debt. I spend my ill-gotten gains on decadent luxuries faster than I bring them in..","When faced with a choice between money and my friends, I usually choose the money.","I’m a sucker for a pretty face. ","I’m convinced of the significance of my destiny, and blind to my shortcomings and the risk of failure.","I’m quick to assume that someone is trying to cheat me. ","I harbor dark, bloodthirsty thoughts that my isolation and meditation failed to quell. ","I hide a truly scandalous secret that could ruin my family forever.","There’s no room for caution in a life lived to the fullest. ","Most people scream and run when they see a demon. I stop and take notes on its anatomy.","I’ll say anything to avoid having to do extra work. ","I have little respect for anyone who is not a proven warrior.","Gold seems like a lot of money to me, and I’ll do just.\nabout anything for more of it.",{"$f":"\"\"","v":""},null,null,null,null,null,null,null,null,null,null,null,null,null,null,null,null,null,null,null,null,null,null,null,null,null,null,null,null,null,null,null,null,null,null,null,null,null,null,null,null,null,null,null,null,null,null,null,null,null,null,null,null,null,null,null,null,null,null,"Way of the Open Hand","Monk",0,{"$f":"\"\"","v":""},{"$f":"\"\"","v":""},{"$f":"\"• Monastic Tradition Feature (Open Hand Technique)\n\"","v":"• Monastic Tradition Feature (Open Hand Technique)\n"},{"$f":"\"\"","v":""},{"$f":"\"\"","v":""},{"$f":"\"• Monastic Tradition Feature (Wholeness of Body: \"&MonkLevel*3&\" HP)\n\"","v":"• Monastic Tradition Feature (Wholeness of Body: 0 HP)\n"},{"$f":"\"\"","v":""},{"$f":"\"\"","v":""},{"$f":"\"\"","v":""},{"$f":"\"\"","v":""},{"$f":"\"• Monastic Tradition Feature (Tranquility)\n\"","v":"• Monastic Tradition Feature (Tranquility)\n"},{"$f":"\"\"","v":""},{"$f":"\"\"","v":""},{"$f":"\"\"","v":""},{"$f":"\"\"","v":""},{"$f":"\"\"","v":""},{"$f":"\"• Monastic Tradition Feature (Quivering Palm: \"&MonkLevel&\" days)\n\"","v":"• Monastic Tradition Feature (Quivering Palm: 0 days)\n"},{"$f":"\"\"","v":""},{"$f":"\"\"","v":""},{"$f":"\"\"","v":""},{"$f":"\"\"","v":""},{"$f":"\"\"","v":""},null,{"$f":"\"\"","v":""},null,{"$f":"\"\"","v":""},null,{"$f":"\"\"","v":""},null,{"$f":"\"\"","v":""},null,{"$f":"\"\"","v":""},{"$f":"\"\"","v":""},{"$f":"\"\"","v":""},{"$f":"\"\"","v":""},{"$f":"\"\"","v":""},{"$f":"\"\"","v":""},null,{"$f":"IF($DM35=FB$5,MAX(FA$6:FA34)+1,\"\")","v":""},"",null,null,{"$f":"IF($DM35=FF$5,MAX(FE$6:FE34)+1,\"\")","v":""},"",null,null,{"$f":"IF($DM35=FJ$5,MAX(FI$6:FI34)+1,\"\")","v":""},"",null,null,null,null,null,null,null,null,null,null,null,null,null,null,null,null,null,null,null,null,null,null,null,null,null,null,null,null,null,null,null,null,null,null,null,null,null,null,null,null,null,null,null,null,null,null,null,null,null,null,null,null,"goliath","humanoid","nilbog",null,null,null,null,null,null,null,null,null,null,null,null,null,null,null,null,null,null,null,null,{"$f":"IF(IJ35=TRUE,MAX($IH$2:IH34)+1,\"\")","v":""},null,null,null,null,null,null,null,null,null,null,null,null,null,null,null,"Talos (CE)","God of storms","Chaotic Evil","Tempest","Three lightning bolts radiating from a central point",null,null,null,null,null,null,null,null,null,null,3,4,2,"-","-","-","-","-","-","-",2,null,null,null,null,null,null,null,null,null,null,null,null,null,null,null,null,null,null,null,null,null,null,"Dice set","No","Tools",null,null,null,null,null,null,null,null,null,null,null,null,null,null,null,null,null,null,null,null,null,null,null,null,null,null,null,null,null,null,null,null,null,null,null,null,null,null,null,null,null,null,null,null,null,null,null,null,null,null,null,null,null,null,null,null,null,null,null,null,null,null,null,null,null,null,null,null,null,null,null,null,null,null,null,null,null,null,null,null,null,null,null,null,null,null,null,null,null,null,null,null,null,null,null,null,null,null,null,null,null,null,null,null,null,null,null,null,null,null,null,null,null,null,null,null,null,null,null,null,null,null,null,null,null,null,{"$f":"IF(COUNTIF(Start!$AX$59:$BF$68,Tables!KT35)>0,Tables!KT35,\"\")","v":""},null,"",{"$f":"IF(PU35=\"\",\"\",IF(COUNTIF(PU35:$PU$57,\"><\")>1,PU35&\", \", PU35))","v":""},null,null,null,"Sickle","Simple Melee","not proficient","1d4","slashing","-",2,{"$f":"\"\"","v":""},{"$f":"\"\"","v":""},{"$f":"\"\"","v":""},"light",{"$f":"\"\"","v":""},{"$f":"\"\"","v":""},{"$f":"\"\"","v":""},{"$f":"\"\"","v":""},{"$f":"\"\"","v":""},{"$f":"\"\"","v":""},{"$f":"\"\"","v":""},{"$f":"\"\"","v":""},null,null,null,null,null,null,null,null,null,null,null,null,null,null,null,null,null,null,null,null,null,null,null,null,null,null,null,null,null,null,null,null,null,null,null,null,null,null,null,null,null,null,null,null,null,null,null,null,null,null,null,null,null,null,null,null,null,null,null,null,null,null,null,null,null,null,null,null,null,33,"Blade Ward","CANTRIP",0.5,"Blade Ward ",{"$f":"\"\"","v":""},"",{"$f":"IF(OR(TK35=Spellcasting!$AC$18,TK35=Spellcasting!$AC$19),\"ᵐ\",\"\")","v":""},{"$f":"IF(OR(TK35=Spellcasting!$AC$20,TK35=Spellcasting!$AC$21),\"ˢ\",\"\")","v":""},{"$f":"\"\"","v":""},"1 act","self","1 rnd","VS",{"$f":"\"\"","v":""},"abjuration","abjur","You extend your hand and trace a sigil of warding in the air. Until the end of your next turn, you have resistance against bludgeoning, piercing, and slashing damage dealt by weapon attacks.","resistance to blugeon, pierce & slash damage ",{"$f":"IF(UC$1>=$TM35,1,\"0\")","v":"0"},null,null,{"$f":"IF(UF$1>=$TM35,1,\"0\")","v":"0"},{"$f":"IF(UG$1>=$TM35,1,\"0\")","v":"0"},null,null,null,null,{"$f":"IF(UL$1>=$TM35,1,\"0\")","v":"0"},null,null,null,null,null,null,null,null,null,null,null,null,null,null,null,null,null,null,null,null,null,null,null,null,null,null,null,null,null,{"$f":"IF(VP$1>=$TM35,1,\"0\")","v":"0"},{"$f":"IF(VQ$1>=$TM35,1,\"0\")","v":"0"},null,null,null,null,null,null,null,null,null,null,{"$f":"IF(WB$1>=$TM35,1,\"0\")","v":"0"},null,{"$f":"IF(SUM($VZ$1:$WC$1)>0,IF(AND(SUM($VZ35:$WC35)>0,$TM35=WE$1),MAX(WD$2:WD34)+1,\"\"),IF(AND(SUM($UC35:$VY35)>0,$TM35=WE$1),MAX(WD$2:WD34)+1,\"\"))","v":""},"",{"$f":"IF(AND(SUM($UB35:$VY35)>0,$TM35=WG$1),MAX(WF$2:WF34)+1,\"\")","v":""},"",{"$f":"IF(AND(SUM($UB35:$VY35)>0,$TM35=WI$1),MAX(WH$2:WH34)+1,\"\")","v":""},"",{"$f":"IF(AND(SUM($UB35:$VY35)>0,$TM35=WK$1),MAX(WJ$2:WJ34)+1,\"\")","v":""},"",{"$f":"IF(AND(SUM($UB35:$VY35)>0,$TM35=WM$1),MAX(WL$2:WL34)+1,\"\")","v":""},"",{"$f":"IF(AND(SUM($UB35:$VY35)>0,$TM35=WO$1),MAX(WN$2:WN34)+1,\"\")","v":""},"",{"$f":"IF(AND(SUM($UB35:$VY35)>0,$TM35=WQ$1),MAX(WP$2:WP34)+1,\"\")","v":""},"",{"$f":"IF(AND(SUM($UB35:$VY35)>0,$TM35=WS$1),MAX(WR$2:WR34)+1,\"\")","v":""},"",{"$f":"IF(AND(SUM($UB35:$VY35)>0,$TM35=WU$1),MAX(WT$2:WT34)+1,\"\")","v":""},"",{"$f":"IF(AND(SUM($UB35:$VY35)>0,$TM35=WW$1),MAX(WV$2:WV34)+1,\"\")","v":""},"",{"$f":"IF(AND(SUM($UB35:$VY35)>0,$TM35=WY$1),MAX(WX$2:WX34)+1,\"\")","v":""},"",34,"","","",{"$f":"IF(ISERROR(VLOOKUP($WZ35,$WJ$1:$WK$5013,2,FALSE)),\"\",VLOOKUP($WZ35,$WJ$1:$WK$5013,2,FALSE))","v":""},{"$f":"IF(ISERROR(VLOOKUP($WZ35,$WL$1:$WM$5013,2,FALSE)),\"\",VLOOKUP($WZ35,$WL$1:$WM$5013,2,FALSE))","v":""},{"$f":"IF(ISERROR(VLOOKUP($WZ35,$WN$1:$WO$5013,2,FALSE)),\"\",VLOOKUP($WZ35,$WN$1:$WO$5013,2,FALSE))","v":""},{"$f":"IF(ISERROR(VLOOKUP($WZ35,$WP$1:$WQ$5013,2,FALSE)),\"\",VLOOKUP($WZ35,$WP$1:$WQ$5013,2,FALSE))","v":""},{"$f":"IF(ISERROR(VLOOKUP($WZ35,$WR$1:$WS$5013,2,FALSE)),\"\",VLOOKUP($WZ35,$WR$1:$WS$5013,2,FALSE))","v":""},{"$f":"IF(ISERROR(VLOOKUP($WZ35,$WT$1:$WU$5013,2,FALSE)),\"\",VLOOKUP($WZ35,$WT$1:$WU$5013,2,FALSE))","v":""},{"$f":"IF(ISERROR(VLOOKUP($WZ35,$WV$1:$WW$5013,2,FALSE)),\"\",VLOOKUP($WZ35,$WV$1:$WW$5013,2,FALSE))","v":""},{"$f":"IF(ISERROR(VLOOKUP($WZ35,$WX$1:$WY$5013,2,FALSE)),\"\",VLOOKUP($WZ35,$WX$1:$WY$5013,2,FALSE))","v":""},1,{"$f":"IF(XL35=1,MAX($XM$27:XM34)+1,\"\")","v":7},"Lizard","Beast","Tiny",10,2,"20 ft, climb 20 ft",2,11,10,1,8,3,"none","passive Perception 9, darkvision 30 ft","Bite melee +0, reach 5ft, 1 piercing","none",null,null,null,"Mage Slayer","none","You have practiced techniques useful in melee combat against spellcasters, gaining the following benefits:\n• When a creature within 5 feet of you casts a spell, you can use your reaction to make a melee weapon attack against that creature. \n• When you damage a creature that is concentrating on a spell, that creature has disadvantage on the saving throw it makes to maintain its concentration. \n• You have advantage on saving throws against spells cast by creatures within 5 feet of you.","  - When a creature within 5 feet of you casts a spell, use your reaction to make a melee weapon attack against that creature. \n  - When you damage a creature that is concentrating on a spell, that creature has disadvantage on the saving throw it makes\n     to maintain its concentration. \n  - You have advantage on saving throws against spells cast by creatures within 5 feet of you.",{"$f":"\"\"","v":""},{"$f":"\"\"","v":""},{"$f":"\"\"","v":""},{"$f":"\"\"","v":""},null,null,null,null,null,"Paladin",4,{"$f":"VLOOKUP(YY35,$ZJ$2:$ZP$23,$ZJ$1,FALSE)","v":""},{"$f":"IF(YX35=\"\",\"\",MAX($YW$1:YW34)+1)","v":""},{"$f":"IF(INDIRECT(YT35&TEXT(\"Level\",0))>=YU35,YT35&\" - Level \"&YU35,\"\")","v":""},{"$f":"IF(INDIRECT(YT35&TEXT(\"level\",0))>=YU35,YU35,\"\")","v":""}]
[null,null,null,null,null,null,null,null,null,null,null,null,null,null,null,null,null,null,null,null,null,null,null,null,null,null,null,null,null,null,null,null,null,null,null,null,null,null,null,null,35,"",{"$f":"\"\"","v":""},"My piety sometimes leads me to blindly trust those that profess faith in my god.","I’m convinced that no one could ever fool me the way I fool others. ","If there’s a plan, I’ll forget it. If I don’t forget it, I’ll ignore it.","A scandal prevents me from ever going home again. That kind of trouble seems to follow me around. ","The people who knew me when I was young know my shameful secret, so I can never go home again.","No one must ever learn that I once stole money from guild coffers.","I am dogmatic in my thoughts and philosophy. ","I too often hear veiled insults and threats in every word addressed to me, and I’m quick to anger.","I remember every insult I’ve received and nurse a silent resentment toward anyone who’s ever wronged me. ","Unlocking an ancient mystery is worth the price of a civilization.","Once someone questions my courage, I never back down no matter how dangerous the situation. ","I made a terrible mistake in battle that cost many lives—and I would do anything to keep that mistake secret.","I will never fully trust anyone other than myself.",{"$f":"\"\"","v":""},null,null,null,null,null,null,null,null,null,null,null,null,null,null,null,null,null,null,null,null,null,null,null,null,null,null,null,null,null,null,null,null,null,null,null,null,null,null,null,null,null,null,null,null,null,null,null,null,null,null,null,null,null,null,null,null,null,null,"Way of Shadow","Monk",0,{"$f":"\"\"","v":""},{"$f":"\"\"","v":""},{"$f":"\"• Monastic Tradition Feature (Shadow Arts)\n\"","v":"• Monastic Tradition Feature (Shadow Arts)\n"},{"$f":"\"\"","v":""},{"$f":"\"\"","v":""},{"$f":"\"• Monastic Tradition Feature (Shadow Step)\n\"","v":"• Monastic Tradition Feature (Shadow Step)\n"},{"$f":"\"\"","v":""},{"$f":"\"\"","v":""},{"$f":"\"\"","v":""},{"$f":"\"\"","v":""},{"$f":"\"• Monastic Tradition Feature (Cloak of Shadows)\n\"","v":"• Monastic Tradition Feature (Cloak of Shadows)\n"},{"$f":"\"\"","v":""},{"$f":"\"\"","v":""},{"$f":"\"\"","v":""},{"$f":"\"\"","v":""},{"$f":"\"\"","v":""},{"$f":"\"• Monastic Tradition Feature (Opportunist)\n\"","v":"• Monastic Tradition Feature (Opportunist)\n"},{"$f":"\"\"","v":""},{"$f":"\"\"","v":""},{"$f":"\"\"","v":""},{"$f":"\"\"","v":""},{"$f":"\"\"","v":""},null,{"$f":"\"\"","v":""},null,{"$f":"\"\"","v":""},null,{"$f":"\"\"","v":""},null,{"$f":"\"\"","v":""},null,{"$f":"\"\"","v":""},{"$f":"\"\"","v":""},{"$f":"\"\"","v":""},{"$f":"\"\"","v":""},{"$f":"\"\"","v":""},{"$f":"\"\"","v":""},null,{"$f":"IF($DM36=FB$5,MAX(FA$6:FA35)+1,\"\")","v":""},"",null,null,{"$f":"IF($DM36=FF$5,MAX(FE$6:FE35)+1,\"\")","v":""},"",null,null,{"$f":"IF($DM36=FJ$5,MAX(FI$6:FI35)+1,\"\")","v":""},{"$f":"IF(FI36=\"\",\"\",$DL36)","v":""},null,null,null,null,null,null,null,null,null,null,null,null,null,null,null,null,null,null,null,null,null,null,null,null,null,null,null,null,null,null,null,null,null,null,null,null,null,null,null,null,null,null,null,null,null,null,null,null,null,null,null,null,"grippli","humanoid","norker",null,null,null,null,null,null,null,null,null,null,null,null,null,null,null,null,null,null,null,null,{"$f":"IF(IJ36=TRUE,MAX($IH$2:IH35)+1,\"\")","v":""},null,null,null,null,null,null,null,null,null,null,null,null,null,null,null,"Tempus (N)","God of war","Neutral","War","Upright flaming sword",null,null,null,null,null,null,null,null,null,null,4,4,3,"-","-","-","-","-","-","-",2,null,null,null,null,null,null,null,null,null,null,null,null,null,null,null,null,null,null,null,null,null,null,"Dragonchess set","No","Tools",null,null,null,null,null,null,null,null,null,null,null,null,null,null,null,null,null,null,null,null,null,null,null,null,null,null,null,null,null,null,null,null,null,null,null,null,null,null,null,null,null,null,null,null,null,null,null,null,null,null,null,null,null,null,null,null,null,null,null,null,null,null,null,null,null,null,null,null,null,null,null,null,null,null,null,null,null,null,null,null,null,null,null,null,null,null,null,null,null,null,null,null,null,null,null,null,null,null,null,null,null,null,null,null,null,null,null,null,null,null,null,null,null,null,null,null,null,null,null,null,null,null,null,null,null,null,{"$f":"IF(COUNTIF(Start!$AX$59:$BF$68,Tables!KT36)>0,Tables!KT36,\"\")","v":""},null,"",{"$f":"IF(PU36=\"\",\"\",IF(COUNTIF(PU36:$PU$57,\"><\")>1,PU36&\", \", PU36))","v":""},null,null,null,"Sling","Simple Ranged","not proficient","1d4","bludgeoning","30/120",0,"ammunition",{"$f":"\"\"","v":""},{"$f":"\"\"","v":""},{"$f":"\"\"","v":""},{"$f":"\"\"","v":""},{"$f":"\"\"","v":""},{"$f":"\"\"","v":""},{"$f":"\"\"","v":""},{"$f":"\"\"","v":""},{"$f":"\"\"","v":""},{"$f":"\"\"","v":""},"Stones",null,null,null,null,null,null,null,null,null,null,null,null,null,null,null,null,null,null,null,null,null,null,null,null,null,null,null,null,null,null,null,null,null,null,null,null,null,null,null,null,null,null,null,null,null,null,null,null,null,null,null,null,null,null,null,null,null,null,null,null,null,null,null,null,null,null,null,null,null,34,"Bless","LEVEL 1",1,"Bless ᴴ ","ᴴ ","",{"$f":"IF(OR(TK36=Spellcasting!$AC$18,TK36=Spellcasting!$AC$19),\"ᵐ\",\"\")","v":""},{"$f":"IF(OR(TK36=Spellcasting!$AC$20,TK36=Spellcasting!$AC$21),\"ˢ\",\"\")","v":""},{"$f":"\"\"","v":""},"1 act","30 ft","1 min ᶜᵒᶰ","VSM","a sprinkling of holy water","enchantment","ench","You bless up to three creatures of your choice within range. Whenever a target makes an attack roll or a saving throw before the spell ends, the target can roll a d4 and add the number rolled to the attack roll or saving throw. \n\nAt Higher Levels. When you cast this spell using a spell slot of 2nd level or higher, you can target one additional creature for each slot level above 1st. ","bless up to 3 creatures, +1d4 attack & saves",null,{"$f":"IF(UD$1>=$TM36,1,\"0\")","v":"0"},null,null,null,{"$f":"IF(UH$1>=$TM36,1,\"0\")","v":"0"},null,null,null,null,null,null,null,null,null,null,null,null,null,null,null,null,null,{"$f":"IF(UZ$1>=$TM36,1,\"0\")","v":"0"},null,null,null,null,null,null,null,null,null,null,null,null,null,null,null,null,null,null,null,null,null,null,null,null,null,null,null,null,null,{"$f":"IF(SUM($VZ$1:$WC$1)>0,IF(AND(SUM($VZ36:$WC36)>0,$TM36=WE$1),MAX(WD$2:WD35)+1,\"\"),IF(AND(SUM($UC36:$VY36)>0,$TM36=WE$1),MAX(WD$2:WD35)+1,\"\"))","v":""},"",{"$f":"IF(AND(SUM($UB36:$VY36)>0,$TM36=WG$1),MAX(WF$2:WF35)+1,\"\")","v":""},"",{"$f":"IF(AND(SUM($UB36:$VY36)>0,$TM36=WI$1),MAX(WH$2:WH35)+1,\"\")","v":""},"",{"$f":"IF(AND(SUM($UB36:$VY36)>0,$TM36=WK$1),MAX(WJ$2:WJ35)+1,\"\")","v":""},"",{"$f":"IF(AND(SUM($UB36:$VY36)>0,$TM36=WM$1),MAX(WL$2:WL35)+1,\"\")","v":""},"",{"$f":"IF(AND(SUM($UB36:$VY36)>0,$TM36=WO$1),MAX(WN$2:WN35)+1,\"\")","v":""},"",{"$f":"IF(AND(SUM($UB36:$VY36)>0,$TM36=WQ$1),MAX(WP$2:WP35)+1,\"\")","v":""},"",{"$f":"IF(AND(SUM($UB36:$VY36)>0,$TM36=WS$1),MAX(WR$2:WR35)+1,\"\")","v":""},"",{"$f":"IF(AND(SUM($UB36:$VY36)>0,$TM36=WU$1),MAX(WT$2:WT35)+1,\"\")","v":""},"",{"$f":"IF(AND(SUM($UB36:$VY36)>0,$TM36=WW$1),MAX(WV$2:WV35)+1,\"\")","v":""},"",{"$f":"IF(AND(SUM($UB36:$VY36)>0,$TM36=WY$1),MAX(WX$2:WX35)+1,\"\")","v":""},"",35,"","","","","","","","","","","",{"$f":"IF(RangerBeastMasterLevel>=3,1,\"\")","v":""},{"$f":"IF(XL36=1,MAX($XM$27:XM35)+1,\"\")","v":""},"Mastiff","Beast","Medium",12,5,"40 ft",13,14,12,3,12,7,"Perception +3","passive Perception 13","Bite melee +3, reach 5ft, 1d6+1 piercing\nDC 11 Str save or prone","Keen Hearing and Smell. Advantage on Wisdom (Perception) checks that rely on hearing or smell",null,null,null,"Magic Initiate","none","Choose a class: bard, cleric, druid, sorcerer, warlock, or wizard. You learn two cantrips of your choice from that class’s spell list. \nIn addition, choose one 1st-level spell from that same list. You learn that spell and can cast it at its lowest level. Once you cast it, you must finish a long rest before you can cast it again. \nYour spellcasting ability for these spells depends on the class you chose: Charisma for bard, sorcerer, or warlock; Wisdom for cleric or druid: or Intelligence for wizard.","  - Choose a class: bard, cleric, druid, sorcerer, warlock, or wizard. \n  - You learn two cantrips of your choice from that class’s spell list. \n  - In addition, choose one 1st-level spell from that same list. You learn that spell and can cast it at its lowest level. Once you cast\n     it, you must finish a long rest before you can cast it again. \n  - Your spellcasting ability for these spells depends on the class chosen: Charisma for bard, sorcerer, or warlock; Wisdom for\n     cleric or druid: or Intelligence for wizard.",{"$f":"\"\"","v":""},{"$f":"\"\"","v":""},{"$f":"\"\"","v":""},{"$f":"\"\"","v":""},null,null,null,null,null,"Paladin",8,{"$f":"VLOOKUP(YY36,$ZJ$2:$ZP$23,$ZJ$1,FALSE)","v":""},{"$f":"IF(YX36=\"\",\"\",MAX($YW$1:YW35)+1)","v":""},"",""]
[null,null,null,null,null,null,null,null,null,null,null,null,null,null,null,null,null,null,null,null,null,null,null,null,null,null,null,null,null,null,null,null,null,null,null,null,null,null,null,null,36,"",{"$f":"\"\"","v":""},"I am inflexible in my thinking.","I’m too greedy for my own good. I can’t resist taking a risk if there’s money involved. ","I have a “tell” that reveals when I’m lying.","I once satirized a noble who still wants my head. It was a mistake that I will likely repeat.","I have a weakness for the vices of the city, especially hard drink.","I’m never satisfied with what I have — I always want more. ","I let my need to win arguments overshadow friendships and harmony. ","I have an insatiable desire for carnal pleasures.","I am slow to trust members of other races, tribes, and societies. ","I overlook obvious solutions in favor of complicated ones. ","Once I start drinking, it’s hard for me to stop. ","My hatred of my enemies is blind and unreasoning.","I’d rather kill someone in their sleep then fight fair.",{"$f":"\"\"","v":""},null,null,null,null,null,null,null,null,null,null,null,null,null,null,null,null,null,null,null,null,null,null,null,null,null,null,null,null,null,null,null,null,null,null,null,null,null,null,null,null,null,null,null,null,null,null,null,null,null,null,null,null,null,null,null,null,null,null,"Devotion","Paladin",0,{"$f":"\"\"","v":""},{"$f":"\"• Oath Spells\n\"&EI37&\"\n\"","v":"• Oath Spells\n\n"},{"$f":"\"• Sacred Oath Feature (Channel Divinity: Turn the Unholy, Sacred Weapon)\n• Tenets of Devotion: Honesty. Compassion. Honor. Duty.\n\"","v":"• Sacred Oath Feature (Channel Divinity: Turn the Unholy, Sacred Weapon)\n• Tenets of Devotion: Honesty. Compassion. Honor. Duty.\n"},{"$f":"\"\"","v":""},{"$f":"\"\"","v":""},{"$f":"\"\"","v":""},{"$f":"\"• Sacred Oath Feature (Aura of Devotion)\n\"","v":"• Sacred Oath Feature (Aura of Devotion)\n"},{"$f":"\"\"","v":""},{"$f":"\"\"","v":""},{"$f":"\"\"","v":""},{"$f":"\"\"","v":""},{"$f":"\"\"","v":""},{"$f":"\"\"","v":""},{"$f":"\"\"","v":""},{"$f":"\"• Sacred Oath Feature (Purity of Spirit)\n\"","v":"• Sacred Oath Feature (Purity of Spirit)\n"},{"$f":"\"\"","v":""},{"$f":"\"\"","v":""},{"$f":"\"\"","v":""},{"$f":"\"\"","v":""},{"$f":"\"• Sacred Oath Feature (Holy Nimbus)\n\"","v":"• Sacred Oath Feature (Holy Nimbus)\n"},{"$f":"IF(PaladinLevel>=17,\"  3rd (protection from evil and good, sanctuary)\n  5th (lesser restoration, zone of truth)\n  9th (beacon of hope, dispel magic)\n  13th (freedom of movement, guardian of faith)\n  17th (commune, flame strike)\",IF(PaladinLevel>=13,\"  3rd (protection from evil and good, sanctuary)\n  5th (lesser restoration, zone of truth)\n  9th (beacon of hope, dispel magic)\n  13th (freedom of movement, guardian of faith)\",IF(PaladinLevel>=9,\"  3rd (protection from evil and good, sanctuary)\n  5th (lesser restoration, zone of truth)\n  9th (beacon of hope, dispel magic)\",IF(PaladinLevel>=5,\"  3rd (protection from evil and good, sanctuary)\n  5th (lesser restoration, zone of truth)\",IF(PaladinLevel>=3,\"  3rd (protection from evil and good, sanctuary)\",\"\")))))","v":""},{"$f":"IF(PaladinLevel>=3,$DM37&\" (protection from evil and good, sanctuary)\n\",\"\")","v":""},null,{"$f":"IF(PaladinLevel>=5,$DM37&\" (lesser restoration, zone of truth)\n\",\"\")","v":""},null,{"$f":"IF(PaladinLevel>=9,$DM37&\" (beacon of hope, dispel magic)\n\",\"\")","v":""},null,{"$f":"IF(PaladinLevel>=13,$DM37&\" (freedom of movement, guardian of faith)\n\",\"\")","v":""},null,{"$f":"IF(PaladinLevel>=17,$DM37&\" (commune, flame strike)\n\",\"\")","v":""},null,{"$f":"\"\"","v":""},{"$f":"\"\"","v":""},{"$f":"\"\"","v":""},{"$f":"\"\"","v":""},{"$f":"\"\"","v":""},{"$f":"\"\"","v":""},null,{"$f":"IF($DM37=FB$5,MAX(FA$6:FA36)+1,\"\")","v":""},"",null,null,{"$f":"IF($DM37=FF$5,MAX(FE$6:FE36)+1,\"\")","v":""},"",null,null,{"$f":"IF($DM37=FJ$5,MAX(FI$6:FI36)+1,\"\")","v":""},"",null,null,null,null,null,null,null,null,null,null,null,null,null,null,null,null,null,null,null,null,null,null,null,null,null,null,null,null,null,null,null,null,null,null,null,null,null,null,null,null,null,null,null,null,null,null,null,null,null,null,null,null,"half-elf","humanoid","orc",null,null,null,null,null,null,null,null,null,null,null,null,null,null,null,null,null,null,null,null,{"$f":"IF(IJ37=TRUE,MAX($IH$2:IH36)+1,\"\")","v":""},null,null,null,null,null,null,null,null,null,null,null,null,null,null,null,"Torm (LG)","God of courage and self-sacrifice","Lawful Good","War","White right gauntlet",null,null,null,null,null,null,null,null,null,null,5,4,3,2,"-","-","-","-","-","-",3,null,null,null,null,null,null,null,null,null,null,null,null,null,null,null,null,null,null,null,null,null,null,"Playing card set","No","Tools",null,null,null,null,null,null,null,null,null,null,null,null,null,null,null,null,null,null,null,null,null,null,null,null,null,null,null,null,null,null,null,null,null,null,null,null,null,null,null,null,null,null,null,null,null,null,null,null,null,null,null,null,null,null,null,null,null,null,null,null,null,null,null,null,null,null,null,null,null,null,null,null,null,null,null,null,null,null,null,null,null,null,null,null,null,null,null,null,null,null,null,null,null,null,null,null,null,null,null,null,null,null,null,null,null,null,null,null,null,null,null,null,null,null,null,null,null,null,null,null,null,null,null,null,null,null,{"$f":"IF(COUNTIF(Start!$AX$59:$BF$68,Tables!KT37)>0,Tables!KT37,\"\")","v":""},null,"",{"$f":"IF(PU37=\"\",\"\",IF(COUNTIF(PU37:$PU$57,\"><\")>1,PU37&\", \", PU37))","v":""},null,null,null,"Spear","Simple Melee","not proficient","1d6","piercing","20/60",3,{"$f":"\"\"","v":""},{"$f":"\"\"","v":""},{"$f":"\"\"","v":""},{"$f":"\"\"","v":""},{"$f":"\"\"","v":""},{"$f":"\"\"","v":""},{"$f":"\"\"","v":""},"thrown",{"$f":"\"\"","v":""},"versatile (1d8)",{"$f":"\"\"","v":""},{"$f":"\"\"","v":""},null,null,null,null,null,null,null,null,null,null,null,null,null,null,null,null,null,null,null,null,null,null,null,null,null,null,null,null,null,null,null,null,null,null,null,null,null,null,null,null,null,null,null,null,null,null,null,null,null,null,null,null,null,null,null,null,null,null,null,null,null,null,null,null,null,null,null,null,null,35,"Blight","LEVEL 4",4,"Blight ᴴ ","ᴴ ","",{"$f":"IF(OR(TK37=Spellcasting!$AC$18,TK37=Spellcasting!$AC$19),\"ᵐ\",\"\")","v":""},{"$f":"IF(OR(TK37=Spellcasting!$AC$20,TK37=Spellcasting!$AC$21),\"ˢ\",\"\")","v":""},{"$f":"\"\"","v":""},"1 act","30 ft","instant","VS",{"$f":"\"\"","v":""},"necromancy","necro","Necromantic energy washes over a creature of your choice that you can see within range, draining moisture and vitality from it. The target must make a Constitution saving throw. The target takes 8d8 necrotic damage on a failed save, or half as much damage on a successful one. This spell has no effect on undead or constructs. \n\nIf you target a plant creature or a magical plant, it makes the saving throw with disadvantage, and the spell deals maximum damage to it. \n\nIf you target a nonmagical plant that isn’t a creature, such as a tree or shrub, it doesn’t make a saving throw; it simply withers and dies. \n\nAt Higher Levels. When you cast this spell using a spell slot of 5th level or higher, the damage increases by 1d8 for each slot level above 4th.","8d8 necrotic, con save ½",null,null,null,{"$f":"IF(UF$1>=$TM37,1,\"0\")","v":"0"},{"$f":"IF(UG$1>=$TM37,1,\"0\")","v":"0"},null,{"$f":"IF(UI$1>=$TM37,1,\"0\")","v":"0"},null,null,{"$f":"IF(UL$1>=$TM37,1,\"0\")","v":"0"},null,null,null,null,null,null,null,null,null,null,null,null,null,null,null,null,null,null,null,null,null,null,{"$f":"IF(VI$1>=$TM37,1,\"0\")","v":"0"},null,null,null,null,null,null,null,null,null,null,null,null,null,null,null,null,null,null,null,null,{"$f":"IF(SUM($VZ$1:$WC$1)>0,IF(AND(SUM($VZ37:$WC37)>0,$TM37=WE$1),MAX(WD$2:WD36)+1,\"\"),IF(AND(SUM($UC37:$VY37)>0,$TM37=WE$1),MAX(WD$2:WD36)+1,\"\"))","v":""},"",{"$f":"IF(AND(SUM($UB37:$VY37)>0,$TM37=WG$1),MAX(WF$2:WF36)+1,\"\")","v":""},"",{"$f":"IF(AND(SUM($UB37:$VY37)>0,$TM37=WI$1),MAX(WH$2:WH36)+1,\"\")","v":""},"",{"$f":"IF(AND(SUM($UB37:$VY37)>0,$TM37=WK$1),MAX(WJ$2:WJ36)+1,\"\")","v":""},"",{"$f":"IF(AND(SUM($UB37:$VY37)>0,$TM37=WM$1),MAX(WL$2:WL36)+1,\"\")","v":""},"",{"$f":"IF(AND(SUM($UB37:$VY37)>0,$TM37=WO$1),MAX(WN$2:WN36)+1,\"\")","v":""},"",{"$f":"IF(AND(SUM($UB37:$VY37)>0,$TM37=WQ$1),MAX(WP$2:WP36)+1,\"\")","v":""},"",{"$f":"IF(AND(SUM($UB37:$VY37)>0,$TM37=WS$1),MAX(WR$2:WR36)+1,\"\")","v":""},"",{"$f":"IF(AND(SUM($UB37:$VY37)>0,$TM37=WU$1),MAX(WT$2:WT36)+1,\"\")","v":""},"",{"$f":"IF(AND(SUM($UB37:$VY37)>0,$TM37=WW$1),MAX(WV$2:WV36)+1,\"\")","v":""},"",{"$f":"IF(AND(SUM($UB37:$VY37)>0,$TM37=WY$1),MAX(WX$2:WX36)+1,\"\")","v":""},"",36,"","","","","","","","","","","",1,{"$f":"IF(XL37=1,MAX($XM$27:XM36)+1,\"\")","v":8},"Octopus","Beast","Tiny",12,3,"5 ft, swim 30ft",4,15,11,3,10,4,"Perception +2, Stealth +4","passive Perception 12, darkvision 30 ft","Tentacles melee +4, reach 5ft, 1 bludgeoning. [Ink Cloud 5ft rad. 1min]","Hold Breath. While out of water can hold its breath for 30 minutes\nUnderwater Camouflage. Advantage on Dexterity (Stealth) checks made while underwater\nWater Breathing. Can breathe only underwater",null,null,null,"Martial Adept","none","You have martial training that allows you to perform special combat maneuvers. You gain the following benefits:\n• You learn two maneuvers of your choice from among those available to the Battle Master archetype in the fighter class. If a maneuver you use requires your target to make a saving throw to resist the maneuver’s effects, the saving throw DC equals 8 + your proficiency bonus + your Strength or Dexterity modifier (your choice). \n• If you already have superiority dice, you gain one more; otherwise, you have one superiority die, which is a d6. This die is used to fuel your maneuvers. A superiority die is expended when you use it. You regain your expended superiority dice when you finish a short or long rest.",{"$f":"\"  - You learn two maneuvers of your choice from among those available to the Battle Master archetype in the fighter class. If a\n     maneuver you use requires your target to make a saving throw to resist the maneuver’s effects, the saving throw DC \"&8+ProfBonus+MAX(STRMod,DEXMod)&\"\n  - If you already have superiority dice, you gain one more; otherwise, you have one superiority die, which is a d6. This die is\n    used to fuel your maneuvers.\"&\"A superiority die is expended when you use it. You regain your expended superiority dice\n    when you finish a short or long rest.\"&IF(FighterBattleMasterLevel>=1,\"\",GJ2)","v":"  - You learn two maneuvers of your choice from among those available to the Battle Master archetype in the fighter class. If a\n     maneuver you use requires your target to make a saving throw to resist the maneuver’s effects, the saving throw DC 5\n  - If you already have superiority dice, you gain one more; otherwise, you have one superiority die, which is a d6. This die is\n    used to fuel your maneuvers.A superiority die is expended when you use it. You regain your expended superiority dice\n    when you finish a short or long rest."},{"$f":"\"\"","v":""},{"$f":"\"\"","v":""},{"$f":"\"\"","v":""},{"$f":"\"\"","v":""},null,null,null,null,null,"Paladin",12,{"$f":"VLOOKUP(YY37,$ZJ$2:$ZP$23,$ZJ$1,FALSE)","v":""},{"$f":"IF(YX37=\"\",\"\",MAX($YW$1:YW36)+1)","v":""},"",""]
[null,null,null,null,null,null,null,null,null,null,null,null,null,null,null,null,null,null,null,null,null,null,null,null,null,null,null,null,null,null,null,null,null,null,null,null,null,null,null,null,37,"",{"$f":"\"\"","v":""},"I am suspicious of strangers and expect the worst of them.","I can’t resist swindling people who are more powerful than me.","I turn tail and run when things look bad.","I have trouble keeping my true feelings hidden. My sharp tongue lands me in trouble.","Secretly, I believe that things would be better if I were a tyrant lording over the land.","I would kill to acquire a noble title. ","I’d risk too much to uncover a lost bit of knowledge.","In fact, the world does revolve around me.","Violence is my answer to almost any challenge.","I speak without really thinking through my words, invariably insulting others. ","I can’t help but pocket loose coins and other trinkets I come across. ","I obey the law, even if the law causes misery.","It’s not stealing if I need it more than someone else. ",{"$f":"\"\"","v":""},null,null,null,null,null,null,null,null,null,null,null,null,null,null,null,null,null,null,null,null,null,null,null,null,null,null,null,null,null,null,null,null,null,null,null,null,null,null,null,null,null,null,null,null,null,null,null,null,null,null,null,null,null,null,null,null,null,null,"The Ancients","Paladin",0,{"$f":"\"\"","v":""},{"$f":"\"• Oath Spells\n\"&EI38&\"\n\"","v":"• Oath Spells\n\n"},{"$f":"\"• Sacred Oath Feature (Channel Divinity: Turn the Faithless, Nature's Wrath)\n• Tenets of The Ancients: Kindle the Light. Shelter the Light. Preserve Your Own Light. Be the Light.\n\"","v":"• Sacred Oath Feature (Channel Divinity: Turn the Faithless, Nature's Wrath)\n• Tenets of The Ancients: Kindle the Light. Shelter the Light. Preserve Your Own Light. Be the Light.\n"},{"$f":"\"\"","v":""},{"$f":"\"\"","v":""},{"$f":"\"\"","v":""},{"$f":"\"• Sacred Oath Feature (Aura of Warding)\n\"","v":"• Sacred Oath Feature (Aura of Warding)\n"},{"$f":"\"\"","v":""},{"$f":"\"\"","v":""},{"$f":"\"\"","v":""},{"$f":"\"\"","v":""},{"$f":"\"\"","v":""},{"$f":"\"\"","v":""},{"$f":"\"\"","v":""},{"$f":"\"• Sacred Oath Feature (Undying Sentinel)\n\"","v":"• Sacred Oath Feature (Undying Sentinel)\n"},{"$f":"\"\"","v":""},{"$f":"\"\"","v":""},{"$f":"\"\"","v":""},{"$f":"\"\"","v":""},{"$f":"\"• Sacred Oath Feature (Elder Champion)\n\"","v":"• Sacred Oath Feature (Elder Champion)\n"},{"$f":"IF(PaladinLevel>=17,\"  3rd (ensnaring strike, speak with animals)\n  5th (moonbeam, misty step)\n  9th (plant growth, protection from energy)\n  13th (ice storm, stoneskin)\n  17th (commune with nature, tree stride)\",IF(PaladinLevel>=13,\"  3rd (ensnaring strike, speak with animals)\n  5th (moonbeam, misty step)\n  9th (plant growth, protection from energy)\n  13th (ice storm, stoneskin)\",IF(PaladinLevel>=9,\"  3rd (ensnaring strike, speak with animals)\n  5th (moonbeam, misty step)\n  9th (plant growth, protection from energy)\",IF(PaladinLevel>=5,\"  3rd (ensnaring strike, speak with animals)\n  5th (moonbeam, misty step)\",IF(PaladinLevel>=3,\"  3rd (ensnaring strike, speak with animals)\",\"\")))))","v":""},{"$f":"IF(PaladinLevel>=3,$DM38&\" (ensnaring strike, speak with animals)\n\",\"\")","v":""},null,{"$f":"IF(PaladinLevel>=5,$DM38&\" (moonbeam, misty step)\n\",\"\")","v":""},null,{"$f":"IF(PaladinLevel>=9,$DM38&\" (plant growth, protection from energy)\n\",\"\")","v":""},null,{"$f":"IF(PaladinLevel>=13,$DM38&\" (ice storm, stoneskin)\n\",\"\")","v":""},null,{"$f":"IF(PaladinLevel>=17,$DM38&\" (commune with nature, tree stride)\n\",\"\")","v":""},null,{"$f":"\"\"","v":""},{"$f":"\"\"","v":""},{"$f":"\"\"","v":""},{"$f":"\"\"","v":""},{"$f":"\"\"","v":""},{"$f":"\"\"","v":""},null,{"$f":"IF($DM38=FB$5,MAX(FA$6:FA37)+1,\"\")","v":""},"",null,null,{"$f":"IF($DM38=FF$5,MAX(FE$6:FE37)+1,\"\")","v":""},"",null,null,{"$f":"IF($DM38=FJ$5,MAX(FI$6:FI37)+1,\"\")","v":""},"",null,null,null,null,null,null,null,null,null,null,null,null,null,null,null,null,null,null,null,null,null,null,null,null,null,null,null,null,null,null,null,null,null,null,null,null,null,null,null,null,null,null,null,null,null,null,null,null,null,null,null,null,"half-orc","humanoid","orog",null,null,null,null,null,null,null,null,null,null,null,null,null,null,null,null,null,null,null,null,{"$f":"IF(IJ38=TRUE,MAX($IH$2:IH37)+1,\"\")","v":""},null,null,null,null,null,null,null,null,null,null,null,null,null,null,null,"Tymora (CG)","Goddess of good fortune","Chaotic Good","Trickery","Face-up coin",null,null,null,null,null,null,null,null,null,null,6,4,3,3,"-","-","-","-","-","-",3,null,null,null,null,null,null,null,null,null,null,null,null,null,null,null,null,null,null,null,null,null,null,"Three-Dragon Ante set","No","Tools",null,null,null,null,null,null,null,null,null,null,null,null,null,null,null,null,null,null,null,null,null,null,null,null,null,null,null,null,null,null,null,null,null,null,null,null,null,null,null,null,null,null,null,null,null,null,null,null,null,null,null,null,null,null,null,null,null,null,null,null,null,null,null,null,null,null,null,null,null,null,null,null,null,null,null,null,null,null,null,null,null,null,null,null,null,null,null,null,null,null,null,null,null,null,null,null,null,null,null,null,null,null,null,null,null,null,null,null,null,null,null,null,null,null,null,null,null,null,null,null,null,null,null,null,null,null,{"$f":"IF(COUNTIF(Start!$AX$59:$BF$68,Tables!KT38)>0,Tables!KT38,\"\")","v":""},null,"",{"$f":"IF(PU38=\"\",\"\",IF(COUNTIF(PU38:$PU$57,\"><\")>1,PU38&\", \", PU38))","v":""},null,null,null,"Trident","Martial Melee","not proficient","1d6","piercing","20/60",4,{"$f":"\"\"","v":""},{"$f":"\"\"","v":""},{"$f":"\"\"","v":""},{"$f":"\"\"","v":""},{"$f":"\"\"","v":""},{"$f":"\"\"","v":""},{"$f":"\"\"","v":""},"thrown",{"$f":"\"\"","v":""},"versatile (1d8)",{"$f":"\"\"","v":""},{"$f":"\"\"","v":""},null,null,null,null,null,null,null,null,null,null,null,null,null,null,null,null,null,null,null,null,null,null,null,null,null,null,null,null,null,null,null,null,null,null,null,null,null,null,null,null,null,null,null,null,null,null,null,null,null,null,null,null,null,null,null,null,null,null,null,null,null,null,null,null,null,null,null,null,null,36,"Blinding Smite","LEVEL 3",3,"Blinding Smite ",{"$f":"\"\"","v":""},"",{"$f":"IF(OR(TK38=Spellcasting!$AC$18,TK38=Spellcasting!$AC$19),\"ᵐ\",\"\")","v":""},{"$f":"IF(OR(TK38=Spellcasting!$AC$20,TK38=Spellcasting!$AC$21),\"ˢ\",\"\")","v":""},{"$f":"\"\"","v":""},"1 bon","self","1 min ᶜᵒᶰ","V",{"$f":"\"\"","v":""},"evocation","evoc","The next time you hit a creature with a melee weapon attack during this spell’s duration, your weapon flares with bright light, and the attack deals an extra 3d8 radiant damage to the target. Additionally, the target must succeed on a Constitution saving throw or be blinded until the spell ends. \n\nA creature blinded by this spell makes another Constitution saving throw at the end of each of its turns. On a successful save, it is no longer blinded.\n","melee, weapon +3d8 radiant, con save, blind",null,{"$f":"IF(UD$1>=$TM38,1,\"0\")","v":"0"},null,null,null,null,null,null,null,null,null,null,null,null,null,null,null,null,null,null,null,null,null,null,null,null,null,null,null,null,null,null,null,null,null,null,null,null,null,null,null,null,null,null,null,null,null,null,null,null,null,null,null,{"$f":"IF(SUM($VZ$1:$WC$1)>0,IF(AND(SUM($VZ38:$WC38)>0,$TM38=WE$1),MAX(WD$2:WD37)+1,\"\"),IF(AND(SUM($UC38:$VY38)>0,$TM38=WE$1),MAX(WD$2:WD37)+1,\"\"))","v":""},"",{"$f":"IF(AND(SUM($UB38:$VY38)>0,$TM38=WG$1),MAX(WF$2:WF37)+1,\"\")","v":""},"",{"$f":"IF(AND(SUM($UB38:$VY38)>0,$TM38=WI$1),MAX(WH$2:WH37)+1,\"\")","v":""},"",{"$f":"IF(AND(SUM($UB38:$VY38)>0,$TM38=WK$1),MAX(WJ$2:WJ37)+1,\"\")","v":""},"",{"$f":"IF(AND(SUM($UB38:$VY38)>0,$TM38=WM$1),MAX(WL$2:WL37)+1,\"\")","v":""},"",{"$f":"IF(AND(SUM($UB38:$VY38)>0,$TM38=WO$1),MAX(WN$2:WN37)+1,\"\")","v":""},"",{"$f":"IF(AND(SUM($UB38:$VY38)>0,$TM38=WQ$1),MAX(WP$2:WP37)+1,\"\")","v":""},"",{"$f":"IF(AND(SUM($UB38:$VY38)>0,$TM38=WS$1),MAX(WR$2:WR37)+1,\"\")","v":""},"",{"$f":"IF(AND(SUM($UB38:$VY38)>0,$TM38=WU$1),MAX(WT$2:WT37)+1,\"\")","v":""},"",{"$f":"IF(AND(SUM($UB38:$VY38)>0,$TM38=WW$1),MAX(WV$2:WV37)+1,\"\")","v":""},"",{"$f":"IF(AND(SUM($UB38:$VY38)>0,$TM38=WY$1),MAX(WX$2:WX37)+1,\"\")","v":""},"",37,"","","","","","","","","","","",1,{"$f":"IF(XL38=1,MAX($XM$27:XM37)+1,\"\")","v":9},"Owl","Beast","Tiny",11,1,"5 ft, fly 60 ft",3,13,8,2,12,7,"Perception +3, Stealth +3","passive Perception 13, darkvision 120 ft","Talons melee +3, reach 5ft, 1 slashing","Flyby. Provokes no opportunity attacks when it flies out of an enemy’s reach\nKeen Sight. Advantage on Wisdom (Perception) checks that rely on sight",null,null,null,"Medium Armor Master","none","You have practiced moving in medium armor to gain the following benefits:\n• Wearing medium armor doesn’t impose disadvantage on your Dexterity (Stealth) checks. \n• When you wear medium armor, you can add 3, rather than 2, to your AC if you have a Dexterity of 16 or higher.","  - Wearing medium armor doesn’t impose disadvantage on your Dexterity (Stealth) checks. \n  - When you wear medium armor, you add 3, rather than 2, to your AC if you have a Dexterity of 16 or higher.",{"$f":"\"\"","v":""},{"$f":"\"\"","v":""},{"$f":"\"\"","v":""},{"$f":"\"\"","v":""},null,null,null,null,null,"Paladin",16,{"$f":"VLOOKUP(YY38,$ZJ$2:$ZP$23,$ZJ$1,FALSE)","v":""},{"$f":"IF(YX38=\"\",\"\",MAX($YW$1:YW37)+1)","v":""},"",""]
[null,null,null,null,null,null,null,null,null,null,null,null,null,null,null,null,null,null,null,null,null,null,null,null,null,null,null,null,null,null,null,null,null,null,null,null,null,null,null,null,38,"",{"$f":"\"\"","v":""},"Once I pick a goal, I become obsessed with it to the detriment of everything else in my life.","I hate to admit it and will hate myself for it, but I'll run and preserve my own hide if the going gets tough.","An innocent person is in prison for a crime that I committed. I’m okay with that.","Despite my best efforts, I am unreliable to my friends.","I have trouble trusting in my allies.","I’m horribly jealous of anyone who can outshine my handiwork. Everywhere I go, I’m surrounded by rivals.","I like keeping secrets and won’t share them with anyone.","By my words and actions, I often bring shame to my family.","Don’t expect me to save those who can’t save themselves. It is nature’s way that the strong thrive and the weak perish.","I can’t keep a secret to save my life, or anyone else’s.","My pride will probably lead to my destruction.","I’d rather eat my armor than admit when I’m wrong.","People who can't take care of themselves get what they deserve.",{"$f":"\"\"","v":""},null,null,null,null,null,null,null,null,null,null,null,null,null,null,null,null,null,null,null,null,null,null,null,null,null,null,null,null,null,null,null,null,null,null,null,null,null,null,null,null,null,null,null,null,null,null,null,null,null,null,null,null,null,null,null,null,null,null,"Vengeance","Paladin",0,{"$f":"\"\"","v":""},{"$f":"\"• Oath Spells\n\"&EI39&\"\n\"","v":"• Oath Spells\n\n"},{"$f":"\"• Sacred Oath Feature (Channel Divinity: Abjure Enemy, Vow of Enmity)\n• Tenets of Vengence: Fight the Greater Evil. No Mercy for the Wicked. By Any Means Necessary. Restitution.\n\"","v":"• Sacred Oath Feature (Channel Divinity: Abjure Enemy, Vow of Enmity)\n• Tenets of Vengence: Fight the Greater Evil. No Mercy for the Wicked. By Any Means Necessary. Restitution.\n"},{"$f":"\"\"","v":""},{"$f":"\"\"","v":""},{"$f":"\"\"","v":""},{"$f":"\"• Sacred Oath Feature (Relentless Avenger)\n\"","v":"• Sacred Oath Feature (Relentless Avenger)\n"},{"$f":"\"\"","v":""},{"$f":"\"\"","v":""},{"$f":"\"\"","v":""},{"$f":"\"\"","v":""},{"$f":"\"\"","v":""},{"$f":"\"\"","v":""},{"$f":"\"\"","v":""},{"$f":"\"• Sacred Oath Feature (Soul of Vengeance)\n\"","v":"• Sacred Oath Feature (Soul of Vengeance)\n"},{"$f":"\"\"","v":""},{"$f":"\"\"","v":""},{"$f":"\"\"","v":""},{"$f":"\"\"","v":""},{"$f":"\"• Sacred Oath Feature (Avenging Angel)\n\"","v":"• Sacred Oath Feature (Avenging Angel)\n"},{"$f":"IF(PaladinLevel>=17,\"  3rd (bane, hunter's mark)\n  5th (hold person, misty step)\n  9th (haste, protection from energy)\n  13th (banishment, dimension door)\n  17th (hold monster, scrying)\",IF(PaladinLevel>=13,\"  3rd (bane, hunter's mark)\n  5th (hold person, misty step)\n  9th (haste, protection from energy)\n  13th (banishment, dimension door)\",IF(PaladinLevel>=9,\"  3rd (bane, hunter's mark)\n  5th (hold person, misty step)\n  9th (haste, protection from energy)\",IF(PaladinLevel>=5,\"  3rd (bane, hunter's mark)\n  5th (hold person, misty step)\",IF(PaladinLevel>=3,\"  3rd (bane, hunter's mark)\",\"\")))))","v":""},{"$f":"IF(PaladinLevel>=3,$DM39&\" (bane, hunter's mark)\n\",\"\")","v":""},null,{"$f":"IF(PaladinLevel>=5,$DM39&\" (hold person, misty step)\n\",\"\")","v":""},null,{"$f":"IF(PaladinLevel>=9,$DM39&\" (haste, protection from energy)\n\",\"\")","v":""},null,{"$f":"IF(PaladinLevel>=13,$DM39&\" (banishment, dimension door)\n\",\"\")","v":""},null,{"$f":"IF(PaladinLevel>=17,$DM39&\" (hold monster, scrying)\n\",\"\")","v":""},null,{"$f":"\"\"","v":""},{"$f":"\"\"","v":""},{"$f":"\"\"","v":""},{"$f":"\"\"","v":""},{"$f":"\"\"","v":""},{"$f":"\"\"","v":""},null,{"$f":"IF($DM39=FB$5,MAX(FA$6:FA38)+1,\"\")","v":""},"",null,null,{"$f":"IF($DM39=FF$5,MAX(FE$6:FE38)+1,\"\")","v":""},"",null,null,{"$f":"IF($DM39=FJ$5,MAX(FI$6:FI38)+1,\"\")","v":""},"",null,null,null,null,null,null,null,null,null,null,null,null,null,null,null,null,null,null,null,null,null,null,null,null,null,null,null,null,null,null,null,null,null,null,null,null,null,null,null,null,null,null,null,null,null,null,null,null,null,null,null,null,"halfling","humanoid","rakasta",null,null,null,null,null,null,null,null,null,null,null,null,null,null,null,null,null,null,null,null,{"$f":"IF(IJ39=TRUE,MAX($IH$2:IH38)+1,\"\")","v":""},null,null,null,null,null,null,null,null,null,null,null,null,null,null,null,"Tyr (LG)","God of justice","Lawful Good","War","Balanced scales resting on a warhammer",null,null,null,null,null,null,null,null,null,null,7,4,3,3,1,"-","-","-","-","-",4,null,null,null,null,null,null,null,null,null,null,null,null,null,null,null,null,null,null,null,null,null,null,"--","No","Tools",null,null,null,null,null,null,null,null,null,null,null,null,null,null,null,null,null,null,null,null,null,null,null,null,null,null,null,null,null,null,null,null,null,null,null,null,null,null,null,null,null,null,null,null,null,null,null,null,null,null,null,null,null,null,null,null,null,null,null,null,null,null,null,null,null,null,null,null,null,null,null,null,null,null,null,null,null,null,null,null,null,null,null,null,null,null,null,null,null,null,null,null,null,null,null,null,null,null,null,null,null,null,null,null,null,null,null,null,null,null,null,null,null,null,null,null,null,null,null,null,null,null,null,null,null,null,{"$f":"IF(COUNTIF(Start!$AX$59:$BF$68,Tables!KT39)>0,Tables!KT39,\"\")","v":""},null,"",{"$f":"IF(PU39=\"\",\"\",IF(COUNTIF(PU39:$PU$57,\"><\")>1,PU39&\", \", PU39))","v":""},null,null,null,"Unarmed strike","Simple Melee","not proficient",{"$f":"IF(MonkLevel>=17,\"1d10\",IF(MonkLevel>=11,\"1d8\",IF(MonkLevel>=5,\"1d6\",IF(OR(PN1>0,MonkLevel>=1),\"1d4\",1))))","v":1},"bludgeoning","-","-",{"$f":"\"\"","v":""},{"$f":"\"\"","v":""},{"$f":"\"\"","v":""},{"$f":"\"\"","v":""},{"$f":"\"\"","v":""},{"$f":"\"\"","v":""},{"$f":"\"\"","v":""},{"$f":"\"\"","v":""},{"$f":"\"\"","v":""},{"$f":"\"\"","v":""},{"$f":"\"\"","v":""},{"$f":"\"\"","v":""},null,null,null,null,null,null,null,null,null,null,null,null,null,null,null,null,null,null,null,null,null,null,null,null,null,null,null,null,null,null,null,null,null,null,null,null,null,null,null,null,null,null,null,null,null,null,null,null,null,null,null,null,null,null,null,null,null,null,null,null,null,null,null,null,null,null,null,null,null,37,"Blindness/Deafness","LEVEL 2",2,"Blindness/Deafness ᴴ ","ᴴ ","",{"$f":"IF(OR(TK39=Spellcasting!$AC$18,TK39=Spellcasting!$AC$19),\"ᵐ\",\"\")","v":""},{"$f":"IF(OR(TK39=Spellcasting!$AC$20,TK39=Spellcasting!$AC$21),\"ˢ\",\"\")","v":""},{"$f":"\"\"","v":""},"1 act","30 ft","1 min","V",{"$f":"\"\"","v":""},"necromancy","necro","You can blind or deafen a foe. Choose one creature that you can see within range to make a Constitution saving throw. If it fails, the target is either blinded or deafened (your choice) for the duration. At the end of each of its turns, the target can make a Constitution saving throw. On a success, the spell ends. \n\nAt Higher Levels. When you cast this spell using a spell slot of 3rd level or higher, you can target one additional creature for each slot level above 2nd","blind or deafen foe, con save",{"$f":"IF(UC$1>=$TM39,1,\"0\")","v":"0"},null,null,{"$f":"IF(UF$1>=$TM39,1,\"0\")","v":"0"},null,{"$f":"IF(UH$1>=$TM39,1,\"0\")","v":"0"},null,null,null,{"$f":"IF(UL$1>=$TM39,1,\"0\")","v":"0"},null,null,null,null,null,null,null,null,null,null,{"$f":"IF(UW$1>=$TM39,1,\"0\")","v":"0"},null,null,null,null,null,null,null,null,null,null,null,null,null,null,null,null,null,null,null,null,null,null,null,null,null,null,null,null,null,null,null,null,{"$f":"IF(SUM($VZ$1:$WC$1)>0,IF(AND(SUM($VZ39:$WC39)>0,$TM39=WE$1),MAX(WD$2:WD38)+1,\"\"),IF(AND(SUM($UC39:$VY39)>0,$TM39=WE$1),MAX(WD$2:WD38)+1,\"\"))","v":""},"",{"$f":"IF(AND(SUM($UB39:$VY39)>0,$TM39=WG$1),MAX(WF$2:WF38)+1,\"\")","v":""},"",{"$f":"IF(AND(SUM($UB39:$VY39)>0,$TM39=WI$1),MAX(WH$2:WH38)+1,\"\")","v":""},"",{"$f":"IF(AND(SUM($UB39:$VY39)>0,$TM39=WK$1),MAX(WJ$2:WJ38)+1,\"\")","v":""},"",{"$f":"IF(AND(SUM($UB39:$VY39)>0,$TM39=WM$1),MAX(WL$2:WL38)+1,\"\")","v":""},"",{"$f":"IF(AND(SUM($UB39:$VY39)>0,$TM39=WO$1),MAX(WN$2:WN38)+1,\"\")","v":""},"",{"$f":"IF(AND(SUM($UB39:$VY39)>0,$TM39=WQ$1),MAX(WP$2:WP38)+1,\"\")","v":""},"",{"$f":"IF(AND(SUM($UB39:$VY39)>0,$TM39=WS$1),MAX(WR$2:WR38)+1,\"\")","v":""},"",{"$f":"IF(AND(SUM($UB39:$VY39)>0,$TM39=WU$1),MAX(WT$2:WT38)+1,\"\")","v":""},"",{"$f":"IF(AND(SUM($UB39:$VY39)>0,$TM39=WW$1),MAX(WV$2:WV38)+1,\"\")","v":""},"",{"$f":"IF(AND(SUM($UB39:$VY39)>0,$TM39=WY$1),MAX(WX$2:WX38)+1,\"\")","v":""},"",38,"","","","","","","","","","","",{"$f":"IF(Start!$AJ$54=Tables!$IS$4,1,\"\")","v":""},{"$f":"IF(XL39=1,MAX($XM$27:XM38)+1,\"\")","v":""},"Pseudodragon","Dragon","Tiny",13,7,"15 ft, fly 60 ft",6,15,13,10,12,10,"Perception +3, Stealth +4","passive Perception 13, darkvision 60 ft, blindsight 10 ft","Claw melee +4, reach 5ft, 1d4+2 piercing\nSting melee +4, reach 5ft, 1d4+2 piercing\nDC 11 Con save, poisoned 1hr (<6 unconcious)","Keen Senses. Advantage on Wisdom (Perception) checks that rely on sight, hearing, or smell\nMagic Resistance: Advantage on saving throws against spells and magical effect\nLimited Telepathy. Can communicate simple ideas telepathically to any creature within 100 feet.",null,null,null,"Mobile","none","You are exceptionally speedy and agile. You gain the following benefits:\n• Your speed increases by 10 feet.\n• When you use the Dash action, difficult terrain doesn’t cost you extra movement on that turn. \n• When you make a melee attack against a creature, you don’t provoke opportunity attacks from that creature for the rest of the turn, whether you hit or not.","  - Your speed increases by 10 feet.\n  - When you use the Dash action, difficult terrain doesn’t cost you extra movement on that turn. \n  - When you make a melee attack against a creature, you don’t provoke opportunity attacks from that creature for the rest of\n     the turn, whether you hit or not.",{"$f":"\"\"","v":""},{"$f":"\"\"","v":""},{"$f":"\"\"","v":""},{"$f":"\"\"","v":""},null,null,null,null,null,"Paladin",19,{"$f":"VLOOKUP(YY39,$ZJ$2:$ZP$23,$ZJ$1,FALSE)","v":""},{"$f":"IF(YX39=\"\",\"\",MAX($YW$1:YW38)+1)","v":""},"",""]
[null,null,null,null,null,null,null,null,null,null,null,null,null,null,null,null,null,null,null,null,null,null,null,null,null,null,null,null,null,null,null,null,null,null,null,null,null,null,null,null,39,"",{"$f":"\"\"","v":""},{"$f":"\"\"","v":""},{"$f":"\"\"","v":""},{"$f":"\"\"","v":""},{"$f":"\"\"","v":""},{"$f":"\"\"","v":""},{"$f":"\"\"","v":""},{"$f":"\"\"","v":""},{"$f":"\"\"","v":""},{"$f":"\"\"","v":""},{"$f":"\"\"","v":""},{"$f":"\"\"","v":""},{"$f":"\"\"","v":""},{"$f":"\"\"","v":""},{"$f":"\"\"","v":""},null,null,null,null,null,null,null,null,null,null,null,null,null,null,null,null,null,null,null,null,null,null,null,null,null,null,null,null,null,null,null,null,null,null,null,null,null,null,null,null,null,null,null,null,null,null,null,null,null,null,null,null,null,null,null,null,null,null,"Hunter","Ranger",0,{"$f":"\"\"","v":""},{"$f":"\"\"","v":""},{"$f":"\"Hunter's Prey: \"&IA4","v":"Hunter's Prey: Select…"},{"$f":"\"\"","v":""},{"$f":"\"\"","v":""},{"$f":"\"\"","v":""},{"$f":"\"Defensive Tactics: \"&IA5","v":"Defensive Tactics: Select…"},{"$f":"\"\"","v":""},{"$f":"\"\"","v":""},{"$f":"\"\"","v":""},{"$f":"\"Multiattack: \"&IA6","v":"Multiattack: Select…"},{"$f":"\"\"","v":""},{"$f":"\"\"","v":""},{"$f":"\"\"","v":""},{"$f":"\"Superior Defense: \"&IA7","v":"Superior Defense: Select…"},{"$f":"\"\"","v":""},{"$f":"\"\"","v":""},{"$f":"\"\"","v":""},{"$f":"\"\"","v":""},{"$f":"\"\"","v":""},{"$f":"\"\"","v":""},{"$f":"\"\"","v":""},null,{"$f":"\"\"","v":""},null,{"$f":"\"\"","v":""},null,{"$f":"\"\"","v":""},null,{"$f":"\"\"","v":""},null,{"$f":"\"\"","v":""},{"$f":"\"\"","v":""},{"$f":"\"\"","v":""},{"$f":"\"\"","v":""},{"$f":"\"\"","v":""},{"$f":"\"\"","v":""},null,{"$f":"IF($DM40=FB$5,MAX(FA$6:FA39)+1,\"\")","v":""},"",null,null,{"$f":"IF($DM40=FF$5,MAX(FE$6:FE39)+1,\"\")","v":""},"",null,null,{"$f":"IF($DM40=FJ$5,MAX(FI$6:FI39)+1,\"\")","v":""},"",null,null,null,null,null,null,null,null,null,null,null,null,null,null,null,null,null,null,null,null,null,null,null,null,null,null,null,null,null,null,null,null,null,null,null,null,null,null,null,null,null,null,null,null,null,null,null,null,null,null,null,null,"hobgoblin","humanoid","saurial",null,null,null,null,null,null,null,null,null,null,null,null,null,null,null,null,null,null,null,null,{"$f":"IF(IJ40=TRUE,MAX($IH$2:IH39)+1,\"\")","v":""},null,null,null,null,null,null,null,null,null,null,null,null,null,null,null,"Umberlee (CE)","Goddess of the sea","Chaotic Evil","Tempest","Wave curling left and right",null,null,null,null,null,null,null,null,null,null,8,4,3,3,2,"-","-","-","-","-",4,null,null,null,null,null,null,null,null,null,null,null,null,null,null,null,null,null,null,null,null,null,null,"Herbalism kit","No","Tools",null,null,null,null,null,null,null,null,null,null,null,null,null,null,null,null,null,null,null,null,null,null,null,null,null,null,null,null,null,null,null,null,null,null,null,null,null,null,null,null,null,null,null,null,null,null,null,null,null,null,null,null,null,null,null,null,null,null,null,null,null,null,null,null,null,null,null,null,null,null,null,null,null,null,null,null,null,null,null,null,null,null,null,null,null,null,null,null,null,null,null,null,null,null,null,null,null,null,null,null,null,null,null,null,null,null,null,null,null,null,null,null,null,null,null,null,null,null,null,null,null,null,null,null,null,null,{"$f":"IF(COUNTIF(Start!$AX$59:$BF$68,Tables!KT40)>0,Tables!KT40,\"\")","v":""},null,"",{"$f":"IF(PU40=\"\",\"\",IF(COUNTIF(PU40:$PU$57,\"><\")>1,PU40&\", \", PU40))","v":""},null,null,null,"War pick","Martial Melee","not proficient","1d8","piercing","-",2,{"$f":"\"\"","v":""},{"$f":"\"\"","v":""},{"$f":"\"\"","v":""},{"$f":"\"\"","v":""},{"$f":"\"\"","v":""},{"$f":"\"\"","v":""},{"$f":"\"\"","v":""},{"$f":"\"\"","v":""},{"$f":"\"\"","v":""},{"$f":"\"\"","v":""},{"$f":"\"\"","v":""},{"$f":"\"\"","v":""},null,null,null,null,null,null,null,null,null,null,null,null,null,null,null,null,null,null,null,null,null,null,null,null,null,null,null,null,null,null,null,null,null,null,null,null,null,null,null,null,null,null,null,null,null,null,null,null,null,null,null,null,null,null,null,null,null,null,null,null,null,null,null,null,null,null,null,null,null,38,"Blink","LEVEL 3",3,"Blink ",{"$f":"\"\"","v":""},"",{"$f":"IF(OR(TK40=Spellcasting!$AC$18,TK40=Spellcasting!$AC$19),\"ᵐ\",\"\")","v":""},{"$f":"IF(OR(TK40=Spellcasting!$AC$20,TK40=Spellcasting!$AC$21),\"ˢ\",\"\")","v":""},{"$f":"\"\"","v":""},"1 act","self","1 min","VS",{"$f":"\"\"","v":""},"transmutation","trans","Roll a d20 at the end of each of your turns for the duration of the spell. On a roll of 11 or higher, you vanish from your current plane of existence and appear in the Ethereal Plane (the spell fails and the casting is wasted if you were already on that plane). At the start of your next turn, and when the spell ends if you are on the Ethereal Plane, you return to an unoccupied space of your choice that you can see within 10 feet of the space you vanished from. If no unoccupied space is available within that range, you appear in the nearest unoccupied space (chosen at random if more than one space is equally near). You can dismiss this spell as an action. \n\nWhile on the Ethereal Plane, you can see and hear the plane you originated from, which is cast in shades of gray, and you can’t see anything there more than 60 feet away. You can only affect and be affected by other creatures on the Ethereal Plane. Creatures that aren’t there can’t perceive you or interact with you, unless they have the ability to do so.","11+ on d20, blink and return within 10ft ",null,null,null,{"$f":"IF(UF$1>=$TM40,1,\"0\")","v":"0"},null,null,null,null,null,{"$f":"IF(UL$1>=$TM40,1,\"0\")","v":"0"},null,null,null,null,null,null,null,null,null,{"$f":"IF(UV$1>=$TM40,1,\"0\")","v":"0"},null,null,null,null,null,null,null,{"$f":"IF(VD$1>=$TM40,1,\"0\")","v":"0"},null,null,null,null,null,null,null,null,null,null,null,null,null,null,null,null,null,null,null,null,null,null,null,null,null,{"$f":"IF(SUM($VZ$1:$WC$1)>0,IF(AND(SUM($VZ40:$WC40)>0,$TM40=WE$1),MAX(WD$2:WD39)+1,\"\"),IF(AND(SUM($UC40:$VY40)>0,$TM40=WE$1),MAX(WD$2:WD39)+1,\"\"))","v":""},"",{"$f":"IF(AND(SUM($UB40:$VY40)>0,$TM40=WG$1),MAX(WF$2:WF39)+1,\"\")","v":""},"",{"$f":"IF(AND(SUM($UB40:$VY40)>0,$TM40=WI$1),MAX(WH$2:WH39)+1,\"\")","v":""},"",{"$f":"IF(AND(SUM($UB40:$VY40)>0,$TM40=WK$1),MAX(WJ$2:WJ39)+1,\"\")","v":""},"",{"$f":"IF(AND(SUM($UB40:$VY40)>0,$TM40=WM$1),MAX(WL$2:WL39)+1,\"\")","v":""},"",{"$f":"IF(AND(SUM($UB40:$VY40)>0,$TM40=WO$1),MAX(WN$2:WN39)+1,\"\")","v":""},"",{"$f":"IF(AND(SUM($UB40:$VY40)>0,$TM40=WQ$1),MAX(WP$2:WP39)+1,\"\")","v":""},"",{"$f":"IF(AND(SUM($UB40:$VY40)>0,$TM40=WS$1),MAX(WR$2:WR39)+1,\"\")","v":""},"",{"$f":"IF(AND(SUM($UB40:$VY40)>0,$TM40=WU$1),MAX(WT$2:WT39)+1,\"\")","v":""},"",{"$f":"IF(AND(SUM($UB40:$VY40)>0,$TM40=WW$1),MAX(WV$2:WV39)+1,\"\")","v":""},"",{"$f":"IF(AND(SUM($UB40:$VY40)>0,$TM40=WY$1),MAX(WX$2:WX39)+1,\"\")","v":""},"",39,"","","","","","","","","","","",{"$f":"IF(Start!$AJ$54=Tables!$IS$4,1,\"\")","v":""},{"$f":"IF(XL40=1,MAX($XM$27:XM39)+1,\"\")","v":""},"Quasit","Fiend","Tiny",13,7,"40 ft",5,17,10,7,10,10,"Stealth +5","passive Perception 10, darkvision 120 ft","Bite melee +4, reach 5ft, 1d4+3\nDC 10 Con save, 2d4 poison, poisoned 1 min","Invisiblity. Use action turn invisible (see spell)\nImmunities. poison (poisoned). Resistances. cold, fire, lightning; bludgeon, pierce, slash (magic)\nScare. Use action 1/day, 1 creature within 20ft, DC 10 Wis save or frightened (1 min)\nShapechange. Use action to polymorph into a bat, centipede or toad. Equipment not transformed\nMagic Resistance: Advantage on saving throws against spells and magical effects",null,null,null,"Moderately Armored","Proficiency with light armor","You have trained to master the use of medium armor and shields, gaining the following benefits:\n• Increase your Strength or Dexterity score by 1, to a maximum of 20. \n• You gain proficiency with medium armor and shields.","  - Increase your Strength or Dexterity score by 1, to a maximum of 20. \n  - You gain proficiency with medium armor and shields.",{"$f":"\"\"","v":""},{"$f":"\"\"","v":""},"SD",1,null,null,null,null,null,"Ranger",4,{"$f":"VLOOKUP(YY40,$ZK$2:$ZP$23,$ZK$1,FALSE)","v":""},{"$f":"IF(YX40=\"\",\"\",MAX($YW$1:YW39)+1)","v":""},"",""]
[null,null,null,null,null,null,null,null,null,null,null,null,null,null,null,null,null,null,null,null,null,null,null,null,null,null,null,null,null,null,null,null,null,null,null,null,null,null,null,null,40,"",{"$f":"\"\"","v":""},{"$f":"\"\"","v":""},"Favourite Schemes: ","Criminal Specialty: ","Entertainer Routines: ","Defining Event: ","Guild Business: ","Life Of Seclusion: ",{"$f":"\"\"","v":""},"Origin: ","Specialty: ",{"$f":"\"\"","v":""},"Specialty: ",{"$f":"\"\"","v":""},{"$f":"\"\"","v":""},null,null,null,null,null,null,null,null,null,null,null,null,null,null,null,null,null,null,null,null,null,null,null,null,null,null,null,null,null,null,null,null,null,null,null,null,null,null,null,null,null,null,null,null,null,null,null,null,null,null,null,null,null,null,null,null,null,null,"Beast Master","Ranger",0,{"$f":"\"\"","v":""},{"$f":"\"\"","v":""},"Ranger's Companion",{"$f":"\"\"","v":""},{"$f":"\"\"","v":""},{"$f":"\"\"","v":""},"Exceptional Training",{"$f":"\"\"","v":""},{"$f":"\"\"","v":""},{"$f":"\"\"","v":""},"Bestial Fury",{"$f":"\"\"","v":""},{"$f":"\"\"","v":""},{"$f":"\"\"","v":""},"Share Spells",{"$f":"\"\"","v":""},{"$f":"\"\"","v":""},{"$f":"\"\"","v":""},{"$f":"\"\"","v":""},{"$f":"\"\"","v":""},{"$f":"\"\"","v":""},{"$f":"\"\"","v":""},null,{"$f":"\"\"","v":""},null,{"$f":"\"\"","v":""},null,{"$f":"\"\"","v":""},null,{"$f":"\"\"","v":""},null,{"$f":"\"\"","v":""},{"$f":"\"\"","v":""},{"$f":"\"\"","v":""},{"$f":"\"\"","v":""},{"$f":"\"\"","v":""},{"$f":"\"\"","v":""},null,{"$f":"IF($DM41=FB$5,MAX(FA$6:FA40)+1,\"\")","v":""},"",null,null,{"$f":"IF($DM41=FF$5,MAX(FE$6:FE40)+1,\"\")","v":""},"",null,null,{"$f":"IF($DM41=FJ$5,MAX(FI$6:FI40)+1,\"\")","v":""},{"$f":"IF(FI41=\"\",\"\",$DL41)","v":""},null,null,null,null,null,null,null,null,null,null,null,null,null,null,null,null,null,null,null,null,null,null,null,null,null,null,null,null,null,null,null,null,null,null,null,null,null,null,null,null,null,null,null,null,null,null,null,null,null,null,null,null,"human","humanoid","selkie",null,null,null,null,null,null,null,null,null,null,null,null,null,null,null,null,null,null,null,null,{"$f":"IF(IJ41=TRUE,MAX($IH$2:IH40)+1,\"\")","v":""},null,null,null,null,null,null,null,null,null,null,null,null,null,null,null,"Waukeen (N)","Goddess of trade","Neutral","Knowledge, Trickery","Upright coin with Waukeen’s profile facing left",null,null,null,null,null,null,null,null,null,null,9,4,3,3,3,1,"-","-","-","-",5,null,null,null,null,null,null,null,null,null,null,null,null,null,null,null,null,null,null,null,null,null,null,"-- Musical instrument","No","Tools",null,null,null,null,null,null,null,null,null,null,null,null,null,null,null,null,null,null,null,null,null,null,null,null,null,null,null,null,null,null,null,null,null,null,null,null,null,null,null,null,null,null,null,null,null,null,null,null,null,null,null,null,null,null,null,null,null,null,null,null,null,null,null,null,null,null,null,null,null,null,null,null,null,null,null,null,null,null,null,null,null,null,null,null,null,null,null,null,null,null,null,null,null,null,null,null,null,null,null,null,null,null,null,null,null,null,null,null,null,null,null,null,null,null,null,null,null,null,null,null,null,null,null,null,null,null,{"$f":"IF(COUNTIF(Start!$AX$59:$BF$68,Tables!KT41)>0,Tables!KT41,\"\")","v":""},null,"",{"$f":"IF(PU41=\"\",\"\",IF(COUNTIF(PU41:$PU$57,\"><\")>1,PU41&\", \", PU41))","v":""},null,null,null,"Warhammer","Martial Melee","not proficient","1d8","bludgeoning","-",2,{"$f":"\"\"","v":""},{"$f":"\"\"","v":""},{"$f":"\"\"","v":""},{"$f":"\"\"","v":""},{"$f":"\"\"","v":""},{"$f":"\"\"","v":""},{"$f":"\"\"","v":""},{"$f":"\"\"","v":""},{"$f":"\"\"","v":""},"versatile (1d10)",{"$f":"\"\"","v":""},{"$f":"\"\"","v":""},null,null,null,null,null,null,null,null,null,null,null,null,null,null,null,null,null,null,null,null,null,null,null,null,null,null,null,null,null,null,null,null,null,null,null,null,null,null,null,null,null,null,null,null,null,null,null,null,null,null,null,null,null,null,null,null,null,null,null,null,null,null,null,null,null,null,null,null,null,39,"Blur","LEVEL 2",2,"Blur ",{"$f":"\"\"","v":""},"",{"$f":"IF(OR(TK41=Spellcasting!$AC$18,TK41=Spellcasting!$AC$19),\"ᵐ\",\"\")","v":""},{"$f":"IF(OR(TK41=Spellcasting!$AC$20,TK41=Spellcasting!$AC$21),\"ˢ\",\"\")","v":""},{"$f":"\"\"","v":""},"1 act","self","1 min ᶜᵒᶰ","V",{"$f":"\"\"","v":""},"illusion","illus","Your body becomes blurred, shifting and wavering to all who can see you. For the duration, any creature has disadvantage on attack rolls against you. An attacker is immune to this effect if it doesn’t rely on sight, as with blindsight, or can see through illusions, as with truesight.","disadvantage on attack rolls against you",null,null,null,{"$f":"IF(UF$1>=$TM41,1,\"0\")","v":"0"},null,null,null,null,null,{"$f":"IF(UL$1>=$TM41,1,\"0\")","v":"0"},null,null,null,null,null,null,null,null,null,null,null,null,null,null,null,null,null,null,null,null,null,null,{"$f":"IF(VI$1>=$TM41,1,\"0\")","v":"0"},null,null,null,null,null,null,null,{"$f":"IF(VQ$1>=$TM41,1,\"0\")","v":"0"},null,null,null,null,null,null,null,null,null,null,null,null,{"$f":"IF(SUM($VZ$1:$WC$1)>0,IF(AND(SUM($VZ41:$WC41)>0,$TM41=WE$1),MAX(WD$2:WD40)+1,\"\"),IF(AND(SUM($UC41:$VY41)>0,$TM41=WE$1),MAX(WD$2:WD40)+1,\"\"))","v":""},"",{"$f":"IF(AND(SUM($UB41:$VY41)>0,$TM41=WG$1),MAX(WF$2:WF40)+1,\"\")","v":""},"",{"$f":"IF(AND(SUM($UB41:$VY41)>0,$TM41=WI$1),MAX(WH$2:WH40)+1,\"\")","v":""},"",{"$f":"IF(AND(SUM($UB41:$VY41)>0,$TM41=WK$1),MAX(WJ$2:WJ40)+1,\"\")","v":""},"",{"$f":"IF(AND(SUM($UB41:$VY41)>0,$TM41=WM$1),MAX(WL$2:WL40)+1,\"\")","v":""},"",{"$f":"IF(AND(SUM($UB41:$VY41)>0,$TM41=WO$1),MAX(WN$2:WN40)+1,\"\")","v":""},"",{"$f":"IF(AND(SUM($UB41:$VY41)>0,$TM41=WQ$1),MAX(WP$2:WP40)+1,\"\")","v":""},"",{"$f":"IF(AND(SUM($UB41:$VY41)>0,$TM41=WS$1),MAX(WR$2:WR40)+1,\"\")","v":""},"",{"$f":"IF(AND(SUM($UB41:$VY41)>0,$TM41=WU$1),MAX(WT$2:WT40)+1,\"\")","v":""},"",{"$f":"IF(AND(SUM($UB41:$VY41)>0,$TM41=WW$1),MAX(WV$2:WV40)+1,\"\")","v":""},"",{"$f":"IF(AND(SUM($UB41:$VY41)>0,$TM41=WY$1),MAX(WX$2:WX40)+1,\"\")","v":""},"",40,"","","","","","","","","","","",1,{"$f":"IF(XL41=1,MAX($XM$27:XM40)+1,\"\")","v":10},"Quipper","Beast","Tiny",13,2,"0 ft, swim 40 ft",2,16,9,1,7,2,"none","passive Perception 8, darkvision 60 ft","Bite melee +5, reach 5ft, 1 piercing\nDC10 Con save ½ , 2d4 poison","Blood Frenzy. Advantage on melee attack rolls against any creature that doesn't have all its hit points\nWater Breathing. Can breathe only underwater",null,null,null,"Mounted Combatant","none","You are a dangerous foe to face while mounted. While you are mounted and aren’t incapacitated, you gain the following benefits:\n• You have advantage on melee attack rolls against any unmounted creature that is smaller than your mount. \n• You can force an attack targeted at your mount to target you instead. \n• If your mount is subjected to an effect that allows it to  make a Dexterity saving throw to take only half damage, it instead takes no damage if it succeeds on the saving throw, and only half damage if it fails.","  - You have advantage on melee attack rolls against any unmounted creature that is smaller than your mount. \n  - You can force an attack targeted at your mount to target you instead. \n  - If your mount is subjected to an effect that allows it to  make a Dexterity saving throw to take only half damage, it instead\n     takes no damage if it succeeds on the saving throw, and only half damage if it fails.",{"$f":"\"\"","v":""},{"$f":"\"\"","v":""},{"$f":"\"\"","v":""},{"$f":"\"\"","v":""},null,null,null,null,null,"Ranger",8,{"$f":"VLOOKUP(YY41,$ZK$2:$ZP$23,$ZK$1,FALSE)","v":""},{"$f":"IF(YX41=\"\",\"\",MAX($YW$1:YW40)+1)","v":""},"",""]
[null,null,null,null,null,null,null,null,null,null,null,null,null,null,null,null,null,null,null,null,null,null,null,null,null,null,null,null,null,null,null,null,null,null,null,null,null,null,null,null,41,"",{"$f":"\"\"","v":""},{"$f":"\"\"","v":""},"FAVOURITE SCHEMES","CRIMINAL SPECIALTY","ENTERTAINER ROUTINES","DEFINING EVENT","GUILD BUSINESS","LIFE OF SECLUSION",{"$f":"\"\"","v":""},"ORIGIN","SPECIALTY",{"$f":"\"\"","v":""},"SPECIALTY",{"$f":"\"\"","v":""},{"$f":"\"\"","v":""},null,null,null,null,null,null,null,null,null,null,null,null,null,null,null,null,null,null,null,null,null,null,null,null,null,null,null,null,null,null,null,null,null,null,null,null,null,null,null,null,null,null,null,null,null,null,null,null,null,null,null,null,null,null,null,null,null,null,"Draconic Bloodline","Sorcerer",0,"Dragon Ancestor, Draconic Resilience",{"$f":"\"\"","v":""},{"$f":"\"\"","v":""},{"$f":"\"\"","v":""},{"$f":"\"\"","v":""},"Elemental Affinity",{"$f":"\"\"","v":""},{"$f":"\"\"","v":""},{"$f":"\"\"","v":""},{"$f":"\"\"","v":""},{"$f":"\"\"","v":""},{"$f":"\"\"","v":""},{"$f":"\"\"","v":""},{"$f":"\"Dragon Wings: fly speed \"&Speed&\" ft\"","v":"Dragon Wings: fly speed  ft"},{"$f":"\"\"","v":""},{"$f":"\"\"","v":""},{"$f":"\"\"","v":""},"Draconic Presence",{"$f":"\"\"","v":""},{"$f":"\"\"","v":""},{"$f":"\"\"","v":""},{"$f":"\"\"","v":""},null,{"$f":"\"\"","v":""},null,{"$f":"\"\"","v":""},null,{"$f":"\"\"","v":""},null,{"$f":"\"\"","v":""},null,{"$f":"\"\"","v":""},{"$f":"\"\"","v":""},{"$f":"\"\"","v":""},{"$f":"\"\"","v":""},{"$f":"\"\"","v":""},{"$f":"\"\"","v":""},null,{"$f":"IF($DM42=FB$5,MAX(FA$6:FA41)+1,\"\")","v":""},"",null,null,{"$f":"IF($DM42=FF$5,MAX(FE$6:FE41)+1,\"\")","v":""},"",null,null,{"$f":"IF($DM42=FJ$5,MAX(FI$6:FI41)+1,\"\")","v":""},"",null,null,null,null,null,null,null,null,null,null,null,null,null,null,null,null,null,null,null,null,null,null,null,null,null,null,null,null,null,null,null,null,null,null,null,null,null,null,null,null,null,null,null,null,null,null,null,null,null,null,null,null,"kenku","humanoid","shifter",null,null,null,null,null,null,null,null,null,null,null,null,null,null,null,null,null,null,null,null,{"$f":"IF(IJ42=TRUE,MAX($IH$2:IH41)+1,\"\")","v":""},null,null,null,null,null,null,null,null,null,null,null,null,null,null,null,"--------------------GREYHAWK--------------------",null,null,null,null,null,null,null,null,null,null,null,null,null,null,10,4,3,3,3,2,"-","-","-","-",5,null,null,null,null,null,null,null,null,null,null,null,null,null,null,null,null,null,null,null,null,null,null,"Bagpipes","No","Tools",null,null,null,null,null,null,null,null,null,null,null,null,null,null,null,null,null,null,null,null,null,null,null,null,null,null,null,null,null,null,null,null,null,null,null,null,null,null,null,null,null,null,null,null,null,null,null,null,null,null,null,null,null,null,null,null,null,null,null,null,null,null,null,null,null,null,null,null,null,null,null,null,null,null,null,null,null,null,null,null,null,null,null,null,null,null,null,null,null,null,null,null,null,null,null,null,null,null,null,null,null,null,null,null,null,null,null,null,null,null,null,null,null,null,null,null,null,null,null,null,null,null,null,null,null,null,{"$f":"IF(COUNTIF(Start!$AX$59:$BF$68,Tables!KT42)>0,Tables!KT42,\"\")","v":""},null,"",{"$f":"IF(PU42=\"\",\"\",IF(COUNTIF(PU42:$PU$57,\"><\")>1,PU42&\", \", PU42))","v":""},null,null,null,"Whip","Martial Melee","not proficient","1d4","slashing","-",3,{"$f":"\"\"","v":""},"finesse",{"$f":"\"\"","v":""},{"$f":"\"\"","v":""},{"$f":"\"\"","v":""},{"$f":"\"\"","v":""},"reach",{"$f":"\"\"","v":""},{"$f":"\"\"","v":""},{"$f":"\"\"","v":""},{"$f":"\"\"","v":""},{"$f":"\"\"","v":""},null,null,null,null,null,null,null,null,null,null,null,null,null,null,null,null,null,null,null,null,null,null,null,null,null,null,null,null,null,null,null,null,null,null,null,null,null,null,null,null,null,null,null,null,null,null,null,null,null,null,null,null,null,null,null,null,null,null,null,null,null,null,null,null,null,null,null,null,null,40,"Branding Smite","LEVEL 2",2,"Branding Smite ᴴ ","ᴴ ","",{"$f":"IF(OR(TK42=Spellcasting!$AC$18,TK42=Spellcasting!$AC$19),\"ᵐ\",\"\")","v":""},{"$f":"IF(OR(TK42=Spellcasting!$AC$20,TK42=Spellcasting!$AC$21),\"ˢ\",\"\")","v":""},{"$f":"\"\"","v":""},"1 bon","self","1 min ᶜᵒᶰ","V",{"$f":"\"\"","v":""},"evocation","evoc","The next time you hit a creature with a weapon attack before this spell ends, the weapon gleams with astral radiance as you strike. The attack deals an extra 2d6 radiant damage to the target, which becomes visible if it’s invisible, and the target sheds dim light in a 5-foot radius and can’t become invisible until the spell ends. \n\nAt Higher Levels. When you cast this spell using a spell slot of 3rd level or higher, the extra damage increases by 1d6 for each slot level above 2nd.","melee, weapon +2d6 radiant, becomes visible if invisible",null,{"$f":"IF(UD$1>=$TM42,1,\"0\")","v":"0"},null,null,null,null,null,null,null,null,null,null,null,null,null,null,null,null,null,null,null,null,null,null,null,null,null,null,null,null,null,null,null,null,null,null,null,null,null,null,null,null,null,null,null,null,null,null,null,null,null,null,null,{"$f":"IF(SUM($VZ$1:$WC$1)>0,IF(AND(SUM($VZ42:$WC42)>0,$TM42=WE$1),MAX(WD$2:WD41)+1,\"\"),IF(AND(SUM($UC42:$VY42)>0,$TM42=WE$1),MAX(WD$2:WD41)+1,\"\"))","v":""},"",{"$f":"IF(AND(SUM($UB42:$VY42)>0,$TM42=WG$1),MAX(WF$2:WF41)+1,\"\")","v":""},"",{"$f":"IF(AND(SUM($UB42:$VY42)>0,$TM42=WI$1),MAX(WH$2:WH41)+1,\"\")","v":""},"",{"$f":"IF(AND(SUM($UB42:$VY42)>0,$TM42=WK$1),MAX(WJ$2:WJ41)+1,\"\")","v":""},"",{"$f":"IF(AND(SUM($UB42:$VY42)>0,$TM42=WM$1),MAX(WL$2:WL41)+1,\"\")","v":""},"",{"$f":"IF(AND(SUM($UB42:$VY42)>0,$TM42=WO$1),MAX(WN$2:WN41)+1,\"\")","v":""},"",{"$f":"IF(AND(SUM($UB42:$VY42)>0,$TM42=WQ$1),MAX(WP$2:WP41)+1,\"\")","v":""},"",{"$f":"IF(AND(SUM($UB42:$VY42)>0,$TM42=WS$1),MAX(WR$2:WR41)+1,\"\")","v":""},"",{"$f":"IF(AND(SUM($UB42:$VY42)>0,$TM42=WU$1),MAX(WT$2:WT41)+1,\"\")","v":""},"",{"$f":"IF(AND(SUM($UB42:$VY42)>0,$TM42=WW$1),MAX(WV$2:WV41)+1,\"\")","v":""},"",{"$f":"IF(AND(SUM($UB42:$VY42)>0,$TM42=WY$1),MAX(WX$2:WX41)+1,\"\")","v":""},"",41,"","","","","","","","","","","",1,{"$f":"IF(XL42=1,MAX($XM$27:XM41)+1,\"\")","v":11},"Rat","Beast","Tiny",10,1,"20 ft",2,11,9,2,10,4,"none","passive Perception 10, darkvision 30 ft","Bite melee +0, reach 5ft, 1 piercing","Keen Smell. Advantage on Wisdom (Perception) checks that rely on smell",null,null,null,"Observant","none","Quick to notice details of your environment, you gain the following benefits:\n• Increase your Intelligence or Wisdom score by 1, to a maximum of 20. \n• If you can see a creature’s mouth while it is speaking a language you understand, you can interpret what it’s saying by reading its lips. \n• You have a +5 bonus to your passive Wisdom (Perception) and passive Intelligence (Investigation) scores.","  - Increase your Intelligence or Wisdom score by 1, to a maximum of 20. \n  - If you can see a creature’s mouth while it is speaking a language you understand, you can interpret what it’s saying by\n     reading its lips. \n  - You have a +5 bonus to your passive Wisdom (Perception) and passive Intelligence (Investigation) scores.",{"$f":"\"\"","v":""},{"$f":"\"\"","v":""},"IW",1,null,null,null,null,null,"Ranger",12,{"$f":"VLOOKUP(YY42,$ZK$2:$ZP$23,$ZK$1,FALSE)","v":""},{"$f":"IF(YX42=\"\",\"\",MAX($YW$1:YW41)+1)","v":""},"",""]
[null,null,null,null,null,null,null,null,null,null,null,null,null,null,null,null,null,null,null,null,null,null,null,null,null,null,null,null,null,null,null,null,null,null,null,null,null,null,null,null,{"$f":"AO42+1","v":42},"",{"$f":"\"\"","v":""},{"$f":"\"\"","v":""},{"$f":"\"\"","v":""},{"$f":"\"\"","v":""},{"$f":"\"\"","v":""},{"$f":"\"\"","v":""},{"$f":"\"\"","v":""},{"$f":"\"\"","v":""},{"$f":"\"\"","v":""},{"$f":"\"\"","v":""},{"$f":"\"\"","v":""},{"$f":"\"\"","v":""},{"$f":"\"\"","v":""},{"$f":"\"\"","v":""},{"$f":"\"\"","v":""},null,null,null,null,null,null,null,null,null,null,null,null,null,null,null,null,null,null,null,null,null,null,null,null,null,null,null,null,null,null,null,null,null,null,null,null,null,null,null,null,null,null,null,null,null,null,null,null,null,null,null,null,null,null,null,null,null,null,"Wild Magic","Sorcerer",0,"Wild Mage Surge, Tide of Chaos",{"$f":"\"\"","v":""},{"$f":"\"\"","v":""},{"$f":"\"\"","v":""},{"$f":"\"\"","v":""},"Bend Luck",{"$f":"\"\"","v":""},{"$f":"\"\"","v":""},{"$f":"\"\"","v":""},{"$f":"\"\"","v":""},{"$f":"\"\"","v":""},{"$f":"\"\"","v":""},{"$f":"\"\"","v":""},"Controlled Chaos",{"$f":"\"\"","v":""},{"$f":"\"\"","v":""},{"$f":"\"\"","v":""},"Spell Bombardment",{"$f":"\"\"","v":""},{"$f":"\"\"","v":""},{"$f":"\"\"","v":""},{"$f":"\"\"","v":""},null,{"$f":"\"\"","v":""},null,{"$f":"\"\"","v":""},null,{"$f":"\"\"","v":""},null,{"$f":"\"\"","v":""},null,{"$f":"\"\"","v":""},{"$f":"\"\"","v":""},{"$f":"\"\"","v":""},{"$f":"\"\"","v":""},{"$f":"\"\"","v":""},{"$f":"\"\"","v":""},null,{"$f":"IF($DM43=FB$5,MAX(FA$6:FA42)+1,\"\")","v":""},"",null,null,{"$f":"IF($DM43=FF$5,MAX(FE$6:FE42)+1,\"\")","v":""},"",null,null,{"$f":"IF($DM43=FJ$5,MAX(FI$6:FI42)+1,\"\")","v":""},"",null,null,null,null,null,null,null,null,null,null,null,null,null,null,null,null,null,null,null,null,null,null,null,null,null,null,null,null,null,null,null,null,null,null,null,null,null,null,null,null,null,null,null,null,null,null,null,null,null,null,null,null,"kobold","humanoid","skulk",null,null,null,null,null,null,null,null,null,null,null,null,null,null,null,null,null,null,null,null,{"$f":"IF(IJ43=TRUE,MAX($IH$2:IH42)+1,\"\")","v":""},null,null,null,null,null,null,null,null,null,null,null,null,null,null,null,"Beory (N)","goddess of nature","Neutral","Nature","Green disk",null,null,null,null,null,null,null,null,null,null,11,4,3,3,3,2,1,"-","-","-",6,null,null,null,null,null,null,null,null,null,null,null,null,null,null,null,null,null,null,null,null,null,null,"Drum","No","Tools",null,null,null,null,null,null,null,null,null,null,null,null,null,null,null,null,null,null,null,null,null,null,null,null,null,null,null,null,null,null,null,null,null,null,null,null,null,null,null,null,null,null,null,null,null,null,null,null,null,null,null,null,null,null,null,null,null,null,null,null,null,null,null,null,null,null,null,null,null,null,null,null,null,null,null,null,null,null,null,null,null,null,null,null,null,null,null,null,null,null,null,null,null,null,null,null,null,null,null,null,null,null,null,null,null,null,null,null,null,null,null,null,null,null,null,null,null,null,null,null,null,null,null,null,null,null,{"$f":"IF(COUNTIF(Start!$AX$59:$BF$68,Tables!KT43)>0,Tables!KT43,\"\")","v":""},null,"",{"$f":"IF(PU43=\"\",\"\",IF(COUNTIF(PU43:$PU$57,\"><\")>1,PU43&\", \", PU43))","v":""},null,null,null,"Attack Spell (Int)","Spell","not proficient",null,"see spell","see spell","-",{"$f":"\"\"","v":""},{"$f":"\"\"","v":""},{"$f":"\"\"","v":""},{"$f":"\"\"","v":""},{"$f":"\"\"","v":""},{"$f":"\"\"","v":""},{"$f":"\"\"","v":""},{"$f":"\"\"","v":""},{"$f":"\"\"","v":""},{"$f":"\"\"","v":""},{"$f":"\"\"","v":""},{"$f":"\"\"","v":""},null,null,null,null,null,null,null,null,null,null,null,null,null,null,null,null,null,null,null,null,null,null,null,null,null,null,null,null,null,null,null,null,null,null,null,null,null,null,null,null,null,null,null,null,null,null,null,null,null,null,null,null,null,null,null,null,null,null,null,null,null,null,null,null,null,null,null,null,null,41,"Burning Hands","LEVEL 1",1,"Burning Hands ᴴ ","ᴴ ","",{"$f":"IF(OR(TK43=Spellcasting!$AC$18,TK43=Spellcasting!$AC$19),\"ᵐ\",\"\")","v":""},{"$f":"IF(OR(TK43=Spellcasting!$AC$20,TK43=Spellcasting!$AC$21),\"ˢ\",\"\")","v":""},{"$f":"\"\"","v":""},"1 act","self","instant","VS",{"$f":"\"\"","v":""},"evocation","evoc","As you hold your hands with thumbs touching and fingers spread, a thin sheet of flames shoots forth from your outstretched fingertips. Each creature in a 15-foot cone must make a Dexterity saving throw. A creature takes 3d6 fire damage on a failed save, or half as much damage on a successful one. \n\nThe fire ignites any flammable objects in the area that aren’t being worn or carried. \n\nAt Higher Levels. When you cast this spell using a spell slot of 2nd level or higher, the damage increases by 1d6 for each slot level above 1st. ",{"$f":"\"15ft cone, 3d6\"&IF(WizardEvocationLevel>=10,\"+\"&INTMod,IF(AD13=TRUE,\"+\"&CHAMod,\"\"))&\" fire, dex save ½\"","v":"15ft cone, 3d6 fire, dex save ½"},null,null,null,{"$f":"IF(UF$1>=$TM43,1,\"0\")","v":"0"},null,null,null,null,null,{"$f":"IF(UL$1>=$TM43,1,\"0\")","v":"0"},null,null,null,null,null,null,null,null,null,null,{"$f":"IF(UW$1>=$TM43,1,\"0\")","v":"0"},null,null,null,{"$f":"IF(VA$1>=$TM43,1,\"0\")","v":"0"},null,null,null,null,null,null,null,null,null,null,null,null,null,null,{"$f":"IF(VP$1>=$TM43,1,\"0\")","v":"0"},null,null,null,null,null,null,null,null,null,null,null,null,null,{"$f":"IF(SUM($VZ$1:$WC$1)>0,IF(AND(SUM($VZ43:$WC43)>0,$TM43=WE$1),MAX(WD$2:WD42)+1,\"\"),IF(AND(SUM($UC43:$VY43)>0,$TM43=WE$1),MAX(WD$2:WD42)+1,\"\"))","v":""},"",{"$f":"IF(AND(SUM($UB43:$VY43)>0,$TM43=WG$1),MAX(WF$2:WF42)+1,\"\")","v":""},"",{"$f":"IF(AND(SUM($UB43:$VY43)>0,$TM43=WI$1),MAX(WH$2:WH42)+1,\"\")","v":""},"",{"$f":"IF(AND(SUM($UB43:$VY43)>0,$TM43=WK$1),MAX(WJ$2:WJ42)+1,\"\")","v":""},"",{"$f":"IF(AND(SUM($UB43:$VY43)>0,$TM43=WM$1),MAX(WL$2:WL42)+1,\"\")","v":""},"",{"$f":"IF(AND(SUM($UB43:$VY43)>0,$TM43=WO$1),MAX(WN$2:WN42)+1,\"\")","v":""},"",{"$f":"IF(AND(SUM($UB43:$VY43)>0,$TM43=WQ$1),MAX(WP$2:WP42)+1,\"\")","v":""},"",{"$f":"IF(AND(SUM($UB43:$VY43)>0,$TM43=WS$1),MAX(WR$2:WR42)+1,\"\")","v":""},"",{"$f":"IF(AND(SUM($UB43:$VY43)>0,$TM43=WU$1),MAX(WT$2:WT42)+1,\"\")","v":""},"",{"$f":"IF(AND(SUM($UB43:$VY43)>0,$TM43=WW$1),MAX(WV$2:WV42)+1,\"\")","v":""},"",{"$f":"IF(AND(SUM($UB43:$VY43)>0,$TM43=WY$1),MAX(WX$2:WX42)+1,\"\")","v":""},"",42,"","","","","","","","","","","",1,{"$f":"IF(XL43=1,MAX($XM$27:XM42)+1,\"\")","v":12},"Raven","Beast","Tiny",12,1,"10 ft, fly 50 ft",2,14,8,2,12,6,"Perception +3","passive Perception 13","Beak melee +4, reach 5ft, 1 piercing","Mimicry. Mimic simple sounds, such as a person whispering, a baby crying, or an animal chittering\nA creature that hears the sounds can tell they are imitations with a DC 10 Wisdom (Insight) check",null,null,null,"Polearm Master","none","You can keep your enemies at bay with reach weapons. You gain the following benefits:\n• When you take the Attack action and attack with only a glaive, halberd, or quarterstaff, you can use a bonus action to make a melee attack with the opposite end of the weapon. The weapon’s damage die for this attack is a d4, and the attack deals bludgeoning damage. \n• While you are wielding a glaive, halberd, pike, or quarterstaff, other creatures provoke an opportunity attack from you when they enter your reach.","  - When you take the Attack action and attack with only a glaive, halberd, or quarterstaff, you can use a bonus action to make a\n     melee attack with the opposite end of the weapon. The weapon’s damage die for this attack is a d4, and the attack deal\n     bludgeoning damage. \n  - While you are wielding a glaive, halberd, pike, or quarterstaff, other creatures provoke an opportunity attack from you\n     when they enter your reach.",{"$f":"\"\"","v":""},{"$f":"\"\"","v":""},{"$f":"\"\"","v":""},{"$f":"\"\"","v":""},null,null,null,null,null,"Ranger",16,{"$f":"VLOOKUP(YY43,$ZK$2:$ZP$23,$ZK$1,FALSE)","v":""},{"$f":"IF(YX43=\"\",\"\",MAX($YW$1:YW42)+1)","v":""},"",""]
[null,null,null,null,null,null,null,null,null,null,null,null,null,null,null,null,null,null,null,null,null,null,null,null,null,null,null,null,null,null,null,null,null,null,null,null,null,null,null,null,43,"",{"$f":"\"\"","v":""},{"$f":"\"\"","v":""},"I cheat at games of chance.","Blackmailer","Actor","I stood up to a tyrant’s agents.","Alchemists and apothecaries ","I was searching for spiritual enlightenment. ",{"$f":"\"\"","v":""},"Forester ","Alchemist",{"$f":"\"\"","v":""},"Officer ",{"$f":"\"\"","v":""},{"$f":"\"\"","v":""},null,null,null,null,null,null,null,null,null,null,null,null,null,null,null,null,null,null,null,null,null,null,null,null,null,null,null,null,null,null,null,null,null,null,null,null,null,null,null,null,null,null,null,null,null,null,null,null,null,null,null,null,null,null,null,null,null,null,"Archfey","Warlock",0,{"$f":"\"• Otherworldly Patron Feature (Fey Presence)\n• Expanded Spell List\n\"&EI44","v":"• Otherworldly Patron Feature (Fey Presence)\n• Expanded Spell List\n"},{"$f":"\"\"","v":""},{"$f":"\"\"","v":""},{"$f":"\"\"","v":""},{"$f":"\"\"","v":""},"Misty Escape",{"$f":"\"\"","v":""},{"$f":"\"\"","v":""},{"$f":"\"\"","v":""},"Beguiling Defenses",{"$f":"\"\"","v":""},{"$f":"\"\"","v":""},{"$f":"\"\"","v":""},"Dark Delirium",{"$f":"\"\"","v":""},{"$f":"\"\"","v":""},{"$f":"\"\"","v":""},{"$f":"\"\"","v":""},{"$f":"\"\"","v":""},{"$f":"\"\"","v":""},{"$f":"IF(WarlockLevel>=9,\"  1st (faerie fire, sleep)\n  3rd (calm emotions, phantasmal force)\n  5th (blink, plant growth)\n  7th (dominate beast, greater invisibility)\n  9th (dominate person, seeming)\",IF(WarlockLevel>=7,\"  1st (faerie fire, sleep)\n  3rd (calm emotions, phantasmal force)\n  5th (blink, plant growth)\n  7th (dominate beast, greater invisibility)\",IF(WarlockLevel>=5,\"  1st (faerie fire, sleep)\n  3rd (calm emotions, phantasmal force)\n  5th (blink, plant growth)\",IF(WarlockLevel>=3,\"  1st (faerie fire, sleep)\n  3rd (calm emotions, phantasmal force)\",IF(WarlockLevel>=1,\"  1st (faerie fire, sleep)\",\"\")))))","v":""},{"$f":"\"\"","v":""},null,{"$f":"\"\"","v":""},null,{"$f":"\"\"","v":""},null,{"$f":"\"\"","v":""},null,{"$f":"\"\"","v":""},null,{"$f":"\"\"","v":""},{"$f":"\"\"","v":""},{"$f":"\"\"","v":""},{"$f":"\"\"","v":""},{"$f":"\"\"","v":""},{"$f":"\"\"","v":""},null,{"$f":"IF($DM44=FB$5,MAX(FA$6:FA43)+1,\"\")","v":""},"",null,null,{"$f":"IF($DM44=FF$5,MAX(FE$6:FE43)+1,\"\")","v":""},"",null,null,{"$f":"IF($DM44=FJ$5,MAX(FI$6:FI43)+1,\"\")","v":""},"",null,null,null,null,null,null,null,null,null,null,null,null,null,null,null,null,null,null,null,null,null,null,null,null,null,null,null,null,null,null,null,null,null,null,null,null,null,null,null,null,null,null,null,null,null,null,null,null,null,null,null,null,"lizardfolk","humanoid","swanmay",null,null,null,null,null,null,null,null,null,null,null,null,null,null,null,null,null,null,null,null,{"$f":"IF(IJ44=TRUE,MAX($IH$2:IH43)+1,\"\")","v":""},null,null,null,null,null,null,null,null,null,null,null,null,null,null,null,"Boccob (N)","god of magic","Neutral","Knowledge","Eye within a pentagram",null,null,null,null,null,null,null,null,null,null,12,4,3,3,3,2,1,"-","-","-",6,null,null,null,null,null,null,null,null,null,null,null,null,null,null,null,null,null,null,null,null,null,null,"Dulcimer","No","Tools",null,null,null,null,null,null,null,null,null,null,null,null,null,null,null,null,null,null,null,null,null,null,null,null,null,null,null,null,null,null,null,null,null,null,null,null,null,null,null,null,null,null,null,null,null,null,null,null,null,null,null,null,null,null,null,null,null,null,null,null,null,null,null,null,null,null,null,null,null,null,null,null,null,null,null,null,null,null,null,null,null,null,null,null,null,null,null,null,null,null,null,null,null,null,null,null,null,null,null,null,null,null,null,null,null,null,null,null,null,null,null,null,null,null,null,null,null,null,null,null,null,null,null,null,null,null,{"$f":"IF(COUNTIF(Start!$AX$59:$BF$68,Tables!KT44)>0,Tables!KT44,\"\")","v":""},null,"",{"$f":"IF(PU44=\"\",\"\",IF(COUNTIF(PU44:$PU$57,\"><\")>1,PU44&\", \", PU44))","v":""},null,null,null,"Attack Spell (Wis)","Spell","not proficient",null,"see spell","see spell","-",{"$f":"\"\"","v":""},{"$f":"\"\"","v":""},{"$f":"\"\"","v":""},{"$f":"\"\"","v":""},{"$f":"\"\"","v":""},{"$f":"\"\"","v":""},{"$f":"\"\"","v":""},{"$f":"\"\"","v":""},{"$f":"\"\"","v":""},{"$f":"\"\"","v":""},{"$f":"\"\"","v":""},{"$f":"\"\"","v":""},null,null,null,null,null,null,null,null,null,null,null,null,null,null,null,null,null,null,null,null,null,null,null,null,null,null,null,null,null,null,null,null,null,null,null,null,null,null,null,null,null,null,null,null,null,null,null,null,null,null,null,null,null,null,null,null,null,null,null,null,null,null,null,null,null,null,null,null,null,42,"Call Lightning","LEVEL 3",3,"Call Lightning ᴴ ","ᴴ ","",{"$f":"IF(OR(TK44=Spellcasting!$AC$18,TK44=Spellcasting!$AC$19),\"ᵐ\",\"\")","v":""},{"$f":"IF(OR(TK44=Spellcasting!$AC$20,TK44=Spellcasting!$AC$21),\"ˢ\",\"\")","v":""},{"$f":"\"\"","v":""},"1 act","120 ft","10 min ᶜᵒᶰ","VS",{"$f":"\"\"","v":""},"conjuration","conjur","A storm cloud appears in the shape of a cylinder that is 10 feet tall with a 60-foot radius, centered on a point you can see 100 feet directly above you. The spell fails if you can’t see a point in the air where the storm cloud could appear (for example, if you are in a room that can’t accommodate the cloud). \n\nWhen you cast the spell, choose a point you can see within range. A bolt of lightning flashes down from the cloud to that point. Each creature within 5 feet of that point must make a Dexterity saving throw. A creature takes 3d10 lightning damage on a failed save, or half as much damage on a successful one. On each of your turns until the spell ends, you can use your action to call down lightning in this way again, targeting the same point or a different one. \n\nIf you are outdoors in stormy conditions when you cast this spell, the spell gives you control over the existing storm instead of creating a new one. Under such conditions, the spell’s damage increases by 1d10. \n\nAt Higher Levels. When you cast this spell using a spell slot of 4th or higher level, the damage increases by 1d10 for each slot level above 3rd.","15ft square, 3d10 (4d10 outside stormy) lightning, dex save ½",null,null,null,null,null,null,{"$f":"IF(UI$1>=$TM44,1,\"0\")","v":"0"},null,null,null,null,null,null,null,null,null,null,null,null,null,null,null,null,null,null,null,{"$f":"IF(VC$1>=$TM44,1,\"0\")","v":"0"},null,null,null,null,null,null,{"$f":"IF(VJ$1>=$TM44,1,\"0\")","v":"0"},null,null,null,null,null,null,null,null,null,null,null,null,null,null,null,null,null,null,null,{"$f":"IF(SUM($VZ$1:$WC$1)>0,IF(AND(SUM($VZ44:$WC44)>0,$TM44=WE$1),MAX(WD$2:WD43)+1,\"\"),IF(AND(SUM($UC44:$VY44)>0,$TM44=WE$1),MAX(WD$2:WD43)+1,\"\"))","v":""},"",{"$f":"IF(AND(SUM($UB44:$VY44)>0,$TM44=WG$1),MAX(WF$2:WF43)+1,\"\")","v":""},"",{"$f":"IF(AND(SUM($UB44:$VY44)>0,$TM44=WI$1),MAX(WH$2:WH43)+1,\"\")","v":""},"",{"$f":"IF(AND(SUM($UB44:$VY44)>0,$TM44=WK$1),MAX(WJ$2:WJ43)+1,\"\")","v":""},"",{"$f":"IF(AND(SUM($UB44:$VY44)>0,$TM44=WM$1),MAX(WL$2:WL43)+1,\"\")","v":""},"",{"$f":"IF(AND(SUM($UB44:$VY44)>0,$TM44=WO$1),MAX(WN$2:WN43)+1,\"\")","v":""},"",{"$f":"IF(AND(SUM($UB44:$VY44)>0,$TM44=WQ$1),MAX(WP$2:WP43)+1,\"\")","v":""},"",{"$f":"IF(AND(SUM($UB44:$VY44)>0,$TM44=WS$1),MAX(WR$2:WR43)+1,\"\")","v":""},"",{"$f":"IF(AND(SUM($UB44:$VY44)>0,$TM44=WU$1),MAX(WT$2:WT43)+1,\"\")","v":""},"",{"$f":"IF(AND(SUM($UB44:$VY44)>0,$TM44=WW$1),MAX(WV$2:WV43)+1,\"\")","v":""},"",{"$f":"IF(AND(SUM($UB44:$VY44)>0,$TM44=WY$1),MAX(WX$2:WX43)+1,\"\")","v":""},"",43,"","","","","","","","","","","",1,{"$f":"IF(XL44=1,MAX($XM$27:XM43)+1,\"\")","v":13},"Scorpion","Beast","Tiny",11,1,"10 ft",2,1,8,1,8,2,"none","passive Perception 9, blindsight 10ft","Sting melee +2, reach 5ft, 1 piercing\nDC 9 Con save ½, 1d8 poison","none",null,null,null,"Resilient","none","Choose one ability score. You gain the following benefits:\n• Increase the chosen ability score by 1, to a maximum of 20. \n• You gain proficiency in saving throws using the chosen ability.","  - Increase the chosen ability score by 1, to a maximum of 20. \n  - You gain proficiency in saving throws using the chosen ability.",{"$f":"\"\"","v":""},{"$f":"\"\"","v":""},"A",1,null,null,null,null,null,"Ranger",19,{"$f":"VLOOKUP(YY44,$ZK$2:$ZP$23,$ZK$1,FALSE)","v":""},{"$f":"IF(YX44=\"\",\"\",MAX($YW$1:YW43)+1)","v":""},"",""]
[null,null,null,null,null,null,null,null,null,null,null,null,null,null,null,null,null,null,null,null,null,null,null,null,null,null,null,null,null,null,null,null,null,null,null,null,null,null,null,null,44,"",{"$f":"\"\"","v":""},{"$f":"\"\"","v":""},"I shave coins or forge documents.","Burglar","Dancer","I saved people during a natural disaster.","Armorers, locksmiths, and finesmiths","I was communal living in accordance with the dictates of a religious order. ",{"$f":"\"\"","v":""},"Trapper ","Astronomer",{"$f":"\"\"","v":""},"Scout ",{"$f":"\"\"","v":""},{"$f":"\"\"","v":""},null,null,null,null,null,null,null,null,null,null,null,null,null,null,null,null,null,null,null,null,null,null,null,null,null,null,null,null,null,null,null,null,null,null,null,null,null,null,null,null,null,null,null,null,null,null,null,null,null,null,null,null,null,null,null,null,null,null,"Fiend","Warlock",0,{"$f":"\"• Otherworldly Patron Feature (Dark One's Blessing)\n• Expanded Spell List\n\"&EI45","v":"• Otherworldly Patron Feature (Dark One's Blessing)\n• Expanded Spell List\n"},{"$f":"\"\"","v":""},{"$f":"\"\"","v":""},{"$f":"\"\"","v":""},{"$f":"\"\"","v":""},"Dark One's Own Luck",{"$f":"\"\"","v":""},{"$f":"\"\"","v":""},{"$f":"\"\"","v":""},"Fiendish Resilience",{"$f":"\"\"","v":""},{"$f":"\"\"","v":""},{"$f":"\"\"","v":""},"Hurl Through Hell",{"$f":"\"\"","v":""},{"$f":"\"\"","v":""},{"$f":"\"\"","v":""},{"$f":"\"\"","v":""},{"$f":"\"\"","v":""},{"$f":"\"\"","v":""},{"$f":"IF(WarlockLevel>=9,\"  1st (burning hands, command)\n  3rd (blindness/deafness, scorching ray)\n  5th (fireball, stinking cloud)\n  7th (fire shield, wall of fire)\n  9th (flame strike, hallow)\",IF(WarlockLevel>=7,\"  1st (burning hands, command)\n  3rd (blindness/deafness, scorching ray)\n  5th (fireball, stinking cloud)\n  7th (fire shield, wall of fire)\",IF(WarlockLevel>=5,\"  1st (burning hands, command)\n  3rd (blindness/deafness, scorching ray)\n  5th (fireball, stinking cloud)\",IF(WarlockLevel>=3,\"  1st (burning hands, command)\n  3rd (blindness/deafness, scorching ray)\",IF(WarlockLevel>=1,\"  1st (burning hands, command)\",\"\")))))","v":""},{"$f":"\"\"","v":""},null,{"$f":"\"\"","v":""},null,{"$f":"\"\"","v":""},null,{"$f":"\"\"","v":""},null,{"$f":"\"\"","v":""},null,{"$f":"\"\"","v":""},{"$f":"\"\"","v":""},{"$f":"\"\"","v":""},{"$f":"\"\"","v":""},{"$f":"\"\"","v":""},{"$f":"\"\"","v":""},null,{"$f":"IF($DM45=FB$5,MAX(FA$6:FA44)+1,\"\")","v":""},"",null,null,{"$f":"IF($DM45=FF$5,MAX(FE$6:FE44)+1,\"\")","v":""},"",null,null,{"$f":"IF($DM45=FJ$5,MAX(FI$6:FI44)+1,\"\")","v":""},"",null,null,null,null,null,null,null,null,null,null,null,null,null,null,null,null,null,null,null,null,null,null,null,null,null,null,null,null,null,null,null,null,null,null,null,null,null,null,null,null,null,null,null,null,null,null,null,null,null,null,null,null,"locathah","humanoid","tasloi",null,null,null,null,null,null,null,null,null,null,null,null,null,null,null,null,null,null,null,null,{"$f":"IF(IJ45=TRUE,MAX($IH$2:IH44)+1,\"\")","v":""},null,null,null,null,null,null,null,null,null,null,null,null,null,null,null,"Celestian (N)","god of stars and wanderers","Neutral","Knowledge","Arc of seven stars inside a circle",null,null,null,null,null,null,null,null,null,null,13,4,3,3,3,2,1,1,"-","-",7,null,null,null,null,null,null,null,null,null,null,null,null,null,null,null,null,null,null,null,null,null,null,"Flute","No","Tools",null,null,null,null,null,null,null,null,null,null,null,null,null,null,null,null,null,null,null,null,null,null,null,null,null,null,null,null,null,null,null,null,null,null,null,null,null,null,null,null,null,null,null,null,null,null,null,null,null,null,null,null,null,null,null,null,null,null,null,null,null,null,null,null,null,null,null,null,null,null,null,null,null,null,null,null,null,null,null,null,null,null,null,null,null,null,null,null,null,null,null,null,null,null,null,null,null,null,null,null,null,null,null,null,null,null,null,null,null,null,null,null,null,null,null,null,null,null,null,null,null,null,null,null,null,null,{"$f":"IF(COUNTIF(Start!$AX$59:$BF$68,Tables!KT45)>0,Tables!KT45,\"\")","v":""},null,"",{"$f":"IF(PU45=\"\",\"\",IF(COUNTIF(PU45:$PU$57,\"><\")>1,PU45&\", \", PU45))","v":""},null,null,null,"Attack Spell (Cha)","Spell","not proficient",null,"see spell","see spell","-",{"$f":"\"\"","v":""},{"$f":"\"\"","v":""},{"$f":"\"\"","v":""},{"$f":"\"\"","v":""},{"$f":"\"\"","v":""},{"$f":"\"\"","v":""},{"$f":"\"\"","v":""},{"$f":"\"\"","v":""},{"$f":"\"\"","v":""},{"$f":"\"\"","v":""},{"$f":"\"\"","v":""},{"$f":"\"\"","v":""},null,null,null,null,null,null,null,null,null,null,null,null,null,null,null,null,null,null,null,null,null,null,null,null,null,null,null,null,null,null,null,null,null,null,null,null,null,null,null,null,null,null,null,null,null,null,null,null,null,null,null,null,null,null,null,null,null,null,null,null,null,null,null,null,null,null,null,null,null,43,"Calm Emotions","LEVEL 2",2,"Calm Emotions ",{"$f":"\"\"","v":""},"",{"$f":"IF(OR(TK45=Spellcasting!$AC$18,TK45=Spellcasting!$AC$19),\"ᵐ\",\"\")","v":""},{"$f":"IF(OR(TK45=Spellcasting!$AC$20,TK45=Spellcasting!$AC$21),\"ˢ\",\"\")","v":""},{"$f":"\"\"","v":""},"1 act","60 ft","1 min ᶜᵒᶰ","VS",{"$f":"\"\"","v":""},"enchantment","ench","You attempt to suppress strong emotions in a group of people. Each humanoid in a 20-foot-radius sphere centered on a point you choose within range must make a Charisma saving throw; a creature can choose to fail this saving throw if it wishes. If a creature fails its saving throw, choose one of the following two effects. \n\nYou can suppress any effect causing a target to be charmed or frightened. When this spell ends, any suppressed effect resumes, provided that its duration has not expired in the meantime. \n\nAlternatively, you can make a target indifferent about creatures of your choice that it is hostile toward. This indifference ends if the target is attacked or harmed by a spell or if it witnesses any of its friends being harmed. When the spell ends, the creature becomes hostile again, unless the DM rules otherwise.","20ft rad sphere, suppress charmed/frightened effect, cha save",{"$f":"IF(UC$1>=$TM45,1,\"0\")","v":"0"},null,null,null,null,{"$f":"IF(UH$1>=$TM45,1,\"0\")","v":"0"},null,null,null,null,null,null,null,null,null,null,null,null,null,{"$f":"IF(UV$1>=$TM45,1,\"0\")","v":"0"},null,null,null,null,null,null,null,null,null,null,null,null,null,null,null,null,null,null,null,null,null,null,null,null,null,null,null,null,null,null,null,null,null,{"$f":"IF(SUM($VZ$1:$WC$1)>0,IF(AND(SUM($VZ45:$WC45)>0,$TM45=WE$1),MAX(WD$2:WD44)+1,\"\"),IF(AND(SUM($UC45:$VY45)>0,$TM45=WE$1),MAX(WD$2:WD44)+1,\"\"))","v":""},"",{"$f":"IF(AND(SUM($UB45:$VY45)>0,$TM45=WG$1),MAX(WF$2:WF44)+1,\"\")","v":""},"",{"$f":"IF(AND(SUM($UB45:$VY45)>0,$TM45=WI$1),MAX(WH$2:WH44)+1,\"\")","v":""},"",{"$f":"IF(AND(SUM($UB45:$VY45)>0,$TM45=WK$1),MAX(WJ$2:WJ44)+1,\"\")","v":""},"",{"$f":"IF(AND(SUM($UB45:$VY45)>0,$TM45=WM$1),MAX(WL$2:WL44)+1,\"\")","v":""},"",{"$f":"IF(AND(SUM($UB45:$VY45)>0,$TM45=WO$1),MAX(WN$2:WN44)+1,\"\")","v":""},"",{"$f":"IF(AND(SUM($UB45:$VY45)>0,$TM45=WQ$1),MAX(WP$2:WP44)+1,\"\")","v":""},"",{"$f":"IF(AND(SUM($UB45:$VY45)>0,$TM45=WS$1),MAX(WR$2:WR44)+1,\"\")","v":""},"",{"$f":"IF(AND(SUM($UB45:$VY45)>0,$TM45=WU$1),MAX(WT$2:WT44)+1,\"\")","v":""},"",{"$f":"IF(AND(SUM($UB45:$VY45)>0,$TM45=WW$1),MAX(WV$2:WV44)+1,\"\")","v":""},"",{"$f":"IF(AND(SUM($UB45:$VY45)>0,$TM45=WY$1),MAX(WX$2:WX44)+1,\"\")","v":""},"",44,"","","","","","","","","","","",1,{"$f":"IF(XL45=1,MAX($XM$27:XM44)+1,\"\")","v":14},"Snake","Beast","Tiny",13,2,"30 ft, swim 30 ft",2,16,11,1,10,3,"none","passive Perception 10, blindsight 10 ft","Bite melee +5, reach 5ft, 1 piercing\nDC10 Con save ½ , 2d4 poison","none",null,null,null,"Ritual Caster","none","You have learned a number of spells that you can cast as rituals. These spells are written in a ritual book, which you must have in hand while casting one of them. \nWhen you choose this feat, you acquire a ritual book holding two 1st-level spells of your choice. Choose one of the following classes: bard, cleric, druid, sorcerer, warlock, or wizard. You must choose your spells from that class’s spell list, and the spells you choose must have the ritual tag. The class you choose also determines your spellcasting ability for these spells: Charisma for bard, sorcerer, or warlock; Wisdom for cleric or druid; or Intelligence for wizard. \nIf you come across a spell in written form, such as a magical spell scroll or a wizard’s spellbook, you might be able to add it to your ritual book. The spell must be on the spell list for the class you chose, the spell’s level can be no higher than half your level (rounded up), and it must have the ritual tag. The process of copying the spell into your ritual book takes 2 hours per level of the spell, and costs 50 gp per level. The cost represents material components you expend as you experiment with the spell to master it, as well as the fine inks you need to record it.","  - You acquire a ritual book holding two 1st-level spells of your choice. Choose one of the following classes: bard, cleric, druid,\n     sorcerer, warlock, or wizard. You must choose your spells from that class’s spell list, and the spells you choose must have\n     the ritual tag. The class you choose determines your spellcasting ability for these spells: Charisma for bard, sorcerer, or\n     warlock; Wisdom for cleric or druid; or Intelligence for wizard. \n  - If you come across a spell in written form, such as a magical spell scroll or a wizard’s spellbook, you might be able to add it\n     to your ritual book. The spell must be on the spell list for the class you chose, the spell’s level can be no higher than half your\n     level (rounded up), and it must have the ritual tag. The process of copying spells into your ritual book takes 2 hours per level\n     of the spell and 50 gp per level. The cost represents material components expended as you experiment with the spell to\n     master it, as well as fine inks you need to record it.",{"$f":"\"\"","v":""},{"$f":"\"\"","v":""},{"$f":"\"\"","v":""},{"$f":"\"\"","v":""},null,null,null,null,null,"Rogue",4,{"$f":"VLOOKUP(YY45,$ZL$2:$ZP$23,$ZL$1,FALSE)","v":""},{"$f":"IF(YX45=\"\",\"\",MAX($YW$1:YW44)+1)","v":""},"",""]
[null,null,null,null,null,null,null,null,null,null,null,null,null,null,null,null,null,null,null,null,null,null,null,null,null,null,null,null,null,null,null,null,null,null,null,null,null,null,null,null,45,"",{"$f":"\"\"","v":""},{"$f":"\"\"","v":""},"I insinuate myself into people’s lives to prey on their weakness and secure their fortunes.","Enforcer","Fire-eater","I stood alone against a terrible monster.","Brewers, distillers, and vintners ","I was exiled for a crime I didn’t commit. ",{"$f":"\"\"","v":""},"Homesteader ","Discredited academic",{"$f":"\"\"","v":""},"Infantry ",{"$f":"\"\"","v":""},{"$f":"\"\"","v":""},null,null,null,null,null,null,null,null,null,null,null,null,null,null,null,null,null,null,null,null,null,null,null,null,null,null,null,null,null,null,null,null,null,null,null,null,null,null,null,null,null,null,null,null,null,null,null,null,null,null,null,null,null,null,null,null,null,null,"Great Old One","Warlock",0,{"$f":"\"• Otherworldly Patron Feature (Awakened Mind)\n• Expanded Spell List\n\"&EI46","v":"• Otherworldly Patron Feature (Awakened Mind)\n• Expanded Spell List\n"},{"$f":"\"\"","v":""},{"$f":"\"\"","v":""},{"$f":"\"\"","v":""},{"$f":"\"\"","v":""},"Entropic Ward",{"$f":"\"\"","v":""},{"$f":"\"\"","v":""},{"$f":"\"\"","v":""},"Thought Shield",{"$f":"\"\"","v":""},{"$f":"\"\"","v":""},{"$f":"\"\"","v":""},"Create Thrall",{"$f":"\"\"","v":""},{"$f":"\"\"","v":""},{"$f":"\"\"","v":""},{"$f":"\"\"","v":""},{"$f":"\"\"","v":""},{"$f":"\"\"","v":""},{"$f":"IF(WarlockLevel>=9,\"  1st (dissonant whispers, Tasha's hideous laughter)\n  3rd (detect thoughts, phantasmal force)\n  5th (clairvoyance, sending)\n  7th (dominate beast, Evard’s black tentacles)\n  9th (dominate person, telekinesis)\",IF(WarlockLevel>=7,\"  1st (dissonant whispers, Tasha's hideous laughter)\n  3rd (detect thoughts, phantasmal force)\n  5th (clairvoyance, sending)\n  7th (dominate beast, Evard’s black tentacles)\",IF(WarlockLevel>=5,\"  1st (dissonant whispers, Tasha's hideous laughter)\n  3rd (detect thoughts, phantasmal force)\n  5th (clairvoyance, sending)\",IF(WarlockLevel>=3,\"  1st (dissonant whispers, Tasha's hideous laughter)\n  3rd (detect thoughts, phantasmal force)\",IF(WarlockLevel>=1,\"  1st (dissonant whispers, Tasha's hideous laughter)\",\"\")))))","v":""},{"$f":"\"\"","v":""},null,{"$f":"\"\"","v":""},null,{"$f":"\"\"","v":""},null,{"$f":"\"\"","v":""},null,{"$f":"\"\"","v":""},null,{"$f":"\"\"","v":""},{"$f":"\"\"","v":""},{"$f":"\"\"","v":""},{"$f":"\"\"","v":""},{"$f":"\"\"","v":""},{"$f":"\"\"","v":""},null,{"$f":"IF($DM46=FB$5,MAX(FA$6:FA45)+1,\"\")","v":""},"",null,null,{"$f":"IF($DM46=FF$5,MAX(FE$6:FE45)+1,\"\")","v":""},"",null,null,{"$f":"IF($DM46=FJ$5,MAX(FI$6:FI45)+1,\"\")","v":""},"",null,null,null,null,null,null,null,null,null,null,null,null,null,null,null,null,null,null,null,null,null,null,null,null,null,null,null,null,null,null,null,null,null,null,null,null,null,null,null,null,null,null,null,null,null,null,null,null,null,null,null,null,"merfolk","humanoid","tiefling",null,null,null,null,null,null,null,null,null,null,null,null,null,null,null,null,null,null,null,null,{"$f":"IF(IJ46=TRUE,MAX($IH$2:IH45)+1,\"\")","v":""},null,null,null,null,null,null,null,null,null,null,null,null,null,null,null,"Ehlonna (NG)","goddess of woodlands","Lawful Good","Life, Nature","Unicorn horn",null,null,null,null,null,null,null,null,null,null,14,4,3,3,3,2,1,1,"-","-",7,null,null,null,null,null,null,null,null,null,null,null,null,null,null,null,null,null,null,null,null,null,null,"Horn","No","Tools",null,null,null,null,null,null,null,null,null,null,null,null,null,null,null,null,null,null,null,null,null,null,null,null,null,null,null,null,null,null,null,null,null,null,null,null,null,null,null,null,null,null,null,null,null,null,null,null,null,null,null,null,null,null,null,null,null,null,null,null,null,null,null,null,null,null,null,null,null,null,null,null,null,null,null,null,null,null,null,null,null,null,null,null,null,null,null,null,null,null,null,null,null,null,null,null,null,null,null,null,null,null,null,null,null,null,null,null,null,null,null,null,null,null,null,null,null,null,null,null,null,null,null,null,null,null,{"$f":"IF(COUNTIF(Start!$AX$59:$BF$68,Tables!KT46)>0,Tables!KT46,\"\")","v":""},null,"",{"$f":"IF(PU46=\"\",\"\",IF(COUNTIF(PU46:$PU$57,\"><\")>1,PU46&\", \", PU46))","v":""},null,null,null,null,null,{"$f":"IF(PZ46=\"\",\"\",IF(VLOOKUP(PZ46,$KT$80:$KV$129,2,FALSE)=\"No\",\"not proficient (disadvantage)\",\"proficient\"))","v":""},null,null,{"$f":"\"\"","v":""},null,{"$f":"\"\"","v":""},{"$f":"\"\"","v":""},{"$f":"\"\"","v":""},{"$f":"\"\"","v":""},{"$f":"\"\"","v":""},{"$f":"\"\"","v":""},{"$f":"\"\"","v":""},{"$f":"\"\"","v":""},{"$f":"\"\"","v":""},{"$f":"\"\"","v":""},{"$f":"\"\"","v":""},{"$f":"\"\"","v":""},null,null,null,null,null,null,null,null,null,null,null,null,null,null,null,null,null,null,null,null,null,null,null,null,null,null,null,null,null,null,null,null,null,null,null,null,null,null,null,null,null,null,null,null,null,null,null,null,null,null,null,null,null,null,null,null,null,null,null,null,null,null,null,null,null,null,null,null,null,44,"Chain Lightning","LEVEL 6",6,"Chain Lightning ᴴ ","ᴴ ","",{"$f":"IF(OR(TK46=Spellcasting!$AC$18,TK46=Spellcasting!$AC$19),\"ᵐ\",\"\")","v":""},{"$f":"IF(OR(TK46=Spellcasting!$AC$20,TK46=Spellcasting!$AC$21),\"ˢ\",\"\")","v":""},{"$f":"\"\"","v":""},"1 act","150 ft","instant","VSM","a bit of fur; a piece of amber, glass, or a crystal rod; and three silver pins","evocation","evoc","You create a bolt of lightning that arcs toward a target of your choice that you can see within range. Three bolts then leap from that target to as many as three other targets, each of which must be within 30 feet of the first target. A target can be a creature or an object and can be targeted by only one of the bolts.\n\nA target must make a Dexterity saving throw. The target takes 10d8 lightning damage on a failed save, or half as much damage on a successful one. \n\nAt Higher Levels. When you cast this spell using a spell slot of  level or higher, one additional bolt leaps from the first target to another target for each slot level above 6th. ",{"$f":"\"3 targets within 30ft, 10d8\"&IF(WizardEvocationLevel>=10,\"+\"&INTMod,IF(AD7=TRUE,\"+\"&CHAMod,\"\"))&\" lightning, dex save ½\"","v":"3 targets within 30ft, 10d8 lightning, dex save ½"},null,null,null,{"$f":"IF(UF$1>=$TM46,1,\"0\")","v":"0"},null,null,null,null,null,{"$f":"IF(UL$1>=$TM46,1,\"0\")","v":"0"},null,null,null,null,null,null,null,null,null,null,null,null,null,null,null,null,null,null,null,null,null,null,null,null,null,null,null,null,null,null,null,null,null,null,null,null,null,null,null,null,null,null,null,{"$f":"IF(SUM($VZ$1:$WC$1)>0,IF(AND(SUM($VZ46:$WC46)>0,$TM46=WE$1),MAX(WD$2:WD45)+1,\"\"),IF(AND(SUM($UC46:$VY46)>0,$TM46=WE$1),MAX(WD$2:WD45)+1,\"\"))","v":""},"",{"$f":"IF(AND(SUM($UB46:$VY46)>0,$TM46=WG$1),MAX(WF$2:WF45)+1,\"\")","v":""},"",{"$f":"IF(AND(SUM($UB46:$VY46)>0,$TM46=WI$1),MAX(WH$2:WH45)+1,\"\")","v":""},"",{"$f":"IF(AND(SUM($UB46:$VY46)>0,$TM46=WK$1),MAX(WJ$2:WJ45)+1,\"\")","v":""},"",{"$f":"IF(AND(SUM($UB46:$VY46)>0,$TM46=WM$1),MAX(WL$2:WL45)+1,\"\")","v":""},"",{"$f":"IF(AND(SUM($UB46:$VY46)>0,$TM46=WO$1),MAX(WN$2:WN45)+1,\"\")","v":""},"",{"$f":"IF(AND(SUM($UB46:$VY46)>0,$TM46=WQ$1),MAX(WP$2:WP45)+1,\"\")","v":""},"",{"$f":"IF(AND(SUM($UB46:$VY46)>0,$TM46=WS$1),MAX(WR$2:WR45)+1,\"\")","v":""},"",{"$f":"IF(AND(SUM($UB46:$VY46)>0,$TM46=WU$1),MAX(WT$2:WT45)+1,\"\")","v":""},"",{"$f":"IF(AND(SUM($UB46:$VY46)>0,$TM46=WW$1),MAX(WV$2:WV45)+1,\"\")","v":""},"",{"$f":"IF(AND(SUM($UB46:$VY46)>0,$TM46=WY$1),MAX(WX$2:WX45)+1,\"\")","v":""},"",45,"","","","","","","","","","","",1,{"$f":"IF(XL46=1,MAX($XM$27:XM45)+1,\"\")","v":15},"Spider","Beast","Tiny",12,1,"20 ft, climb 20 ft",2,14,8,1,10,2,"Stealth +4","passive Perception 10, darkvision 30 ft","Bite melee +4, reach 5ft, 1 piercing\nDC 9 Con save ½, 1d4 poison","Spider Climb. Climb difficult surfaces, upside down on ceilings, without needing an ability check\nWeb Sense. Knows the exact location of any other creature in contact with the same web\nWeb Walker. Ignores movement restrictions caused by webbing",null,null,null,"Savage Attacker","none","Once per turn when you roll damage for a melee weapon attack, you can reroll the weapon’s damage dice and use either total.","  - Once per turn when you roll damage for a melee weapon attack, reroll the weapon’s damage dice and use either total.",{"$f":"\"\"","v":""},{"$f":"\"\"","v":""},{"$f":"\"\"","v":""},{"$f":"\"\"","v":""},null,null,null,null,null,"Rogue",8,"",{"$f":"IF(YX46=\"\",\"\",MAX($YW$1:YW45)+1)","v":""},"",""]
[null,null,null,null,null,null,null,null,null,null,null,null,null,null,null,null,null,null,null,null,null,null,null,null,null,null,null,null,null,null,null,null,null,null,null,null,null,null,null,null,46,"",{"$f":"\"\"","v":""},{"$f":"\"\"","v":""},"I put on new identities like clothes.","Fence","Jester","I stole from a corrupt merchant to help the poor.","Calligraphers, scribes, and scriveners","I retreated from society after a life-altering event.",{"$f":"\"\"","v":""},"Guide ","Librarian",{"$f":"\"\"","v":""},"Cavalry ",{"$f":"\"\"","v":""},{"$f":"\"\"","v":""},null,null,null,null,null,null,null,null,null,null,null,null,null,null,null,null,null,null,null,null,null,null,null,null,null,null,null,null,null,null,null,null,null,null,null,null,null,null,null,null,null,null,null,null,null,null,null,null,null,null,null,null,null,null,null,null,null,null,null,null,null,null,null,null,null,null,null,null,null,null,null,null,null,null,null,null,null,null,null,null,null,null,null,null,null,null,null,null,null,null,null,null,null,null,null,null,null,null,null,null,null,null,null,null,null,null,null,null,null,null,null,null,null,null,null,null,null,null,null,null,null,null,null,null,null,null,null,null,null,null,null,null,null,null,null,null,null,null,null,null,null,null,null,null,null,null,null,null,null,null,null,null,null,null,null,null,null,null,null,null,null,"mongrelfolk","humanoid","troglodyte",null,null,null,null,null,null,null,null,null,null,null,null,null,null,null,null,null,null,null,null,{"$f":"IF(IJ47=TRUE,MAX($IH$2:IH46)+1,\"\")","v":""},null,null,null,null,null,null,null,null,null,null,null,null,null,null,null,"Erythnul (CE)","god of envy and slaughter","Chaotic Evil","War","Blood drop",null,null,null,null,null,null,null,null,null,null,15,4,3,3,3,2,1,1,1,"-",8,null,null,null,null,null,null,null,null,null,null,null,null,null,null,null,null,null,null,null,null,null,null,"Lute","No","Tools",null,null,null,null,null,null,null,null,null,null,null,null,null,null,null,null,null,null,null,null,null,null,null,null,null,null,null,null,null,null,null,null,null,null,null,null,null,null,null,null,null,null,null,null,null,null,null,null,null,null,null,null,null,null,null,null,null,null,null,null,null,null,null,null,null,null,null,null,null,null,null,null,null,null,null,null,null,null,null,null,null,null,null,null,null,null,null,null,null,null,null,null,null,null,null,null,null,null,null,null,null,null,null,null,null,null,null,null,null,null,null,null,null,null,null,null,null,null,null,null,null,null,null,null,null,null,{"$f":"IF(COUNTIF(Start!$AX$59:$BF$68,Tables!KT47)>0,Tables!KT47,\"\")","v":""},null,"",{"$f":"IF(PU47=\"\",\"\",IF(COUNTIF(PU47:$PU$57,\"><\")>1,PU47&\", \", PU47))","v":""},null,null,null,null,null,"",null,null,{"$f":"\"\"","v":""},null,{"$f":"\"\"","v":""},{"$f":"\"\"","v":""},{"$f":"\"\"","v":""},{"$f":"\"\"","v":""},{"$f":"\"\"","v":""},{"$f":"\"\"","v":""},{"$f":"\"\"","v":""},{"$f":"\"\"","v":""},{"$f":"\"\"","v":""},{"$f":"\"\"","v":""},{"$f":"\"\"","v":""},{"$f":"\"\"","v":""},null,null,null,null,null,null,null,null,null,null,null,null,null,null,null,null,null,null,null,null,null,null,null,null,null,null,null,null,null,null,null,null,null,null,null,null,null,null,null,null,null,null,null,null,null,null,null,null,null,null,null,null,null,null,null,null,null,null,null,null,null,null,null,null,null,null,null,null,null,45,"Charm Person","LEVEL 1",1,"Charm Person ᴴ ","ᴴ ","",{"$f":"IF(OR(TK47=Spellcasting!$AC$18,TK47=Spellcasting!$AC$19),\"ᵐ\",\"\")","v":""},{"$f":"IF(OR(TK47=Spellcasting!$AC$20,TK47=Spellcasting!$AC$21),\"ˢ\",\"\")","v":""},{"$f":"\"\"","v":""},"1 act","30 ft","1 hr","VS",{"$f":"\"\"","v":""},"enchantment","ench","You attempt to charm a humanoid you can see within range. It must make a Wisdom saving throw, and does so with advantage if you or your companions are fighting it. If it fails the saving throw, it is charmed by you until the spell ends or until you or your companions do anything harmful to it. The charmed creature regards you as a friendly acquaintance. When the spell ends, the creature knows it was charmed by you. \n\nAt Higher Levels. When you cast this spell using a spell slot of 2nd level or higher, you can target one additional creature for each slot level above 1st. The creatures must be within 30 feet of each other when you target them. ","charm a humanoid, wis save",{"$f":"IF(UC$1>=$TM47,1,\"0\")","v":"0"},null,null,{"$f":"IF(UF$1>=$TM47,1,\"0\")","v":"0"},{"$f":"IF(UG$1>=$TM47,1,\"0\")","v":"0"},null,{"$f":"IF(UI$1>=$TM47,1,\"0\")","v":"0"},null,null,{"$f":"IF(UL$1>=$TM47,1,\"0\")","v":"0"},null,null,null,null,null,null,null,null,null,null,null,null,null,null,null,null,null,{"$f":"IF(VD$1>=$TM47,1,\"0\")","v":"0"},null,null,null,null,null,null,null,null,null,null,null,null,{"$f":"IF(VQ$1>=$TM47,1,\"0\")","v":"0"},null,null,null,null,null,null,null,null,null,null,null,null,{"$f":"IF(SUM($VZ$1:$WC$1)>0,IF(AND(SUM($VZ47:$WC47)>0,$TM47=WE$1),MAX(WD$2:WD46)+1,\"\"),IF(AND(SUM($UC47:$VY47)>0,$TM47=WE$1),MAX(WD$2:WD46)+1,\"\"))","v":""},"",{"$f":"IF(AND(SUM($UB47:$VY47)>0,$TM47=WG$1),MAX(WF$2:WF46)+1,\"\")","v":""},"",{"$f":"IF(AND(SUM($UB47:$VY47)>0,$TM47=WI$1),MAX(WH$2:WH46)+1,\"\")","v":""},"",{"$f":"IF(AND(SUM($UB47:$VY47)>0,$TM47=WK$1),MAX(WJ$2:WJ46)+1,\"\")","v":""},"",{"$f":"IF(AND(SUM($UB47:$VY47)>0,$TM47=WM$1),MAX(WL$2:WL46)+1,\"\")","v":""},"",{"$f":"IF(AND(SUM($UB47:$VY47)>0,$TM47=WO$1),MAX(WN$2:WN46)+1,\"\")","v":""},"",{"$f":"IF(AND(SUM($UB47:$VY47)>0,$TM47=WQ$1),MAX(WP$2:WP46)+1,\"\")","v":""},"",{"$f":"IF(AND(SUM($UB47:$VY47)>0,$TM47=WS$1),MAX(WR$2:WR46)+1,\"\")","v":""},"",{"$f":"IF(AND(SUM($UB47:$VY47)>0,$TM47=WU$1),MAX(WT$2:WT46)+1,\"\")","v":""},"",{"$f":"IF(AND(SUM($UB47:$VY47)>0,$TM47=WW$1),MAX(WV$2:WV46)+1,\"\")","v":""},"",{"$f":"IF(AND(SUM($UB47:$VY47)>0,$TM47=WY$1),MAX(WX$2:WX46)+1,\"\")","v":""},"",46,"","","","","","","","","","","",{"$f":"IF(Start!$AJ$54=Tables!$IS$4,1,\"\")","v":""},{"$f":"IF(XL47=1,MAX($XM$27:XM46)+1,\"\")","v":""},"Sprite",null,"Tiny",null,null,null,null,null,null,null,null,null,null,null,null,null,null,null,null,"Sentinel","none","You have mastered techniques to take advantage of every drop in any enemy’s guard, gaining the following benefits:\n• When you hit a creature with an opportunity attack, the creature’s speed becomes 0 for the rest of the turn.\n• Creatures within 5 feet of you provoke opportunity attacks from you even if they take the Disengage action before leaving your reach. \n• When a creature within 5 feet of you makes an attack against a target other than you (and that target doesn’t have this feat), you can use your reaction to make a melee weapon attack against the attacking creature.","  - When you hit a creature with an opportunity attack, the creature’s speed becomes 0 for the rest of the turn.\n  - Creatures within 5 feet of you provoke opportunity attacks even if they take the Disengage action before leaving your reach. \n  - When a creature within 5 feet of you makes an attack against a target other than you (and that target doesn’t have this feat),\n     you can use your reaction to make a melee weapon attack against the attacking creature.",{"$f":"\"\"","v":""},{"$f":"\"\"","v":""},{"$f":"\"\"","v":""},{"$f":"\"\"","v":""},null,null,null,null,null,"Rogue",10,"",{"$f":"IF(YX47=\"\",\"\",MAX($YW$1:YW46)+1)","v":""},"",""]
[null,null,null,null,null,null,null,null,null,null,null,null,null,null,null,null,null,null,null,null,null,null,null,null,null,null,null,null,null,null,null,null,null,null,null,null,null,null,null,null,47,"",{"$f":"\"\"","v":""},{"$f":"\"\"","v":""},"I run sleight-of-hand cons on street corners.","Highway robber","Juggler","I led a militia to fight off an invading army.","Carpenters, roofers, and plasterers","I needed a quiet place to work on my art, literature, music, or manifesto. ",{"$f":"\"\"","v":""},"Exile or outcast ","Professor",{"$f":"\"\"","v":""},"Healer",{"$f":"\"\"","v":""},{"$f":"\"\"","v":""},null,null,null,null,null,null,null,null,null,null,null,null,null,null,null,null,null,null,null,null,null,null,null,null,null,null,null,null,null,null,null,null,null,null,null,null,null,null,null,null,null,null,null,null,null,null,null,null,null,null,null,null,null,null,null,null,null,null,null,null,null,null,null,null,null,null,null,null,null,null,null,null,null,null,null,null,null,null,null,null,null,null,null,null,null,null,null,null,null,null,null,null,null,null,null,null,null,null,null,null,null,null,null,null,null,null,null,null,null,null,null,null,null,null,null,null,null,null,null,null,null,null,null,null,null,null,null,null,null,null,null,null,null,null,null,null,null,null,null,null,null,null,null,null,null,null,null,null,null,null,null,null,null,null,null,null,null,null,null,null,null,"mul","humanoid",null,null,null,null,null,null,null,null,null,null,null,null,null,null,null,null,null,null,null,null,null,{"$f":"IF(IJ48=TRUE,MAX($IH$2:IH47)+1,\"\")","v":""},null,null,null,null,null,null,null,null,null,null,null,null,null,null,null,"Fharlanghn (NG)","god of horizons and travel","Lawful Good","Knowledge, Trickery","Circle crossed by a curved horizon line",null,null,null,null,null,null,null,null,null,null,16,4,3,3,3,2,1,1,1,"-",8,null,null,null,null,null,null,null,null,null,null,null,null,null,null,null,null,null,null,null,null,null,null,"Lyre","No","Tools",null,null,null,null,null,null,null,null,null,null,null,null,null,null,null,null,null,null,null,null,null,null,null,null,null,null,null,null,null,null,null,null,null,null,null,null,null,null,null,null,null,null,null,null,null,null,null,null,null,null,null,null,null,null,null,null,null,null,null,null,null,null,null,null,null,null,null,null,null,null,null,null,null,null,null,null,null,null,null,null,null,null,null,null,null,null,null,null,null,null,null,null,null,null,null,null,null,null,null,null,null,null,null,null,null,null,null,null,null,null,null,null,null,null,null,null,null,null,null,null,null,null,null,null,null,null,{"$f":"IF(COUNTIF(Start!$AX$59:$BF$68,Tables!KT48)>0,Tables!KT48,\"\")","v":""},null,"",{"$f":"IF(PU48=\"\",\"\",IF(COUNTIF(PU48:$PU$57,\"><\")>1,PU48&\", \", PU48))","v":""},null,null,null,null,null,"",null,null,{"$f":"\"\"","v":""},null,{"$f":"\"\"","v":""},{"$f":"\"\"","v":""},{"$f":"\"\"","v":""},{"$f":"\"\"","v":""},{"$f":"\"\"","v":""},{"$f":"\"\"","v":""},{"$f":"\"\"","v":""},{"$f":"\"\"","v":""},{"$f":"\"\"","v":""},{"$f":"\"\"","v":""},{"$f":"\"\"","v":""},{"$f":"\"\"","v":""},null,null,null,null,null,null,null,null,null,null,null,null,null,null,null,null,null,null,null,null,null,null,null,null,null,null,null,null,null,null,null,null,null,null,null,null,null,null,null,null,null,null,null,null,null,null,null,null,null,null,null,null,null,null,null,null,null,null,null,null,null,null,null,null,null,null,null,null,null,46,"Chill Touch","CANTRIP",0.5,"Chill Touch ",{"$f":"\"\"","v":""},"",{"$f":"IF(OR(TK48=Spellcasting!$AC$18,TK48=Spellcasting!$AC$19),\"ᵐ\",\"\")","v":""},{"$f":"IF(OR(TK48=Spellcasting!$AC$20,TK48=Spellcasting!$AC$21),\"ˢ\",\"\")","v":""},{"$f":"\"\"","v":""},"1 act","120 ft","1 rnd","VS",{"$f":"\"\"","v":""},"necromancy","necro","You create a ghostly, skeletal hand in the space of a creature within range. Make a ranged spell attack against the creature to assail it with the chill of the grave. On a hit, the target takes 1d8 necrotic damage, and it can’t regain hit points until the start of your next turn. Until then, the hand clings to the target. \n\nIf you hit an undead target, it also has disadvantage on attack rolls against you until the end of your next turn. \n\nThis spell’s damage increases by 1d8 when you reach 5th level (2d8), 11th level (3d8), and 17th level (4d8).\n",{"$f":"\"ranged, \"&IF(CharacterLevel>16,\"4d8\",IF(CharacterLevel>10,\"3d8\",IF(CharacterLevel>4,\"2d8\",\"1d8\")))&\" necrotic, on hit undead disadvange to attack you\"","v":"ranged, 1d8 necrotic, on hit undead disadvange to attack you"},null,null,null,{"$f":"IF(UF$1>=$TM48,1,\"0\")","v":"0"},{"$f":"IF(UG$1>=$TM48,1,\"0\")","v":"0"},null,null,null,null,{"$f":"IF(UL$1>=$TM48,1,\"0\")","v":"0"},null,null,null,null,null,null,null,null,null,null,null,null,null,null,null,null,null,null,null,null,null,null,null,null,null,null,null,null,null,{"$f":"IF(VP$1>=$TM48,1,\"0\")","v":"0"},{"$f":"IF(VQ$1>=$TM48,1,\"0\")","v":"0"},null,null,null,null,null,null,null,null,null,null,{"$f":"IF(WB$1>=$TM48,1,\"0\")","v":"0"},null,{"$f":"IF(SUM($VZ$1:$WC$1)>0,IF(AND(SUM($VZ48:$WC48)>0,$TM48=WE$1),MAX(WD$2:WD47)+1,\"\"),IF(AND(SUM($UC48:$VY48)>0,$TM48=WE$1),MAX(WD$2:WD47)+1,\"\"))","v":""},"",{"$f":"IF(AND(SUM($UB48:$VY48)>0,$TM48=WG$1),MAX(WF$2:WF47)+1,\"\")","v":""},"",{"$f":"IF(AND(SUM($UB48:$VY48)>0,$TM48=WI$1),MAX(WH$2:WH47)+1,\"\")","v":""},"",{"$f":"IF(AND(SUM($UB48:$VY48)>0,$TM48=WK$1),MAX(WJ$2:WJ47)+1,\"\")","v":""},"",{"$f":"IF(AND(SUM($UB48:$VY48)>0,$TM48=WM$1),MAX(WL$2:WL47)+1,\"\")","v":""},"",{"$f":"IF(AND(SUM($UB48:$VY48)>0,$TM48=WO$1),MAX(WN$2:WN47)+1,\"\")","v":""},"",{"$f":"IF(AND(SUM($UB48:$VY48)>0,$TM48=WQ$1),MAX(WP$2:WP47)+1,\"\")","v":""},"",{"$f":"IF(AND(SUM($UB48:$VY48)>0,$TM48=WS$1),MAX(WR$2:WR47)+1,\"\")","v":""},"",{"$f":"IF(AND(SUM($UB48:$VY48)>0,$TM48=WU$1),MAX(WT$2:WT47)+1,\"\")","v":""},"",{"$f":"IF(AND(SUM($UB48:$VY48)>0,$TM48=WW$1),MAX(WV$2:WV47)+1,\"\")","v":""},"",{"$f":"IF(AND(SUM($UB48:$VY48)>0,$TM48=WY$1),MAX(WX$2:WX47)+1,\"\")","v":""},"",47,"","","","","","","","","","","",1,{"$f":"IF(XL48=1,MAX($XM$27:XM47)+1,\"\")","v":16},"Weasel","Beast","Tiny",13,1,"30 ft",3,16,8,2,12,3,"Perception +3, Stealth +5","passive Perception 13","Bite melee +5, reach 5ft, 1 piercing","Keen Hearing and Smell. Advantage on Wisdom (Perception) checks that rely on hearing or smell",null,null,null,"Sharpshooter","none","You have mastered ranged weapons and can make shots that others find impossible. You gain the following benefits:\n• Attacking at long range doesn't impose disadvantage on your ranged weapon attack rolls. \n• Your ranged weapon attacks ignore half cover and three-quarters cover. \n• Before you make an attack with a ranged weapon that you are proficient with, you can choose to take a -5 penalty to the attack roll. If the attack hits, you add +10 to the attack’s damage.","  - Attacking at long range doesn't impose disadvantage on your ranged weapon attack rolls. \n  - Your ranged weapon attacks ignore half cover and three-quarters cover. \n  - Before you make an attack with a ranged weapon that you are proficient with, you can choose to take a -5 penalty to the\n     attack roll. If the attack hits, you add +10 to the attack’s damage.",{"$f":"\"\"","v":""},{"$f":"\"\"","v":""},{"$f":"\"\"","v":""},{"$f":"\"\"","v":""},null,null,null,null,null,"Rogue",12,"",{"$f":"IF(YX48=\"\",\"\",MAX($YW$1:YW47)+1)","v":""},"",""]
[null,null,null,null,null,null,null,null,null,null,null,null,null,null,null,null,null,null,null,null,null,null,null,null,null,null,null,null,null,null,null,null,null,null,null,null,null,null,null,null,48,"",{"$f":"\"\"","v":""},{"$f":"\"\"","v":""},"I convince people that worthless junk is worth their hard-earned money.","Hired killer","Instrumentalist","I broke into a tyrant’s castle and stole weapons to arm the people.","Cartographers, surveyors, and chart-makers","I needed to commune with nature, far from civilization. ",{"$f":"\"\"","v":""},"Bounty hunter","Researcher",{"$f":"\"\"","v":""},"Quartermaster ",{"$f":"\"\"","v":""},{"$f":"\"\"","v":""},null,null,null,null,null,null,null,null,null,null,null,null,null,null,null,null,null,null,null,null,null,null,null,null,null,null,null,null,null,null,null,null,null,null,null,null,null,null,null,null,null,null,null,null,null,null,null,null,null,null,null,null,null,null,null,null,null,null,null,null,null,null,null,null,null,null,null,null,null,null,null,null,null,null,null,null,null,null,null,null,null,null,null,null,null,null,null,null,null,null,null,null,null,null,null,null,null,null,null,null,null,null,null,null,null,null,null,null,null,null,null,null,null,null,null,null,null,null,null,null,null,null,null,null,null,null,null,null,null,null,null,null,null,null,null,null,null,null,null,null,null,null,null,null,null,null,null,null,null,null,null,null,null,null,null,null,null,null,null,null,null,"nilbog","humanoid",null,null,null,null,null,null,null,null,null,null,null,null,null,null,null,null,null,null,null,null,null,{"$f":"IF(IJ49=TRUE,MAX($IH$2:IH48)+1,\"\")","v":""},null,null,null,null,null,null,null,null,null,null,null,null,null,null,null,"Heironeous (LG)","god of chivalry and valor","Lawful Good","War","Lightning bolt",null,null,null,null,null,null,null,null,null,null,17,4,3,3,3,2,1,1,1,1,9,null,null,null,null,null,null,null,null,null,null,null,null,null,null,null,null,null,null,null,null,null,null,"Pan flute","No","Tools",null,null,null,null,null,null,null,null,null,null,null,null,null,null,null,null,null,null,null,null,null,null,null,null,null,null,null,null,null,null,null,null,null,null,null,null,null,null,null,null,null,null,null,null,null,null,null,null,null,null,null,null,null,null,null,null,null,null,null,null,null,null,null,null,null,null,null,null,null,null,null,null,null,null,null,null,null,null,null,null,null,null,null,null,null,null,null,null,null,null,null,null,null,null,null,null,null,null,null,null,null,null,null,null,null,null,null,null,null,null,null,null,null,null,null,null,null,null,null,null,null,null,null,null,null,null,{"$f":"IF(COUNTIF(Start!$AX$59:$BF$68,Tables!KT49)>0,Tables!KT49,\"\")","v":""},null,"",{"$f":"IF(PU49=\"\",\"\",IF(COUNTIF(PU49:$PU$57,\"><\")>1,PU49&\", \", PU49))","v":""},null,null,null,null,null,"",null,null,{"$f":"\"\"","v":""},null,{"$f":"\"\"","v":""},{"$f":"\"\"","v":""},{"$f":"\"\"","v":""},{"$f":"\"\"","v":""},{"$f":"\"\"","v":""},{"$f":"\"\"","v":""},{"$f":"\"\"","v":""},{"$f":"\"\"","v":""},{"$f":"\"\"","v":""},{"$f":"\"\"","v":""},{"$f":"\"\"","v":""},{"$f":"\"\"","v":""},null,null,null,null,null,null,null,null,null,null,null,null,null,null,null,null,null,null,null,null,null,null,null,null,null,null,null,null,null,null,null,null,null,null,null,null,null,null,null,null,null,null,null,null,null,null,null,null,null,null,null,null,null,null,null,null,null,null,null,null,null,null,null,null,null,null,null,null,null,47,"Chromatic Orb","LEVEL 1",1,"Chromatic Orb ᴴ ","ᴴ ","",{"$f":"IF(OR(TK49=Spellcasting!$AC$18,TK49=Spellcasting!$AC$19),\"ᵐ\",\"\")","v":""},{"$f":"IF(OR(TK49=Spellcasting!$AC$20,TK49=Spellcasting!$AC$21),\"ˢ\",\"\")","v":""},{"$f":"\"\"","v":""},"1 act","90 ft","instant","VSM","a diamond worth at least 50 gp","evocation","evoc","You hurl a 4-inch-diameter sphere of energy at a creature that you can see within range. You choose acid, cold, fire, lightning, poison, or thunder for the type of orb you create, and then make a ranged spell attack against the target. If the attack hits, the creature takes 3d8 damage of the type you chose. \n\nAt Higher Levels. When you cast this spell using a spell slot of 2nd level or higher, the damage increases by 1d8 for each slot level above 1st",{"$f":"\"ranged, 3d8\"&IF(WizardEvocationLevel>=10,\"+\"&INTMod,\"\")&\", choose damage type (a, c, f, l, p, t)\"","v":"ranged, 3d8, choose damage type (a, c, f, l, p, t)"},null,null,null,{"$f":"IF(UF$1>=$TM49,1,\"0\")","v":"0"},null,null,null,null,null,{"$f":"IF(UL$1>=$TM49,1,\"0\")","v":"0"},null,null,null,null,null,null,null,null,null,null,null,null,null,null,null,null,null,null,null,null,null,null,null,null,null,null,null,null,null,{"$f":"IF(VP$1>=$TM49,1,\"0\")","v":"0"},null,null,null,null,null,null,null,null,null,null,null,null,null,{"$f":"IF(SUM($VZ$1:$WC$1)>0,IF(AND(SUM($VZ49:$WC49)>0,$TM49=WE$1),MAX(WD$2:WD48)+1,\"\"),IF(AND(SUM($UC49:$VY49)>0,$TM49=WE$1),MAX(WD$2:WD48)+1,\"\"))","v":""},"",{"$f":"IF(AND(SUM($UB49:$VY49)>0,$TM49=WG$1),MAX(WF$2:WF48)+1,\"\")","v":""},"",{"$f":"IF(AND(SUM($UB49:$VY49)>0,$TM49=WI$1),MAX(WH$2:WH48)+1,\"\")","v":""},"",{"$f":"IF(AND(SUM($UB49:$VY49)>0,$TM49=WK$1),MAX(WJ$2:WJ48)+1,\"\")","v":""},"",{"$f":"IF(AND(SUM($UB49:$VY49)>0,$TM49=WM$1),MAX(WL$2:WL48)+1,\"\")","v":""},"",{"$f":"IF(AND(SUM($UB49:$VY49)>0,$TM49=WO$1),MAX(WN$2:WN48)+1,\"\")","v":""},"",{"$f":"IF(AND(SUM($UB49:$VY49)>0,$TM49=WQ$1),MAX(WP$2:WP48)+1,\"\")","v":""},"",{"$f":"IF(AND(SUM($UB49:$VY49)>0,$TM49=WS$1),MAX(WR$2:WR48)+1,\"\")","v":""},"",{"$f":"IF(AND(SUM($UB49:$VY49)>0,$TM49=WU$1),MAX(WT$2:WT48)+1,\"\")","v":""},"",{"$f":"IF(AND(SUM($UB49:$VY49)>0,$TM49=WW$1),MAX(WV$2:WV48)+1,\"\")","v":""},"",{"$f":"IF(AND(SUM($UB49:$VY49)>0,$TM49=WY$1),MAX(WX$2:WX48)+1,\"\")","v":""},"",48,"","","","","","","","","","","",null,null,{"$f":"\"\"","v":""},{"$f":"\"\"","v":""},{"$f":"\"\"","v":""},{"$f":"\"\"","v":""},{"$f":"\"\"","v":""},{"$f":"\"\"","v":""},{"$f":"\"\"","v":""},{"$f":"\"\"","v":""},{"$f":"\"\"","v":""},{"$f":"\"\"","v":""},{"$f":"\"\"","v":""},{"$f":"\"\"","v":""},{"$f":"\"\"","v":""},{"$f":"\"\"","v":""},{"$f":"\"\"","v":""},{"$f":"\"\"","v":""},null,null,null,"Shield Master","none","You use shields not just for protection but also for offense. You gain the following benefits while you are wielding a shield:\n• If you take the Attack action on your turn, you can use a bonus action to try to shove a creature within 5 feet of you with your shield. \n• If you aren’t incapacitated, you can add your shield’s AC bonus to any Dexterity saving throw you make against a spell or other harmful effect that targets only you. \n• If you are subjected to an effect that allows you to make a Dexterity saving throw to take only half damage, you can use your reaction to take no damage if you succeed on the saving throw, interposing your shield between yourself and the source of the effect.","  - If you take the Attack action on your turn, use a bonus action to try to shove a creature within 5 feet of you with your shield. \n  - If you aren’t incapacitated, add your shield’s AC bonus to any Dexterity saving throw you make against a spell or other\n     harmful effect that targets only you. \n  - If you are subjected to an effect that allows you to make a Dexterity saving throw to take only half damage, use your reaction\n     to take no damage if you succeed on the saving throw, interposing your shield between you and the source of the effect.",{"$f":"\"\"","v":""},{"$f":"\"\"","v":""},{"$f":"\"\"","v":""},{"$f":"\"\"","v":""},null,null,null,null,null,"Rogue",16,"",{"$f":"IF(YX49=\"\",\"\",MAX($YW$1:YW48)+1)","v":""},"",""]
[null,null,null,null,null,null,null,null,null,null,null,null,null,null,null,null,null,null,null,null,null,null,null,null,null,null,null,null,null,null,null,null,null,null,null,null,null,null,null,null,49,"",{"$f":"\"\"","v":""},{"$f":"\"\"","v":""},{"$f":"\"\"","v":""},"Pickpocket","Poet","I trained the peasantry to use farm implements as weapons against a tyrant’s soldiers.","Cobblers and shoemakers","I was the caretaker of an ancient ruin or relic. ",{"$f":"\"\"","v":""},"Pilgrim","Wizard's apprentice",{"$f":"\"\"","v":""},"Standard bearer ",{"$f":"\"\"","v":""},{"$f":"\"\"","v":""},null,null,null,null,null,null,null,null,null,null,null,null,null,null,null,null,null,null,null,null,null,null,null,null,null,null,null,null,null,null,null,null,null,null,null,null,null,null,null,null,null,null,null,null,null,null,null,null,null,null,null,null,null,null,null,null,null,null,null,null,null,null,null,null,null,null,null,null,null,null,null,null,null,null,null,null,null,null,null,null,null,null,null,null,null,null,null,null,null,null,null,null,null,null,null,null,null,null,null,null,null,null,null,null,null,null,null,null,null,null,null,null,null,null,null,null,null,null,null,null,null,null,null,null,null,null,null,null,null,null,null,null,null,null,null,null,null,null,null,null,null,null,null,null,null,null,null,null,null,null,null,null,null,null,null,null,null,null,null,null,null,"norker","humanoid",null,null,null,null,null,null,null,null,null,null,null,null,null,null,null,null,null,null,null,null,null,{"$f":"IF(IJ50=TRUE,MAX($IH$2:IH49)+1,\"\")","v":""},null,null,null,null,null,null,null,null,null,null,null,null,null,null,null,"Hextor (LE)","god of war and discord","Lawful Evil","War","Six arrows facing downward in a fan",null,null,null,null,null,null,null,null,null,null,18,4,3,3,3,3,1,1,1,1,9,null,null,null,null,null,null,null,null,null,null,null,null,null,null,null,null,null,null,null,null,null,null,"Shawm","No","Tools",null,null,null,null,null,null,null,null,null,null,null,null,null,null,null,null,null,null,null,null,null,null,null,null,null,null,null,null,null,null,null,null,null,null,null,null,null,null,null,null,null,null,null,null,null,null,null,null,null,null,null,null,null,null,null,null,null,null,null,null,null,null,null,null,null,null,null,null,null,null,null,null,null,null,null,null,null,null,null,null,null,null,null,null,null,null,null,null,null,null,null,null,null,null,null,null,null,null,null,null,null,null,null,null,null,null,null,null,null,null,null,null,null,null,null,null,null,null,null,null,null,null,null,null,null,null,{"$f":"IF(COUNTIF(Start!$AX$59:$BF$68,Tables!KT50)>0,Tables!KT50,\"\")","v":""},null,"",{"$f":"IF(PU50=\"\",\"\",IF(COUNTIF(PU50:$PU$57,\"><\")>1,PU50&\", \", PU50))","v":""},null,null,null,null,null,"",null,null,{"$f":"\"\"","v":""},null,{"$f":"\"\"","v":""},{"$f":"\"\"","v":""},{"$f":"\"\"","v":""},{"$f":"\"\"","v":""},{"$f":"\"\"","v":""},{"$f":"\"\"","v":""},{"$f":"\"\"","v":""},{"$f":"\"\"","v":""},{"$f":"\"\"","v":""},{"$f":"\"\"","v":""},{"$f":"\"\"","v":""},{"$f":"\"\"","v":""},null,null,null,null,null,null,null,null,null,null,null,null,null,null,null,null,null,null,null,null,null,null,null,null,null,null,null,null,null,null,null,null,null,null,null,null,null,null,null,null,null,null,null,null,null,null,null,null,null,null,null,null,null,null,null,null,null,null,null,null,null,null,null,null,null,null,null,null,null,48,"Circle of Death","LEVEL 6",6,"Circle of Death ᴴ ","ᴴ ","",{"$f":"IF(OR(TK50=Spellcasting!$AC$18,TK50=Spellcasting!$AC$19),\"ᵐ\",\"\")","v":""},{"$f":"IF(OR(TK50=Spellcasting!$AC$20,TK50=Spellcasting!$AC$21),\"ˢ\",\"\")","v":""},{"$f":"\"\"","v":""},"1 act","150 ft","instant","VSM","the powder of a crushed black pearl worth at least 500 gp","necromancy","necro","A sphere of negative energy ripples out in a 60-foot radius sphere from a point within range. Each creature in that area must make a Constitution saving throw. A target takes 8d6 necrotic damage on a failed save, or half as much damage on a successful one. \n\nAt Higher Levels. When you cast this spell using a spell slot of 7th level or higher, the damage increases by 2d6 for each slot level above 6th.","60ft sphere, 8d6 necrotic, con save ½",null,null,null,{"$f":"IF(UF$1>=$TM50,1,\"0\")","v":"0"},{"$f":"IF(UG$1>=$TM50,1,\"0\")","v":"0"},null,null,null,null,{"$f":"IF(UL$1>=$TM50,1,\"0\")","v":"0"},null,null,null,null,null,null,null,null,null,null,null,null,null,null,null,null,null,null,null,null,null,null,null,null,null,null,null,null,null,null,null,null,null,null,null,null,null,null,null,null,null,null,null,{"$f":"IF(SUM($VZ$1:$WC$1)>0,IF(AND(SUM($VZ50:$WC50)>0,$TM50=WE$1),MAX(WD$2:WD49)+1,\"\"),IF(AND(SUM($UC50:$VY50)>0,$TM50=WE$1),MAX(WD$2:WD49)+1,\"\"))","v":""},"",{"$f":"IF(AND(SUM($UB50:$VY50)>0,$TM50=WG$1),MAX(WF$2:WF49)+1,\"\")","v":""},"",{"$f":"IF(AND(SUM($UB50:$VY50)>0,$TM50=WI$1),MAX(WH$2:WH49)+1,\"\")","v":""},"",{"$f":"IF(AND(SUM($UB50:$VY50)>0,$TM50=WK$1),MAX(WJ$2:WJ49)+1,\"\")","v":""},"",{"$f":"IF(AND(SUM($UB50:$VY50)>0,$TM50=WM$1),MAX(WL$2:WL49)+1,\"\")","v":""},"",{"$f":"IF(AND(SUM($UB50:$VY50)>0,$TM50=WO$1),MAX(WN$2:WN49)+1,\"\")","v":""},"",{"$f":"IF(AND(SUM($UB50:$VY50)>0,$TM50=WQ$1),MAX(WP$2:WP49)+1,\"\")","v":""},"",{"$f":"IF(AND(SUM($UB50:$VY50)>0,$TM50=WS$1),MAX(WR$2:WR49)+1,\"\")","v":""},"",{"$f":"IF(AND(SUM($UB50:$VY50)>0,$TM50=WU$1),MAX(WT$2:WT49)+1,\"\")","v":""},"",{"$f":"IF(AND(SUM($UB50:$VY50)>0,$TM50=WW$1),MAX(WV$2:WV49)+1,\"\")","v":""},"",{"$f":"IF(AND(SUM($UB50:$VY50)>0,$TM50=WY$1),MAX(WX$2:WX49)+1,\"\")","v":""},"",49,"","","","","","","","","","","",null,null,null,null,null,null,null,null,null,null,null,null,null,null,null,null,null,null,null,null,null,"Skilled","none","You gain proficiency in any combination of three skills or tools of your choice.","  - You gain proficiency in any combination of three skills or tools of your choice.",{"$f":"\"\"","v":""},{"$f":"\"\"","v":""},{"$f":"\"\"","v":""},{"$f":"\"\"","v":""},"• Gain proficiency in any combination of three skills or tools of your choice.",3,null,null,null,"Rogue",19,"",{"$f":"IF(YX50=\"\",\"\",MAX($YW$1:YW49)+1)","v":""},"",""]
[null,null,null,null,null,null,null,null,null,null,null,null,null,null,null,null,null,null,null,null,null,null,null,null,null,null,null,null,null,null,null,null,null,null,null,null,null,null,null,null,50,"",{"$f":"\"\"","v":""},{"$f":"\"\"","v":""},{"$f":"\"\"","v":""},"Smuggler","Singer","A lord rescinded an unpopular decree after I led a symbolic act of protest against it.","Cooks and bakers","I was a pilgrim in search of a person, place, or relic of spiritual significance.",{"$f":"\"\"","v":""},"Tribal nomad","Scribe",{"$f":"\"\"","v":""},"Support staff (cook, blacksmith, or the like)",{"$f":"\"\"","v":""},{"$f":"\"\"","v":""},null,null,null,null,null,null,null,null,null,null,null,null,null,null,null,null,null,null,null,null,null,null,null,null,null,null,null,null,null,null,null,null,null,null,null,null,null,null,null,null,null,null,null,null,null,null,null,null,null,null,null,null,null,null,null,null,null,null,null,null,null,null,null,null,null,null,null,null,null,null,null,null,null,null,null,null,null,null,null,null,null,null,null,null,null,null,null,null,null,null,null,null,null,null,null,null,null,null,null,null,null,null,null,null,null,null,null,null,null,null,null,null,null,null,null,null,null,null,null,null,null,null,null,null,null,null,null,null,null,null,null,null,null,null,null,null,null,null,null,null,null,null,null,null,null,null,null,null,null,null,null,null,null,null,null,null,null,null,null,null,null,"orc","humanoid",null,null,null,null,null,null,null,null,null,null,null,null,null,null,null,null,null,null,null,null,null,{"$f":"IF(IJ51=TRUE,MAX($IH$2:IH50)+1,\"\")","v":""},null,null,null,null,null,null,null,null,null,null,null,null,null,null,null,"Incabulos (NE)","god of plague and famine","Neutral Evil","Death","Reptilian eye with a horizontal diamond",null,"Orc",null,null,null,null,null,null,null,null,19,4,3,3,3,3,2,1,1,1,9,null,null,null,null,null,null,null,null,null,null,null,null,null,null,null,null,null,null,null,null,null,null,"Viol","No","Tools",null,null,null,null,null,null,null,null,null,null,null,null,null,null,null,null,null,null,null,null,null,null,null,null,null,null,null,null,null,null,null,null,null,null,null,null,null,null,null,null,null,null,null,null,null,null,null,null,null,null,null,null,null,null,null,null,null,null,null,null,null,null,null,null,null,null,null,null,null,null,null,null,null,null,null,null,null,null,null,null,null,null,null,null,null,null,null,null,null,null,null,null,null,null,null,null,null,null,null,null,null,null,null,null,null,null,null,null,null,null,null,null,null,null,null,null,null,null,null,null,null,null,null,null,null,null,{"$f":"IF(COUNTIF(Start!$AX$59:$BF$68,Tables!KT51)>0,Tables!KT51,\"\")","v":""},null,"",{"$f":"IF(PU51=\"\",\"\",IF(COUNTIF(PU51:$PU$57,\"><\")>1,PU51&\", \", PU51))","v":""},null,null,null,null,null,"",null,null,{"$f":"\"\"","v":""},null,{"$f":"\"\"","v":""},{"$f":"\"\"","v":""},{"$f":"\"\"","v":""},{"$f":"\"\"","v":""},{"$f":"\"\"","v":""},{"$f":"\"\"","v":""},{"$f":"\"\"","v":""},{"$f":"\"\"","v":""},{"$f":"\"\"","v":""},{"$f":"\"\"","v":""},{"$f":"\"\"","v":""},{"$f":"\"\"","v":""},null,null,null,null,null,null,null,null,null,null,null,null,null,null,null,null,null,null,null,null,null,null,null,null,null,null,null,null,null,null,null,null,null,null,null,null,null,null,null,null,null,null,null,null,null,null,null,null,null,null,null,null,null,null,null,null,null,null,null,null,null,null,null,null,null,null,null,null,null,49,"Circle of Power","LEVEL 5",5,"Circle of Power ",{"$f":"\"\"","v":""},"",{"$f":"IF(OR(TK51=Spellcasting!$AC$18,TK51=Spellcasting!$AC$19),\"ᵐ\",\"\")","v":""},{"$f":"IF(OR(TK51=Spellcasting!$AC$20,TK51=Spellcasting!$AC$21),\"ˢ\",\"\")","v":""},{"$f":"\"\"","v":""},"1 act","self","10 min ᶜᵒᶰ","VS",{"$f":"\"\"","v":""},"abjuration","abjur","Divine energy radiates from you, distorting and diffusing magical energy within 30 feet of you. Until the spell ends, the sphere moves with you, centered on you. For the duration, each friendly creature in the area (including you) has advantage on saving throws against spells and other magical effects. Additionally, when an affected creature succeeds on a saving throw made against a spell or magical effect that allows it to make a saving throw to take only half damage, it instead takes no damage if it succeeds on the saving throw.","30ft rad sphere, advantage saves (spell, magic), 0 dam if save",null,{"$f":"IF(UD$1>=$TM51,1,\"0\")","v":"0"},null,null,null,null,null,null,null,null,null,null,null,null,null,null,null,null,null,null,null,null,null,null,null,null,null,null,null,null,null,null,null,null,null,null,null,null,null,null,null,null,null,null,null,null,null,null,null,null,null,null,null,{"$f":"IF(SUM($VZ$1:$WC$1)>0,IF(AND(SUM($VZ51:$WC51)>0,$TM51=WE$1),MAX(WD$2:WD50)+1,\"\"),IF(AND(SUM($UC51:$VY51)>0,$TM51=WE$1),MAX(WD$2:WD50)+1,\"\"))","v":""},"",{"$f":"IF(AND(SUM($UB51:$VY51)>0,$TM51=WG$1),MAX(WF$2:WF50)+1,\"\")","v":""},"",{"$f":"IF(AND(SUM($UB51:$VY51)>0,$TM51=WI$1),MAX(WH$2:WH50)+1,\"\")","v":""},"",{"$f":"IF(AND(SUM($UB51:$VY51)>0,$TM51=WK$1),MAX(WJ$2:WJ50)+1,\"\")","v":""},"",{"$f":"IF(AND(SUM($UB51:$VY51)>0,$TM51=WM$1),MAX(WL$2:WL50)+1,\"\")","v":""},"",{"$f":"IF(AND(SUM($UB51:$VY51)>0,$TM51=WO$1),MAX(WN$2:WN50)+1,\"\")","v":""},"",{"$f":"IF(AND(SUM($UB51:$VY51)>0,$TM51=WQ$1),MAX(WP$2:WP50)+1,\"\")","v":""},"",{"$f":"IF(AND(SUM($UB51:$VY51)>0,$TM51=WS$1),MAX(WR$2:WR50)+1,\"\")","v":""},"",{"$f":"IF(AND(SUM($UB51:$VY51)>0,$TM51=WU$1),MAX(WT$2:WT50)+1,\"\")","v":""},"",{"$f":"IF(AND(SUM($UB51:$VY51)>0,$TM51=WW$1),MAX(WV$2:WV50)+1,\"\")","v":""},"",{"$f":"IF(AND(SUM($UB51:$VY51)>0,$TM51=WY$1),MAX(WX$2:WX50)+1,\"\")","v":""},"",50,"","","","","","","","","","","",null,null,null,null,null,null,null,null,null,null,null,null,null,null,null,null,null,null,null,null,null,"Skulker","Dexterity 13 or higher","You are expert at slinking through shadows. You gain the following benefits:\n• You can try to hide when you are lightly obscured from the creature from which you are hiding. \n• When you are hidden from a creature and miss it with a ranged weapon attack, making the attack doesn't reveal your position. \n• Dim light doesn’t impose disadvantage on your Wisdom (Perception) checks relying on sight.","  - You can try to hide when you are lightly obscured from the creature from which you are hiding. \n  - When you are hidden from a creature and miss it with a ranged weapon attack, making the attack doesn't reveal your position. \n  - Dim light doesn’t impose disadvantage on your Wisdom (Perception) checks relying on sight.",{"$f":"\"\"","v":""},{"$f":"\"\"","v":""},{"$f":"\"\"","v":""},{"$f":"\"\"","v":""},null,null,null,null,null,"Sorcerer",4,{"$f":"VLOOKUP(YY51,$ZM$2:$ZP$23,$ZM$1,FALSE)","v":""},{"$f":"IF(YX51=\"\",\"\",MAX($YW$1:YW50)+1)","v":""},"",""]
[null,null,null,null,null,null,null,null,null,null,null,null,null,null,null,null,null,null,null,null,null,null,null,null,null,null,null,null,null,null,null,null,null,null,null,null,null,null,null,null,51,"",{"$f":"\"\"","v":""},{"$f":"\"\"","v":""},{"$f":"\"\"","v":""},{"$f":"\"\"","v":""},"Storyteller","A celestial, fey, or similar creature gave me a blessing or revealed my secret origin.","Glassblowers and glaziers ",{"$f":"\"\"","v":""},{"$f":"\"\"","v":""},"Hunter-gatherer",{"$f":"\"\"","v":""},{"$f":"\"\"","v":""},{"$f":"\"\"","v":""},{"$f":"\"\"","v":""},{"$f":"\"\"","v":""},null,null,null,null,null,null,null,null,null,null,null,null,null,null,null,null,null,null,null,null,null,null,null,null,null,null,null,null,null,null,null,null,null,null,null,null,null,null,null,null,null,null,null,null,null,null,null,null,null,null,null,null,null,null,null,null,null,null,null,null,null,null,null,null,null,null,null,null,null,null,null,null,null,null,null,null,null,null,null,null,null,null,null,null,null,null,null,null,null,null,null,null,null,null,null,null,null,null,null,null,null,null,null,null,null,null,null,null,null,null,null,null,null,null,null,null,null,null,null,null,null,null,null,null,null,null,null,null,null,null,null,null,null,null,null,null,null,null,null,null,null,null,null,null,null,null,null,null,null,null,null,null,null,null,null,null,null,null,null,null,null,"orog","humanoid",null,null,null,null,null,null,null,null,null,null,null,null,null,null,null,null,null,null,null,null,null,{"$f":"IF(IJ52=TRUE,MAX($IH$2:IH51)+1,\"\")","v":""},null,null,null,null,null,null,null,null,null,null,null,null,null,null,null,"Istus (N)","goddess of fate and destiny","Neutral","Knowledge","Weaver's spindle with three strands",null,{"$f":"IF(RogueLevel>=1,\"Thieve's cant\",\"\")","v":""},null,null,null,null,null,null,null,null,20,4,3,3,3,3,2,2,1,1,9,null,null,null,null,null,null,null,null,null,null,null,null,null,null,null,null,null,null,null,null,null,null,"--","No","Tools",null,null,null,null,null,null,null,null,null,null,null,null,null,null,null,null,null,null,null,null,null,null,null,null,null,null,null,null,null,null,null,null,null,null,null,null,null,null,null,null,null,null,null,null,null,null,null,null,null,null,null,null,null,null,null,null,null,null,null,null,null,null,null,null,null,null,null,null,null,null,null,null,null,null,null,null,null,null,null,null,null,null,null,null,null,null,null,null,null,null,null,null,null,null,null,null,null,null,null,null,null,null,null,null,null,null,null,null,null,null,null,null,null,null,null,null,null,null,null,null,null,null,null,null,null,null,{"$f":"IF(COUNTIF(Start!$AX$59:$BF$68,Tables!KT52)>0,Tables!KT52,\"\")","v":""},null,"",{"$f":"IF(PU52=\"\",\"\",IF(COUNTIF(PU52:$PU$57,\"><\")>1,PU52&\", \", PU52))","v":""},null,null,null,null,null,"",null,null,{"$f":"\"\"","v":""},null,{"$f":"\"\"","v":""},{"$f":"\"\"","v":""},{"$f":"\"\"","v":""},{"$f":"\"\"","v":""},{"$f":"\"\"","v":""},{"$f":"\"\"","v":""},{"$f":"\"\"","v":""},{"$f":"\"\"","v":""},{"$f":"\"\"","v":""},{"$f":"\"\"","v":""},{"$f":"\"\"","v":""},{"$f":"\"\"","v":""},null,null,null,null,null,null,null,null,null,null,null,null,null,null,null,null,null,null,null,null,null,null,null,null,null,null,null,null,null,null,null,null,null,null,null,null,null,null,null,null,null,null,null,null,null,null,null,null,null,null,null,null,null,null,null,null,null,null,null,null,null,null,null,null,null,null,null,null,null,50,"Clairvoyance","LEVEL 3",3,"Clairvoyance ",{"$f":"\"\"","v":""},"",{"$f":"IF(OR(TK52=Spellcasting!$AC$18,TK52=Spellcasting!$AC$19),\"ᵐ\",\"\")","v":""},{"$f":"IF(OR(TK52=Spellcasting!$AC$20,TK52=Spellcasting!$AC$21),\"ˢ\",\"\")","v":""},{"$f":"\"\"","v":""},"10 min","1 mile","10 min ᶜᵒᶰ","VSM","a focus worth at least 100 gp, either a jeweled horn for hearing or a glass eye for seeing","divination","divin","You create an invisible sensor within range in a location familiar to you (a place you have visited or seen before) or in an obvious location that is unfamiliar to you (such as behind a door, around a corner, or in a grove of trees). The sensor remains in place for the duration, and it can’t be attacked or otherwise interacted with. \n\nWhen you cast the spell, you choose seeing or hearing. You can use the chosen sense through the sensor as if you were in its space. As your action, you can switch between seeing and hearing. \n\nA creature that can see the sensor (such as a creature benefiting from see invisibility or truesight) sees a luminous, intangible orb about the size of your fist.","invisible sensor, as an action choose seeing or hearing",{"$f":"IF(UC$1>=$TM52,1,\"0\")","v":"0"},null,null,{"$f":"IF(UF$1>=$TM52,1,\"0\")","v":"0"},null,{"$f":"IF(UH$1>=$TM52,1,\"0\")","v":"0"},null,null,null,{"$f":"IF(UL$1>=$TM52,1,\"0\")","v":"0"},null,null,null,null,null,null,null,null,null,null,null,{"$f":"IF(UX$1>=$TM52,1,\"0\")","v":"0"},null,null,null,null,null,null,null,null,null,null,null,null,null,null,null,null,null,null,null,null,null,null,null,null,null,null,null,null,null,null,null,{"$f":"IF(SUM($VZ$1:$WC$1)>0,IF(AND(SUM($VZ52:$WC52)>0,$TM52=WE$1),MAX(WD$2:WD51)+1,\"\"),IF(AND(SUM($UC52:$VY52)>0,$TM52=WE$1),MAX(WD$2:WD51)+1,\"\"))","v":""},"",{"$f":"IF(AND(SUM($UB52:$VY52)>0,$TM52=WG$1),MAX(WF$2:WF51)+1,\"\")","v":""},"",{"$f":"IF(AND(SUM($UB52:$VY52)>0,$TM52=WI$1),MAX(WH$2:WH51)+1,\"\")","v":""},"",{"$f":"IF(AND(SUM($UB52:$VY52)>0,$TM52=WK$1),MAX(WJ$2:WJ51)+1,\"\")","v":""},"",{"$f":"IF(AND(SUM($UB52:$VY52)>0,$TM52=WM$1),MAX(WL$2:WL51)+1,\"\")","v":""},"",{"$f":"IF(AND(SUM($UB52:$VY52)>0,$TM52=WO$1),MAX(WN$2:WN51)+1,\"\")","v":""},"",{"$f":"IF(AND(SUM($UB52:$VY52)>0,$TM52=WQ$1),MAX(WP$2:WP51)+1,\"\")","v":""},"",{"$f":"IF(AND(SUM($UB52:$VY52)>0,$TM52=WS$1),MAX(WR$2:WR51)+1,\"\")","v":""},"",{"$f":"IF(AND(SUM($UB52:$VY52)>0,$TM52=WU$1),MAX(WT$2:WT51)+1,\"\")","v":""},"",{"$f":"IF(AND(SUM($UB52:$VY52)>0,$TM52=WW$1),MAX(WV$2:WV51)+1,\"\")","v":""},"",{"$f":"IF(AND(SUM($UB52:$VY52)>0,$TM52=WY$1),MAX(WX$2:WX51)+1,\"\")","v":""},"",null,null,null,"",null,null,null,null,null,null,null,null,null,null,null,null,null,null,null,null,null,null,null,null,null,null,null,null,null,null,null,null,null,"Spell Sniper","The ability to cast at least one spell","You have learned techniques to enhance your attacks with certain kinds of spells, gaining the following benefits:\n• When you cast a spell that requires you to make an attack roll, the spell’s range is doubled. \n• Your ranged spell attacks ignore half cover and three-quarters cover. \n• You learn one cantrip that requires an attack roll. Choose the cantrip from the bard, cleric, druid, sorcerer, warlock, or wizard spell list. Your spellcasting ability for this cantrip depends on the spell list you chose from: Charisma for bard, sorcerer, or warlock; Wisdom for cleric or druid; or Intelligence for wizard.","  - When you cast a spell that requires you to make an attack roll, the spell’s range is doubled. \n  - Your ranged spell attacks ignore half cover and three-quarters cover. \n  - You learn one cantrip that requires an attack roll. Choose the cantrip from the bard, cleric, druid, sorcerer, warlock, or wizard\n     spell list. Your spellcasting ability for this cantrip depends on the spell list chosen: Charisma for bard, sorcerer, or warlock;\n     Wisdom for cleric or druid; or Intelligence for wizard.",{"$f":"\"\"","v":""},{"$f":"\"\"","v":""},{"$f":"\"\"","v":""},{"$f":"\"\"","v":""},null,null,null,null,null,"Sorcerer",8,{"$f":"VLOOKUP(YY52,$ZM$2:$ZP$23,$ZM$1,FALSE)","v":""},{"$f":"IF(YX52=\"\",\"\",MAX($YW$1:YW51)+1)","v":""},"",""]
[null,null,null,null,null,null,null,null,null,null,null,null,null,null,null,null,null,null,null,null,null,null,null,null,null,null,null,null,null,null,null,null,null,null,null,null,null,null,null,null,52,"",{"$f":"\"\"","v":""},{"$f":"\"\"","v":""},{"$f":"\"\"","v":""},{"$f":"\"\"","v":""},"Tumbler","Recruited into a lord’s army, I rose to leadership and was commended for my heroism.","Jewelers and gemcutters",{"$f":"\"\"","v":""},{"$f":"\"\"","v":""},"Tribal marauder",{"$f":"\"\"","v":""},{"$f":"\"\"","v":""},{"$f":"\"\"","v":""},{"$f":"\"\"","v":""},{"$f":"\"\"","v":""},null,null,null,null,null,null,null,null,null,null,null,null,null,null,null,null,null,null,null,null,null,null,null,null,null,null,null,null,null,null,null,null,null,null,null,null,null,null,null,null,null,null,null,null,null,null,null,null,null,null,null,null,null,null,null,null,null,null,null,null,null,null,null,null,null,null,null,null,null,null,null,null,null,null,null,null,null,null,null,null,null,null,null,null,null,null,null,null,null,null,null,null,null,null,null,null,null,null,null,null,null,null,null,null,null,null,null,null,null,null,null,null,null,null,null,null,null,null,null,null,null,null,null,null,null,null,null,null,null,null,null,null,null,null,null,null,null,null,null,null,null,null,null,null,null,null,null,null,null,null,null,null,null,null,null,null,null,null,null,null,null,"rakasta","humanoid",null,null,null,null,null,null,null,null,null,null,null,null,null,null,null,null,null,null,null,null,null,{"$f":"IF(IJ53=TRUE,MAX($IH$2:IH52)+1,\"\")","v":""},null,null,null,null,null,null,null,null,null,null,null,null,null,null,null,"Kord (CG)","god of athletics and sport","Chaotic Good","Tempest, War","Four spears and four maces radiating out from a central point",null,null,null,null,null,null,null,null,null,null,null,null,null,null,null,null,null,null,null,null,null,null,null,null,null,null,null,null,null,null,null,null,null,null,null,null,null,null,null,null,null,null,null,"Navigator’s tools","No","Tools",null,null,null,null,null,null,null,null,null,null,null,null,null,null,null,null,null,null,null,null,null,null,null,null,null,null,null,null,null,null,null,null,null,null,null,null,null,null,null,null,null,null,null,null,null,null,null,null,null,null,null,null,null,null,null,null,null,null,null,null,null,null,null,null,null,null,null,null,null,null,null,null,null,null,null,null,null,null,null,null,null,null,null,null,null,null,null,null,null,null,null,null,null,null,null,null,null,null,null,null,null,null,null,null,null,null,null,null,null,null,null,null,null,null,null,null,null,null,null,null,null,null,null,null,null,null,{"$f":"IF(COUNTIF(Start!$AX$59:$BF$68,Tables!KT53)>0,Tables!KT53,\"\")","v":""},null,"",{"$f":"IF(PU53=\"\",\"\",IF(COUNTIF(PU53:$PU$57,\"><\")>1,PU53&\", \", PU53))","v":""},null,null,null,null,null,"",null,null,{"$f":"\"\"","v":""},null,{"$f":"\"\"","v":""},{"$f":"\"\"","v":""},{"$f":"\"\"","v":""},{"$f":"\"\"","v":""},{"$f":"\"\"","v":""},{"$f":"\"\"","v":""},{"$f":"\"\"","v":""},{"$f":"\"\"","v":""},{"$f":"\"\"","v":""},{"$f":"\"\"","v":""},{"$f":"\"\"","v":""},{"$f":"\"\"","v":""},null,null,null,null,null,null,null,null,null,null,null,null,null,null,null,null,null,null,null,null,null,null,null,null,null,null,null,null,null,null,null,null,null,null,null,null,null,null,null,null,null,null,null,null,null,null,null,null,null,null,null,null,null,null,null,null,null,null,null,null,null,null,null,null,null,null,null,null,null,51,"Clone","LEVEL 8",8,"Clone ",{"$f":"\"\"","v":""},"",{"$f":"IF(OR(TK53=Spellcasting!$AC$18,TK53=Spellcasting!$AC$19),\"ᵐ\",\"\")","v":""},{"$f":"IF(OR(TK53=Spellcasting!$AC$20,TK53=Spellcasting!$AC$21),\"ˢ\",\"\")","v":""},{"$f":"\"\"","v":""},"1 hr","touch","instant","VSM","a diamond worth at least 1,000 gp and at least 1 cubic inch of flesh of the creature that is to be cloned, which the spell consumes, and a vessel worth at least 2,000 gp that has a sealable lid and is large enough to hold a Medium creature, such as a huge urn, coffin, mud-filled cyst in the ground, or crystal container filled with salt water","necromancy","necro","This spell grows an inert duplicate of a living creature as a safeguard against death. This clone forms inside a sealed vessel and grows to full size and maturity after 120 days; you can also choose to have the clone be a younger version of the same creature. It remains inert and endures indefinitely, as long as its vessel remains undisturbed. \n\nAt any time after the clone matures, if the original creature dies, its soul transfers to the clone, provided that the soul is free and willing to return. The clone is physically identical to the original and has the same personality, memories, and abilities, but none of the original’s equipment. The original creature’s physical remains, if they still exist, become inert and can’t thereafter be restored to life, since the creature’s soul is elsewhere.","create a clone, 120 days, see material components",null,null,null,null,null,null,null,null,null,{"$f":"IF(UL$1>=$TM53,1,\"0\")","v":"0"},null,null,null,null,null,null,null,null,null,null,null,null,null,null,null,null,null,null,null,null,null,null,null,null,null,null,null,null,null,null,null,null,null,null,null,null,null,null,null,null,null,null,null,{"$f":"IF(SUM($VZ$1:$WC$1)>0,IF(AND(SUM($VZ53:$WC53)>0,$TM53=WE$1),MAX(WD$2:WD52)+1,\"\"),IF(AND(SUM($UC53:$VY53)>0,$TM53=WE$1),MAX(WD$2:WD52)+1,\"\"))","v":""},"",{"$f":"IF(AND(SUM($UB53:$VY53)>0,$TM53=WG$1),MAX(WF$2:WF52)+1,\"\")","v":""},"",{"$f":"IF(AND(SUM($UB53:$VY53)>0,$TM53=WI$1),MAX(WH$2:WH52)+1,\"\")","v":""},"",{"$f":"IF(AND(SUM($UB53:$VY53)>0,$TM53=WK$1),MAX(WJ$2:WJ52)+1,\"\")","v":""},"",{"$f":"IF(AND(SUM($UB53:$VY53)>0,$TM53=WM$1),MAX(WL$2:WL52)+1,\"\")","v":""},"",{"$f":"IF(AND(SUM($UB53:$VY53)>0,$TM53=WO$1),MAX(WN$2:WN52)+1,\"\")","v":""},"",{"$f":"IF(AND(SUM($UB53:$VY53)>0,$TM53=WQ$1),MAX(WP$2:WP52)+1,\"\")","v":""},"",{"$f":"IF(AND(SUM($UB53:$VY53)>0,$TM53=WS$1),MAX(WR$2:WR52)+1,\"\")","v":""},"",{"$f":"IF(AND(SUM($UB53:$VY53)>0,$TM53=WU$1),MAX(WT$2:WT52)+1,\"\")","v":""},"",{"$f":"IF(AND(SUM($UB53:$VY53)>0,$TM53=WW$1),MAX(WV$2:WV52)+1,\"\")","v":""},"",{"$f":"IF(AND(SUM($UB53:$VY53)>0,$TM53=WY$1),MAX(WX$2:WX52)+1,\"\")","v":""},"",null,null,null,"",null,null,null,null,null,null,null,null,null,null,null,null,null,null,null,null,null,null,null,null,null,null,null,null,null,null,null,null,null,"Tavern Brawler","none","Accustomed to rough-and-tumble fighting using whatever weapons happen to be at hand, you gain the following benefits:\n• Increase your Strength or Constitution score by 1, to a maximum of 20. \n• You are proficient with improvised weapons and unarmed strikes. \n• Your unarmed strike uses a d4 for damage. \n• When you hit a creature with an unarmed strike or an improvised weapon on your turn, you can use a bonus action to attempt to grapple the target.","  - Increase your Strength or Constitution score by 1, to a maximum of 20. \n  - You are proficient with improvised weapons and unarmed strikes. \n  - Your unarmed strike uses a d4 for damage. \n  - When you hit a creature with an unarmed strike or an improvised weapon on your turn, use a bonus action to attempt to\n     grapple the target.",{"$f":"\"\"","v":""},{"$f":"\"\"","v":""},"SC",1,null,null,null,null,null,"Sorcerer",12,"",{"$f":"IF(YX53=\"\",\"\",MAX($YW$1:YW52)+1)","v":""},"",""]
[null,null,null,null,null,null,null,null,null,null,null,null,null,null,null,null,null,null,null,null,null,null,null,null,null,null,null,null,null,null,null,null,null,null,null,null,null,null,null,null,53,0,null,{"$f":"\"\"","v":""},{"$f":"\"\"","v":""},{"$f":"\"\"","v":""},{"$f":"\"\"","v":""},{"$f":"\"\"","v":""},"Leatherworkers, skinners, and tanners ",{"$f":"\"\"","v":""},{"$f":"\"\"","v":""},{"$f":"\"\"","v":""},{"$f":"\"\"","v":""},{"$f":"\"\"","v":""},{"$f":"\"\"","v":""},{"$f":"\"\"","v":""},null,null,null,null,null,null,null,null,null,null,null,null,null,null,null,null,null,null,null,null,null,null,null,null,null,null,null,null,null,null,null,null,null,null,null,null,null,null,null,null,null,null,null,null,null,null,null,null,null,null,null,null,null,null,null,null,null,null,null,null,null,null,null,null,null,null,null,null,null,null,null,null,null,null,null,null,null,null,null,null,null,null,null,null,null,null,null,null,null,null,null,null,null,null,null,null,null,null,null,null,null,null,null,null,null,null,null,null,null,null,null,null,null,null,null,null,null,null,null,null,null,null,null,null,null,null,null,null,null,null,null,null,null,null,null,null,null,null,null,null,null,null,null,null,null,null,null,null,null,null,null,null,null,null,null,null,null,null,null,null,null,null,"saurial","humanoid",null,null,null,null,null,null,null,null,null,null,null,null,null,null,null,null,null,null,null,null,null,{"$f":"IF(IJ54=TRUE,MAX($IH$2:IH53)+1,\"\")","v":""},null,null,null,null,null,null,null,null,null,null,null,null,null,null,null,"luz (CE)","god of pain and oppression","Chaotic Evil","Death","Grinning human skull",null,null,null,null,null,null,null,null,null,null,"ARCANE TRICKSTER, ELDRITCH KNIGHT",null,null,null,null,null,null,null,null,null,null,null,null,null,null,null,null,null,null,null,null,null,null,null,null,null,null,null,null,null,null,null,null,"Poisoner’s kit","No","Tools",null,null,null,null,null,null,null,null,null,null,null,null,null,null,null,null,null,null,null,null,null,null,null,null,null,null,null,null,null,null,null,null,null,null,null,null,null,null,null,null,null,null,null,null,null,null,null,null,null,null,null,null,null,null,null,null,null,null,null,null,null,null,null,null,null,null,null,null,null,null,null,null,null,null,null,null,null,null,null,null,null,null,null,null,null,null,null,null,null,null,null,null,null,null,null,null,null,null,null,null,null,null,null,null,null,null,null,null,null,null,null,null,null,null,null,null,null,null,null,null,null,null,null,null,null,null,{"$f":"IF(COUNTIF(Start!$AX$59:$BF$68,Tables!KT54)>0,Tables!KT54,\"\")","v":""},null,"",{"$f":"IF(PU54=\"\",\"\",IF(COUNTIF(PU54:$PU$57,\"><\")>1,PU54&\", \", PU54))","v":""},null,null,null,null,null,"",null,null,{"$f":"\"\"","v":""},null,{"$f":"\"\"","v":""},{"$f":"\"\"","v":""},{"$f":"\"\"","v":""},{"$f":"\"\"","v":""},{"$f":"\"\"","v":""},{"$f":"\"\"","v":""},{"$f":"\"\"","v":""},{"$f":"\"\"","v":""},{"$f":"\"\"","v":""},{"$f":"\"\"","v":""},{"$f":"\"\"","v":""},{"$f":"\"\"","v":""},null,null,null,null,null,null,null,null,null,null,null,null,null,null,null,null,null,null,null,null,null,null,null,null,null,null,null,null,null,null,null,null,null,null,null,null,null,null,null,null,null,null,null,null,null,null,null,null,null,null,null,null,null,null,null,null,null,null,null,null,null,null,null,null,null,null,null,null,null,52,"Cloud of Daggers","LEVEL 2",2,"Cloud of Daggers ᴴ ","ᴴ ","",{"$f":"IF(OR(TK54=Spellcasting!$AC$18,TK54=Spellcasting!$AC$19),\"ᵐ\",\"\")","v":""},{"$f":"IF(OR(TK54=Spellcasting!$AC$20,TK54=Spellcasting!$AC$21),\"ˢ\",\"\")","v":""},{"$f":"\"\"","v":""},"1 act","60 ft","1 min ᶜᵒᶰ","VSM","a sliver of glass","conjuration","conjur","You fill the air with spinning daggers in a cube 5 feet on each side, centered on a point you choose within range. A creature takes 4d4 slashing damage when it enters the spell’s area for the first time on a turn or starts its turn there. \n\nAt Higher Levels. When you cast this spell using a spell slot of 3rd level or higher, the damage increases by 2d4 for each slot level above 2nd.","5ft cube, 4d4 slash, entering or start turn",{"$f":"IF(UC$1>=$TM54,1,\"0\")","v":"0"},null,null,{"$f":"IF(UF$1>=$TM54,1,\"0\")","v":"0"},{"$f":"IF(UG$1>=$TM54,1,\"0\")","v":"0"},null,null,null,null,{"$f":"IF(UL$1>=$TM54,1,\"0\")","v":"0"},null,null,null,null,null,null,null,null,null,null,null,null,null,null,null,null,null,null,null,null,null,null,null,null,null,null,null,null,null,null,null,null,null,null,null,null,null,null,null,null,null,null,null,{"$f":"IF(SUM($VZ$1:$WC$1)>0,IF(AND(SUM($VZ54:$WC54)>0,$TM54=WE$1),MAX(WD$2:WD53)+1,\"\"),IF(AND(SUM($UC54:$VY54)>0,$TM54=WE$1),MAX(WD$2:WD53)+1,\"\"))","v":""},"",{"$f":"IF(AND(SUM($UB54:$VY54)>0,$TM54=WG$1),MAX(WF$2:WF53)+1,\"\")","v":""},"",{"$f":"IF(AND(SUM($UB54:$VY54)>0,$TM54=WI$1),MAX(WH$2:WH53)+1,\"\")","v":""},"",{"$f":"IF(AND(SUM($UB54:$VY54)>0,$TM54=WK$1),MAX(WJ$2:WJ53)+1,\"\")","v":""},"",{"$f":"IF(AND(SUM($UB54:$VY54)>0,$TM54=WM$1),MAX(WL$2:WL53)+1,\"\")","v":""},"",{"$f":"IF(AND(SUM($UB54:$VY54)>0,$TM54=WO$1),MAX(WN$2:WN53)+1,\"\")","v":""},"",{"$f":"IF(AND(SUM($UB54:$VY54)>0,$TM54=WQ$1),MAX(WP$2:WP53)+1,\"\")","v":""},"",{"$f":"IF(AND(SUM($UB54:$VY54)>0,$TM54=WS$1),MAX(WR$2:WR53)+1,\"\")","v":""},"",{"$f":"IF(AND(SUM($UB54:$VY54)>0,$TM54=WU$1),MAX(WT$2:WT53)+1,\"\")","v":""},"",{"$f":"IF(AND(SUM($UB54:$VY54)>0,$TM54=WW$1),MAX(WV$2:WV53)+1,\"\")","v":""},"",{"$f":"IF(AND(SUM($UB54:$VY54)>0,$TM54=WY$1),MAX(WX$2:WX53)+1,\"\")","v":""},"",null,null,null,"",null,null,null,null,null,null,null,null,null,null,null,null,null,null,null,null,null,null,null,null,null,null,null,null,null,null,null,null,null,"Tough","none","Your hit point maximum increases by an amount equal to twice your level when you gain this feat. Whenever you gain a level thereafter, your hit point maximum increases by an additional 2 hit points.","  - Your hit point maximum increases by an amount equal to twice your level when you gain this feat. Whenever you gain a level\n    thereafter, your hit point maximum increases by an additional 2 hit points.",{"$f":"\"\"","v":""},{"$f":"\"\"","v":""},{"$f":"\"\"","v":""},{"$f":"\"\"","v":""},null,null,null,null,null,"Sorcerer",16,"",{"$f":"IF(YX54=\"\",\"\",MAX($YW$1:YW53)+1)","v":""},"",""]
[null,null,null,null,null,null,null,null,null,null,null,null,null,null,null,null,null,null,null,null,null,null,null,null,null,null,null,null,null,null,null,null,null,null,null,null,null,null,null,null,54,0,null,{"$f":"\"\"","v":""},{"$f":"\"\"","v":""},{"$f":"\"\"","v":""},{"$f":"\"\"","v":""},{"$f":"\"\"","v":""},"Masons and stonecutters",{"$f":"\"\"","v":""},{"$f":"\"\"","v":""},{"$f":"\"\"","v":""},{"$f":"\"\"","v":""},{"$f":"\"\"","v":""},{"$f":"\"\"","v":""},{"$f":"\"\"","v":""},null,null,null,null,null,null,null,null,null,null,null,null,null,null,null,null,null,null,null,null,null,null,null,null,null,null,null,null,null,null,null,null,null,null,null,null,null,null,null,null,null,null,null,null,null,null,null,null,null,null,null,null,null,null,null,null,null,null,null,null,null,null,null,null,null,null,null,null,null,null,null,null,null,null,null,null,null,null,null,null,null,null,null,null,null,null,null,null,null,null,null,null,null,null,null,null,null,null,null,null,null,null,null,null,null,null,null,null,null,null,null,null,null,null,null,null,null,null,null,null,null,null,null,null,null,null,null,null,null,null,null,null,null,null,null,null,null,null,null,null,null,null,null,null,null,null,null,null,null,null,null,null,null,null,null,null,null,null,null,null,null,null,"selkie","humanoid",null,null,null,null,null,null,null,null,null,null,null,null,null,null,null,null,null,null,null,null,null,{"$f":"IF(IJ55=TRUE,MAX($IH$2:IH54)+1,\"\")","v":""},null,null,null,null,null,null,null,null,null,null,null,null,null,null,null,"Nerull (NE)","god of death","Neutral Evil","Death","Skull with either a sickle or a scythe",null,null,null,null,null,null,null,null,null,null,"LEVEL",1,2,3,4,5,6,7,8,9,null,null,null,null,null,null,null,null,null,null,null,null,null,null,null,null,null,null,null,null,null,null,null,"Thieves’ tools","No","Tools",null,null,null,null,null,null,null,null,null,null,null,null,null,null,null,null,null,null,null,null,null,null,null,null,null,null,null,null,null,null,null,null,null,null,null,null,null,null,null,null,null,null,null,null,null,null,null,null,null,null,null,null,null,null,null,null,null,null,null,null,null,null,null,null,null,null,null,null,null,null,null,null,null,null,null,null,null,null,null,null,null,null,null,null,null,null,null,null,null,null,null,null,null,null,null,null,null,null,null,null,null,null,null,null,null,null,null,null,null,null,null,null,null,null,null,null,null,null,null,null,null,null,null,null,null,null,{"$f":"IF(COUNTIF(Start!$AX$59:$BF$68,Tables!KT55)>0,Tables!KT55,\"\")","v":""},null,"",{"$f":"IF(PU55=\"\",\"\",IF(COUNTIF(PU55:$PU$57,\"><\")>1,PU55&\", \", PU55))","v":""},null,null,null,null,null,"",null,null,{"$f":"\"\"","v":""},null,{"$f":"\"\"","v":""},{"$f":"\"\"","v":""},{"$f":"\"\"","v":""},{"$f":"\"\"","v":""},{"$f":"\"\"","v":""},{"$f":"\"\"","v":""},{"$f":"\"\"","v":""},{"$f":"\"\"","v":""},{"$f":"\"\"","v":""},{"$f":"\"\"","v":""},{"$f":"\"\"","v":""},{"$f":"\"\"","v":""},null,null,null,null,null,null,null,null,null,null,null,null,null,null,null,null,null,null,null,null,null,null,null,null,null,null,null,null,null,null,null,null,null,null,null,null,null,null,null,null,null,null,null,null,null,null,null,null,null,null,null,null,null,null,null,null,null,null,null,null,null,null,null,null,null,null,null,null,null,53,"Cloudkill","LEVEL 5",5,"Cloudkill ᴴ ","ᴴ ","",{"$f":"IF(OR(TK55=Spellcasting!$AC$18,TK55=Spellcasting!$AC$19),\"ᵐ\",\"\")","v":""},{"$f":"IF(OR(TK55=Spellcasting!$AC$20,TK55=Spellcasting!$AC$21),\"ˢ\",\"\")","v":""},{"$f":"\"\"","v":""},"1 act","120 ft","10 min ᶜᵒᶰ","VS",{"$f":"\"\"","v":""},"conjuration","conjur","You create a 20-foot-radius sphere of poisonous, yellow green fog centered on a point you choose within range. The fog spreads around corners. It lasts for the duration or until strong wind disperses the fog, ending the spell. Its area is heavily obscured. \n\nWhen a creature enters the spell’s area for the first time on a turn or starts its turn there, that creature must make a Constitution saving throw. The creature takes 5d8 poison damage on a failed save, or half as much damage on a successful one. Creatures are affected even if they hold their breath or don’t need to breathe. \n\nThe fog moves 10 feet away from you at the start of each of your turns, rolling along the surface of the ground. The vapors, being heavier than air, sink to the lowest level of the land, even pouring down openings. \n\nAt Higher Levels. When you cast this spell using a spell slot of 6th level or higher, the damage increases by 1d8 for each slot level above 5th.",{"$f":"\"20 rad sphere, 5d8\"&IF(AD8=TRUE,\"+\"&CHAMod,\"\")&\" poison, con save ½\"","v":"20 rad sphere, 5d8 poison, con save ½"},null,null,null,{"$f":"IF(UF$1>=$TM55,1,\"0\")","v":"0"},null,null,null,null,null,{"$f":"IF(UL$1>=$TM55,1,\"0\")","v":"0"},null,null,null,null,null,null,null,null,null,null,null,null,null,null,null,null,null,null,null,null,null,null,null,null,null,null,null,{"$f":"IF(VN$1>=$TM55,1,\"0\")","v":"0"},null,null,null,null,null,null,null,null,null,null,null,null,null,null,null,{"$f":"IF(SUM($VZ$1:$WC$1)>0,IF(AND(SUM($VZ55:$WC55)>0,$TM55=WE$1),MAX(WD$2:WD54)+1,\"\"),IF(AND(SUM($UC55:$VY55)>0,$TM55=WE$1),MAX(WD$2:WD54)+1,\"\"))","v":""},"",{"$f":"IF(AND(SUM($UB55:$VY55)>0,$TM55=WG$1),MAX(WF$2:WF54)+1,\"\")","v":""},"",{"$f":"IF(AND(SUM($UB55:$VY55)>0,$TM55=WI$1),MAX(WH$2:WH54)+1,\"\")","v":""},"",{"$f":"IF(AND(SUM($UB55:$VY55)>0,$TM55=WK$1),MAX(WJ$2:WJ54)+1,\"\")","v":""},"",{"$f":"IF(AND(SUM($UB55:$VY55)>0,$TM55=WM$1),MAX(WL$2:WL54)+1,\"\")","v":""},"",{"$f":"IF(AND(SUM($UB55:$VY55)>0,$TM55=WO$1),MAX(WN$2:WN54)+1,\"\")","v":""},"",{"$f":"IF(AND(SUM($UB55:$VY55)>0,$TM55=WQ$1),MAX(WP$2:WP54)+1,\"\")","v":""},"",{"$f":"IF(AND(SUM($UB55:$VY55)>0,$TM55=WS$1),MAX(WR$2:WR54)+1,\"\")","v":""},"",{"$f":"IF(AND(SUM($UB55:$VY55)>0,$TM55=WU$1),MAX(WT$2:WT54)+1,\"\")","v":""},"",{"$f":"IF(AND(SUM($UB55:$VY55)>0,$TM55=WW$1),MAX(WV$2:WV54)+1,\"\")","v":""},"",{"$f":"IF(AND(SUM($UB55:$VY55)>0,$TM55=WY$1),MAX(WX$2:WX54)+1,\"\")","v":""},"",null,null,null,"",null,null,null,null,null,null,null,null,null,null,null,null,null,null,null,null,null,null,null,null,null,null,null,null,null,null,null,null,null,"War Caster","The ability to cast at least one spell","You have practiced casting spells in the midst of combat, learning techniques that grant you the following benefits:\n• You have advantage on Constitution saving throws that you make to maintain your concentration on a spell when you take damage. \n• You can perform the somatic components of spells even when you have weapons or a shield in one or both hands. \n• When a hostile creature’s movement provokes an opportunity attack from you, you can use your reaction to cast a spell at the creature, rather than making an opportunity attack. The spell must have a casting time of 1 action and must target only that creature.","  - Advantage on Constitution saving throws that you make to maintain your concentration on a spell when you take damage. \n  - You can perform the somatic components of spells even when you have weapons or a shield in one or both hands. \n  - When a hostile creature’s movement provokes an opportunity attack, use your reaction to cast a spell at the creature, rather\n     than making an opportunity attack. The spell must have a casting time of 1 action and must target only that creature.",{"$f":"\"\"","v":""},{"$f":"\"\"","v":""},{"$f":"\"\"","v":""},{"$f":"\"\"","v":""},null,null,null,null,null,"Sorcerer",19,"",{"$f":"IF(YX55=\"\",\"\",MAX($YW$1:YW54)+1)","v":""},"",""]
[null,null,null,null,null,null,null,null,null,null,null,null,null,null,null,null,null,null,null,null,null,null,null,null,null,null,null,null,null,null,null,null,null,null,null,null,null,null,null,null,55,0,null,{"$f":"\"\"","v":""},{"$f":"\"\"","v":""},{"$f":"\"\"","v":""},{"$f":"\"\"","v":""},{"$f":"\"\"","v":""},"Painters, limners, and sign-makers",{"$f":"\"\"","v":""},{"$f":"\"\"","v":""},{"$f":"\"\"","v":""},{"$f":"\"\"","v":""},{"$f":"\"\"","v":""},{"$f":"\"\"","v":""},{"$f":"\"\"","v":""},null,null,null,null,null,null,null,null,null,null,null,null,null,null,null,null,null,null,null,null,null,null,null,null,null,null,null,null,null,null,null,null,null,null,null,null,null,null,null,null,null,null,null,null,null,null,null,null,null,null,null,null,null,null,null,null,null,null,null,null,null,null,null,null,null,null,null,null,null,null,null,null,null,null,null,null,null,null,null,null,null,null,null,null,null,null,null,null,null,null,null,null,null,null,null,null,null,null,null,null,null,null,null,null,null,null,null,null,null,null,null,null,null,null,null,null,null,null,null,null,null,null,null,null,null,null,null,null,null,null,null,null,null,null,null,null,null,null,null,null,null,null,null,null,null,null,null,null,null,null,null,null,null,null,null,null,null,null,null,null,null,null,"shifter","humanoid",null,null,null,null,null,null,null,null,null,null,null,null,null,null,null,null,null,null,null,null,null,{"$f":"IF(IJ56=TRUE,MAX($IH$2:IH55)+1,\"\")","v":""},null,null,null,null,null,null,null,null,null,null,null,null,null,null,null,"Obad-Hai (N)","god of nature","Neutral","Nature","Oak leaf and acorn",null,null,null,null,null,null,null,null,null,null,1,"-","-","-","-","-","-","-","-","-",0,null,null,null,null,null,null,null,null,null,null,null,null,null,null,null,null,null,null,null,null,null,null,"Vehicles (land)","No","Tools",null,null,null,null,null,null,null,null,null,null,null,null,null,null,null,null,null,null,null,null,null,null,null,null,null,null,null,null,null,null,null,null,null,null,null,null,null,null,null,null,null,null,null,null,null,null,null,null,null,null,null,null,null,null,null,null,null,null,null,null,null,null,null,null,null,null,null,null,null,null,null,null,null,null,null,null,null,null,null,null,null,null,null,null,null,null,null,null,null,null,null,null,null,null,null,null,null,null,null,null,null,null,null,null,null,null,null,null,null,null,null,null,null,null,null,null,null,null,null,null,null,null,null,null,null,null,{"$f":"IF(COUNTIF(Start!$AX$59:$BF$68,Tables!KT56)>0,Tables!KT56,\"\")","v":""},null,"",{"$f":"IF(PU56=\"\",\"\",IF(COUNTIF(PU56:$PU$57,\"><\")>1,PU56&\", \", PU56))","v":""},null,null,null,null,null,"",null,null,{"$f":"\"\"","v":""},null,{"$f":"\"\"","v":""},{"$f":"\"\"","v":""},{"$f":"\"\"","v":""},{"$f":"\"\"","v":""},{"$f":"\"\"","v":""},{"$f":"\"\"","v":""},{"$f":"\"\"","v":""},{"$f":"\"\"","v":""},{"$f":"\"\"","v":""},{"$f":"\"\"","v":""},{"$f":"\"\"","v":""},{"$f":"\"\"","v":""},null,null,null,null,null,null,null,null,null,null,null,null,null,null,null,null,null,null,null,null,null,null,null,null,null,null,null,null,null,null,null,null,null,null,null,null,null,null,null,null,null,null,null,null,null,null,null,null,null,null,null,null,null,null,null,null,null,null,null,null,null,null,null,null,null,null,null,null,null,54,"Color Spray","LEVEL 1",1,"Color Spray ᴴ ","ᴴ ","",{"$f":"IF(OR(TK56=Spellcasting!$AC$18,TK56=Spellcasting!$AC$19),\"ᵐ\",\"\")","v":""},{"$f":"IF(OR(TK56=Spellcasting!$AC$20,TK56=Spellcasting!$AC$21),\"ˢ\",\"\")","v":""},{"$f":"\"\"","v":""},"1 act","self","1 rnd","VSM","a pinch of powder or sand that is colored red, yellow, and blue","illusion","illus","A dazzling array of flashing, colored light springs from your hand. Roll 6d10; the total is how many hit points of creatures this spell can effect. Creatures in a 15-foot cone originating from you are affected in ascending order of their current hit points (ignoring unconscious creatures and creatures that can’t see). \n\nStarting with the creature that has the lowest current hit points, each creature affected by this spell is blinded until the spell ends. Subtract each creature’s hit points from the total before moving on to the creature with the next lowest hit points. A creature’s hit points must be equal to or less than the remaining total for that creature to be affected.\n\nAt Higher Levels. When you cast this spell using a spell slot of 2nd level or higher, roll an additional 2d10 for each slot level above 1st.","15ft cone, 6d10 HP blinded, starting with lowest current HP",null,null,null,{"$f":"IF(UF$1>=$TM56,1,\"0\")","v":"0"},null,null,null,null,null,{"$f":"IF(UL$1>=$TM56,1,\"0\")","v":"0"},null,null,null,null,null,null,null,null,null,null,null,null,null,null,null,null,null,null,null,null,null,null,null,null,null,null,null,null,null,null,{"$f":"IF(VQ$1>=$TM56,1,\"0\")","v":"0"},null,null,null,null,null,null,null,null,null,null,null,null,{"$f":"IF(SUM($VZ$1:$WC$1)>0,IF(AND(SUM($VZ56:$WC56)>0,$TM56=WE$1),MAX(WD$2:WD55)+1,\"\"),IF(AND(SUM($UC56:$VY56)>0,$TM56=WE$1),MAX(WD$2:WD55)+1,\"\"))","v":""},"",{"$f":"IF(AND(SUM($UB56:$VY56)>0,$TM56=WG$1),MAX(WF$2:WF55)+1,\"\")","v":""},"",{"$f":"IF(AND(SUM($UB56:$VY56)>0,$TM56=WI$1),MAX(WH$2:WH55)+1,\"\")","v":""},"",{"$f":"IF(AND(SUM($UB56:$VY56)>0,$TM56=WK$1),MAX(WJ$2:WJ55)+1,\"\")","v":""},"",{"$f":"IF(AND(SUM($UB56:$VY56)>0,$TM56=WM$1),MAX(WL$2:WL55)+1,\"\")","v":""},"",{"$f":"IF(AND(SUM($UB56:$VY56)>0,$TM56=WO$1),MAX(WN$2:WN55)+1,\"\")","v":""},"",{"$f":"IF(AND(SUM($UB56:$VY56)>0,$TM56=WQ$1),MAX(WP$2:WP55)+1,\"\")","v":""},"",{"$f":"IF(AND(SUM($UB56:$VY56)>0,$TM56=WS$1),MAX(WR$2:WR55)+1,\"\")","v":""},"",{"$f":"IF(AND(SUM($UB56:$VY56)>0,$TM56=WU$1),MAX(WT$2:WT55)+1,\"\")","v":""},"",{"$f":"IF(AND(SUM($UB56:$VY56)>0,$TM56=WW$1),MAX(WV$2:WV55)+1,\"\")","v":""},"",{"$f":"IF(AND(SUM($UB56:$VY56)>0,$TM56=WY$1),MAX(WX$2:WX55)+1,\"\")","v":""},"",null,null,null,"",null,null,null,null,null,null,null,null,null,null,null,null,null,null,null,null,null,null,null,null,null,null,null,null,null,null,null,null,null,"Weapon Master","none","You have practiced extensively with a variety of weapons, gaining the following benefits:\n• Increase your Strength or Dexterity score by 1, to a maximum of 20. \n• You gain proficiency with four weapons of your choice.","  - Increase your Strength or Dexterity score by 1, to a maximum of 20. \n  - You gain proficiency with four weapons of your choice.",{"$f":"\"\"","v":""},{"$f":"\"\"","v":""},"SD",1,null,null,null,null,null,"Warlock",4,{"$f":"VLOOKUP(YY56,$ZN$2:$ZP$23,$ZN$1,FALSE)","v":""},{"$f":"IF(YX56=\"\",\"\",MAX($YW$1:YW55)+1)","v":""},"",""]
[null,null,null,null,null,null,null,null,null,null,null,null,null,null,null,null,null,null,null,null,null,null,null,null,null,null,null,null,null,null,null,null,null,null,null,null,null,null,null,null,56,0,null,{"$f":"\"\"","v":""},{"$f":"\"\"","v":""},{"$f":"\"\"","v":""},{"$f":"\"\"","v":""},{"$f":"\"\"","v":""},"Potters and tile-makers",{"$f":"\"\"","v":""},{"$f":"\"\"","v":""},{"$f":"\"\"","v":""},{"$f":"\"\"","v":""},{"$f":"\"\"","v":""},{"$f":"\"\"","v":""},{"$f":"\"\"","v":""},null,null,null,null,null,null,null,null,null,null,null,null,null,null,null,null,null,null,null,null,null,null,null,null,null,null,null,null,null,null,null,null,null,null,null,null,null,null,null,null,null,null,null,null,null,null,null,null,null,null,null,null,null,null,null,null,null,null,null,null,null,null,null,null,null,null,null,null,null,null,null,null,null,null,null,null,null,null,null,null,null,null,null,null,null,null,null,null,null,null,null,null,null,null,null,null,null,null,null,null,null,null,null,null,null,null,null,null,null,null,null,null,null,null,null,null,null,null,null,null,null,null,null,null,null,null,null,null,null,null,null,null,null,null,null,null,null,null,null,null,null,null,null,null,null,null,null,null,null,null,null,null,null,null,null,null,null,null,null,null,null,null,"skulk","humanoid",null,null,null,null,null,null,null,null,null,null,null,null,null,null,null,null,null,null,null,null,null,{"$f":"IF(IJ57=TRUE,MAX($IH$2:IH56)+1,\"\")","v":""},null,null,null,null,null,null,null,null,null,null,null,null,null,null,null,"Olidammara (CN)","god of revelry","Chaotic Neutral","Trickery","Laughing mask",null,null,null,null,null,null,null,null,null,null,2,"-","-","-","-","-","-","-","-","-",0,null,null,null,null,null,null,null,null,null,null,null,null,null,null,null,null,null,null,null,null,null,null,"Vehicles (water)","No","Tools",null,null,null,null,null,null,null,null,null,null,null,null,null,null,null,null,null,null,null,null,null,null,null,null,null,null,null,null,null,null,null,null,null,null,null,null,null,null,null,null,null,null,null,null,null,null,null,null,null,null,null,null,null,null,null,null,null,null,null,null,null,null,null,null,null,null,null,null,null,null,null,null,null,null,null,null,null,null,null,null,null,null,null,null,null,null,null,null,null,null,null,null,null,null,null,null,null,null,null,null,null,null,null,null,null,null,null,null,null,null,null,null,null,null,null,null,null,null,null,null,null,null,null,null,null,null,{"$f":"IF(COUNTIF(Start!$AX$59:$BF$68,Tables!KT57)>0,Tables!KT57,\"\")","v":""},null,"",{"$f":"IF(PU57=\"\",\"\",IF(COUNTIF(PU57:$PU$57,\"><\")>1,PU57&\", \", PU57))","v":""},null,null,null,null,null,"",null,null,{"$f":"\"\"","v":""},null,{"$f":"\"\"","v":""},{"$f":"\"\"","v":""},{"$f":"\"\"","v":""},{"$f":"\"\"","v":""},{"$f":"\"\"","v":""},{"$f":"\"\"","v":""},{"$f":"\"\"","v":""},{"$f":"\"\"","v":""},{"$f":"\"\"","v":""},{"$f":"\"\"","v":""},{"$f":"\"\"","v":""},{"$f":"\"\"","v":""},null,null,null,null,null,null,null,null,null,null,null,null,null,null,null,null,null,null,null,null,null,null,null,null,null,null,null,null,null,null,null,null,null,null,null,null,null,null,null,null,null,null,null,null,null,null,null,null,null,null,null,null,null,null,null,null,null,null,null,null,null,null,null,null,null,null,null,null,null,55,"Command","LEVEL 1",1,"Command ᴴ ","ᴴ ","",{"$f":"IF(OR(TK57=Spellcasting!$AC$18,TK57=Spellcasting!$AC$19),\"ᵐ\",\"\")","v":""},{"$f":"IF(OR(TK57=Spellcasting!$AC$20,TK57=Spellcasting!$AC$21),\"ˢ\",\"\")","v":""},{"$f":"\"\"","v":""},"1 act","60 ft","1 rnd","V",{"$f":"\"\"","v":""},"enchantment","ench","You speak a one-word command to a creature you can see within range. The target must succeed on a Wisdom saving throw or follow the command on its next turn. The spell has no effect if the target is undead, if it doesn’t understand your language, or if your command is directly harmful to it. \n\nSome typical commands and their effects follow. You might issue a command other than one described here. If you do so, the DM determines how the target behaves. If the target can’t follow your command, the spell ends. \n\nApproach. The target moves toward you by the shortest and most direct route, ending its turn if it moves within 5 feet of you. \nDrop. The target drops whatever it is holding and then ends its turn. Flee. The target spends its turn moving away from you by the fastest available means. \nGrovel. The target falls prone and then ends its turn. \nHalt. The target doesn’t move and takes no actions. A flying creature stays aloft, provided that it is able to do so. If it must move to stay aloft, it flies the minimum distance needed to remain in the air. \n\nAt Higher Levels. When you cast this spell using a spell slot of 2nd level or higher, you can affect one additional creature for each slot level above 1st. The creatures must be within 30 feet of each other when you target them.","one-word command, wis save, undead unaffected",null,{"$f":"IF(UD$1>=$TM57,1,\"0\")","v":"0"},null,null,null,{"$f":"IF(UH$1>=$TM57,1,\"0\")","v":"0"},null,null,null,null,null,null,null,null,null,null,null,null,null,null,{"$f":"IF(UW$1>=$TM57,1,\"0\")","v":"0"},null,{"$f":"IF(UY$1>=$TM57,1,\"0\")","v":"0"},null,null,null,null,null,null,null,null,null,null,null,null,null,null,null,null,null,null,null,null,null,null,null,null,null,null,null,null,null,null,{"$f":"IF(SUM($VZ$1:$WC$1)>0,IF(AND(SUM($VZ57:$WC57)>0,$TM57=WE$1),MAX(WD$2:WD56)+1,\"\"),IF(AND(SUM($UC57:$VY57)>0,$TM57=WE$1),MAX(WD$2:WD56)+1,\"\"))","v":""},"",{"$f":"IF(AND(SUM($UB57:$VY57)>0,$TM57=WG$1),MAX(WF$2:WF56)+1,\"\")","v":""},"",{"$f":"IF(AND(SUM($UB57:$VY57)>0,$TM57=WI$1),MAX(WH$2:WH56)+1,\"\")","v":""},"",{"$f":"IF(AND(SUM($UB57:$VY57)>0,$TM57=WK$1),MAX(WJ$2:WJ56)+1,\"\")","v":""},"",{"$f":"IF(AND(SUM($UB57:$VY57)>0,$TM57=WM$1),MAX(WL$2:WL56)+1,\"\")","v":""},"",{"$f":"IF(AND(SUM($UB57:$VY57)>0,$TM57=WO$1),MAX(WN$2:WN56)+1,\"\")","v":""},"",{"$f":"IF(AND(SUM($UB57:$VY57)>0,$TM57=WQ$1),MAX(WP$2:WP56)+1,\"\")","v":""},"",{"$f":"IF(AND(SUM($UB57:$VY57)>0,$TM57=WS$1),MAX(WR$2:WR56)+1,\"\")","v":""},"",{"$f":"IF(AND(SUM($UB57:$VY57)>0,$TM57=WU$1),MAX(WT$2:WT56)+1,\"\")","v":""},"",{"$f":"IF(AND(SUM($UB57:$VY57)>0,$TM57=WW$1),MAX(WV$2:WV56)+1,\"\")","v":""},"",{"$f":"IF(AND(SUM($UB57:$VY57)>0,$TM57=WY$1),MAX(WX$2:WX56)+1,\"\")","v":""},"",null,null,null,"",null,null,null,null,null,null,null,null,null,null,null,null,null,null,null,null,null,null,null,null,null,null,null,null,null,null,null,null,null,null,null,null,null,null,null,null,null,null,null,null,null,null,"Warlock",8,"",{"$f":"IF(YX57=\"\",\"\",MAX($YW$1:YW56)+1)","v":""},"",""]
[null,null,null,null,null,null,null,null,null,null,null,null,null,null,null,null,null,null,null,null,null,null,null,null,null,null,null,null,null,null,null,null,null,null,null,null,null,null,null,null,57,0,null,{"$f":"\"\"","v":""},{"$f":"\"\"","v":""},{"$f":"\"\"","v":""},{"$f":"\"\"","v":""},{"$f":"\"\"","v":""},"Shipwrights and sailmakers",{"$f":"\"\"","v":""},{"$f":"\"\"","v":""},{"$f":"\"\"","v":""},{"$f":"\"\"","v":""},{"$f":"\"\"","v":""},{"$f":"\"\"","v":""},{"$f":"\"\"","v":""},null,null,null,null,null,null,null,null,null,null,null,null,null,null,null,null,null,null,null,null,null,null,null,null,null,null,null,null,null,null,null,null,null,null,null,null,null,null,null,null,null,null,null,null,null,null,null,null,null,null,null,null,null,null,null,null,null,null,null,null,null,null,null,null,null,null,null,null,null,null,null,null,null,null,null,null,null,null,null,null,null,null,null,null,null,null,null,null,null,null,null,null,null,null,null,null,null,null,null,null,null,null,null,null,null,null,null,null,null,null,null,null,null,null,null,null,null,null,null,null,null,null,null,null,null,null,null,null,null,null,null,null,null,null,null,null,null,null,null,null,null,null,null,null,null,null,null,null,null,null,null,null,null,null,null,null,null,null,null,null,null,null,"swanmay","humanoid",null,null,null,null,null,null,null,null,null,null,null,null,null,null,null,null,null,null,null,null,null,{"$f":"IF(IJ58=TRUE,MAX($IH$2:IH57)+1,\"\")","v":""},null,null,null,null,null,null,null,null,null,null,null,null,null,null,null,"Pelor (NG)","god of the sun and healing","Neutral Good","Life, Light","Sun",null,null,null,null,null,null,null,null,null,null,3,2,"-","-","-","-","-","-","-","-",1,null,null,null,null,null,null,null,null,null,null,null,null,null,null,null,null,null,null,null,null,null,null,"none","No","Tools",null,null,null,null,null,null,null,null,null,null,null,null,null,null,null,null,null,null,null,null,null,null,null,null,null,null,null,null,null,null,null,null,null,null,null,null,null,null,null,null,null,null,null,null,null,null,null,null,null,null,null,null,null,null,null,null,null,null,null,null,null,null,null,null,null,null,null,null,null,null,null,null,null,null,null,null,null,null,null,null,null,null,null,null,null,null,null,null,null,null,null,null,null,null,null,null,null,null,null,null,null,null,null,null,null,null,null,null,null,null,null,null,null,null,null,null,null,null,null,null,null,null,null,null,null,null,null,null,"",{"$f":"IF(PU58=\"\",\"\",IF(COUNTIF(PU58:$PU$59,\"><\")>1,PU58&\", \", PU58))","v":""},null,null,null,null,null,"",null,null,{"$f":"\"\"","v":""},null,{"$f":"\"\"","v":""},{"$f":"\"\"","v":""},{"$f":"\"\"","v":""},{"$f":"\"\"","v":""},{"$f":"\"\"","v":""},{"$f":"\"\"","v":""},{"$f":"\"\"","v":""},{"$f":"\"\"","v":""},{"$f":"\"\"","v":""},{"$f":"\"\"","v":""},{"$f":"\"\"","v":""},{"$f":"\"\"","v":""},null,null,null,null,null,null,null,null,null,null,null,null,null,null,null,null,null,null,null,null,null,null,null,null,null,null,null,null,null,null,null,null,null,null,null,null,null,null,null,null,null,null,null,null,null,null,null,null,null,null,null,null,null,null,null,null,null,null,null,null,null,null,null,null,null,null,null,null,null,56,"Commune","LEVEL 5",5,"Commune ",{"$f":"\"\"","v":""},"",{"$f":"IF(OR(TK58=Spellcasting!$AC$18,TK58=Spellcasting!$AC$19),\"ᵐ\",\"\")","v":""},{"$f":"IF(OR(TK58=Spellcasting!$AC$20,TK58=Spellcasting!$AC$21),\"ˢ\",\"\")","v":""},"ritual","1 min ᴿ","self","1 min","VSM","incense and a vial of holy or unholy water","divination","divin","You contact your deity or a divine proxy and ask up to three questions that can be answered with a yes or no. You must ask your questions before the spell ends. You receive a correct answer for each question. \n\nDivine beings aren’t necessarily omniscient, so you might receive “unclear” as an answer if a question pertains to information that lies beyond the deity’s knowledge. In a case where a one-word answer could be misleading or contrary to the deity’s interests, the DM might offer a short phrase as an answer instead. \n\nIf you cast the spell two or more times before finishing your next long rest, there is a cumulative 25 percent chance for each casting after the first that you get no answer. The DM makes this roll in secret. ","3 questions, yes or no answer (or unclear/short answer)",null,null,{"$f":"IF(UE$1>=$TM58,1,\"0\")","v":"0"},null,null,{"$f":"IF(UH$1>=$TM58,1,\"0\")","v":"0"},null,null,null,null,null,null,{"$f":"IF(UO$1>=$TM58,1,\"0\")","v":"0"},null,null,null,null,null,null,null,null,null,null,null,null,null,null,null,null,null,null,null,null,null,null,null,null,null,null,null,null,null,null,null,null,null,null,null,null,null,null,null,null,{"$f":"IF(SUM($VZ$1:$WC$1)>0,IF(AND(SUM($VZ58:$WC58)>0,$TM58=WE$1),MAX(WD$2:WD57)+1,\"\"),IF(AND(SUM($UC58:$VY58)>0,$TM58=WE$1),MAX(WD$2:WD57)+1,\"\"))","v":""},"",{"$f":"IF(AND(SUM($UB58:$VY58)>0,$TM58=WG$1),MAX(WF$2:WF57)+1,\"\")","v":""},"",{"$f":"IF(AND(SUM($UB58:$VY58)>0,$TM58=WI$1),MAX(WH$2:WH57)+1,\"\")","v":""},"",{"$f":"IF(AND(SUM($UB58:$VY58)>0,$TM58=WK$1),MAX(WJ$2:WJ57)+1,\"\")","v":""},"",{"$f":"IF(AND(SUM($UB58:$VY58)>0,$TM58=WM$1),MAX(WL$2:WL57)+1,\"\")","v":""},"",{"$f":"IF(AND(SUM($UB58:$VY58)>0,$TM58=WO$1),MAX(WN$2:WN57)+1,\"\")","v":""},"",{"$f":"IF(AND(SUM($UB58:$VY58)>0,$TM58=WQ$1),MAX(WP$2:WP57)+1,\"\")","v":""},"",{"$f":"IF(AND(SUM($UB58:$VY58)>0,$TM58=WS$1),MAX(WR$2:WR57)+1,\"\")","v":""},"",{"$f":"IF(AND(SUM($UB58:$VY58)>0,$TM58=WU$1),MAX(WT$2:WT57)+1,\"\")","v":""},"",{"$f":"IF(AND(SUM($UB58:$VY58)>0,$TM58=WW$1),MAX(WV$2:WV57)+1,\"\")","v":""},"",{"$f":"IF(AND(SUM($UB58:$VY58)>0,$TM58=WY$1),MAX(WX$2:WX57)+1,\"\")","v":""},"",null,null,null,"",null,null,null,null,null,null,null,null,null,null,null,null,null,null,null,null,null,null,null,null,null,null,null,null,null,null,null,null,null,null,null,null,null,null,null,null,null,null,null,null,null,null,"Warlock",12,"",{"$f":"IF(YX58=\"\",\"\",MAX($YW$1:YW57)+1)","v":""},"",""]
[null,null,null,null,null,null,null,null,null,null,null,null,null,null,null,null,null,null,null,null,null,null,null,null,null,null,null,null,null,null,null,null,null,null,null,null,null,null,null,null,58,0,null,{"$f":"\"\"","v":""},{"$f":"\"\"","v":""},{"$f":"\"\"","v":""},{"$f":"\"\"","v":""},{"$f":"\"\"","v":""},"Smiths and metal-forgers",{"$f":"\"\"","v":""},{"$f":"\"\"","v":""},{"$f":"\"\"","v":""},{"$f":"\"\"","v":""},{"$f":"\"\"","v":""},{"$f":"\"\"","v":""},{"$f":"\"\"","v":""},null,null,null,null,null,null,null,null,null,null,null,null,null,null,null,null,null,null,null,null,null,null,null,null,null,null,null,null,null,null,null,null,null,null,null,null,null,null,null,null,null,null,null,null,null,null,null,null,null,null,null,null,null,null,null,null,null,null,null,null,null,null,null,null,null,null,null,null,null,null,null,null,null,null,null,null,null,null,null,null,null,null,null,null,null,null,null,null,null,null,null,null,null,null,null,null,null,null,null,null,null,null,null,null,null,null,null,null,null,null,null,null,null,null,null,null,null,null,null,null,null,null,null,null,null,null,null,null,null,null,null,null,null,null,null,null,null,null,null,null,null,null,null,null,null,null,null,null,null,null,null,null,null,null,null,null,null,null,null,null,null,null,"tasloi","humanoid",null,null,null,null,null,null,null,null,null,null,null,null,null,null,null,null,null,null,null,null,null,{"$f":"IF(IJ59=TRUE,MAX($IH$2:IH58)+1,\"\")","v":""},null,null,null,null,null,null,null,null,null,null,null,null,null,null,null,"Pholtus (LG)","god of light and law","Lawful Good","Light","Silver sun or full moon partially eclipsed by a smaller crescent moon",null,null,null,null,null,null,null,null,null,null,4,3,"-","-","-","-","-","-","-","-",1,null,null,null,null,null,null,null,null,null,null,null,null,null,null,null,null,null,null,null,null,null,null,null,null,null,null,null,null,null,null,null,null,null,null,null,null,null,null,null,null,null,null,null,null,null,null,null,null,null,null,null,null,null,null,null,null,null,null,null,null,null,null,null,null,null,null,null,null,null,null,null,null,null,null,null,null,null,null,null,null,null,null,null,null,null,null,null,null,null,null,null,null,null,null,null,null,null,null,null,null,null,null,null,null,null,null,null,null,null,null,null,null,null,null,null,null,null,null,null,null,null,null,null,null,null,null,null,null,null,null,null,null,null,null,null,null,null,null,null,null,null,null,null,null,null,null,null,null,null,null,null,null,null,null,null,null,null,null,null,null,"",null,null,{"$f":"\"\"","v":""},null,{"$f":"\"\"","v":""},{"$f":"\"\"","v":""},{"$f":"\"\"","v":""},{"$f":"\"\"","v":""},{"$f":"\"\"","v":""},{"$f":"\"\"","v":""},{"$f":"\"\"","v":""},{"$f":"\"\"","v":""},{"$f":"\"\"","v":""},{"$f":"\"\"","v":""},{"$f":"\"\"","v":""},{"$f":"\"\"","v":""},null,null,null,null,null,null,null,null,null,null,null,null,null,null,null,null,null,null,null,null,null,null,null,null,null,null,null,null,null,null,null,null,null,null,null,null,null,null,null,null,null,null,null,null,null,null,null,null,null,null,null,null,null,null,null,null,null,null,null,null,null,null,null,null,null,null,null,null,null,57,"Commune with Nature","LEVEL 5",5,"Commune with Nature ",{"$f":"\"\"","v":""},"",{"$f":"IF(OR(TK59=Spellcasting!$AC$18,TK59=Spellcasting!$AC$19),\"ᵐ\",\"\")","v":""},{"$f":"IF(OR(TK59=Spellcasting!$AC$20,TK59=Spellcasting!$AC$21),\"ˢ\",\"\")","v":""},"ritual","1 min ᴿ","self","instant","VS",null,"divination","divin","You briefly become one with nature and gain knowledge of the surrounding territory. In the outdoors, the spell gives you knowledge of the land within 3 miles of you. In caves and other natural underground settings, the radius is limited to 300 feet. The spell doesn’t function where nature has been replaced by construction, such as in dungeons and towns. \n\nYou instantly gain knowledge of up to three facts of your choice about any of the following subjects as they relate to the area:\n\n• terrain and bodies of water \n• prevalent plants, minerals, animals, or peoples \n• powerful celestials, fey, fiends, elementals, or undead \n• influence from other planes of existence \n• buildings\n\nFor example, you could determine the location of powerful undead in the area, the location of major sources of safe drinking water, and the location of any nearby towns.","3 facts of the land within 3 miles or 300ft if underground",null,null,null,null,null,null,{"$f":"IF(UI$1>=$TM59,1,\"0\")","v":"0"},null,null,null,null,null,null,{"$f":"IF(UP$1>=$TM59,1,\"0\")","v":"0"},null,null,null,null,null,null,null,null,null,null,null,null,null,null,null,null,{"$f":"IF(VG$1>=$TM59,1,\"0\")","v":"0"},null,null,{"$f":"IF(VJ$1>=$TM59,1,\"0\")","v":"0"},null,null,null,null,null,null,null,null,null,null,null,null,null,null,null,null,null,null,null,{"$f":"IF(SUM($VZ$1:$WC$1)>0,IF(AND(SUM($VZ59:$WC59)>0,$TM59=WE$1),MAX(WD$2:WD58)+1,\"\"),IF(AND(SUM($UC59:$VY59)>0,$TM59=WE$1),MAX(WD$2:WD58)+1,\"\"))","v":""},"",{"$f":"IF(AND(SUM($UB59:$VY59)>0,$TM59=WG$1),MAX(WF$2:WF58)+1,\"\")","v":""},"",{"$f":"IF(AND(SUM($UB59:$VY59)>0,$TM59=WI$1),MAX(WH$2:WH58)+1,\"\")","v":""},"",{"$f":"IF(AND(SUM($UB59:$VY59)>0,$TM59=WK$1),MAX(WJ$2:WJ58)+1,\"\")","v":""},"",{"$f":"IF(AND(SUM($UB59:$VY59)>0,$TM59=WM$1),MAX(WL$2:WL58)+1,\"\")","v":""},"",{"$f":"IF(AND(SUM($UB59:$VY59)>0,$TM59=WO$1),MAX(WN$2:WN58)+1,\"\")","v":""},"",{"$f":"IF(AND(SUM($UB59:$VY59)>0,$TM59=WQ$1),MAX(WP$2:WP58)+1,\"\")","v":""},"",{"$f":"IF(AND(SUM($UB59:$VY59)>0,$TM59=WS$1),MAX(WR$2:WR58)+1,\"\")","v":""},"",{"$f":"IF(AND(SUM($UB59:$VY59)>0,$TM59=WU$1),MAX(WT$2:WT58)+1,\"\")","v":""},"",{"$f":"IF(AND(SUM($UB59:$VY59)>0,$TM59=WW$1),MAX(WV$2:WV58)+1,\"\")","v":""},"",{"$f":"IF(AND(SUM($UB59:$VY59)>0,$TM59=WY$1),MAX(WX$2:WX58)+1,\"\")","v":""},"",null,null,null,"",null,null,null,null,null,null,null,null,null,null,null,null,null,null,null,null,null,null,null,null,null,null,null,null,null,null,null,null,null,null,null,null,null,null,null,null,null,null,null,null,null,null,"Warlock",16,"",{"$f":"IF(YX59=\"\",\"\",MAX($YW$1:YW58)+1)","v":""},"",""]
[null,null,null,null,null,null,null,null,null,null,null,null,null,null,null,null,null,null,null,null,null,null,null,null,null,null,null,null,null,null,null,null,null,null,null,null,null,null,null,null,59,0,null,{"$f":"\"\"","v":""},{"$f":"\"\"","v":""},{"$f":"\"\"","v":""},{"$f":"\"\"","v":""},{"$f":"\"\"","v":""},"Tinkers, pewterers, and casters ",{"$f":"\"\"","v":""},{"$f":"\"\"","v":""},{"$f":"\"\"","v":""},{"$f":"\"\"","v":""},{"$f":"\"\"","v":""},{"$f":"\"\"","v":""},{"$f":"\"\"","v":""},null,null,null,null,null,null,null,null,null,null,null,null,null,null,null,null,null,null,null,null,null,null,null,null,null,null,null,null,null,null,null,null,null,null,null,null,null,null,null,null,null,null,null,null,null,null,null,null,null,null,null,null,null,null,null,null,null,null,null,null,null,null,null,null,null,null,null,null,null,null,null,null,null,null,null,null,null,null,null,null,null,null,null,null,null,null,null,null,null,null,null,null,null,null,null,null,null,null,null,null,null,null,null,null,null,null,null,null,null,null,null,null,null,null,null,null,null,null,null,null,null,null,null,null,null,null,null,null,null,null,null,null,null,null,null,null,null,null,null,null,null,null,null,null,null,null,null,null,null,null,null,null,null,null,null,null,null,null,null,null,null,null,"tiefling","humanoid",null,null,null,null,null,null,null,null,null,null,null,null,null,null,null,null,null,null,null,null,null,{"$f":"IF(IJ60=TRUE,MAX($IH$2:IH59)+1,\"\")","v":""},null,null,null,null,null,null,null,null,null,null,null,null,null,null,null,"Ralishaz (CN)","god of ill luck and insanity","Chaotic Neutral","Trickery","Three bone fate-casting sticks",null,null,null,null,null,null,null,null,null,null,5,3,"-","-","-","-","-","-","-","-",1,null,null,null,null,null,null,null,null,null,null,null,null,null,null,null,null,null,null,null,null,null,null,"Light",{"$f":"IF(COUNTIF(KW60:PT60,\"><\"),\"Yes\",\"No\")","v":"No"},"Armor",null,null,null,null,null,null,null,null,null,null,null,null,{"$f":"IF(LI$1>0,$KT60,\"\")","v":""},null,null,null,null,null,null,null,null,null,null,null,null,null,null,null,null,{"$f":"IF(LZ$1>0,$KT60,\"\")","v":""},{"$f":"IF(MA$1>0,$KT60,\"\")","v":""},{"$f":"IF(MB$1>0,$KT60,\"\")","v":""},null,{"$f":"IF(Class1=MD$5,IF(MD$1>0,$KT60,\"\"),\"\")","v":""},{"$f":"IF(ME$1>0,$KT60,\"\")","v":""},{"$f":"IF(MF$1>0,$KT60,\"\")","v":""},null,{"$f":"IF(MH$1>0,$KT60,\"\")","v":""},{"$f":"IF(MI$1>0,$KT60,\"\")","v":""},null,{"$f":"IF(MK$1>0,$KT60,\"\")","v":""},null,null,null,null,null,null,null,null,null,null,null,null,null,null,null,null,null,null,null,null,null,null,null,null,null,null,null,null,null,null,null,null,null,null,null,null,null,null,null,null,null,null,null,null,null,null,null,null,null,null,null,null,null,null,null,null,null,null,null,{"$f":"IF(OS$1>0,$KT60,\"\")","v":""},null,null,null,null,null,null,null,null,null,null,null,null,null,null,null,null,null,null,null,null,null,null,null,null,null,null,null,{"$f":"IF(COUNTIF(KW60:PT60,\"><\"),KT60,\"\")","v":""},{"$f":"IF(PU60=\"\",\"\",IF(COUNTIF(PU60:$PU$76,\"><\")>1,PU60&\", \", PU60))","v":""},null,null,null,null,null,"",null,null,{"$f":"\"\"","v":""},null,{"$f":"\"\"","v":""},{"$f":"\"\"","v":""},{"$f":"\"\"","v":""},{"$f":"\"\"","v":""},{"$f":"\"\"","v":""},{"$f":"\"\"","v":""},{"$f":"\"\"","v":""},{"$f":"\"\"","v":""},{"$f":"\"\"","v":""},{"$f":"\"\"","v":""},{"$f":"\"\"","v":""},{"$f":"\"\"","v":""},null,null,null,null,null,null,null,null,null,null,null,null,null,null,null,null,null,null,null,null,null,null,null,null,null,null,null,null,null,null,null,null,null,null,null,null,null,null,null,null,null,null,null,null,null,null,null,null,null,null,null,null,null,null,null,null,null,null,null,null,null,null,null,null,null,null,null,null,null,58,"Compelled Duel","LEVEL 1",1,"Compelled Duel ",{"$f":"\"\"","v":""},"",{"$f":"IF(OR(TK60=Spellcasting!$AC$18,TK60=Spellcasting!$AC$19),\"ᵐ\",\"\")","v":""},{"$f":"IF(OR(TK60=Spellcasting!$AC$20,TK60=Spellcasting!$AC$21),\"ˢ\",\"\")","v":""},{"$f":"\"\"","v":""},"1 bon","30 ft","1 min ᶜᵒᶰ","V",null,"enchantment","ench","You attempt to compel a creature into a duel. One creature that you can see within range must make a Wisdom saving throw. On a failed save, the creature is drawn to you, compelled by your divine demand. For the duration, it has disadvantage on attack rolls against creatures other than you, and must make a Wisdom saving throw each time it attempts to move to a space that is more than 30 feet away from you; if it succeeds on this saving throw, this spell doesn’t restrict the target’s movement for that turn. \n\nThe spell ends if you attack any other creature, if you cast a spell that targets a hostile creature other than the target, if a creature friendly to you damages the target or casts a harmful spell on it, or if you end your turn more than 30 feet away from the target.","wis save, fail disadv. attack anyone but you",null,{"$f":"IF(UD$1>=$TM60,1,\"0\")","v":"0"},null,null,null,null,null,null,null,null,null,null,null,null,null,null,null,null,null,null,null,null,null,null,null,null,null,null,null,null,null,null,null,null,null,null,null,null,null,null,null,null,null,null,null,null,null,null,null,null,null,null,null,{"$f":"IF(SUM($VZ$1:$WC$1)>0,IF(AND(SUM($VZ60:$WC60)>0,$TM60=WE$1),MAX(WD$2:WD59)+1,\"\"),IF(AND(SUM($UC60:$VY60)>0,$TM60=WE$1),MAX(WD$2:WD59)+1,\"\"))","v":""},"",{"$f":"IF(AND(SUM($UB60:$VY60)>0,$TM60=WG$1),MAX(WF$2:WF59)+1,\"\")","v":""},"",{"$f":"IF(AND(SUM($UB60:$VY60)>0,$TM60=WI$1),MAX(WH$2:WH59)+1,\"\")","v":""},"",{"$f":"IF(AND(SUM($UB60:$VY60)>0,$TM60=WK$1),MAX(WJ$2:WJ59)+1,\"\")","v":""},"",{"$f":"IF(AND(SUM($UB60:$VY60)>0,$TM60=WM$1),MAX(WL$2:WL59)+1,\"\")","v":""},"",{"$f":"IF(AND(SUM($UB60:$VY60)>0,$TM60=WO$1),MAX(WN$2:WN59)+1,\"\")","v":""},"",{"$f":"IF(AND(SUM($UB60:$VY60)>0,$TM60=WQ$1),MAX(WP$2:WP59)+1,\"\")","v":""},"",{"$f":"IF(AND(SUM($UB60:$VY60)>0,$TM60=WS$1),MAX(WR$2:WR59)+1,\"\")","v":""},"",{"$f":"IF(AND(SUM($UB60:$VY60)>0,$TM60=WU$1),MAX(WT$2:WT59)+1,\"\")","v":""},"",{"$f":"IF(AND(SUM($UB60:$VY60)>0,$TM60=WW$1),MAX(WV$2:WV59)+1,\"\")","v":""},"",{"$f":"IF(AND(SUM($UB60:$VY60)>0,$TM60=WY$1),MAX(WX$2:WX59)+1,\"\")","v":""},"",null,null,null,"",null,null,null,null,null,null,null,null,null,null,null,null,null,null,null,"imp, pseudodragon, quasit, or sprite",null,null,null,null,null,null,null,null,null,null,null,null,null,null,null,null,null,null,null,null,null,null,null,null,null,null,"Warlock",19,"",{"$f":"IF(YX60=\"\",\"\",MAX($YW$1:YW59)+1)","v":""},"",""]
[null,null,null,null,null,null,null,null,null,null,null,null,null,null,null,null,null,null,null,null,null,null,null,null,null,null,null,null,null,null,null,null,null,null,null,null,null,null,null,null,60,0,null,{"$f":"\"\"","v":""},{"$f":"\"\"","v":""},{"$f":"\"\"","v":""},{"$f":"\"\"","v":""},{"$f":"\"\"","v":""},"Wagon-makers and wheelwrights ",{"$f":"\"\"","v":""},{"$f":"\"\"","v":""},{"$f":"\"\"","v":""},{"$f":"\"\"","v":""},{"$f":"\"\"","v":""},{"$f":"\"\"","v":""},{"$f":"\"\"","v":""},null,null,null,null,null,null,null,null,null,null,null,null,null,null,null,null,null,null,null,null,null,null,null,null,null,null,null,null,null,null,null,null,null,null,null,null,null,null,null,null,null,null,null,null,null,null,null,null,null,null,null,null,null,null,null,null,null,null,null,null,null,null,null,null,null,null,null,null,null,null,null,null,null,null,null,null,null,null,null,null,null,null,null,null,null,null,null,null,null,null,null,null,null,null,null,null,null,null,null,null,null,null,null,null,null,null,null,null,null,null,null,null,null,null,null,null,null,null,null,null,null,null,null,null,null,null,null,null,null,null,null,null,null,null,null,null,null,null,null,null,null,null,null,null,null,null,null,null,null,null,null,null,null,null,null,null,null,null,null,null,null,null,"troglodyte","humanoid",null,null,null,null,null,null,null,null,null,null,null,null,null,null,null,null,null,null,null,null,null,{"$f":"IF(IJ61=TRUE,MAX($IH$2:IH60)+1,\"\")","v":""},null,null,null,null,null,null,null,null,null,null,null,null,null,null,null,"Rao (LG)","god of peace and reason","Lawful Good","Knowledge","White heart",null,null,null,null,null,null,null,null,null,null,6,3,"-","-","-","-","-","-","-","-",1,null,null,null,null,null,null,null,null,null,null,null,null,null,null,null,null,null,null,null,null,null,null,"Medium","No","Armor",null,null,null,null,null,null,null,null,null,null,null,null,{"$f":"IF(LI$1>0,$KT61,\"\")","v":""},null,null,null,null,null,null,null,null,null,null,null,null,null,null,null,null,{"$f":"IF(LZ$1>0,$KT61,\"\")","v":""},{"$f":"IF(MA$1>0,$KT61,\"\")","v":""},null,null,{"$f":"IF(Class1=MD$5,IF(MD$1>0,$KT61,\"\"),\"\")","v":""},null,{"$f":"IF(MF$1>0,$KT61,\"\")","v":""},null,{"$f":"IF(MH$1>0,$KT61,\"\")","v":""},{"$f":"IF(MI$1>0,$KT61,\"\")","v":""},null,null,null,null,null,null,null,null,null,null,null,null,null,null,null,null,null,null,null,null,null,null,null,null,null,null,null,{"$f":"IF(NK$1>2,$KT61,\"\")","v":""},null,null,null,null,null,null,null,null,null,null,null,null,null,null,null,null,null,null,null,null,null,null,null,null,null,null,null,null,null,null,null,null,null,null,null,null,null,null,null,null,null,{"$f":"IF(PA$1>0,$KT61,\"\")","v":""},null,null,null,null,null,null,null,null,null,null,null,null,null,null,null,null,null,null,null,{"$f":"IF(COUNTIF(KW61:PT61,\"><\"),KT61,\"\")","v":""},{"$f":"IF(PU61=\"\",\"\",IF(COUNTIF(PU61:$PU$76,\"><\")>1,PU61&\", \", PU61))","v":""},null,null,null,null,null,"",null,null,{"$f":"\"\"","v":""},null,{"$f":"\"\"","v":""},{"$f":"\"\"","v":""},{"$f":"\"\"","v":""},{"$f":"\"\"","v":""},{"$f":"\"\"","v":""},{"$f":"\"\"","v":""},{"$f":"\"\"","v":""},{"$f":"\"\"","v":""},{"$f":"\"\"","v":""},{"$f":"\"\"","v":""},{"$f":"\"\"","v":""},{"$f":"\"\"","v":""},null,null,null,null,null,null,null,null,null,null,null,null,null,null,null,null,null,null,null,null,null,null,null,null,null,null,null,null,null,null,null,null,null,null,null,null,null,null,null,null,null,null,null,null,null,null,null,null,null,null,null,null,null,null,null,null,null,null,null,null,null,null,null,null,null,null,null,null,null,59,"Comprehend Languages","LEVEL 1",1,"Comprehend Languages ",{"$f":"\"\"","v":""},"",{"$f":"IF(OR(TK61=Spellcasting!$AC$18,TK61=Spellcasting!$AC$19),\"ᵐ\",\"\")","v":""},{"$f":"IF(OR(TK61=Spellcasting!$AC$20,TK61=Spellcasting!$AC$21),\"ˢ\",\"\")","v":""},"ritual","1 act ᴿ","self","1 hr","VSM","a pinch of soot and salt","divination","divin","For the duration, you understand the literal meaning of any spoken language that you hear. You also understand any written language that you see, but you must be touching the surface on which the words are written. It takes about 1 minute to read one page of text. \n\nThis spell doesn’t decode secret messages in a text or a glyph, such as an arcane sigil, that isn’t part of a written language.","understand any language",{"$f":"IF(UC$1>=$TM61,1,\"0\")","v":"0"},null,null,{"$f":"IF(UF$1>=$TM61,1,\"0\")","v":"0"},{"$f":"IF(UG$1>=$TM61,1,\"0\")","v":"0"},null,null,null,null,{"$f":"IF(UL$1>=$TM61,1,\"0\")","v":"0"},null,null,null,null,null,null,null,null,null,null,null,null,null,null,null,null,null,null,null,null,null,null,null,null,null,null,null,null,null,null,null,null,null,null,null,null,null,null,null,null,null,null,null,{"$f":"IF(SUM($VZ$1:$WC$1)>0,IF(AND(SUM($VZ61:$WC61)>0,$TM61=WE$1),MAX(WD$2:WD60)+1,\"\"),IF(AND(SUM($UC61:$VY61)>0,$TM61=WE$1),MAX(WD$2:WD60)+1,\"\"))","v":""},"",{"$f":"IF(AND(SUM($UB61:$VY61)>0,$TM61=WG$1),MAX(WF$2:WF60)+1,\"\")","v":""},"",{"$f":"IF(AND(SUM($UB61:$VY61)>0,$TM61=WI$1),MAX(WH$2:WH60)+1,\"\")","v":""},"",{"$f":"IF(AND(SUM($UB61:$VY61)>0,$TM61=WK$1),MAX(WJ$2:WJ60)+1,\"\")","v":""},"",{"$f":"IF(AND(SUM($UB61:$VY61)>0,$TM61=WM$1),MAX(WL$2:WL60)+1,\"\")","v":""},"",{"$f":"IF(AND(SUM($UB61:$VY61)>0,$TM61=WO$1),MAX(WN$2:WN60)+1,\"\")","v":""},"",{"$f":"IF(AND(SUM($UB61:$VY61)>0,$TM61=WQ$1),MAX(WP$2:WP60)+1,\"\")","v":""},"",{"$f":"IF(AND(SUM($UB61:$VY61)>0,$TM61=WS$1),MAX(WR$2:WR60)+1,\"\")","v":""},"",{"$f":"IF(AND(SUM($UB61:$VY61)>0,$TM61=WU$1),MAX(WT$2:WT60)+1,\"\")","v":""},"",{"$f":"IF(AND(SUM($UB61:$VY61)>0,$TM61=WW$1),MAX(WV$2:WV60)+1,\"\")","v":""},"",{"$f":"IF(AND(SUM($UB61:$VY61)>0,$TM61=WY$1),MAX(WX$2:WX60)+1,\"\")","v":""},"",null,null,null,"",null,null,null,null,null,null,null,null,null,null,null,null,null,null,null,null,null,null,null,null,null,null,null,null,null,null,null,null,null,null,null,null,null,null,null,null,null,null,null,null,null,null,"Wizard",4,{"$f":"VLOOKUP(YY61,$ZO$2:$ZP$23,$ZO$1,FALSE)","v":""},{"$f":"IF(YX61=\"\",\"\",MAX($YW$1:YW60)+1)","v":""},"",""]
[null,null,null,null,null,null,null,null,null,null,null,null,null,null,null,null,null,null,null,null,null,null,null,null,null,null,null,null,null,null,null,null,null,null,null,null,null,null,null,null,61,0,null,{"$f":"\"\"","v":""},{"$f":"\"\"","v":""},{"$f":"\"\"","v":""},{"$f":"\"\"","v":""},{"$f":"\"\"","v":""},"Weavers and dyers",{"$f":"\"\"","v":""},{"$f":"\"\"","v":""},{"$f":"\"\"","v":""},{"$f":"\"\"","v":""},{"$f":"\"\"","v":""},{"$f":"\"\"","v":""},{"$f":"\"\"","v":""},null,null,null,null,null,null,null,null,null,null,null,null,null,null,null,null,null,null,null,null,null,null,null,null,null,null,null,null,null,null,null,null,null,null,null,null,null,null,null,null,null,null,null,null,null,null,null,null,null,null,null,null,null,null,null,null,null,null,null,null,null,null,null,null,null,null,null,null,null,null,null,null,null,null,null,null,null,null,null,null,null,null,null,null,null,null,null,null,null,null,null,null,null,null,null,null,null,null,null,null,null,null,null,null,null,null,null,null,null,null,null,null,null,null,null,null,null,null,null,null,null,null,null,null,null,null,null,null,null,null,null,null,null,null,null,null,null,null,null,null,null,null,null,null,null,null,null,null,null,null,null,null,null,null,null,null,null,null,null,null,null,null,null,null,null,null,null,null,null,null,null,null,null,null,null,null,null,null,null,null,null,null,null,null,null,null,null,null,null,null,null,null,null,null,null,null,null,null,null,null,null,"St. Cuthbert (LN)","god of common sense and zeal","Lawful Neutral","Knowledge","Circle at the center of a starburst of lines",null,null,null,null,null,null,null,null,null,null,7,4,2,"-","-","-","-","-","-","-",2,null,null,null,null,null,null,null,null,null,null,null,null,null,null,null,null,null,null,null,null,null,null,"Heavy","No","Armor",null,null,null,null,null,null,null,null,null,null,null,null,null,null,null,null,null,null,null,null,null,null,null,null,null,null,null,null,null,null,{"$f":"IF(Class1=MA$5,IF(MA$1>0,$KT62,\"\"),\"\")","v":""},null,null,null,null,null,null,{"$f":"IF(Class1=MH$5,IF(MH$1>0,$KT62,\"\"),\"\")","v":""},null,null,null,null,null,{"$f":"IF(MN$1>0,$KT62,\"\")","v":""},null,{"$f":"IF(MP$1>0,$KT62,\"\")","v":""},{"$f":"IF(MQ$1>0,$KT62,\"\")","v":""},null,{"$f":"IF(MS$1>0,$KT62,\"\")","v":""},null,null,null,null,null,null,null,null,null,null,null,null,null,null,null,null,null,null,null,null,null,null,null,null,null,null,null,null,null,null,null,null,null,null,null,null,null,null,null,null,null,null,null,null,null,null,null,{"$f":"IF(OO$1>0,$KT62,\"\")","v":""},null,null,null,null,null,null,null,null,null,null,null,null,null,null,null,null,null,null,null,null,null,null,null,null,null,null,null,null,null,null,null,{"$f":"IF(COUNTIF(KW62:PT62,\"><\"),KT62,\"\")","v":""},{"$f":"IF(PU62=\"\",\"\",IF(COUNTIF(PU62:$PU$76,\"><\")>1,PU62&\", \", PU62))","v":""},null,null,null,null,null,"",null,null,{"$f":"\"\"","v":""},null,{"$f":"\"\"","v":""},{"$f":"\"\"","v":""},{"$f":"\"\"","v":""},{"$f":"\"\"","v":""},{"$f":"\"\"","v":""},{"$f":"\"\"","v":""},{"$f":"\"\"","v":""},{"$f":"\"\"","v":""},{"$f":"\"\"","v":""},{"$f":"\"\"","v":""},{"$f":"\"\"","v":""},{"$f":"\"\"","v":""},null,null,null,null,null,null,null,null,null,null,null,null,null,null,null,null,null,null,null,null,null,null,null,null,null,null,null,null,null,null,null,null,null,null,null,null,null,null,null,null,null,null,null,null,null,null,null,null,null,null,null,null,null,null,null,null,null,null,null,null,null,null,null,null,null,null,null,null,null,60,"Compulsion","LEVEL 4",4,"Compulsion ",{"$f":"\"\"","v":""},"",{"$f":"IF(OR(TK62=Spellcasting!$AC$18,TK62=Spellcasting!$AC$19),\"ᵐ\",\"\")","v":""},{"$f":"IF(OR(TK62=Spellcasting!$AC$20,TK62=Spellcasting!$AC$21),\"ˢ\",\"\")","v":""},{"$f":"\"\"","v":""},"1 act","30 ft","1 min ᶜᵒᶰ","VS",null,"enchantment","ench","Creatures of your choice that you can see within range and that can hear you must make a W isdom saving throw. A target automatically succeeds on this saving throw if it can’t be charmed. On a failed save, a target is affected by this spell. Until the spell ends, you can use a bonus action on each of your turns to designate a direction that is horizontal to you. Each affected target must use as much of its movement as possible to move in that direction on its next turn. It can take its action before it moves. After moving in this way, it can make another Wisdom saving to try to end the effect. \n\nA target isn’t compelled to move into an obviously deadly hazard, such as a fire or pit, but it will provoke opportunity attacks to move in the designated direction.","wis save,  bonus action to direct to a position horizontal to you",{"$f":"IF(UC$1>=$TM62,1,\"0\")","v":"0"},null,null,null,null,null,null,null,null,null,null,null,null,null,null,null,null,null,null,null,null,null,null,null,null,null,null,null,null,null,null,null,null,null,null,null,null,null,null,null,null,null,null,null,null,null,null,null,null,null,null,null,null,{"$f":"IF(SUM($VZ$1:$WC$1)>0,IF(AND(SUM($VZ62:$WC62)>0,$TM62=WE$1),MAX(WD$2:WD61)+1,\"\"),IF(AND(SUM($UC62:$VY62)>0,$TM62=WE$1),MAX(WD$2:WD61)+1,\"\"))","v":""},"",{"$f":"IF(AND(SUM($UB62:$VY62)>0,$TM62=WG$1),MAX(WF$2:WF61)+1,\"\")","v":""},"",{"$f":"IF(AND(SUM($UB62:$VY62)>0,$TM62=WI$1),MAX(WH$2:WH61)+1,\"\")","v":""},"",{"$f":"IF(AND(SUM($UB62:$VY62)>0,$TM62=WK$1),MAX(WJ$2:WJ61)+1,\"\")","v":""},"",{"$f":"IF(AND(SUM($UB62:$VY62)>0,$TM62=WM$1),MAX(WL$2:WL61)+1,\"\")","v":""},"",{"$f":"IF(AND(SUM($UB62:$VY62)>0,$TM62=WO$1),MAX(WN$2:WN61)+1,\"\")","v":""},"",{"$f":"IF(AND(SUM($UB62:$VY62)>0,$TM62=WQ$1),MAX(WP$2:WP61)+1,\"\")","v":""},"",{"$f":"IF(AND(SUM($UB62:$VY62)>0,$TM62=WS$1),MAX(WR$2:WR61)+1,\"\")","v":""},"",{"$f":"IF(AND(SUM($UB62:$VY62)>0,$TM62=WU$1),MAX(WT$2:WT61)+1,\"\")","v":""},"",{"$f":"IF(AND(SUM($UB62:$VY62)>0,$TM62=WW$1),MAX(WV$2:WV61)+1,\"\")","v":""},"",{"$f":"IF(AND(SUM($UB62:$VY62)>0,$TM62=WY$1),MAX(WX$2:WX61)+1,\"\")","v":""},"",null,null,null,"",null,null,null,null,null,null,null,null,null,null,null,null,null,null,null,null,null,null,null,null,null,null,null,null,null,null,null,null,null,null,null,null,null,null,null,null,null,null,null,null,null,null,"Wizard",8,{"$f":"VLOOKUP(YY62,$ZO$2:$ZP$23,$ZO$1,FALSE)","v":""},{"$f":"IF(YX62=\"\",\"\",MAX($YW$1:YW61)+1)","v":""},"",""]
[null,null,null,null,null,null,null,null,null,null,null,null,null,null,null,null,null,null,null,null,null,null,null,null,null,null,null,null,null,null,null,null,null,null,null,null,null,null,null,null,63,{"$f":"\"\"","v":""},null,null,null,null,null,null,null,{"$f":"\"\"","v":""},{"$f":"\"\"","v":""},{"$f":"\"\"","v":""},null,null,null,null,null,null,null,null,null,null,null,null,null,null,null,null,null,null,null,null,null,null,null,null,null,null,null,null,null,null,null,null,null,null,null,null,null,null,null,null,null,null,null,null,null,null,null,null,null,null,null,null,null,null,null,null,null,null,null,null,null,null,null,null,null,null,null,null,null,null,null,null,null,null,null,null,null,null,null,null,null,null,null,null,null,null,null,null,null,null,null,null,null,null,null,null,null,null,null,null,null,null,null,null,null,null,null,null,null,null,null,null,null,null,null,null,null,null,null,null,null,null,null,null,null,null,null,null,null,null,null,null,null,null,null,null,null,null,null,null,null,null,null,null,null,null,null,null,null,null,null,null,null,null,null,null,null,null,null,null,null,null,null,null,null,null,null,null,null,null,null,null,null,null,null,null,null,null,null,null,null,null,null,null,null,null,null,null,null,null,null,null,null,null,null,null,null,null,null,null,null,null,null,null,null,"Trithereon (CG)","god of liberty and retribution","Chaotic Good","War","Triskelion",null,null,null,null,null,null,null,null,null,null,9,4,2,"-","-","-","-","-","-","-",2,null,null,null,null,null,null,null,null,null,null,null,null,null,null,null,null,null,null,null,null,null,null,"Wooden shields","No","Shields",null,null,null,null,null,null,null,null,null,null,null,null,null,null,null,null,null,null,null,null,null,null,null,null,null,null,null,null,null,{"$f":"IF(LZ$1>0,$KT64,\"\")","v":""},{"$f":"IF(MA$1>0,$KT64,\"\")","v":""},null,null,{"$f":"IF(MD$1>0,$KT64,\"\")","v":""},null,{"$f":"IF(MF$1>0,$KT64,\"\")","v":""},null,"","",null,null,null,null,null,null,null,null,null,null,null,null,null,null,null,null,null,null,null,null,null,null,null,null,null,null,null,{"$f":"IF(NK$1>2,$KT64,\"\")","v":""},null,null,null,null,null,null,null,null,null,null,null,null,null,null,null,null,null,null,null,null,null,null,null,null,null,null,null,null,null,null,null,null,null,null,null,null,null,null,null,null,null,{"$f":"IF(PA$1>0,$KT64,\"\")","v":""},null,null,null,null,null,null,null,null,null,null,null,null,null,null,null,null,null,null,null,{"$f":"IF($PU$63=\"\",IF(COUNTIF(KW64:PT64,\"><\"),KT64,\"\"),\"\")","v":""},{"$f":"IF(PU64=\"\",\"\",IF(COUNTIF(PU64:$PU$76,\"><\")>1,PU64&\", \", PU64))","v":""},null,null,null,null,null,"",null,null,{"$f":"\"\"","v":""},null,{"$f":"\"\"","v":""},{"$f":"\"\"","v":""},{"$f":"\"\"","v":""},{"$f":"\"\"","v":""},{"$f":"\"\"","v":""},{"$f":"\"\"","v":""},{"$f":"\"\"","v":""},{"$f":"\"\"","v":""},{"$f":"\"\"","v":""},{"$f":"\"\"","v":""},{"$f":"\"\"","v":""},{"$f":"\"\"","v":""},null,null,null,null,null,null,null,null,null,null,null,null,null,null,null,null,null,null,null,null,null,null,null,null,null,null,null,null,null,null,null,null,null,null,null,null,null,null,null,null,null,null,null,null,null,null,null,null,null,null,null,null,null,null,null,null,null,null,null,null,null,null,null,null,null,null,null,null,null,62,"Confusion","LEVEL 4",4,"Confusion ᴴ ","ᴴ ","",{"$f":"IF(OR(TK64=Spellcasting!$AC$18,TK64=Spellcasting!$AC$19),\"ᵐ\",\"\")","v":""},{"$f":"IF(OR(TK64=Spellcasting!$AC$20,TK64=Spellcasting!$AC$21),\"ˢ\",\"\")","v":""},{"$f":"\"\"","v":""},"1 act","90 ft","1 min ᶜᵒᶰ","VSM","three nut shells","enchantment","ench","This spell assaults and twists creatures' minds, spawning delusions and provoking uncontrolled action. Each creature in a 10-foot-radius sphere centered on a point you choose within range must succeed on a Wisdom saving throw when you cast this spell or be affected by it. \n\nAn affected target can’t take reactions and must roll a d10 at the start of each of its turns to determine its behavior for that turn.\n\nd10       Behavior\n1            The creature uses all its movement to move in a random direction. \n              To determine the direction, roll a d8 and assign a direction to each die face. \n              The creature doesn’t take an action this turn. \n2-6        The creature doesn’t move or take actions this turn. \n7-8        The creature uses its action to make a melee attack against a randomly \n              determined creature within its reach. If there is no creature within its\n              reach, the creature does nothing this turn. \n9-10     The creature can act and move normally.\n\nAt the end of each of its turns, an affected target can make a Wisdom saving throw. If it succeeds, this effect ends for that target. \n\nAt Higher Levels. When you cast this spell using a spell slot of 5th level or higher, the radius of the sphere increases by 5 feet for each slot level above 4th.","10ft rad sphere, roll d10 for action, wis save",{"$f":"IF(UC$1>=$TM64,1,\"0\")","v":"0"},null,null,{"$f":"IF(UF$1>=$TM64,1,\"0\")","v":"0"},null,null,{"$f":"IF(UI$1>=$TM64,1,\"0\")","v":"0"},null,null,{"$f":"IF(UL$1>=$TM64,1,\"0\")","v":"0"},null,null,null,null,null,null,null,null,null,null,null,null,{"$f":"IF(UY$1>=$TM64,1,\"0\")","v":"0"},null,null,null,null,null,null,null,null,null,null,null,null,null,null,null,null,null,{"$f":"IF(VQ$1>=$TM64,1,\"0\")","v":"0"},null,null,null,null,null,null,null,null,null,null,null,null,{"$f":"IF(SUM($VZ$1:$WC$1)>0,IF(AND(SUM($VZ64:$WC64)>0,$TM64=WE$1),MAX(WD$2:WD63)+1,\"\"),IF(AND(SUM($UC64:$VY64)>0,$TM64=WE$1),MAX(WD$2:WD63)+1,\"\"))","v":""},"",{"$f":"IF(AND(SUM($UB64:$VY64)>0,$TM64=WG$1),MAX(WF$2:WF63)+1,\"\")","v":""},"",{"$f":"IF(AND(SUM($UB64:$VY64)>0,$TM64=WI$1),MAX(WH$2:WH63)+1,\"\")","v":""},"",{"$f":"IF(AND(SUM($UB64:$VY64)>0,$TM64=WK$1),MAX(WJ$2:WJ63)+1,\"\")","v":""},"",{"$f":"IF(AND(SUM($UB64:$VY64)>0,$TM64=WM$1),MAX(WL$2:WL63)+1,\"\")","v":""},"",{"$f":"IF(AND(SUM($UB64:$VY64)>0,$TM64=WO$1),MAX(WN$2:WN63)+1,\"\")","v":""},"",{"$f":"IF(AND(SUM($UB64:$VY64)>0,$TM64=WQ$1),MAX(WP$2:WP63)+1,\"\")","v":""},"",{"$f":"IF(AND(SUM($UB64:$VY64)>0,$TM64=WS$1),MAX(WR$2:WR63)+1,\"\")","v":""},"",{"$f":"IF(AND(SUM($UB64:$VY64)>0,$TM64=WU$1),MAX(WT$2:WT63)+1,\"\")","v":""},"",{"$f":"IF(AND(SUM($UB64:$VY64)>0,$TM64=WW$1),MAX(WV$2:WV63)+1,\"\")","v":""},"",{"$f":"IF(AND(SUM($UB64:$VY64)>0,$TM64=WY$1),MAX(WX$2:WX63)+1,\"\")","v":""},"",null,null,null,"",null,null,null,null,null,null,null,null,null,null,null,null,null,null,null,null,null,null,null,null,null,null,null,null,null,null,null,null,null,null,null,null,null,null,null,null,null,null,null,null,null,null,"Wizard",16,{"$f":"VLOOKUP(YY64,$ZO$2:$ZP$23,$ZO$1,FALSE)","v":""},{"$f":"IF(YX64=\"\",\"\",MAX($YW$1:YW63)+1)","v":""},"",""]
[null,null,null,null,null,null,null,null,null,null,null,null,null,null,null,null,null,null,null,null,null,null,null,null,null,null,null,null,null,null,null,null,null,null,null,null,null,null,null,null,null,null,null,null,null,null,null,null,null,null,null,null,null,null,null,null,null,null,null,null,null,null,null,null,null,null,null,null,null,null,null,null,null,null,null,null,null,null,null,null,null,null,null,null,null,null,null,null,null,null,null,null,null,null,null,null,null,null,null,null,null,null,null,null,null,null,null,null,null,null,null,null,null,null,null,null,null,null,null,null,null,null,null,null,null,null,null,null,null,null,null,null,null,null,null,null,null,null,null,null,null,null,null,null,null,null,null,null,null,null,null,null,null,null,null,null,null,null,null,null,null,null,null,null,null,null,null,null,null,null,null,null,null,null,null,null,null,null,null,null,null,null,null,null,null,null,null,null,null,null,null,null,null,null,null,null,null,null,null,null,null,null,null,null,null,null,null,null,null,null,null,null,null,null,null,null,null,null,null,null,null,null,null,null,null,null,null,null,null,null,null,null,null,null,null,null,null,null,null,null,null,null,null,null,null,null,null,null,null,null,null,null,null,null,null,null,null,"--------------------DRAGONLANCE--------------------",null,null,null,null,null,null,null,null,null,null,null,null,null,null,13,4,3,2,"-","-","-","-","-","-",3,null,null,null,null,null,null,null,null,null,null,null,null,null,null,null,null,null,null,null,null,null,null,"Hide armor","No","Medium",null,null,null,null,null,null,null,null,null,null,null,null,"",null,null,null,null,null,null,null,null,null,null,null,null,null,null,null,null,"",{"$f":"IF(MA$1>0,$KT68,\"\")","v":""},null,null,"",null,"",null,"","",null,null,null,null,null,null,null,null,null,null,null,null,null,null,null,null,null,null,null,null,null,null,null,null,null,null,null,"",null,null,null,null,null,null,null,null,null,null,null,null,null,null,null,null,null,null,null,null,null,null,null,null,null,null,null,null,null,null,null,null,null,null,null,null,null,null,null,null,null,{"$f":"IF(PA$1>0,$KT68,\"\")","v":""},null,null,null,null,null,null,null,null,null,null,null,null,null,null,null,null,null,null,null,{"$f":"IF($PU$60=\"\",IF(COUNTIF(KW68:PT68,\"><\"),KT68,\"\"),\"\")","v":""},{"$f":"IF(PU68=\"\",\"\",IF(COUNTIF(PU68:$PU$76,\"><\")>1,PU68&\", \", PU68))","v":""},null,null,null,null,null,"",null,null,{"$f":"\"\"","v":""},null,{"$f":"\"\"","v":""},{"$f":"\"\"","v":""},{"$f":"\"\"","v":""},{"$f":"\"\"","v":""},{"$f":"\"\"","v":""},{"$f":"\"\"","v":""},{"$f":"\"\"","v":""},{"$f":"\"\"","v":""},{"$f":"\"\"","v":""},{"$f":"\"\"","v":""},{"$f":"\"\"","v":""},{"$f":"\"\"","v":""},null,null,null,null,null,null,null,null,null,null,null,null,null,null,null,null,null,null,null,null,null,null,null,null,null,null,null,null,null,null,null,null,null,null,null,null,null,null,null,null,null,null,null,null,null,null,null,null,null,null,null,null,null,null,null,null,null,null,null,null,null,null,null,null,null,null,null,null,null,66,"Conjure Elemental","LEVEL 5",5,"Conjure Elemental ᴴ ","ᴴ ","",{"$f":"IF(OR(TK68=Spellcasting!$AC$18,TK68=Spellcasting!$AC$19),\"ᵐ\",\"\")","v":""},{"$f":"IF(OR(TK68=Spellcasting!$AC$20,TK68=Spellcasting!$AC$21),\"ˢ\",\"\")","v":""},{"$f":"\"\"","v":""},"1 min","90 ft","1 hr ᶜᵒᶰ","VSM","burning incense for air, soft clay for earth, sulfur and phosphorus for fire, or water and sand for water","conjuration","conjur","You call forth an elemental servant. Choose an area of air, earth, fire, or water that fills a 10-foot cube within range. An elemental of challenge rating 5 or lower appropriate to the area you chose appears in an unoccupied space within 10 feet of it. For example, a fire elemental emerges from a bonfire, and an earth elemental rises up from the ground. The elemental disappears when it drops to 0 hit points or when the spell ends. \n\nThe elemental is friendly to you and your companions for the duration. Roll initiative for the elemental, which has its own turns. It obeys any verbal commands that you issue to it (no action required by you). If you don’t issue any commands to the elemental, it defends itself from hostile creatures but otherwise takes no actions. \n\nIf your concentration is broken, the elemental doesn’t disappear. Instead, you lose control of the elemental, it becomes hostile toward you and your companions, and it might attack. An uncontrolled elemental can’t be dismissed by you, and it disappears 1 hour after you summoned it. \n\nThe DM has the elemental’s statistics. \n\nAt Higher Levels. When you cast this spell using a spell slot of 6th level or higher, the challenge rating increases by 1 for each slot level above 5th.","summon elemental CR5 or lower 10ft cube earth, air, fire, water ",null,null,null,null,null,null,{"$f":"IF(UI$1>=$TM68,1,\"0\")","v":"0"},null,null,{"$f":"IF(UL$1>=$TM68,1,\"0\")","v":"0"},null,null,null,null,null,null,null,null,null,null,null,null,null,null,null,null,null,null,null,null,null,{"$f":"IF(VH$1>=$TM68,1,\"0\")","v":"0"},null,null,null,null,null,null,null,null,null,null,null,null,null,null,null,null,null,null,null,null,null,{"$f":"IF(SUM($VZ$1:$WC$1)>0,IF(AND(SUM($VZ68:$WC68)>0,$TM68=WE$1),MAX(WD$2:WD67)+1,\"\"),IF(AND(SUM($UC68:$VY68)>0,$TM68=WE$1),MAX(WD$2:WD67)+1,\"\"))","v":""},{"$f":"IF(AND(WD68<>\"\",$TM68=WE$1),$TK68,\"\")","v":""},{"$f":"IF(AND(SUM($UB68:$VY68)>0,$TM68=WG$1),MAX(WF$2:WF67)+1,\"\")","v":""},{"$f":"IF(AND(WF68<>\"\",$TM68=WG$1),$TK68,\"\")","v":""},{"$f":"IF(AND(SUM($UB68:$VY68)>0,$TM68=WI$1),MAX(WH$2:WH67)+1,\"\")","v":""},{"$f":"IF(AND(WH68<>\"\",$TM68=WI$1),$TK68,\"\")","v":""},{"$f":"IF(AND(SUM($UB68:$VY68)>0,$TM68=WK$1),MAX(WJ$2:WJ67)+1,\"\")","v":""},{"$f":"IF(AND(WJ68<>\"\",$TM68=WK$1),$TK68,\"\")","v":""},{"$f":"IF(AND(SUM($UB68:$VY68)>0,$TM68=WM$1),MAX(WL$2:WL67)+1,\"\")","v":""},{"$f":"IF(AND(WL68<>\"\",$TM68=WM$1),$TK68,\"\")","v":""},{"$f":"IF(AND(SUM($UB68:$VY68)>0,$TM68=WO$1),MAX(WN$2:WN67)+1,\"\")","v":""},{"$f":"IF(AND(WN68<>\"\",$TM68=WO$1),$TK68,\"\")","v":""},{"$f":"IF(AND(SUM($UB68:$VY68)>0,$TM68=WQ$1),MAX(WP$2:WP67)+1,\"\")","v":""},{"$f":"IF(AND(WP68<>\"\",$TM68=WQ$1),$TK68,\"\")","v":""},{"$f":"IF(AND(SUM($UB68:$VY68)>0,$TM68=WS$1),MAX(WR$2:WR67)+1,\"\")","v":""},{"$f":"IF(AND(WR68<>\"\",$TM68=WS$1),$TK68,\"\")","v":""},{"$f":"IF(AND(SUM($UB68:$VY68)>0,$TM68=WU$1),MAX(WT$2:WT67)+1,\"\")","v":""},{"$f":"IF(AND(WT68<>\"\",$TM68=WU$1),$TK68,\"\")","v":""},{"$f":"IF(AND(SUM($UB68:$VY68)>0,$TM68=WW$1),MAX(WV$2:WV67)+1,\"\")","v":""},{"$f":"IF(AND(WV68<>\"\",$TM68=WW$1),$TK68,\"\")","v":""},{"$f":"IF(AND(SUM($UB68:$VY68)>0,$TM68=WY$1),MAX(WX$2:WX67)+1,\"\")","v":""},{"$f":"IF(AND(WX68<>\"\",$TM68=WY$1),$TK68,\"\")","v":""},null,null,null,""]
[null,null,null,null,null,null,null,null,null,null,null,null,null,null,null,null,null,null,null,null,null,null,null,null,null,null,null,null,null,null,null,null,null,null,null,null,null,null,null,null,null,null,null,null,null,null,null,null,null,null,null,null,null,null,null,null,null,null,null,null,null,null,null,null,null,null,null,null,null,null,null,null,null,null,null,null,null,null,null,null,null,null,null,null,null,null,null,null,null,null,null,null,null,null,null,null,null,null,null,null,null,null,null,null,null,null,null,null,null,null,null,null,null,null,null,null,null,null,null,null,null,null,null,null,null,null,null,null,null,null,null,null,null,null,null,null,null,null,null,null,null,null,null,null,null,null,null,null,null,null,null,null,null,null,null,null,null,null,null,null,null,null,null,null,null,null,null,null,null,null,null,null,null,null,null,null,null,null,null,null,null,null,null,null,null,null,null,null,null,null,null,null,null,null,null,null,null,null,null,null,null,null,null,null,null,null,null,null,null,null,null,null,null,null,null,null,null,null,null,null,null,null,null,null,null,null,null,null,null,null,null,null,null,null,null,null,null,null,null,null,null,null,null,null,null,null,null,null,null,null,null,null,null,null,null,null,null,"Paladine (LG)","god of rulers and guardians","Lawful Good","War","Silver triangle",null,null,null,null,null,null,null,null,null,null,20,4,3,3,1,"-","-","-","-","-",4,null,null,null,null,null,null,null,null,null,null,null,null,null,null,null,null,null,null,null,null,null,null,"Splint mail","No","Heavy",null,null,null,null,null,null,null,null,null,null,null,null,null,null,null,null,null,null,null,null,null,null,null,null,null,null,null,null,null,null,{"$f":"IF(Class1=MA$5,IF(MA$1>0,$KT75,\"\"),\"\")","v":""},null,null,null,null,null,null,{"$f":"IF(Class1=MH$5,IF(MH$1>0,$KT75,\"\"),\"\")","v":""},null,null,null,null,null,{"$f":"IF(MN$1>0,$KT75,\"\")","v":""},null,"","",null,{"$f":"IF(MS$1>0,$KT75,\"\")","v":""},null,null,null,null,null,null,null,null,null,null,null,null,null,null,null,null,null,null,null,null,null,null,null,null,null,null,null,null,null,null,null,null,null,null,null,null,null,null,null,null,null,null,null,null,null,null,null,{"$f":"IF(OO$1>0,$KT75,\"\")","v":""},null,null,null,null,null,null,null,null,null,null,null,null,null,null,null,null,null,null,null,null,null,null,null,null,null,null,null,null,null,null,null,{"$f":"IF($PU$62=\"\",IF(COUNTIF(KW75:PT75,\"><\"),KT75,\"\"),\"\")","v":""},{"$f":"IF(PU75=\"\",\"\",IF(COUNTIF(PU75:$PU$76,\"><\")>1,PU75&\", \", PU75))","v":""},null,null,null,null,null,null,null,null,null,null,null,null,null,null,null,null,null,null,null,null,null,null,null,null,null,null,null,null,null,null,null,null,null,null,null,null,null,null,null,null,null,null,null,null,null,null,null,null,null,null,null,null,null,null,null,null,null,null,null,null,null,null,null,null,null,null,null,null,null,null,null,null,null,null,null,null,null,null,null,null,null,null,null,null,null,null,null,null,null,null,null,73,"Contingency","LEVEL 6",6,"Contingency ",{"$f":"\"\"","v":""},"",{"$f":"IF(OR(TK75=Spellcasting!$AC$18,TK75=Spellcasting!$AC$19),\"ᵐ\",\"\")","v":""},{"$f":"IF(OR(TK75=Spellcasting!$AC$20,TK75=Spellcasting!$AC$21),\"ˢ\",\"\")","v":""},{"$f":"\"\"","v":""},"10 min","self","10 days","VSM","a statuette of yourself carved from ivory and decorated with gems worth at least 1,500 gp","evocation","evoc","Choose a spell of 5th level or lower that you can cast, that has a casting time of 1 action, and that can target you. You cast that spell—called the contingent spell—as part of casting contingency, expending spell slots for both, but the contingent spell doesn't come into effect. Instead, it takes effect when a certain circumstance occurs. You describe that circumstance when you cast the two spells. For example, a contingency cast with water breathing might stipulate that water breathing comes into effect when you are engulfed in water or a similar liquid. \n\nThe contingent spell takes effect immediately after the circumstance is met for the first time, whether or not you want it to and then contingency ends. \n\nThe contingent spell takes effect only on you, even if it can normally target others. You can use only one contingency spell at a time. If you cast this spell again, the effect of another contingency spell on you ends. Also, contingency ends on you if its material component is ever not on your person.","< 5th level spell, takes effect under certain circumstances",null,null,null,null,null,null,null,null,null,{"$f":"IF(UL$1>=$TM75,1,\"0\")","v":"0"},null,null,null,null,null,null,null,null,null,null,null,null,null,null,null,null,null,null,null,null,null,null,null,null,null,null,null,null,null,null,null,null,null,null,null,null,null,null,null,null,null,null,null,{"$f":"IF(SUM($VZ$1:$WC$1)>0,IF(AND(SUM($VZ75:$WC75)>0,$TM75=WE$1),MAX(WD$2:WD74)+1,\"\"),IF(AND(SUM($UC75:$VY75)>0,$TM75=WE$1),MAX(WD$2:WD74)+1,\"\"))","v":""},"",{"$f":"IF(AND(SUM($UB75:$VY75)>0,$TM75=WG$1),MAX(WF$2:WF74)+1,\"\")","v":""},"",{"$f":"IF(AND(SUM($UB75:$VY75)>0,$TM75=WI$1),MAX(WH$2:WH74)+1,\"\")","v":""},"",{"$f":"IF(AND(SUM($UB75:$VY75)>0,$TM75=WK$1),MAX(WJ$2:WJ74)+1,\"\")","v":""},"",{"$f":"IF(AND(SUM($UB75:$VY75)>0,$TM75=WM$1),MAX(WL$2:WL74)+1,\"\")","v":""},"",{"$f":"IF(AND(SUM($UB75:$VY75)>0,$TM75=WO$1),MAX(WN$2:WN74)+1,\"\")","v":""},"",{"$f":"IF(AND(SUM($UB75:$VY75)>0,$TM75=WQ$1),MAX(WP$2:WP74)+1,\"\")","v":""},"",{"$f":"IF(AND(SUM($UB75:$VY75)>0,$TM75=WS$1),MAX(WR$2:WR74)+1,\"\")","v":""},"",{"$f":"IF(AND(SUM($UB75:$VY75)>0,$TM75=WU$1),MAX(WT$2:WT74)+1,\"\")","v":""},"",{"$f":"IF(AND(SUM($UB75:$VY75)>0,$TM75=WW$1),MAX(WV$2:WV74)+1,\"\")","v":""},"",{"$f":"IF(AND(SUM($UB75:$VY75)>0,$TM75=WY$1),MAX(WX$2:WX74)+1,\"\")","v":""},"",null,null,null,""]
[null,null,null,null,null,null,null,null,null,null,null,null,null,null,null,null,null,null,null,null,null,null,null,null,null,null,null,null,null,null,null,null,null,null,null,null,null,null,null,null,null,null,null,null,null,null,null,null,null,null,null,null,null,null,null,null,null,null,null,null,null,null,null,null,null,null,null,null,null,null,null,null,null,null,null,null,null,null,null,null,null,null,null,null,null,null,null,null,null,null,null,null,null,null,null,null,null,null,null,null,null,null,null,null,null,null,null,null,null,null,null,null,null,null,null,null,null,null,null,null,null,null,null,null,null,null,null,null,null,null,null,null,null,null,null,null,null,null,null,null,null,null,null,null,null,null,null,null,null,null,null,null,null,null,null,null,null,null,null,null,null,null,null,null,null,null,null,null,null,null,null,null,null,null,null,null,null,null,null,null,null,null,null,null,null,null,null,null,null,null,null,null,null,null,null,null,null,null,null,null,null,null,null,null,null,null,null,null,null,null,null,null,null,null,null,null,null,null,null,null,null,null,null,null,null,null,null,null,null,null,null,null,null,null,null,null,null,null,null,null,null,null,null,null,null,null,null,null,null,null,null,null,null,null,null,null,null,"Chislev (N)","goddess of nature","Neutral","Nature","Feather",null,null,null,null,null,null,null,null,null,null,"LEVEL",1,2,3,4,5,6,7,8,9,null,null,null,null,null,null,null,null,null,null,null,null,null,null,null,null,null,null,null,null,null,null,null,"none","No","Armor",null,null,null,null,null,null,null,null,null,null,null,null,null,null,null,null,null,null,null,null,null,null,null,null,null,null,null,null,null,{"$f":"IF(LZ$1>0,$KT78,\"\")","v":""},"","","","","","","","","","","",null,null,null,null,null,null,null,null,null,null,null,null,null,null,null,null,null,null,null,null,null,null,null,null,null,null,null,null,null,null,null,null,null,null,null,null,null,null,null,null,null,null,null,null,null,null,null,null,null,null,null,null,null,null,null,null,null,null,null,null,null,null,null,null,null,null,null,null,null,null,null,null,null,null,null,null,null,null,null,null,null,null,null,null,null,null,null,{"$f":"IF(COUNTIF(PU60:PU76,\"><\"),\"\",IF(COUNTIF(KW78:PT78,\"><\"),KT78,\"\"))","v":""},{"$f":"IF(PU78=\"\",\"\",IF(COUNTIF(PU78:$PU$78,\"><\")>1,PU78&\", \", PU78))","v":""},null,null,null,null,null,null,null,null,null,null,null,null,null,null,null,null,null,null,null,null,null,null,null,null,null,null,null,null,null,null,null,null,null,null,null,null,null,null,null,null,null,null,null,null,null,null,null,null,null,null,null,null,null,null,null,null,null,null,null,null,null,null,null,null,null,null,null,null,null,null,null,null,null,null,null,null,null,null,null,null,null,null,null,null,null,null,null,null,null,null,null,76,"Control Weather","LEVEL 8",8,"Control Weather ",{"$f":"\"\"","v":""},"",{"$f":"IF(OR(TK78=Spellcasting!$AC$18,TK78=Spellcasting!$AC$19),\"ᵐ\",\"\")","v":""},{"$f":"IF(OR(TK78=Spellcasting!$AC$20,TK78=Spellcasting!$AC$21),\"ˢ\",\"\")","v":""},{"$f":"\"\"","v":""},"10 min","self","8 hrs ᶜᵒᶰ","VSM","burning incense and bits of earth and wood mixed in water","transmutation","trans","You take control of the weather within 5 miles of you for the duration. You must be outdoors to cast this spell. Moving to a place where you don’t have a clear path to the sky ends the spell early. \n\nWhen you cast the spell, you change the current weather conditions, which are determined by the DM based on the climate and season. You can change precipitation, temperature, and wind. It takes 1d4 x 10 minutes for the new conditions to take effect. Once they do so, you can change the conditions again. When the spell ends, the weather gradually returns to normal. \n\nWhen you change the weather conditions, find a current condition on the following tables and change its stage by one, up or down. When changing the wind, you can change its direction.\n\nPrecipitation\nStage Condition\n1 Clear \n2 Light clouds \n3 Overcast or ground fog \n4 Rain, hail, or snow \n5 Torrential rain, driving hail, or blizzard\n\nTemperature\nStage Condition\n1 Unbearable heat\n2 Hot \n3 Warm \n4 Cool\n5 Cold \n6 Arctic cold\n\nWind\nStage Condition\n1 Calm\n2 Moderate wind \n3 Strong wind \n4 Gale \n5 Storm"," take control of weather within 5 miles, change by one stage",null,null,null,null,null,{"$f":"IF(UH$1>=$TM78,1,\"0\")","v":"0"},{"$f":"IF(UI$1>=$TM78,1,\"0\")","v":"0"},null,null,{"$f":"IF(UL$1>=$TM78,1,\"0\")","v":"0"},null,null,null,null,null,null,null,null,null,null,null,null,null,null,null,null,null,null,null,null,null,null,null,null,null,null,null,null,null,null,null,null,null,null,null,null,null,null,null,null,null,null,null,{"$f":"IF(SUM($VZ$1:$WC$1)>0,IF(AND(SUM($VZ78:$WC78)>0,$TM78=WE$1),MAX(WD$2:WD77)+1,\"\"),IF(AND(SUM($UC78:$VY78)>0,$TM78=WE$1),MAX(WD$2:WD77)+1,\"\"))","v":""},"",{"$f":"IF(AND(SUM($UB78:$VY78)>0,$TM78=WG$1),MAX(WF$2:WF77)+1,\"\")","v":""},"",{"$f":"IF(AND(SUM($UB78:$VY78)>0,$TM78=WI$1),MAX(WH$2:WH77)+1,\"\")","v":""},"",{"$f":"IF(AND(SUM($UB78:$VY78)>0,$TM78=WK$1),MAX(WJ$2:WJ77)+1,\"\")","v":""},"",{"$f":"IF(AND(SUM($UB78:$VY78)>0,$TM78=WM$1),MAX(WL$2:WL77)+1,\"\")","v":""},"",{"$f":"IF(AND(SUM($UB78:$VY78)>0,$TM78=WO$1),MAX(WN$2:WN77)+1,\"\")","v":""},"",{"$f":"IF(AND(SUM($UB78:$VY78)>0,$TM78=WQ$1),MAX(WP$2:WP77)+1,\"\")","v":""},"",{"$f":"IF(AND(SUM($UB78:$VY78)>0,$TM78=WS$1),MAX(WR$2:WR77)+1,\"\")","v":""},"",{"$f":"IF(AND(SUM($UB78:$VY78)>0,$TM78=WU$1),MAX(WT$2:WT77)+1,\"\")","v":""},"",{"$f":"IF(AND(SUM($UB78:$VY78)>0,$TM78=WW$1),MAX(WV$2:WV77)+1,\"\")","v":""},"",{"$f":"IF(AND(SUM($UB78:$VY78)>0,$TM78=WY$1),MAX(WX$2:WX77)+1,\"\")","v":""},"",null,null,null,""]
[null,null,null,null,null,null,null,null,null,null,null,null,null,null,null,null,null,null,null,null,null,null,null,null,null,null,null,null,null,null,null,null,null,null,null,null,null,null,null,null,null,null,null,null,null,null,null,null,null,null,null,null,null,null,null,null,null,null,null,null,null,null,null,null,null,null,null,null,null,null,null,null,null,null,null,null,null,null,null,null,null,null,null,null,null,null,null,null,null,null,null,null,null,null,null,null,null,null,null,null,null,null,null,null,null,null,null,null,null,null,null,null,null,null,null,null,null,null,null,null,null,null,null,null,null,null,null,null,null,null,null,null,null,null,null,null,null,null,null,null,null,null,null,null,null,null,null,null,null,null,null,null,null,null,null,null,null,null,null,null,null,null,null,null,null,null,null,null,null,null,null,null,null,null,null,null,null,null,null,null,null,null,null,null,null,null,null,null,null,null,null,null,null,null,null,null,null,null,null,null,null,null,null,null,null,null,null,null,null,null,null,null,null,null,null,null,null,null,null,null,null,null,null,null,null,null,null,null,null,null,null,null,null,null,null,null,null,null,null,null,null,null,null,null,null,null,null,null,null,null,null,null,null,null,null,null,null,"Sirrion (N)","god of fire and change","Neutral","Nature","Multi-colored fire",null,null,null,null,null,null,null,null,null,null,5,4,2,"-","-","-","-","-","-","-",2,null,null,null,null,null,null,null,null,null,null,null,null,null,null,null,null,null,null,null,null,null,null,"Simple Ranged","No","Weapons",null,null,null,null,null,null,null,null,null,null,null,null,null,null,null,null,null,null,null,null,null,null,null,null,null,null,null,null,null,{"$f":"IF(Class1=LZ$5,IF(LZ$1>0,$KT83,\"\"),\"\")","v":""},"",{"$f":"IF(Class1=MB$5,IF(MB$1>0,$KT83,\"\"),\"\")","v":""},null,"",null,null,null,"","",null,"",null,null,null,null,null,null,null,null,null,null,null,null,null,null,null,null,null,null,null,null,null,null,null,null,null,null,null,null,null,null,null,null,null,null,null,null,null,null,null,null,null,null,null,null,null,null,null,null,null,null,null,null,null,null,null,null,null,null,null,null,null,null,null,null,null,null,null,null,null,null,null,null,null,null,null,null,null,null,null,null,null,null,null,null,null,null,null,{"$f":"IF($PU$80=\"\",IF(COUNTIF(KW83:PT83,\"><\"),KT83,\"\"),\"\")","v":""},{"$f":"IF(PU83=\"\",\"\",IF(COUNTIF(PU83:$PU$125,\"><\")>1,PU83&\", \", PU83))","v":""},null,null,null,null,null,null,null,null,null,null,null,null,null,null,null,null,null,null,null,null,null,null,null,null,null,null,null,null,null,null,null,null,null,null,null,null,null,null,null,null,null,null,null,null,null,null,null,null,null,null,null,null,null,null,null,null,null,null,null,null,null,null,null,null,null,null,null,null,null,null,null,null,null,null,null,null,null,null,null,null,null,null,null,null,null,null,null,null,null,null,null,81,"Create Undead","LEVEL 6",6,"Create Undead ᴴ ","ᴴ ","",{"$f":"IF(OR(TK83=Spellcasting!$AC$18,TK83=Spellcasting!$AC$19),\"ᵐ\",\"\")","v":""},{"$f":"IF(OR(TK83=Spellcasting!$AC$20,TK83=Spellcasting!$AC$21),\"ˢ\",\"\")","v":""},{"$f":"\"\"","v":""},"1 min","10 ft","instant","VSM","one clay pot filled with grave dirt, one clay pot filled with brackish water and one 150 gp black onyx stone for each corpse","necromancy","necro","You can cast this spell only at night. Choose up to three corpses of Medium or Small humanoids within range. Each corpse becomes a ghoul under your control. (The DM has game statistics for these creatures.) \n\nAs a bonus action on each of your turns, you can mentally command any creature you animated with this spell if the creature is within 120 feet of you (if you control multiple creatures, you can command any or all of them at the same time, issuing the same command to each one). You decide what action the creature will take and where it will move during its next turn, or you can issue a general command, such as to guard a particular chamber or corridor. If you issue no commands, the creature only defends itself against hostile creatures. Once given an order, the creature continues to follow it until its task is complete. \n\nThe creature is under your control for 24 hours, after which it stops obeying any command you have given it. To maintain control of the creature for another  hours, you must cast this spell on the creature before the current 24-hour period ends. This use of the spell reasserts your control over up to three creatures you have animated with this spell, rather than animating new ones. \n\nAt Higher Levels. When you cast this spell using a 7th-level spell slot, you can animate or reassert control over four ghouls. When you cast this spell using an 8th-level spell slot, you can animate or reassert control over five ghouls or two ghasts or wights. When you cast this spell using a 9th-level spell slot, you can animate or reassert control over six ghouls, three ghasts or wights, or two mummies.","3 corpses, small to medium humanoid, becomes ghoul",null,null,null,null,{"$f":"IF(UG$1>=$TM83,1,\"0\")","v":"0"},{"$f":"IF(UH$1>=$TM83,1,\"0\")","v":"0"},null,null,null,{"$f":"IF(UL$1>=$TM83,1,\"0\")","v":"0"},null,null,null,null,null,null,null,null,null,null,null,null,null,null,null,null,null,null,null,null,null,null,null,null,null,null,null,null,null,null,null,null,null,null,null,null,null,null,null,null,null,null,null,{"$f":"IF(SUM($VZ$1:$WC$1)>0,IF(AND(SUM($VZ83:$WC83)>0,$TM83=WE$1),MAX(WD$2:WD82)+1,\"\"),IF(AND(SUM($UC83:$VY83)>0,$TM83=WE$1),MAX(WD$2:WD82)+1,\"\"))","v":""},"",{"$f":"IF(AND(SUM($UB83:$VY83)>0,$TM83=WG$1),MAX(WF$2:WF82)+1,\"\")","v":""},"",{"$f":"IF(AND(SUM($UB83:$VY83)>0,$TM83=WI$1),MAX(WH$2:WH82)+1,\"\")","v":""},"",{"$f":"IF(AND(SUM($UB83:$VY83)>0,$TM83=WK$1),MAX(WJ$2:WJ82)+1,\"\")","v":""},"",{"$f":"IF(AND(SUM($UB83:$VY83)>0,$TM83=WM$1),MAX(WL$2:WL82)+1,\"\")","v":""},"",{"$f":"IF(AND(SUM($UB83:$VY83)>0,$TM83=WO$1),MAX(WN$2:WN82)+1,\"\")","v":""},"",{"$f":"IF(AND(SUM($UB83:$VY83)>0,$TM83=WQ$1),MAX(WP$2:WP82)+1,\"\")","v":""},"",{"$f":"IF(AND(SUM($UB83:$VY83)>0,$TM83=WS$1),MAX(WR$2:WR82)+1,\"\")","v":""},"",{"$f":"IF(AND(SUM($UB83:$VY83)>0,$TM83=WU$1),MAX(WT$2:WT82)+1,\"\")","v":""},"",{"$f":"IF(AND(SUM($UB83:$VY83)>0,$TM83=WW$1),MAX(WV$2:WV82)+1,\"\")","v":""},"",{"$f":"IF(AND(SUM($UB83:$VY83)>0,$TM83=WY$1),MAX(WX$2:WX82)+1,\"\")","v":""},"",null,null,null,""]
[null,null,null,null,null,null,null,null,null,null,null,null,null,null,null,null,null,null,null,null,null,null,null,null,null,null,null,null,null,null,null,null,null,null,null,null,null,null,null,null,null,null,null,null,null,null,null,null,null,null,null,null,null,null,null,null,null,null,null,null,null,null,null,null,null,null,null,null,null,null,null,null,null,null,null,null,null,null,null,null,null,null,null,null,null,null,null,null,null,null,null,null,null,null,null,null,null,null,null,null,null,null,null,null,null,null,null,null,null,null,null,null,null,null,null,null,null,null,null,null,null,null,null,null,null,null,null,null,null,null,null,null,null,null,null,null,null,null,null,null,null,null,null,null,null,null,null,null,null,null,null,null,null,null,null,null,null,null,null,null,null,null,null,null,null,null,null,null,null,null,null,null,null,null,null,null,null,null,null,null,null,null,null,null,null,null,null,null,null,null,null,null,null,null,null,null,null,null,null,null,null,null,null,null,null,null,null,null,null,null,null,null,null,null,null,null,null,null,null,null,null,null,null,null,null,null,null,null,null,null,null,null,null,null,null,null,null,null,null,null,null,null,null,null,null,null,null,null,null,null,null,null,null,null,null,null,null,"Morgion (NE)","god of disease and secrecy","Neutral Evil","Death","Hood with two red eyes",null,null,null,null,null,null,null,null," ",null,10,4,3,2,"-","-","-","-","-","-",3,null,null,null,null,null,null,null,null,null,null,null,null,null,null,null,null,null,null,null,null,null,null,"Great club","No","Simple Melee",null,null,null,null,null,null,null,null,null,null,null,null,null,null,null,null,null,null,null,null,null,null,null,null,null,null,null,null,null,"","","",null,{"$f":"IF(MD$1>0,$KT88,\"\")","v":""},{"$f":"IF(Class1=ME$5,IF(ME$1>0,$KT88,\"\"),\"\")","v":""},null,"","","",null,"",null,null,null,null,null,null,null,null,null,null,null,null,null,null,null,null,null,null,null,null,null,null,null,null,null,null,null,null,null,null,null,null,null,null,null,null,null,null,null,null,null,null,null,null,null,null,null,null,null,null,null,null,null,null,null,null,null,null,null,null,null,null,null,null,null,null,null,null,null,null,null,null,null,null,null,null,null,null,null,null,null,null,null,null,null,null,null,"",{"$f":"IF(PU88=\"\",\"\",IF(COUNTIF(PU88:$PU$125,\"><\")>1,PU88&\", \", PU88))","v":""},null,null,null,null,null,null,null,null,null,null,null,null,null,null,null,null,null,null,null,null,null,null,null,null,null,null,null,null,null,null,null,null,null,null,null,null,null,null,null,null,null,null,null,null,null,null,null,null,null,null,null,null,null,null,null,null,null,null,null,null,null,null,null,null,null,null,null,null,null,null,null,null,null,null,null,null,null,null,null,null,null,null,null,null,null,null,null,null,null,null,null,86,"Dancing Lights","CANTRIP",0.5,"Dancing Lights ",{"$f":"\"\"","v":""},"",{"$f":"IF(OR(TK88=Spellcasting!$AC$18,TK88=Spellcasting!$AC$19),\"ᵐ\",\"\")","v":""},{"$f":"IF(OR(TK88=Spellcasting!$AC$20,TK88=Spellcasting!$AC$21),\"ˢ\",\"\")","v":""},{"$f":"\"\"","v":""},"1 act","120 ft","1 min ᶜᵒᶰ","VSM","a bit of phosphorus or wychwood, or a glowworm","evocation","evoc","You create up to four torch-sized lights within range, making them appear as torches, lanterns, or glowing orbs that hover in the air for the duration. You can also combine the four lights into one glowing vaguely humanoid form of Medium size. Whichever form you choose, each light sheds dim light in a 10-foot radius. \n\nAs a bonus action on your turn, you can move the lights up to 60 feet to a new spot within range. A light must be within 20 feet of another light created by this spell, and a light winks out if it exceeds the spell’s range. ","4 torch-sized lights 10ft radius",{"$f":"IF(UC$1>=$TM88,1,\"0\")","v":"0"},null,null,{"$f":"IF(UF$1>=$TM88,1,\"0\")","v":"0"},null,null,null,null,null,{"$f":"IF(UL$1>=$TM88,1,\"0\")","v":"0"},null,null,null,null,null,null,null,null,null,null,null,null,null,null,null,null,null,null,null,null,null,null,null,null,null,null,null,null,null,{"$f":"IF(VP$1>=$TM88,1,\"0\")","v":"0"},{"$f":"IF(VQ$1>=$TM88,1,\"0\")","v":"0"},null,null,null,null,null,null,null,null,null,null,{"$f":"IF(WB$1>=$TM88,1,\"0\")","v":"0"},null,{"$f":"IF(SUM($VZ$1:$WC$1)>0,IF(AND(SUM($VZ88:$WC88)>0,$TM88=WE$1),MAX(WD$2:WD87)+1,\"\"),IF(AND(SUM($UC88:$VY88)>0,$TM88=WE$1),MAX(WD$2:WD87)+1,\"\"))","v":""},"",{"$f":"IF(AND(SUM($UB88:$VY88)>0,$TM88=WG$1),MAX(WF$2:WF87)+1,\"\")","v":""},"",{"$f":"IF(AND(SUM($UB88:$VY88)>0,$TM88=WI$1),MAX(WH$2:WH87)+1,\"\")","v":""},"",{"$f":"IF(AND(SUM($UB88:$VY88)>0,$TM88=WK$1),MAX(WJ$2:WJ87)+1,\"\")","v":""},"",{"$f":"IF(AND(SUM($UB88:$VY88)>0,$TM88=WM$1),MAX(WL$2:WL87)+1,\"\")","v":""},"",{"$f":"IF(AND(SUM($UB88:$VY88)>0,$TM88=WO$1),MAX(WN$2:WN87)+1,\"\")","v":""},"",{"$f":"IF(AND(SUM($UB88:$VY88)>0,$TM88=WQ$1),MAX(WP$2:WP87)+1,\"\")","v":""},"",{"$f":"IF(AND(SUM($UB88:$VY88)>0,$TM88=WS$1),MAX(WR$2:WR87)+1,\"\")","v":""},"",{"$f":"IF(AND(SUM($UB88:$VY88)>0,$TM88=WU$1),MAX(WT$2:WT87)+1,\"\")","v":""},"",{"$f":"IF(AND(SUM($UB88:$VY88)>0,$TM88=WW$1),MAX(WV$2:WV87)+1,\"\")","v":""},"",{"$f":"IF(AND(SUM($UB88:$VY88)>0,$TM88=WY$1),MAX(WX$2:WX87)+1,\"\")","v":""},"",null,null,null,""]
[null,null,null,null,null,null,null,null,null,null,null,null,null,null,null,null,null,null,null,null,null,null,null,null,null,null,null,null,null,null,null,null,null,null,null,null,null,null,null,null,null,null,null,null,null,null,null,null,null,null,null,null,null,null,null,null,null,null,null,null,null,null,null,null,null,null,null,null,null,null,null,null,null,null,null,null,null,null,null,null,null,null,null,null,null,null,null,null,null,null,null,null,null,null,null,null,null,null,null,null,null,null,null,null,null,null,null,null,null,null,null,null,null,null,null,null,null,null,null,null,null,null,null,null,null,null,null,null,null,null,null,null,null,null,null,null,null,null,null,null,null,null,null,null,null,null,null,null,null,null,null,null,null,null,null,null,null,null,null,null,null,null,null,null,null,null,null,null,null,null,null,null,null,null,null,null,null,null,null,null,null,null,null,null,null,null,null,null,null,null,null,null,null,null,null,null,null,null,null,null,null,null,null,null,null,null,null,null,null,null,null,null,null,null,null,null,null,null,null,null,null,null,null,null,null,null,null,null,null,null,null,null,null,null,null,null,null,null,null,null,null,null,null,null,null,null,null,null,null,null,null,null,null,null,null,null,null,"--------------------EBERRON--------------------",null,null,null,null,null,null,null,null,null,null,null,null,null,null,15,4,3,3,2,"-","-","-","-","-",4,null,null,null,null,null,null,null,null,null,null,null,null,null,null,null,null,null,null,null,null,null,null,"Sickle","No","Simple Melee",null,null,null,null,null,null,null,null,null,null,null,null,null,null,null,null,null,null,null,null,null,null,null,null,null,null,null,null,null,"","","",null,"","",{"$f":"IF(Class1=MF$5,IF(MF$1>0,$KT93,\"\"),\"\")","v":""},"","","",null,"",null,null,null,null,null,null,null,null,null,null,null,null,null,null,null,null,null,null,null,null,null,null,null,null,null,null,null,null,null,null,null,null,null,null,null,null,null,null,null,null,null,null,null,null,null,null,null,null,null,null,null,null,null,null,null,null,null,null,null,null,null,null,null,null,null,null,null,null,null,null,null,null,null,null,null,null,null,null,null,null,null,null,null,null,null,null,null,"",{"$f":"IF(PU93=\"\",\"\",IF(COUNTIF(PU93:$PU$125,\"><\")>1,PU93&\", \", PU93))","v":""},null,null,null,null,null,null,null,null,null,null,null,null,null,null,null,null,null,null,null,null,null,null,null,null,null,null,null,null,null,null,null,null,null,null,null,null,null,null,null,null,null,null,null,null,null,null,null,null,null,null,null,null,null,null,null,null,null,null,null,null,null,null,null,null,null,null,null,null,null,null,null,null,null,null,null,null,null,null,null,null,null,null,null,null,null,null,null,null,null,null,null,91,"Delayed Blast Fireball","LEVEL 7",7,"Delayed Blast Fireball ᴴ ","ᴴ ","",{"$f":"IF(OR(TK93=Spellcasting!$AC$18,TK93=Spellcasting!$AC$19),\"ᵐ\",\"\")","v":""},{"$f":"IF(OR(TK93=Spellcasting!$AC$20,TK93=Spellcasting!$AC$21),\"ˢ\",\"\")","v":""},{"$f":"\"\"","v":""},"1 act","150 ft","1 min ᶜᵒᶰ","VSM","a tiny ball of bat guano and sulfur","evocation","evoc","A beam of yellow light flashes from your pointing finger, then condenses to linger at a chosen point within range as a glowing bead for the duration. When the spell ends, either because your concentration is broken or because you decide to end it, the bead blossoms with a low roar into an explosion of flame that spreads around corners. Each creature in a 20-foot-radius sphere centered on that point must make a Dexterity saving throw. A creature takes fire damage equal to the total accumulated damage on a failed save, or half as much damage on a successful one. \n\nThe spell’s base damage is 12d6. If at the end of your turn the bead has not yet detonated, the damage increases by 1d6. \n\nIf the glowing bead is touched before the interval has expired, the creature touching it must make a Dexterity saving throw. On a failed save, the spell ends immediately, causing the bead to erupt in flame. On a successful save, the creature can throw the bead up to 40 feet. When it strikes a creature or a solid object, the spell ends, and the bead explodes. The fire damages objects in the area and ignites flammable objects that aren’t being worn or carried.\n\nAt Higher Levels. When you cast this spell using a spell slot of 8th level or higher, the base damage increases by 1d6 for each slot level above 7th. ",{"$f":"\"20ft rad, 12d6\"&IF(WizardEvocationLevel>=10,\"+\"&INTMod,IF(AD6=TRUE,\"+\"&CHAMod,\"\"))&\"  fire +1d6 per rnd, dex save ½\"","v":"20ft rad, 12d6  fire +1d6 per rnd, dex save ½"},null,null,null,{"$f":"IF(UF$1>=$TM93,1,\"0\")","v":"0"},null,null,null,null,null,{"$f":"IF(UL$1>=$TM93,1,\"0\")","v":"0"},null,null,null,null,null,null,null,null,null,null,null,null,null,null,null,null,null,null,null,null,null,null,null,null,null,null,null,null,null,null,null,null,null,null,null,null,null,null,null,null,null,null,null,{"$f":"IF(SUM($VZ$1:$WC$1)>0,IF(AND(SUM($VZ93:$WC93)>0,$TM93=WE$1),MAX(WD$2:WD92)+1,\"\"),IF(AND(SUM($UC93:$VY93)>0,$TM93=WE$1),MAX(WD$2:WD92)+1,\"\"))","v":""},"",{"$f":"IF(AND(SUM($UB93:$VY93)>0,$TM93=WG$1),MAX(WF$2:WF92)+1,\"\")","v":""},"",{"$f":"IF(AND(SUM($UB93:$VY93)>0,$TM93=WI$1),MAX(WH$2:WH92)+1,\"\")","v":""},"",{"$f":"IF(AND(SUM($UB93:$VY93)>0,$TM93=WK$1),MAX(WJ$2:WJ92)+1,\"\")","v":""},"",{"$f":"IF(AND(SUM($UB93:$VY93)>0,$TM93=WM$1),MAX(WL$2:WL92)+1,\"\")","v":""},"",{"$f":"IF(AND(SUM($UB93:$VY93)>0,$TM93=WO$1),MAX(WN$2:WN92)+1,\"\")","v":""},"",{"$f":"IF(AND(SUM($UB93:$VY93)>0,$TM93=WQ$1),MAX(WP$2:WP92)+1,\"\")","v":""},"",{"$f":"IF(AND(SUM($UB93:$VY93)>0,$TM93=WS$1),MAX(WR$2:WR92)+1,\"\")","v":""},"",{"$f":"IF(AND(SUM($UB93:$VY93)>0,$TM93=WU$1),MAX(WT$2:WT92)+1,\"\")","v":""},"",{"$f":"IF(AND(SUM($UB93:$VY93)>0,$TM93=WW$1),MAX(WV$2:WV92)+1,\"\")","v":""},"",{"$f":"IF(AND(SUM($UB93:$VY93)>0,$TM93=WY$1),MAX(WX$2:WX92)+1,\"\")","v":""},"",null,null,null,""]
[null,null,null,null,null,null,null,null,null,null,null,null,null,null,null,null,null,null,null,null,null,null,null,null,null,null,null,null,null,null,null,null,null,null,null,null,null,null,null,null,null,null,null,null,null,null,null,null,null,null,null,null,null,null,null,null,null,null,null,null,null,null,null,null,null,null,null,null,null,null,null,null,null,null,null,null,null,null,null,null,null,null,null,null,null,null,null,null,null,null,null,null,null,null,null,null,null,null,null,null,null,null,null,null,null,null,null,null,null,null,null,null,null,null,null,null,null,null,null,null,null,null,null,null,null,null,null,null,null,null,null,null,null,null,null,null,null,null,null,null,null,null,null,null,null,null,null,null,null,null,null,null,null,null,null,null,null,null,null,null,null,null,null,null,null,null,null,null,null,null,null,null,null,null,null,null,null,null,null,null,null,null,null,null,null,null,null,null,null,null,null,null,null,null,null,null,null,null,null,null,null,null,null,null,null,null,null,null,null,null,null,null,null,null,null,null,null,null,null,null,null,null,null,null,null,null,null,null,null,null,null,null,null,null,null,null,null,null,null,null,null,null,null,null,null,null,null,null,null,null,null,null,null,null,null,null,null,"Balinor (N)","god of beasts and the hunt","Neutral","Life, Nature","Pair of antlers",null,null,null,null,null,null,null,null,null,null,20,4,3,3,3,2,"-","-","-","-",5,null,null,null,null,null,null,null,null,null,null,null,null,null,null,null,null,null,null,null,null,null,null,"Javelin","No","Simple Ranged",null,null,null,null,null,null,null,null,null,null,null,null,null,null,null,null,null,null,null,null,null,null,null,null,null,null,null,null,null,"","","",null,"","",{"$f":"IF(Class1=MF$5,IF(MF$1>0,$KT98,\"\"),\"\")","v":""},"","","",null,"",null,null,null,null,null,null,null,null,null,null,null,null,null,null,null,null,null,null,null,null,null,null,null,null,null,null,null,null,null,null,null,null,null,null,null,null,null,null,null,null,null,null,null,null,null,null,null,null,null,null,null,null,null,null,null,null,null,null,null,null,null,null,null,null,null,null,null,null,null,null,null,null,null,null,null,null,null,null,null,null,null,null,null,null,null,null,null,{"$f":"IF(AND($PU$80=\"\",$PU$83=\"\"),IF(COUNTIF(KW98:PT98,\"><\"),KT98,\"\"),\"\")","v":""},{"$f":"IF(PU98=\"\",\"\",IF(COUNTIF(PU98:$PU$125,\"><\")>1,PU98&\", \", PU98))","v":""},null,null,null,null,null,null,null,null,null,null,null,null,null,null,null,null,null,null,null,null,null,null,null,null,null,null,null,null,null,null,null,null,null,null,null,null,null,null,null,null,null,null,null,null,null,null,null,null,null,null,null,null,null,null,null,null,null,null,null,null,null,null,null,null,null,null,null,null,null,null,null,null,null,null,null,null,null,null,null,null,null,null,null,null,null,null,null,null,null,null,null,96,"Detect Poison and Disease","LEVEL 1",1,"Detect Poison and Disease ",{"$f":"\"\"","v":""},"",{"$f":"IF(OR(TK98=Spellcasting!$AC$18,TK98=Spellcasting!$AC$19),\"ᵐ\",\"\")","v":""},{"$f":"IF(OR(TK98=Spellcasting!$AC$20,TK98=Spellcasting!$AC$21),\"ˢ\",\"\")","v":""},"ritual","1 act ᴿ","self","10 min ᶜᵒᶰ","VSM","a yew leaf","divination","divin","For the duration, you can sense the presence and location of poisons, poisonous creatures, and diseases within 30 feet of you. You also identify the kind of poison, poisonous creature, or disease in each case. \n\nThe spell can penetrate most barriers, but it is blocked by 1 foot of stone, 1 inch of common metal, a thin sheet of lead, or 3 feet of wood or dirt.","poisons, poisonous creatures, & diseases within 30 feet",null,{"$f":"IF(UD$1>=$TM98,1,\"0\")","v":"0"},{"$f":"IF(UE$1>=$TM98,1,\"0\")","v":"0"},null,null,{"$f":"IF(UH$1>=$TM98,1,\"0\")","v":"0"},{"$f":"IF(UI$1>=$TM98,1,\"0\")","v":"0"},null,null,null,null,null,null,null,null,null,null,null,null,null,null,null,null,null,null,null,null,null,null,null,null,null,null,null,null,null,null,null,null,null,null,null,null,null,null,null,null,null,null,null,null,null,null,{"$f":"IF(SUM($VZ$1:$WC$1)>0,IF(AND(SUM($VZ98:$WC98)>0,$TM98=WE$1),MAX(WD$2:WD97)+1,\"\"),IF(AND(SUM($UC98:$VY98)>0,$TM98=WE$1),MAX(WD$2:WD97)+1,\"\"))","v":""},"",{"$f":"IF(AND(SUM($UB98:$VY98)>0,$TM98=WG$1),MAX(WF$2:WF97)+1,\"\")","v":""},"",{"$f":"IF(AND(SUM($UB98:$VY98)>0,$TM98=WI$1),MAX(WH$2:WH97)+1,\"\")","v":""},"",{"$f":"IF(AND(SUM($UB98:$VY98)>0,$TM98=WK$1),MAX(WJ$2:WJ97)+1,\"\")","v":""},"",{"$f":"IF(AND(SUM($UB98:$VY98)>0,$TM98=WM$1),MAX(WL$2:WL97)+1,\"\")","v":""},"",{"$f":"IF(AND(SUM($UB98:$VY98)>0,$TM98=WO$1),MAX(WN$2:WN97)+1,\"\")","v":""},"",{"$f":"IF(AND(SUM($UB98:$VY98)>0,$TM98=WQ$1),MAX(WP$2:WP97)+1,\"\")","v":""},"",{"$f":"IF(AND(SUM($UB98:$VY98)>0,$TM98=WS$1),MAX(WR$2:WR97)+1,\"\")","v":""},"",{"$f":"IF(AND(SUM($UB98:$VY98)>0,$TM98=WU$1),MAX(WT$2:WT97)+1,\"\")","v":""},"",{"$f":"IF(AND(SUM($UB98:$VY98)>0,$TM98=WW$1),MAX(WV$2:WV97)+1,\"\")","v":""},"",{"$f":"IF(AND(SUM($UB98:$VY98)>0,$TM98=WY$1),MAX(WX$2:WX97)+1,\"\")","v":""},"",null,null,null,""]
[null,null,null,null,null,null,null,null,null,null,null,null,null,null,null,null,null,null,null,null,null,null,null,null,null,null,null,null,null,null,null,null,null,null,null,null,null,null,null,null,null,null,null,null,null,null,null,null,null,null,null,null,null,null,null,null,null,null,null,null,null,null,null,null,null,null,null,null,null,null,null,null,null,null,null,null,null,null,null,null,null,null,null,null,null,null,null,null,null,null,null,null,null,null,null,null,null,null,null,null,null,null,null,null,null,null,null,null,null,null,null,null,null,null,null,null,null,null,null,null,null,null,null,null,null,null,null,null,null,null,null,null,null,null,null,null,null,null,null,null,null,null,null,null,null,null,null,null,null,null,null,null,null,null,null,null,null,null,null,null,null,null,null,null,null,null,null,null,null,null,null,null,null,null,null,null,null,null,null,null,null,null,null,null,null,null,null,null,null,null,null,null,null,null,null,null,null,null,null,null,null,null,null,null,null,null,null,null,null,null,null,null,null,null,null,null,null,null,null,null,null,null,null,null,null,null,null,null,null,null,null,null,null,null,null,null,null,null,null,null,null,null,null,null,null,null,null,null,null,null,null,null,null,null,null,null,null,"Dol Dorn (CG)","god of strength at arms","Chaotic Good","War","Longsword crossed over a shield",null,null,null,null,null,null,null,null,null,null,"LEVEL",1,2,3,4,5,6,7,8,9,null,"INVOCATIONS",null,null,null,null,null,null,null,null,null,null,null,null,null,null,null,null,null,null,null,null,null,"Battleaxe","No","Martial Melee",{"$f":"IF(KW$1>0,$KT101,\"\")","v":""},null,null,null,null,null,null,null,null,null,null,null,null,null,null,null,null,null,null,null,null,null,null,null,null,null,null,null,null,null,"",null,null,{"$f":"IF(MD$1>0,$KT101,\"\")","v":""},null,null,null,"","",null,null,null,null,null,null,null,{"$f":"IF(MQ$1>0,$KT101,\"\")","v":""},null,"",null,null,null,null,null,null,null,null,null,null,null,null,null,null,null,null,null,{"$f":"IF(NK$1>2,$KT101,\"\")","v":""},null,null,null,null,null,null,null,null,null,null,null,null,null,null,null,null,null,null,null,null,null,null,null,null,null,null,null,null,null,null,null,null,null,null,null,null,null,null,null,null,null,null,null,null,null,null,null,null,null,null,null,null,null,null,null,null,null,null,null,null,null,{"$f":"IF(AND($PU$81=\"\",$PU$84=\"\"),IF(COUNTIF(KW101:PT101,\"><\"),KT101,\"\"),\"\")","v":""},{"$f":"IF(PU101=\"\",\"\",IF(COUNTIF(PU101:$PU$125,\"><\")>1,PU101&\", \", PU101))","v":""},null,null,null,null,null,null,null,null,null,null,null,null,null,null,null,null,null,null,null,null,null,null,null,null,null,null,null,null,null,null,null,null,null,null,null,null,null,null,null,null,null,null,null,null,null,null,null,null,null,null,null,null,null,null,null,null,null,null,null,null,null,null,null,null,null,null,null,null,null,null,null,null,null,null,null,null,null,null,null,null,null,null,null,null,null,null,null,null,null,null,null,99,"Disguise Self","LEVEL 1",1,"Disguise Self ",{"$f":"\"\"","v":""},"",{"$f":"IF(OR(TK101=Spellcasting!$AC$18,TK101=Spellcasting!$AC$19),\"ᵐ\",\"\")","v":""},{"$f":"IF(OR(TK101=Spellcasting!$AC$20,TK101=Spellcasting!$AC$21),\"ˢ\",\"\")","v":""},{"$f":"\"\"","v":""},"1 act","self","1 hr","VS",{"$f":"\"\"","v":""},"illusion","illus","You make yourself—including your clothing, armor, weapons, and other belongings on your person—look different until the spell ends or until you use your action to dismiss it. You can seem 1 foot shorter or taller and can appear thin, fat, or in between. You can’t change your body type, so you must adopt a form that has the same basic arrangement of limbs. Otherwise, the extent of the illusion is up to you. \n\nThe changes wrought by this spell fail to hold up to physical inspection. For example, if you use this spell to add a hat to your outfit, objects pass through the hat, and anyone who touches it would feel nothing or would feel your head and hair. If you use this spell to appear thinner than you are, the hand of someone who reaches out to touch you would bump into you while it was seemingly still in midair. \n\nTo discern that you are disguised, a creature can use its action to inspect your appearance and must succeed on an Intelligence (Investigation) check against your spell save DC.","make yourself, including equipment, look different",null,null,null,{"$f":"IF(UF$1>=$TM101,1,\"0\")","v":"0"},null,null,null,null,null,{"$f":"IF(UL$1>=$TM101,1,\"0\")","v":"0"},null,null,null,null,null,null,null,null,null,null,null,null,null,null,null,null,null,{"$f":"IF(VD$1>=$TM101,1,\"0\")","v":"0"},null,null,null,null,null,null,null,null,null,null,null,null,{"$f":"IF(VQ$1>=$TM101,1,\"0\")","v":"0"},null,null,null,null,null,null,null,null,null,null,null,null,{"$f":"IF(SUM($VZ$1:$WC$1)>0,IF(AND(SUM($VZ101:$WC101)>0,$TM101=WE$1),MAX(WD$2:WD100)+1,\"\"),IF(AND(SUM($UC101:$VY101)>0,$TM101=WE$1),MAX(WD$2:WD100)+1,\"\"))","v":""},"",{"$f":"IF(AND(SUM($UB101:$VY101)>0,$TM101=WG$1),MAX(WF$2:WF100)+1,\"\")","v":""},"",{"$f":"IF(AND(SUM($UB101:$VY101)>0,$TM101=WI$1),MAX(WH$2:WH100)+1,\"\")","v":""},"",{"$f":"IF(AND(SUM($UB101:$VY101)>0,$TM101=WK$1),MAX(WJ$2:WJ100)+1,\"\")","v":""},"",{"$f":"IF(AND(SUM($UB101:$VY101)>0,$TM101=WM$1),MAX(WL$2:WL100)+1,\"\")","v":""},"",{"$f":"IF(AND(SUM($UB101:$VY101)>0,$TM101=WO$1),MAX(WN$2:WN100)+1,\"\")","v":""},"",{"$f":"IF(AND(SUM($UB101:$VY101)>0,$TM101=WQ$1),MAX(WP$2:WP100)+1,\"\")","v":""},"",{"$f":"IF(AND(SUM($UB101:$VY101)>0,$TM101=WS$1),MAX(WR$2:WR100)+1,\"\")","v":""},"",{"$f":"IF(AND(SUM($UB101:$VY101)>0,$TM101=WU$1),MAX(WT$2:WT100)+1,\"\")","v":""},"",{"$f":"IF(AND(SUM($UB101:$VY101)>0,$TM101=WW$1),MAX(WV$2:WV100)+1,\"\")","v":""},"",{"$f":"IF(AND(SUM($UB101:$VY101)>0,$TM101=WY$1),MAX(WX$2:WX100)+1,\"\")","v":""},"",null,null,null,""]
[null,null,null,null,null,null,null,null,null,null,null,null,null,null,null,null,null,null,null,null,null,null,null,null,null,null,null,null,null,null,null,null,null,null,null,null,null,null,null,null,null,null,null,null,null,null,null,null,null,null,null,null,null,null,null,null,null,null,null,null,null,null,null,null,null,null,null,null,null,null,null,null,null,null,null,null,null,null,null,null,null,null,null,null,null,null,null,null,null,null,null,null,null,null,null,null,null,null,null,null,null,null,null,null,null,null,null,null,null,null,null,null,null,null,null,null,null,null,null,null,null,null,null,null,null,null,null,null,null,null,null,null,null,null,null,null,null,null,null,null,null,null,null,null,null,null,null,null,null,null,null,null,null,null,null,null,null,null,null,null,null,null,null,null,null,null,null,null,null,null,null,null,null,null,null,null,null,null,null,null,null,null,null,null,null,null,null,null,null,null,null,null,null,null,null,null,null,null,null,null,null,null,null,null,null,null,null,null,null,null,null,null,null,null,null,null,null,null,null,null,null,null,null,null,null,null,null,null,null,null,null,null,null,null,null,null,null,null,null,null,null,null,null,null,null,null,null,null,null,null,null,null,null,null,null,null,null,"The Keeper (NE)","god of greed and death","Neutral Evil","Death","Dragonshard stone in the shape of a fang",null,null,null,null,null,null,null,null,null,null,7,"-","-","-",2,"-","-","-","-","-",4,4,null,null,null,null,null,null,null,null,null,null,null,null,null,null,null,null,null,null,null,null,null,"Long sword","No","Martial Melee",null,null,null,null,null,null,null,null,null,null,null,null,null,{"$f":"IF(LJ$1>0,$KT108,\"\")","v":""},{"$f":"IF(LK$1>0,$KT108,\"\")","v":""},null,{"$f":"IF(LM$1>0,$KT108,\"\")","v":""},null,null,null,null,null,null,null,null,null,null,null,null,null,"",{"$f":"IF(Class1=MB$5,IF(MB$1>0,$KT108,\"\"),\"\")","v":""},null,"",{"$f":"IF(Class1=ME$5,IF(ME$1>0,$KT108,\"\"),\"\")","v":""},null,null,"","",null,null,null,null,null,null,null,"",null,"",null,null,null,null,null,null,null,null,null,null,null,null,null,null,null,null,null,"",null,null,null,null,null,null,null,null,null,null,null,null,null,null,null,null,null,null,null,null,null,null,null,null,null,null,null,null,null,null,null,null,null,null,null,null,null,null,null,null,null,null,null,null,null,null,null,null,null,null,null,null,null,null,null,null,null,null,null,null,null,"",{"$f":"IF(PU108=\"\",\"\",IF(COUNTIF(PU108:$PU$125,\"><\")>1,PU108&\", \", PU108))","v":""},null,null,null,null,null,null,null,null,null,null,null,null,null,null,null,null,null,null,null,null,null,null,null,null,null,null,null,null,null,null,null,null,null,null,null,null,null,null,null,null,null,null,null,null,null,null,null,null,null,null,null,null,null,null,null,null,null,null,null,null,null,null,null,null,null,null,null,null,null,null,null,null,null,null,null,null,null,null,null,null,null,null,null,null,null,null,null,null,null,null,null,106,"Divine Word","LEVEL 7",7,"Divine Word ",{"$f":"\"\"","v":""},"",{"$f":"IF(OR(TK108=Spellcasting!$AC$18,TK108=Spellcasting!$AC$19),\"ᵐ\",\"\")","v":""},{"$f":"IF(OR(TK108=Spellcasting!$AC$20,TK108=Spellcasting!$AC$21),\"ˢ\",\"\")","v":""},{"$f":"\"\"","v":""},"1 bon","30 ft","instant","V",{"$f":"\"\"","v":""},"evocation","evoc","You utter a divine word, imbued with the power that shaped the world at the dawn of creation. Choose any number of creatures you can see within range. Each creature that can hear you must make a Charisma saving throw. On a failed save, a creature suffers an effect based on its current hit points:\n\n• 50 hit points or fewer: deafened for 1 minute \n• 40 hit points or fewer: deafened and blinded for 10 minutes \n• 30 hit points or fewer: blinded, deafened, and stunned for 1 hour \n• 20 hit points or fewer: killed instantly\n\nRegardless of its current hit points, a celestial, an elemental, a fey, or a fiend that fails its save is forced back to its plane of origin (if it isn’t there already) and can’t return to your current plane for 24 hours by any means short of a wish spell.","any that can hear, con save, effect based on HP",null,null,null,null,null,{"$f":"IF(UH$1>=$TM108,1,\"0\")","v":"0"},null,null,null,null,null,null,null,null,null,null,null,null,null,null,null,null,null,null,null,null,null,null,null,null,null,null,null,null,null,null,null,null,null,null,null,null,null,null,null,null,null,null,null,null,null,null,null,{"$f":"IF(SUM($VZ$1:$WC$1)>0,IF(AND(SUM($VZ108:$WC108)>0,$TM108=WE$1),MAX(WD$2:WD107)+1,\"\"),IF(AND(SUM($UC108:$VY108)>0,$TM108=WE$1),MAX(WD$2:WD107)+1,\"\"))","v":""},"",{"$f":"IF(AND(SUM($UB108:$VY108)>0,$TM108=WG$1),MAX(WF$2:WF107)+1,\"\")","v":""},"",{"$f":"IF(AND(SUM($UB108:$VY108)>0,$TM108=WI$1),MAX(WH$2:WH107)+1,\"\")","v":""},"",{"$f":"IF(AND(SUM($UB108:$VY108)>0,$TM108=WK$1),MAX(WJ$2:WJ107)+1,\"\")","v":""},"",{"$f":"IF(AND(SUM($UB108:$VY108)>0,$TM108=WM$1),MAX(WL$2:WL107)+1,\"\")","v":""},"",{"$f":"IF(AND(SUM($UB108:$VY108)>0,$TM108=WO$1),MAX(WN$2:WN107)+1,\"\")","v":""},"",{"$f":"IF(AND(SUM($UB108:$VY108)>0,$TM108=WQ$1),MAX(WP$2:WP107)+1,\"\")","v":""},"",{"$f":"IF(AND(SUM($UB108:$VY108)>0,$TM108=WS$1),MAX(WR$2:WR107)+1,\"\")","v":""},"",{"$f":"IF(AND(SUM($UB108:$VY108)>0,$TM108=WU$1),MAX(WT$2:WT107)+1,\"\")","v":""},"",{"$f":"IF(AND(SUM($UB108:$VY108)>0,$TM108=WW$1),MAX(WV$2:WV107)+1,\"\")","v":""},"",{"$f":"IF(AND(SUM($UB108:$VY108)>0,$TM108=WY$1),MAX(WX$2:WX107)+1,\"\")","v":""},"",null,null,null,""]
[null,null,null,null,null,null,null,null,null,null,null,null,null,null,null,null,null,null,null,null,null,null,null,null,null,null,null,null,null,null,null,null,null,null,null,null,null,null,null,null,null,null,null,null,null,null,null,null,null,null,null,null,null,null,null,null,null,null,null,null,null,null,null,null,null,null,null,null,null,null,null,null,null,null,null,null,null,null,null,null,null,null,null,null,null,null,null,null,null,null,null,null,null,null,null,null,null,null,null,null,null,null,null,null,null,null,null,null,null,null,null,null,null,null,null,null,null,null,null,null,null,null,null,null,null,null,null,null,null,null,null,null,null,null,null,null,null,null,null,null,null,null,null,null,null,null,null,null,null,null,null,null,null,null,null,null,null,null,null,null,null,null,null,null,null,null,null,null,null,null,null,null,null,null,null,null,null,null,null,null,null,null,null,null,null,null,null,null,null,null,null,null,null,null,null,null,null,null,null,null,null,null,null,null,null,null,null,null,null,null,null,null,null,null,null,null,null,null,null,null,null,null,null,null,null,null,null,null,null,null,null,null,null,null,null,null,null,null,null,null,null,null,null,null,null,null,null,null,null,null,null,null,null,null,null,null,null,"--Other Faiths of Eberron",null,null,null,null,null,null,null,null,null,null,null,null,null,null,11,"-","-","-","-",3,1,"-","-","-",6,6,null,null,null,null,null,null,null,null,null,null,null,null,null,null,null,null,null,null,null,null,null,"Rapier",{"$f":"IF(COUNTIF(KW112:PT112,\"><\"),\"Yes\",\"No\")","v":"No"},"Martial Melee",null,null,null,null,null,null,null,null,null,null,null,null,null,null,null,{"$f":"IF(LL$1>0,$KT112,\"\")","v":""},null,null,null,null,null,null,null,null,null,null,null,null,null,null,"",{"$f":"IF(Class1=MB$5,IF(MB$1>0,$KT112,\"\"),\"\")","v":""},null,"",{"$f":"IF(Class1=ME$5,IF(ME$1>0,$KT112,\"\"),\"\")","v":""},null,null,"","",null,null,null,null,null,null,null,"",null,"",null,null,null,null,null,null,null,null,null,null,null,null,null,null,null,null,null,"",null,null,null,null,null,null,null,null,null,null,null,null,null,null,null,null,null,null,null,null,null,null,null,null,null,null,null,null,null,null,null,null,null,null,null,null,null,null,null,null,null,null,null,null,null,null,null,null,null,null,null,null,null,null,null,null,null,null,null,null,null,"",{"$f":"IF(PU112=\"\",\"\",IF(COUNTIF(PU112:$PU$125,\"><\")>1,PU112&\", \", PU112))","v":""},null,null,null,null,null,null,null,null,null,null,null,null,null,null,null,null,null,null,null,null,null,null,null,null,null,null,null,null,null,null,null,null,null,null,null,null,null,null,null,null,null,null,null,null,null,null,null,null,null,null,null,null,null,null,null,null,null,null,null,null,null,null,null,null,null,null,null,null,null,null,null,null,null,null,null,null,null,null,null,null,null,null,null,null,null,null,null,null,null,null,null,110,"Drawmij's Instant Summons","LEVEL 6",6,"Drawmij's Instant Summons ",{"$f":"\"\"","v":""},"",{"$f":"IF(OR(TK112=Spellcasting!$AC$18,TK112=Spellcasting!$AC$19),\"ᵐ\",\"\")","v":""},{"$f":"IF(OR(TK112=Spellcasting!$AC$20,TK112=Spellcasting!$AC$21),\"ˢ\",\"\")","v":""},"ritual","1 min ᴿ","touch","dispelled","VSM","a sapphire worth 1,000 gp","conjuration","conjur","You touch an object weighing 10 pounds or less whose longest dimension is 6 feet or less. The spell leaves an invisible mark on its surface and invisibly inscribes the name of the item on the sapphire you use as the material component. Each time you cast this spell, you must use a different sapphire. \n\nAt any time thereafter, you can use your action to speak the item’s name and crush the sapphire. The item instantly appears in your hand regardless of physical or planar distances, and the spell ends.\n\nIf another creature is holding or carrying the item, crushing the sapphire doesn’t transport the item to you, but instead you learn who the creature possessing the object is and roughly where that creature is located at that moment. \n\nDispel magic or a similar effect successfully applied to the sapphire ends this spell’s effect.","object of 10 lbs 6ft long or less, instantly summon",null,null,null,null,null,null,null,null,null,{"$f":"IF(UL$1>=$TM112,1,\"0\")","v":"0"},null,null,null,null,null,null,null,null,null,null,null,null,null,null,null,null,null,null,null,null,null,null,null,null,null,null,null,null,null,null,null,null,null,null,null,null,null,null,null,null,null,null,null,{"$f":"IF(SUM($VZ$1:$WC$1)>0,IF(AND(SUM($VZ112:$WC112)>0,$TM112=WE$1),MAX(WD$2:WD111)+1,\"\"),IF(AND(SUM($UC112:$VY112)>0,$TM112=WE$1),MAX(WD$2:WD111)+1,\"\"))","v":""},"",{"$f":"IF(AND(SUM($UB112:$VY112)>0,$TM112=WG$1),MAX(WF$2:WF111)+1,\"\")","v":""},"",{"$f":"IF(AND(SUM($UB112:$VY112)>0,$TM112=WI$1),MAX(WH$2:WH111)+1,\"\")","v":""},"",{"$f":"IF(AND(SUM($UB112:$VY112)>0,$TM112=WK$1),MAX(WJ$2:WJ111)+1,\"\")","v":""},"",{"$f":"IF(AND(SUM($UB112:$VY112)>0,$TM112=WM$1),MAX(WL$2:WL111)+1,\"\")","v":""},"",{"$f":"IF(AND(SUM($UB112:$VY112)>0,$TM112=WO$1),MAX(WN$2:WN111)+1,\"\")","v":""},"",{"$f":"IF(AND(SUM($UB112:$VY112)>0,$TM112=WQ$1),MAX(WP$2:WP111)+1,\"\")","v":""},"",{"$f":"IF(AND(SUM($UB112:$VY112)>0,$TM112=WS$1),MAX(WR$2:WR111)+1,\"\")","v":""},"",{"$f":"IF(AND(SUM($UB112:$VY112)>0,$TM112=WU$1),MAX(WT$2:WT111)+1,\"\")","v":""},"",{"$f":"IF(AND(SUM($UB112:$VY112)>0,$TM112=WW$1),MAX(WV$2:WV111)+1,\"\")","v":""},"",{"$f":"IF(AND(SUM($UB112:$VY112)>0,$TM112=WY$1),MAX(WX$2:WX111)+1,\"\")","v":""},"",null,null,null,""]
[null,null,null,null,null,null,null,null,null,null,null,null,null,null,null,null,null,null,null,null,null,null,null,null,null,null,null,null,null,null,null,null,null,null,null,null,null,null,null,null,null,null,null,null,null,null,null,null,null,null,null,null,null,null,null,null,null,null,null,null,null,null,null,null,null,null,null,null,null,null,null,null,null,null,null,null,null,null,null,null,null,null,null,null,null,null,null,null,null,null,null,null,null,null,null,null,null,null,null,null,null,null,null,null,null,null,null,null,null,null,null,null,null,null,null,null,null,null,null,null,null,null,null,null,null,null,null,null,null,null,null,null,null,null,null,null,null,null,null,null,null,null,null,null,null,null,null,null,null,null,null,null,null,null,null,null,null,null,null,null,null,null,null,null,null,null,null,null,null,null,null,null,null,null,null,null,null,null,null,null,null,null,null,null,null,null,null,null,null,null,null,null,null,null,null,null,null,null,null,null,null,null,null,null,null,null,null,null,null,null,null,null,null,null,null,null,null,null,null,null,null,null,null,null,null,null,null,null,null,null,null,null,null,null,null,null,null,null,null,null,null,null,null,null,null,null,null,null,null,null,null,null,null,null,null,null,null,"Cults of the Dragon Below (NE)","deities of madness","Neutral Evil","Trickery","Varies",null,null,null,null,null,null,null,null,null,null,12,"-","-","-","-",3,1,"-","-","-",6,6,null,null,null,null,null,null,null,null,null,null,null,null,null,null,null,null,null,null,null,null,null,"Scimitar","No","Martial Melee",null,null,null,null,null,null,null,null,null,null,null,null,null,null,null,null,null,null,null,null,null,null,null,null,null,null,null,null,null,null,"",null,null,"",null,{"$f":"IF(Class1=MF$5,IF(MF$1>0,$KT113,\"\"),\"\")","v":""},null,"","",null,null,null,null,null,null,null,"",null,"",null,null,null,null,null,null,null,null,null,null,null,null,null,null,null,null,null,"",null,null,null,null,null,null,null,null,null,null,null,null,null,null,null,null,null,{"$f":"IF(OC$1>0,$KT113,\"\")","v":""},null,null,null,null,null,null,null,null,null,null,null,null,null,null,null,null,null,null,null,null,null,null,null,null,null,null,null,null,null,null,null,null,null,null,null,null,null,null,null,null,null,null,null,"",{"$f":"IF(PU113=\"\",\"\",IF(COUNTIF(PU113:$PU$125,\"><\")>1,PU113&\", \", PU113))","v":""},null,null,null,null,null,null,null,null,null,null,null,null,null,null,null,null,null,null,null,null,null,null,null,null,null,null,null,null,null,null,null,null,null,null,null,null,null,null,null,null,null,null,null,null,null,null,null,null,null,null,null,null,null,null,null,null,null,null,null,null,null,null,null,null,null,null,null,null,null,null,null,null,null,null,null,null,null,null,null,null,null,null,null,null,null,null,null,null,null,null,null,111,"Dream","LEVEL 5",5,"Dream ",{"$f":"\"\"","v":""},"",{"$f":"IF(OR(TK113=Spellcasting!$AC$18,TK113=Spellcasting!$AC$19),\"ᵐ\",\"\")","v":""},{"$f":"IF(OR(TK113=Spellcasting!$AC$20,TK113=Spellcasting!$AC$21),\"ˢ\",\"\")","v":""},{"$f":"\"\"","v":""},"1 min","special","8 hrs","VSM","a handful of sand, a dab of ink, and a writing quill plucked from a sleeping bird","illusion","illus","This spell shapes a creature’s dreams. Choose a creature known to you as the target of this spell. The target must be on the same plane of existence as you. Creatures that don’t sleep, such as elves, can’t be contacted by this spell. You, or a willing creature you touch, enters a trance state, acting as a messenger. While in the trance, the messenger is aware of his or her surroundings, but can’t take actions or move. \n\nIf the target is asleep, the messenger appears in the target’s dreams and can converse with the target as long as it remains asleep, through the duration of the spell. The messenger can also shape the environment of the dream, creating landscapes, objects, and other images. The messenger can emerge from the trance at any time, ending the effect of the spell early. The target recalls the dream perfectly upon waking. If the target is awake when you cast the spell, the messenger knows it, and can either end the trance (and the spell) or wait for the target to fall asleep, at which point the messenger appears in the target’s dreams. \n\nYou can make the messenger appear monstrous and terrifying to the target. If you do, the messenger can deliver a message of no more than ten words and then the target must make a Wisdom saving throw. On a failed save, echoes of the phantasmal monstrosity spawn a nightmare that lasts the duration of the target’s sleep and prevents the target from gaining any benefit from that rest. In addition, when the target wakes up, it takes 3d6 psychic damage. \n\nIf you have a body part, lock of hair, clipping from a nail, or similar portion of the target’s body, the target makes its saving throw with disadvantage.","shape a creature’s dreams, wis",{"$f":"IF(UC$1>=$TM113,1,\"0\")","v":"0"},null,null,null,{"$f":"IF(UG$1>=$TM113,1,\"0\")","v":"0"},null,null,null,null,{"$f":"IF(UL$1>=$TM113,1,\"0\")","v":"0"},null,null,null,null,null,null,null,null,null,null,null,null,null,null,null,null,null,null,null,null,null,null,null,null,{"$f":"IF(VK$1>=$TM113,1,\"0\")","v":"0"},null,null,null,null,null,null,null,null,null,null,null,null,null,null,null,null,null,null,{"$f":"IF(SUM($VZ$1:$WC$1)>0,IF(AND(SUM($VZ113:$WC113)>0,$TM113=WE$1),MAX(WD$2:WD112)+1,\"\"),IF(AND(SUM($UC113:$VY113)>0,$TM113=WE$1),MAX(WD$2:WD112)+1,\"\"))","v":""},"",{"$f":"IF(AND(SUM($UB113:$VY113)>0,$TM113=WG$1),MAX(WF$2:WF112)+1,\"\")","v":""},"",{"$f":"IF(AND(SUM($UB113:$VY113)>0,$TM113=WI$1),MAX(WH$2:WH112)+1,\"\")","v":""},"",{"$f":"IF(AND(SUM($UB113:$VY113)>0,$TM113=WK$1),MAX(WJ$2:WJ112)+1,\"\")","v":""},"",{"$f":"IF(AND(SUM($UB113:$VY113)>0,$TM113=WM$1),MAX(WL$2:WL112)+1,\"\")","v":""},"",{"$f":"IF(AND(SUM($UB113:$VY113)>0,$TM113=WO$1),MAX(WN$2:WN112)+1,\"\")","v":""},"",{"$f":"IF(AND(SUM($UB113:$VY113)>0,$TM113=WQ$1),MAX(WP$2:WP112)+1,\"\")","v":""},"",{"$f":"IF(AND(SUM($UB113:$VY113)>0,$TM113=WS$1),MAX(WR$2:WR112)+1,\"\")","v":""},"",{"$f":"IF(AND(SUM($UB113:$VY113)>0,$TM113=WU$1),MAX(WT$2:WT112)+1,\"\")","v":""},"",{"$f":"IF(AND(SUM($UB113:$VY113)>0,$TM113=WW$1),MAX(WV$2:WV112)+1,\"\")","v":""},"",{"$f":"IF(AND(SUM($UB113:$VY113)>0,$TM113=WY$1),MAX(WX$2:WX112)+1,\"\")","v":""},"",null,null,null,""]
[null,null,null,null,null,null,null,null,null,null,null,null,null,null,null,null,null,null,null,null,null,null,null,null,null,null,null,null,null,null,null,null,null,null,null,null,null,null,null,null,null,null,null,null,null,null,null,null,null,null,null,null,null,null,null,null,null,null,null,null,null,null,null,null,null,null,null,null,null,null,null,null,null,null,null,null,null,null,null,null,null,null,null,null,null,null,null,null,null,null,null,null,null,null,null,null,null,null,null,null,null,null,null,null,null,null,null,null,null,null,null,null,null,null,null,null,null,null,null,null,null,null,null,null,null,null,null,null,null,null,null,null,null,null,null,null,null,null,null,null,null,null,null,null,null,null,null,null,null,null,null,null,null,null,null,null,null,null,null,null,null,null,null,null,null,null,null,null,null,null,null,null,null,null,null,null,null,null,null,null,null,null,null,null,null,null,null,null,null,null,null,null,null,null,null,null,null,null,null,null,null,null,null,null,null,null,null,null,null,null,null,null,null,null,null,null,null,null,null,null,null,null,null,null,null,null,null,null,null,null,null,null,null,null,null,null,null,null,null,null,null,null,null,null,null,null,null,null,null,null,null,null,null,null,null,null,null,"The Undying Court (NG)","elven ancestors","Neutral Good","Knowledge, Life","Varies",null,null,null,null,null,null,null,null,null,null,17,"-","-","-","-",4,1,1,1,1,9,8,null,null,null,null,null,null,null,null,null,null,null,null,null,null,null,null,null,null,null,null,null,"Warhammer","No","Martial Melee",{"$f":"IF(KW$1>0,$KT118,\"\")","v":""},null,null,null,null,null,null,null,null,null,null,null,null,null,null,null,null,null,null,null,null,null,null,null,null,null,null,null,null,null,"",null,null,"",null,null,null,"","",null,null,null,null,null,null,null,"",null,"",null,null,null,null,null,null,null,null,null,null,null,null,null,null,null,null,null,"",null,null,null,null,null,null,null,null,null,null,null,null,null,null,null,null,null,null,null,null,null,null,null,null,null,null,null,null,null,null,null,null,null,null,null,null,null,null,null,null,null,null,null,null,null,null,null,null,null,null,null,null,null,null,null,null,null,null,null,null,null,"",{"$f":"IF(PU118=\"\",\"\",IF(COUNTIF(PU118:$PU$125,\"><\")>1,PU118&\", \", PU118))","v":""},null,null,null,null,null,null,null,null,null,null,null,null,null,null,null,null,null,null,null,null,null,null,null,null,null,null,null,null,null,null,null,null,null,null,null,null,null,null,null,null,null,null,null,null,null,null,null,null,null,null,null,null,null,null,null,null,null,null,null,null,null,null,null,null,null,null,null,null,null,null,null,null,null,null,null,null,null,null,null,null,null,null,null,null,null,null,null,null,null,null,null,116,"Enhance Ability","LEVEL 2",2,"Enhance Ability ᴴ ","ᴴ ","",{"$f":"IF(OR(TK118=Spellcasting!$AC$18,TK118=Spellcasting!$AC$19),\"ᵐ\",\"\")","v":""},{"$f":"IF(OR(TK118=Spellcasting!$AC$20,TK118=Spellcasting!$AC$21),\"ˢ\",\"\")","v":""},{"$f":"\"\"","v":""},"1 act","touch","1 hr ᶜᵒᶰ","VSM","fur or a feather from a beast","transmutation","trans","You touch a creature and bestow upon it a magical enhancement. Choose one of the following effects; the target gains that effect until the spell ends. \n\nBear’s Endurance. The target has advantage on Constitution checks. It also gains 2d6 temporary hit points, which are lost when the spell ends. \nBull’s Strength. The target has advantage on Strength checks, and his or her carrying capacity doubles. \nCat’s Grace. The target has advantage on Dexterity checks. It also doesn’t take damage from falling 20 feet or less if it isn’t incapacitated. \nEagle’s Splendor. The target has advantage on Charisma checks. \nFox’s Cunning. The target has advantage on Intelligence checks. \nOwl’s Wisdom. The target has advantage on Wisdom checks. \n\nAt Higher Levels. When you cast this spell using a spell slot of 3rd level or higher, you can target one additional creature for each slot level above 2nd.","advantage on ability check, choose one",{"$f":"IF(UC$1>=$TM118,1,\"0\")","v":"0"},null,null,{"$f":"IF(UF$1>=$TM118,1,\"0\")","v":"0"},null,{"$f":"IF(UH$1>=$TM118,1,\"0\")","v":"0"},{"$f":"IF(UI$1>=$TM118,1,\"0\")","v":"0"},null,null,null,null,null,null,null,null,null,null,null,null,null,null,null,null,null,null,null,null,null,null,null,null,null,null,null,null,null,null,null,null,null,null,null,null,null,null,null,null,null,null,null,null,null,null,{"$f":"IF(SUM($VZ$1:$WC$1)>0,IF(AND(SUM($VZ118:$WC118)>0,$TM118=WE$1),MAX(WD$2:WD117)+1,\"\"),IF(AND(SUM($UC118:$VY118)>0,$TM118=WE$1),MAX(WD$2:WD117)+1,\"\"))","v":""},"",{"$f":"IF(AND(SUM($UB118:$VY118)>0,$TM118=WG$1),MAX(WF$2:WF117)+1,\"\")","v":""},"",{"$f":"IF(AND(SUM($UB118:$VY118)>0,$TM118=WI$1),MAX(WH$2:WH117)+1,\"\")","v":""},"",{"$f":"IF(AND(SUM($UB118:$VY118)>0,$TM118=WK$1),MAX(WJ$2:WJ117)+1,\"\")","v":""},"",{"$f":"IF(AND(SUM($UB118:$VY118)>0,$TM118=WM$1),MAX(WL$2:WL117)+1,\"\")","v":""},"",{"$f":"IF(AND(SUM($UB118:$VY118)>0,$TM118=WO$1),MAX(WN$2:WN117)+1,\"\")","v":""},"",{"$f":"IF(AND(SUM($UB118:$VY118)>0,$TM118=WQ$1),MAX(WP$2:WP117)+1,\"\")","v":""},"",{"$f":"IF(AND(SUM($UB118:$VY118)>0,$TM118=WS$1),MAX(WR$2:WR117)+1,\"\")","v":""},"",{"$f":"IF(AND(SUM($UB118:$VY118)>0,$TM118=WU$1),MAX(WT$2:WT117)+1,\"\")","v":""},"",{"$f":"IF(AND(SUM($UB118:$VY118)>0,$TM118=WW$1),MAX(WV$2:WV117)+1,\"\")","v":""},"",{"$f":"IF(AND(SUM($UB118:$VY118)>0,$TM118=WY$1),MAX(WX$2:WX117)+1,\"\")","v":""},"",null,null,null,""]
[null,null,null,null,null,null,null,null,null,null,null,null,null,null,null,null,null,null,null,null,null,null,null,null,null,null,null,null,null,null,null,null,null,null,null,null,null,null,null,null,null,null,null,null,null,null,null,null,null,null,null,null,null,null,null,null,null,null,null,null,null,null,null,null,null,null,null,null,null,null,null,null,null,null,null,null,null,null,null,null,null,null,null,null,null,null,null,null,null,null,null,null,null,null,null,null,null,null,null,null,null,null,null,null,null,null,null,null,null,null,null,null,null,null,null,null,null,null,null,null,null,null,null,null,null,null,null,null,null,null,null,null,null,null,null,null,null,null,null,null,null,null,null,null,null,null,null,null,null,null,null,null,null,null,null,null,null,null,null,null,null,null,null,null,null,null,null,null,null,null,null,null,null,null,null,null,null,null,null,null,null,null,null,null,null,null,null,null,null,null,null,null,null,null,null,null,null,null,null,null,null,null,null,null,null,null,null,null,null,null,null,null,null,null,null,null,null,null,null,null,null,null,null,null,null,null,null,null,null,null,null,null,null,null,null,null,null,null,null,null,null,null,null,null,null,null,null,null,null,null,null,null,null,null,null,null,null,"Garl Glittergold (LG)","gnome god of trickery and wiles","Lawful Good","Trickery","Gold nugget",null,null,null,null,null,null,null,null,null,null,null,null,null,null,null,null,null,null,null,null,null,null,null,null,null,null,null,null,null,null,null,null,null,null,null,null,null,null,null,null,null,null,null,"Net","No","Martial Ranged",null,null,null,null,null,null,null,null,null,null,null,null,null,null,null,null,null,null,null,null,null,null,null,null,null,null,null,null,null,null,"",null,null,"",null,null,null,"","",null,null,null,null,null,null,null,"",null,"",null,null,null,null,null,null,null,null,null,null,null,null,null,null,null,null,null,"",null,null,null,null,null,null,null,null,null,null,null,null,null,null,null,null,"",null,null,null,null,null,null,null,null,null,null,null,null,null,null,null,null,null,null,null,null,null,null,null,null,null,null,null,null,null,null,null,null,null,null,null,null,null,null,null,null,null,null,null,null,"",{"$f":"IF(PU125=\"\",\"\",IF(COUNTIF(PU125:$PU$125,\"><\")>1,PU125&\", \", PU125))","v":""},null,null,null,null,null,null,null,null,null,null,null,null,null,null,null,null,null,null,null,null,null,null,null,null,null,null,null,null,null,null,null,null,null,null,null,null,null,null,null,null,null,null,null,null,null,null,null,null,null,null,null,null,null,null,null,null,null,null,null,null,null,null,null,null,null,null,null,null,null,null,null,null,null,null,null,null,null,null,null,null,null,null,null,null,null,null,null,null,null,null,null,123,"Expeditious Retreat","LEVEL 1",1,"Expeditious Retreat ",{"$f":"\"\"","v":""},"",{"$f":"IF(OR(TK125=Spellcasting!$AC$18,TK125=Spellcasting!$AC$19),\"ᵐ\",\"\")","v":""},{"$f":"IF(OR(TK125=Spellcasting!$AC$20,TK125=Spellcasting!$AC$21),\"ˢ\",\"\")","v":""},{"$f":"\"\"","v":""},"1 bon","self","10 min ᶜᵒᶰ","VS",{"$f":"\"\"","v":""},"transmutation","trans","This spell allows you to move at an incredible pace. When you cast this spell, and then as a bonus action on each of your turns until the spell ends, you can take the Dash action.","dash action as bonus action",null,null,null,{"$f":"IF(UF$1>=$TM125,1,\"0\")","v":"0"},{"$f":"IF(UG$1>=$TM125,1,\"0\")","v":"0"},null,null,null,null,{"$f":"IF(UL$1>=$TM125,1,\"0\")","v":"0"},null,null,null,null,null,null,null,null,null,null,null,null,null,null,null,null,null,null,null,null,null,null,null,null,null,null,null,null,null,null,null,null,null,null,null,null,null,null,null,null,null,null,null,{"$f":"IF(SUM($VZ$1:$WC$1)>0,IF(AND(SUM($VZ125:$WC125)>0,$TM125=WE$1),MAX(WD$2:WD124)+1,\"\"),IF(AND(SUM($UC125:$VY125)>0,$TM125=WE$1),MAX(WD$2:WD124)+1,\"\"))","v":""},"",{"$f":"IF(AND(SUM($UB125:$VY125)>0,$TM125=WG$1),MAX(WF$2:WF124)+1,\"\")","v":""},"",{"$f":"IF(AND(SUM($UB125:$VY125)>0,$TM125=WI$1),MAX(WH$2:WH124)+1,\"\")","v":""},"",{"$f":"IF(AND(SUM($UB125:$VY125)>0,$TM125=WK$1),MAX(WJ$2:WJ124)+1,\"\")","v":""},"",{"$f":"IF(AND(SUM($UB125:$VY125)>0,$TM125=WM$1),MAX(WL$2:WL124)+1,\"\")","v":""},"",{"$f":"IF(AND(SUM($UB125:$VY125)>0,$TM125=WO$1),MAX(WN$2:WN124)+1,\"\")","v":""},"",{"$f":"IF(AND(SUM($UB125:$VY125)>0,$TM125=WQ$1),MAX(WP$2:WP124)+1,\"\")","v":""},"",{"$f":"IF(AND(SUM($UB125:$VY125)>0,$TM125=WS$1),MAX(WR$2:WR124)+1,\"\")","v":""},"",{"$f":"IF(AND(SUM($UB125:$VY125)>0,$TM125=WU$1),MAX(WT$2:WT124)+1,\"\")","v":""},"",{"$f":"IF(AND(SUM($UB125:$VY125)>0,$TM125=WW$1),MAX(WV$2:WV124)+1,\"\")","v":""},"",{"$f":"IF(AND(SUM($UB125:$VY125)>0,$TM125=WY$1),MAX(WX$2:WX124)+1,\"\")","v":""},"",null,null,null,""]
[null,null,null,null,null,null,null,null,null,null,null,null,null,null,null,null,null,null,null,null,null,null,null,null,null,null,null,null,null,null,null,null,null,null,null,null,null,null,null,null,null,null,null,null,null,null,null,null,null,null,null,null,null,null,null,null,null,null,null,null,null,null,null,null,null,null,null,null,null,null,null,null,null,null,null,null,null,null,null,null,null,null,null,null,null,null,null,null,null,null,null,null,null,null,null,null,null,null,null,null,null,null,null,null,null,null,null,null,null,null,null,null,null,null,null,null,null,null,null,null,null,null,null,null,null,null,null,null,null,null,null,null,null,null,null,null,null,null,null,null,null,null,null,null,null,null,null,null,null,null,null,null,null,null,null,null,null,null,null,null,null,null,null,null,null,null,null,null,null,null,null,null,null,null,null,null,null,null,null,null,null,null,null,null,null,null,null,null,null,null,null,null,null,null,null,null,null,null,null,null,null,null,null,null,null,null,null,null,null,null,null,null,null,null,null,null,null,null,null,null,null,null,null,null,null,null,null,null,null,null,null,null,null,null,null,null,null,null,null,null,null,null,null,null,null,null,null,null,null,null,null,null,null,null,null,null,null,"Hruggek (CE)","bugbear god of violence","Chaotic Evil","War","Morningstar",null,null,null,null,null,null,null,null,null,null,null,null,null,null,null,null,null,null,null,null,null,null,null,null,null,null,null,null,null,null,null,null,null,null,null,null,null,null,null,null,null,null,null,"Attack Spell (Cha)","No","Spell",null,null,null,null,null,null,null,null,null,null,null,null,null,null,null,null,null,null,null,null,null,null,null,null,null,null,null,null,null,{"$f":"IF(LZ$1>0,$KT128,\"\")","v":""},"","","","","","","","","","","",null,null,null,null,null,null,null,null,null,null,null,null,null,null,null,null,null,null,null,null,null,null,null,null,null,null,null,null,null,null,null,null,null,null,null,null,null,null,null,null,null,null,null,null,null,null,null,null,null,null,null,null,null,null,null,null,null,null,null,null,null,null,null,null,null,null,null,null,null,null,null,null,null,null,null,null,null,null,null,null,null,null,null,null,null,null,null,"",{"$f":"IF(PU128=\"\",\"\",PU128)","v":""},null,null,null,null,null,null,null,null,null,null,null,null,null,null,null,null,null,null,null,null,null,null,null,null,null,null,null,null,null,null,null,null,null,null,null,null,null,null,null,null,null,null,null,null,null,null,null,null,null,null,null,null,null,null,null,null,null,null,null,null,null,null,null,null,null,null,null,null,null,null,null,null,null,null,null,null,null,null,null,null,null,null,null,null,null,null,null,null,null,null,null,126,"Faerie Fire","LEVEL 1",1,"Faerie Fire ",{"$f":"\"\"","v":""},"",{"$f":"IF(OR(TK128=Spellcasting!$AC$18,TK128=Spellcasting!$AC$19),\"ᵐ\",\"\")","v":""},{"$f":"IF(OR(TK128=Spellcasting!$AC$20,TK128=Spellcasting!$AC$21),\"ˢ\",\"\")","v":""},{"$f":"\"\"","v":""},"1 act","60 ft","1 min ᶜᵒᶰ","V",{"$f":"\"\"","v":""},"evocation","evoc","Each object in a 20-foot cube within range is outlined in blue, green, or violet light (your choice). Any creature in the area when the spell is cast is also outlined in light if it fails a Dexterity saving throw. For the duration, objects and affected creatures shed dim light in a 10-foot radius. \n\nAny attack roll against an affected creature or object has advantage if the attacker can see it, and the affected creature or object can’t benefit from being invisible. ","20ft cube, dex save, glowing adv to attack",{"$f":"IF(UC$1>=$TM128,1,\"0\")","v":"0"},null,null,null,null,null,{"$f":"IF(UI$1>=$TM128,1,\"0\")","v":"0"},null,null,null,null,null,null,null,null,null,null,null,null,{"$f":"IF(UV$1>=$TM128,1,\"0\")","v":"0"},null,null,null,null,{"$f":"IF(VA$1>=$TM128,1,\"0\")","v":"0"},null,null,null,null,null,null,null,null,null,null,null,null,null,null,null,null,null,null,null,null,null,null,null,null,null,null,null,null,{"$f":"IF(SUM($VZ$1:$WC$1)>0,IF(AND(SUM($VZ128:$WC128)>0,$TM128=WE$1),MAX(WD$2:WD127)+1,\"\"),IF(AND(SUM($UC128:$VY128)>0,$TM128=WE$1),MAX(WD$2:WD127)+1,\"\"))","v":""},"",{"$f":"IF(AND(SUM($UB128:$VY128)>0,$TM128=WG$1),MAX(WF$2:WF127)+1,\"\")","v":""},"",{"$f":"IF(AND(SUM($UB128:$VY128)>0,$TM128=WI$1),MAX(WH$2:WH127)+1,\"\")","v":""},"",{"$f":"IF(AND(SUM($UB128:$VY128)>0,$TM128=WK$1),MAX(WJ$2:WJ127)+1,\"\")","v":""},"",{"$f":"IF(AND(SUM($UB128:$VY128)>0,$TM128=WM$1),MAX(WL$2:WL127)+1,\"\")","v":""},"",{"$f":"IF(AND(SUM($UB128:$VY128)>0,$TM128=WO$1),MAX(WN$2:WN127)+1,\"\")","v":""},"",{"$f":"IF(AND(SUM($UB128:$VY128)>0,$TM128=WQ$1),MAX(WP$2:WP127)+1,\"\")","v":""},"",{"$f":"IF(AND(SUM($UB128:$VY128)>0,$TM128=WS$1),MAX(WR$2:WR127)+1,\"\")","v":""},"",{"$f":"IF(AND(SUM($UB128:$VY128)>0,$TM128=WU$1),MAX(WT$2:WT127)+1,\"\")","v":""},"",{"$f":"IF(AND(SUM($UB128:$VY128)>0,$TM128=WW$1),MAX(WV$2:WV127)+1,\"\")","v":""},"",{"$f":"IF(AND(SUM($UB128:$VY128)>0,$TM128=WY$1),MAX(WX$2:WX127)+1,\"\")","v":""},"",null,null,null,""]
[null,null,null,null,null,null,null,null,null,null,null,null,null,null,null,null,null,null,null,null,null,null,null,null,null,null,null,null,null,null,null,null,null,null,null,null,null,null,null,null,null,null,null,null,null,null,null,null,null,null,null,null,null,null,null,null,null,null,null,null,null,null,null,null,null,null,null,null,null,null,null,null,null,null,null,null,null,null,null,null,null,null,null,null,null,null,null,null,null,null,null,null,null,null,null,null,null,null,null,null,null,null,null,null,null,null,null,null,null,null,null,null,null,null,null,null,null,null,null,null,null,null,null,null,null,null,null,null,null,null,null,null,null,null,null,null,null,null,null,null,null,null,null,null,null,null,null,null,null,null,null,null,null,null,null,null,null,null,null,null,null,null,null,null,null,null,null,null,null,null,null,null,null,null,null,null,null,null,null,null,null,null,null,null,null,null,null,null,null,null,null,null,null,null,null,null,null,null,null,null,null,null,null,null,null,null,null,null,null,null,null,null,null,null,null,null,null,null,null,null,null,null,null,null,null,null,null,null,null,null,null,null,null,null,null,null,null,null,null,null,null,null,null,null,null,null,null,null,null,null,null,null,null,null,null,null,null,"Moradin (LG)","dwarf god of creation","Lawful Good","Knowledge","Hammer and anvil",null,null,null,null,null,null,null,null,null,null,null,null,null,null,null,null,null,null,null,null,null,null,null,null,null,null,null,null,null,null,null,null,null,null,null,null,null,null,null,null,null,null,null,null,null,null,null,null,null,null,null,null,null,null,null,null,null,null,null,null,null,null,null,null,null,null,null,null,null,null,null,null,null,null,null,null,null,null,null,null,null,null,null,null,null,null,null,null,null,null,null,null,null,null,null,null,null,null,null,null,null,null,null,null,null,null,null,null,null,null,null,null,null,null,null,null,null,null,null,null,null,null,null,null,null,null,null,null,null,null,null,null,null,null,null,null,null,null,null,null,null,null,null,null,null,null,null,null,null,null,null,null,null,null,null,null,null,null,null,null,null,null,null,null,null,null,null,null,null,null,null,null,null,null,null,null,null,null,null,null,null,null,null,null,null,null,null,null,null,null,null,null,null,null,null,null,null,null,null,null,null,null,null,null,null,null,null,null,null,null,null,null,null,null,null,null,null,null,null,null,null,null,null,null,null,null,null,null,null,null,null,null,null,null,null,null,null,null,null,null,null,null,null,null,null,null,null,null,null,null,null,null,null,null,null,null,null,null,null,null,null,null,null,null,null,null,null,131,"Feign Death","LEVEL 3",3,"Feign Death ",{"$f":"\"\"","v":""},"",{"$f":"IF(OR(TK133=Spellcasting!$AC$18,TK133=Spellcasting!$AC$19),\"ᵐ\",\"\")","v":""},{"$f":"IF(OR(TK133=Spellcasting!$AC$20,TK133=Spellcasting!$AC$21),\"ˢ\",\"\")","v":""},"ritual","1 act ᴿ","touch","1 hr","VSM","a pinch of graveyard dirt","necromancy","necro","You touch a willing creature and put it into a cataleptic state that is indistinguishable from death. \n\nFor the spell’s duration, or until you use an action to touch the target and dismiss the spell, the target appears dead to all outward inspection and to spells used to determine the target’s status. The target is blinded and incapacitated, and its speed drops to 0. The target has resistance to all damage except psychic damage. If the target is diseased or poisoned when you cast the spell, or becomes diseased or poisoned while under the spell’s effect, the disease and poison have no effect until the spell ends.","appear dead, blind, incapacitated",{"$f":"IF(UC$1>=$TM133,1,\"0\")","v":"0"},null,null,null,null,{"$f":"IF(UH$1>=$TM133,1,\"0\")","v":"0"},{"$f":"IF(UI$1>=$TM133,1,\"0\")","v":"0"},null,null,"0",null,null,null,null,null,null,null,null,null,null,null,null,null,null,null,null,null,null,null,null,null,null,null,null,null,null,null,null,null,null,null,null,null,null,null,null,null,null,null,null,null,null,null,{"$f":"IF(SUM($VZ$1:$WC$1)>0,IF(AND(SUM($VZ133:$WC133)>0,$TM133=WE$1),MAX(WD$2:WD132)+1,\"\"),IF(AND(SUM($UC133:$VY133)>0,$TM133=WE$1),MAX(WD$2:WD132)+1,\"\"))","v":""},"",{"$f":"IF(AND(SUM($UB133:$VY133)>0,$TM133=WG$1),MAX(WF$2:WF132)+1,\"\")","v":""},"",{"$f":"IF(AND(SUM($UB133:$VY133)>0,$TM133=WI$1),MAX(WH$2:WH132)+1,\"\")","v":""},"",{"$f":"IF(AND(SUM($UB133:$VY133)>0,$TM133=WK$1),MAX(WJ$2:WJ132)+1,\"\")","v":""},"",{"$f":"IF(AND(SUM($UB133:$VY133)>0,$TM133=WM$1),MAX(WL$2:WL132)+1,\"\")","v":""},"",{"$f":"IF(AND(SUM($UB133:$VY133)>0,$TM133=WO$1),MAX(WN$2:WN132)+1,\"\")","v":""},"",{"$f":"IF(AND(SUM($UB133:$VY133)>0,$TM133=WQ$1),MAX(WP$2:WP132)+1,\"\")","v":""},"",{"$f":"IF(AND(SUM($UB133:$VY133)>0,$TM133=WS$1),MAX(WR$2:WR132)+1,\"\")","v":""},"",{"$f":"IF(AND(SUM($UB133:$VY133)>0,$TM133=WU$1),MAX(WT$2:WT132)+1,\"\")","v":""},"",{"$f":"IF(AND(SUM($UB133:$VY133)>0,$TM133=WW$1),MAX(WV$2:WV132)+1,\"\")","v":""},"",{"$f":"IF(AND(SUM($UB133:$VY133)>0,$TM133=WY$1),MAX(WX$2:WX132)+1,\"\")","v":""},"",null,null,null,""]
[null,null,null,null,null,null,null,null,null,null,null,null,null,null,null,null,null,null,null,null,null,null,null,null,null,null,null,null,null,null,null,null,null,null,null,null,null,null,null,null,null,null,null,null,null,null,null,null,null,null,null,null,null,null,null,null,null,null,null,null,null,null,null,null,null,null,null,null,null,null,null,null,null,null,null,null,null,null,null,null,null,null,null,null,null,null,null,null,null,null,null,null,null,null,null,null,null,null,null,null,null,null,null,null,null,null,null,null,null,null,null,null,null,null,null,null,null,null,null,null,null,null,null,null,null,null,null,null,null,null,null,null,null,null,null,null,null,null,null,null,null,null,null,null,null,null,null,null,null,null,null,null,null,null,null,null,null,null,null,null,null,null,null,null,null,null,null,null,null,null,null,null,null,null,null,null,null,null,null,null,null,null,null,null,null,null,null,null,null,null,null,null,null,null,null,null,null,null,null,null,null,null,null,null,null,null,null,null,null,null,null,null,null,null,null,null,null,null,null,null,null,null,null,null,null,null,null,null,null,null,null,null,null,null,null,null,null,null,null,null,null,null,null,null,null,null,null,null,null,null,null,null,null,null,null,null,null,"Skerrit (N)","centaur and satyr god of nature","Neutral","Nature","Oak growing from acorn",null,null,null,null,null,null,null,null,null,null,null,null,null,null,null,null,null,null,null,null,null,null,null,null,null,null,null,null,null,null,null,null,null,null,null,null,null,null,null,null,null,null,null,null,null,null,null,null,null,null,null,null,null,null,null,null,null,null,null,null,null,null,null,null,null,null,null,null,null,null,null,null,null,null,null,null,null,null,null,null,null,null,null,null,null,null,null,null,null,null,null,null,null,null,null,null,null,null,null,null,null,null,null,null,null,null,null,null,null,null,null,null,null,null,null,null,null,null,null,null,null,null,null,null,null,null,null,null,null,null,null,null,null,null,null,null,null,null,null,null,null,null,null,null,null,null,null,null,null,null,null,null,null,null,null,null,null,null,null,null,null,null,null,null,null,null,null,null,null,null,null,null,null,null,null,null,null,null,null,null,null,null,null,null,null,null,null,null,null,null,null,null,null,null,null,null,null,null,null,null,null,null,null,null,null,null,null,null,null,null,null,null,null,null,null,null,null,null,null,null,null,null,null,null,null,null,null,null,null,null,null,null,null,null,null,null,null,null,null,null,null,null,null,null,null,null,null,null,null,null,null,null,null,null,null,null,null,null,null,null,null,null,null,null,null,null,null,136,"Finger of Death","LEVEL 7",7,"Finger of Death ",{"$f":"\"\"","v":""},"",{"$f":"IF(OR(TK138=Spellcasting!$AC$18,TK138=Spellcasting!$AC$19),\"ᵐ\",\"\")","v":""},{"$f":"IF(OR(TK138=Spellcasting!$AC$20,TK138=Spellcasting!$AC$21),\"ˢ\",\"\")","v":""},{"$f":"\"\"","v":""},"1 act","60 ft","instant","VS",{"$f":"\"\"","v":""},"necromancy","necro","You send negative energy coursing through a creature that you can see within range, causing it searing pain. The target must make a Constitution saving throw. It takes 7d8+30 necrotic damage on a failed save, or half as much damage on a successful one. \n\nA humanoid killed by this spell rises at the start of your next turn as a zombie that is permanently under your command, following your verbal orders to the best of its ability.","7d8+30 necrotic, con save ½",null,null,null,{"$f":"IF(UF$1>=$TM138,1,\"0\")","v":"0"},{"$f":"IF(UG$1>=$TM138,1,\"0\")","v":"0"},null,null,null,null,{"$f":"IF(UL$1>=$TM138,1,\"0\")","v":"0"},null,null,null,null,null,null,null,null,null,null,null,null,null,null,null,null,null,null,null,null,null,null,null,null,null,null,null,null,null,null,null,null,null,null,null,null,null,null,null,null,null,null,null,{"$f":"IF(SUM($VZ$1:$WC$1)>0,IF(AND(SUM($VZ138:$WC138)>0,$TM138=WE$1),MAX(WD$2:WD137)+1,\"\"),IF(AND(SUM($UC138:$VY138)>0,$TM138=WE$1),MAX(WD$2:WD137)+1,\"\"))","v":""},"",{"$f":"IF(AND(SUM($UB138:$VY138)>0,$TM138=WG$1),MAX(WF$2:WF137)+1,\"\")","v":""},"",{"$f":"IF(AND(SUM($UB138:$VY138)>0,$TM138=WI$1),MAX(WH$2:WH137)+1,\"\")","v":""},"",{"$f":"IF(AND(SUM($UB138:$VY138)>0,$TM138=WK$1),MAX(WJ$2:WJ137)+1,\"\")","v":""},"",{"$f":"IF(AND(SUM($UB138:$VY138)>0,$TM138=WM$1),MAX(WL$2:WL137)+1,\"\")","v":""},"",{"$f":"IF(AND(SUM($UB138:$VY138)>0,$TM138=WO$1),MAX(WN$2:WN137)+1,\"\")","v":""},"",{"$f":"IF(AND(SUM($UB138:$VY138)>0,$TM138=WQ$1),MAX(WP$2:WP137)+1,\"\")","v":""},"",{"$f":"IF(AND(SUM($UB138:$VY138)>0,$TM138=WS$1),MAX(WR$2:WR137)+1,\"\")","v":""},"",{"$f":"IF(AND(SUM($UB138:$VY138)>0,$TM138=WU$1),MAX(WT$2:WT137)+1,\"\")","v":""},"",{"$f":"IF(AND(SUM($UB138:$VY138)>0,$TM138=WW$1),MAX(WV$2:WV137)+1,\"\")","v":""},"",{"$f":"IF(AND(SUM($UB138:$VY138)>0,$TM138=WY$1),MAX(WX$2:WX137)+1,\"\")","v":""},"",null,null,null,""]
[null,null,null,null,null,null,null,null,null,null,null,null,null,null,null,null,null,null,null,null,null,null,null,null,null,null,null,null,null,null,null,null,null,null,null,null,null,null,null,null,null,null,null,null,null,null,null,null,null,null,null,null,null,null,null,null,null,null,null,null,null,null,null,null,null,null,null,null,null,null,null,null,null,null,null,null,null,null,null,null,null,null,null,null,null,null,null,null,null,null,null,null,null,null,null,null,null,null,null,null,null,null,null,null,null,null,null,null,null,null,null,null,null,null,null,null,null,null,null,null,null,null,null,null,null,null,null,null,null,null,null,null,null,null,null,null,null,null,null,null,null,null,null,null,null,null,null,null,null,null,null,null,null,null,null,null,null,null,null,null,null,null,null,null,null,null,null,null,null,null,null,null,null,null,null,null,null,null,null,null,null,null,null,null,null,null,null,null,null,null,null,null,null,null,null,null,null,null,null,null,null,null,null,null,null,null,null,null,null,null,null,null,null,null,null,null,null,null,null,null,null,null,null,null,null,null,null,null,null,null,null,null,null,null,null,null,null,null,null,null,null,null,null,null,null,null,null,null,null,null,null,null,null,null,null,null,null,"Yondalla (LG)","halfling goddess of fertility and protection","Lawful Good","Life","Shield",null,null,null,null,null,null,null,null,null,null,null,null,null,null,null,null,null,null,null,null,null,null,null,null,null,null,null,null,null,null,null,null,null,null,null,null,null,null,null,null,null,null,null,null,null,null,null,null,null,null,null,null,null,null,null,null,null,null,null,null,null,null,null,null,null,null,null,null,null,null,null,null,null,null,null,null,null,null,null,null,null,null,null,null,null,null,null,null,null,null,null,null,null,null,null,null,null,null,null,null,null,null,null,null,null,null,null,null,null,null,null,null,null,null,null,null,null,null,null,null,null,null,null,null,null,null,null,null,null,null,null,null,null,null,null,null,null,null,null,null,null,null,null,null,null,null,null,null,null,null,null,null,null,null,null,null,null,null,null,null,null,null,null,null,null,null,null,null,null,null,null,null,null,null,null,null,null,null,null,null,null,null,null,null,null,null,null,null,null,null,null,null,null,null,null,null,null,null,null,null,null,null,null,null,null,null,null,null,null,null,null,null,null,null,null,null,null,null,null,null,null,null,null,null,null,null,null,null,null,null,null,null,null,null,null,null,null,null,null,null,null,null,null,null,null,null,null,null,null,null,null,null,null,null,null,null,null,null,null,null,null,null,null,null,null,null,null,141,"Flame Blade","LEVEL 2",2,"Flame Blade ᴴ ","ᴴ ","",{"$f":"IF(OR(TK143=Spellcasting!$AC$18,TK143=Spellcasting!$AC$19),\"ᵐ\",\"\")","v":""},{"$f":"IF(OR(TK143=Spellcasting!$AC$20,TK143=Spellcasting!$AC$21),\"ˢ\",\"\")","v":""},{"$f":"\"\"","v":""},"1 bon","self","10 min ᶜᵒᶰ","VSM","leaf of sumac","evocation","evoc","You evoke a fiery blade in your free hand. The blade is similar in size and shape to a scimitar, and it lasts for the duration. If you let go of the blade, it disappears, but you can evoke the blade again as a bonus action. \n\nYou can use your action to make a melee spell attack with the fiery blade. On a hit, the target takes 3d6 fire damage. The flaming blade sheds bright light in a 10-foot radius and dim light for an additional 10 feet. \n\nAt Higher Levels. When you cast this spell using a spell slot of 4th level or higher, the damage increases by 1d6 for every two slot levels above 2nd.\n","melee, 3d6 fire, 20ft rad light",null,null,null,null,null,null,{"$f":"IF(UI$1>=$TM143,1,\"0\")","v":"0"},null,null,null,null,null,null,null,null,null,null,null,null,null,null,null,null,null,null,null,null,null,null,null,null,null,null,null,null,null,null,null,null,null,null,null,null,null,null,null,null,null,null,null,null,null,null,{"$f":"IF(SUM($VZ$1:$WC$1)>0,IF(AND(SUM($VZ143:$WC143)>0,$TM143=WE$1),MAX(WD$2:WD142)+1,\"\"),IF(AND(SUM($UC143:$VY143)>0,$TM143=WE$1),MAX(WD$2:WD142)+1,\"\"))","v":""},"",{"$f":"IF(AND(SUM($UB143:$VY143)>0,$TM143=WG$1),MAX(WF$2:WF142)+1,\"\")","v":""},"",{"$f":"IF(AND(SUM($UB143:$VY143)>0,$TM143=WI$1),MAX(WH$2:WH142)+1,\"\")","v":""},"",{"$f":"IF(AND(SUM($UB143:$VY143)>0,$TM143=WK$1),MAX(WJ$2:WJ142)+1,\"\")","v":""},"",{"$f":"IF(AND(SUM($UB143:$VY143)>0,$TM143=WM$1),MAX(WL$2:WL142)+1,\"\")","v":""},"",{"$f":"IF(AND(SUM($UB143:$VY143)>0,$TM143=WO$1),MAX(WN$2:WN142)+1,\"\")","v":""},"",{"$f":"IF(AND(SUM($UB143:$VY143)>0,$TM143=WQ$1),MAX(WP$2:WP142)+1,\"\")","v":""},"",{"$f":"IF(AND(SUM($UB143:$VY143)>0,$TM143=WS$1),MAX(WR$2:WR142)+1,\"\")","v":""},"",{"$f":"IF(AND(SUM($UB143:$VY143)>0,$TM143=WU$1),MAX(WT$2:WT142)+1,\"\")","v":""},"",{"$f":"IF(AND(SUM($UB143:$VY143)>0,$TM143=WW$1),MAX(WV$2:WV142)+1,\"\")","v":""},"",{"$f":"IF(AND(SUM($UB143:$VY143)>0,$TM143=WY$1),MAX(WX$2:WX142)+1,\"\")","v":""},"",null,null,null,""]
[null,null,null,null,null,null,null,null,null,null,null,null,null,null,null,null,null,null,null,null,null,null,null,null,null,null,null,null,null,null,null,null,null,null,null,null,null,null,null,null,null,null,null,null,null,null,null,null,null,null,null,null,null,null,null,null,null,null,null,null,null,null,null,null,null,null,null,null,null,null,null,null,null,null,null,null,null,null,null,null,null,null,null,null,null,null,null,null,null,null,null,null,null,null,null,null,null,null,null,null,null,null,null,null,null,null,null,null,null,null,null,null,null,null,null,null,null,null,null,null,null,null,null,null,null,null,null,null,null,null,null,null,null,null,null,null,null,null,null,null,null,null,null,null,null,null,null,null,null,null,null,null,null,null,null,null,null,null,null,null,null,null,null,null,null,null,null,null,null,null,null,null,null,null,null,null,null,null,null,null,null,null,null,null,null,null,null,null,null,null,null,null,null,null,null,null,null,null,null,null,null,null,null,null,null,null,null,null,null,null,null,null,null,null,null,null,null,null,null,null,null,null,null,null,null,null,null,null,null,null,null,null,null,null,null,null,null,null,null,null,null,null,null,null,null,null,null,null,null,null,null,null,null,null,null,null,null,null,null,null,null,null,null,null,null,null,null,null,null,null,null,null,null,null,null,null,null,null,null,null,null,null,null,null,null,null,null,null,null,null,null,null,null,null,null,null,null,null,null,null,null,null,null,null,null,null,null,null,null,null,null,null,null,null,null,null,null,null,null,null,null,null,null,null,null,null,null,null,null,null,null,null,null,null,null,null,null,null,null,null,null,null,null,null,null,null,null,null,null,null,null,null,null,null,null,null,null,null,null,null,null,null,null,null,null,null,null,null,null,null,null,null,null,null,null,null,null,null,null,null,null,null,null,null,null,null,null,null,null,null,null,null,null,null,null,null,null,null,null,null,null,null,null,null,null,null,null,null,null,null,null,null,null,null,null,null,null,null,null,null,null,null,null,null,null,null,null,null,null,null,null,null,null,null,null,null,null,null,null,null,null,null,null,null,null,null,null,null,null,null,null,null,null,null,null,null,null,null,null,null,null,null,null,null,null,null,null,null,null,null,null,null,null,null,null,null,null,null,null,null,null,null,null,null,null,null,null,null,null,null,null,null,null,null,null,null,null,null,null,null,null,null,null,null,null,null,null,null,null,null,null,null,null,null,null,null,null,null,null,null,null,null,null,null,null,null,null,null,null,147,"Forbiddance","LEVEL 6",6,"Forbiddance ",{"$f":"\"\"","v":""},"",{"$f":"IF(OR(TK149=Spellcasting!$AC$18,TK149=Spellcasting!$AC$19),\"ᵐ\",\"\")","v":""},{"$f":"IF(OR(TK149=Spellcasting!$AC$20,TK149=Spellcasting!$AC$21),\"ˢ\",\"\")","v":""},"ritual","10 min ᴿ","touch","1 day","VSM","a sprinkling of holy water, rare incense, and powered ruby worth at least 1,000 gp","abjuration","abjur","You create a ward against magical travel that protects up to 40,000 square feet of floor space to a height of 30 feet above the floor. For the duration, creatures can’t teleport into the area or use portals, such as those created by the gate spell, to enter the area. The spell proofs the area against planar travel, and therefore prevents creatures from accessing the area by way of the Astral Plane, Ethereal Plane, Feywild, Shadowfell, or the plane shift spell. \n\nIn addition, the spell damages types of creatures that you choose when you cast it. Choose one or more of the following: celestials, elementals, fey, fiends, and undead. When a chosen creature enters the spell’s area for the first time on a turn or starts its turn there, the creature takes 5d10 radiant or necrotic damage (your choice when you cast this spell). \n\nWhen you cast this spell, you can designate a password. A creature that speaks the password as it enters the area takes no damage from the spell. \n\nThe spell’s area can't overlap with the area of another forbiddance spell. If you cast forbiddance every day for 30 days in the same location, the spell lasts until it is dispelled, and the material components are consumed on the last casting.","40,000sqft, 5d10 radiant or necrotic, choose creature",null,null,null,null,null,{"$f":"IF(UH$1>=$TM149,1,\"0\")","v":"0"},null,null,null,null,null,null,null,null,null,null,null,null,null,null,null,null,null,null,null,null,null,null,null,null,null,null,null,null,null,null,null,null,null,null,null,null,null,null,null,null,null,null,null,null,null,null,null,{"$f":"IF(SUM($VZ$1:$WC$1)>0,IF(AND(SUM($VZ149:$WC149)>0,$TM149=WE$1),MAX(WD$2:WD148)+1,\"\"),IF(AND(SUM($UC149:$VY149)>0,$TM149=WE$1),MAX(WD$2:WD148)+1,\"\"))","v":""},"",{"$f":"IF(AND(SUM($UB149:$VY149)>0,$TM149=WG$1),MAX(WF$2:WF148)+1,\"\")","v":""},"",{"$f":"IF(AND(SUM($UB149:$VY149)>0,$TM149=WI$1),MAX(WH$2:WH148)+1,\"\")","v":""},"",{"$f":"IF(AND(SUM($UB149:$VY149)>0,$TM149=WK$1),MAX(WJ$2:WJ148)+1,\"\")","v":""},"",{"$f":"IF(AND(SUM($UB149:$VY149)>0,$TM149=WM$1),MAX(WL$2:WL148)+1,\"\")","v":""},"",{"$f":"IF(AND(SUM($UB149:$VY149)>0,$TM149=WO$1),MAX(WN$2:WN148)+1,\"\")","v":""},"",{"$f":"IF(AND(SUM($UB149:$VY149)>0,$TM149=WQ$1),MAX(WP$2:WP148)+1,\"\")","v":""},"",{"$f":"IF(AND(SUM($UB149:$VY149)>0,$TM149=WS$1),MAX(WR$2:WR148)+1,\"\")","v":""},"",{"$f":"IF(AND(SUM($UB149:$VY149)>0,$TM149=WU$1),MAX(WT$2:WT148)+1,\"\")","v":""},"",{"$f":"IF(AND(SUM($UB149:$VY149)>0,$TM149=WW$1),MAX(WV$2:WV148)+1,\"\")","v":""},"",{"$f":"IF(AND(SUM($UB149:$VY149)>0,$TM149=WY$1),MAX(WX$2:WX148)+1,\"\")","v":""},"",null,null,null,{"$f":"IF(ISERROR(VLOOKUP($WZ150,$WH$1:$WI$5013,2,FALSE)),\"\",VLOOKUP($WZ150,$WH$1:$WI$5013,2,FALSE))","v":""}]
[null,null,null,null,null,null,null,null,null,null,null,null,null,null,null,null,null,null,null,null,null,null,null,null,null,null,null,null,null,null,null,null,null,null,null,null,null,null,null,null,null,null,null,null,null,null,null,null,null,null,null,null,null,null,null,null,null,null,null,null,null,null,null,null,null,null,null,null,null,null,null,null,null,null,null,null,null,null,null,null,null,null,null,null,null,null,null,null,null,null,null,null,null,null,null,null,null,null,null,null,null,null,null,null,null,null,null,null,null,null,null,null,null,null,null,null,null,null,null,null,null,null,null,null,null,null,null,null,null,null,null,null,null,null,null,null,null,null,null,null,null,null,null,null,null,null,null,null,null,null,null,null,null,null,null,null,null,null,null,null,null,null,null,null,null,null,null,null,null,null,null,null,null,null,null,null,null,null,null,null,null,null,null,null,null,null,null,null,null,null,null,null,null,null,null,null,null,null,null,null,null,null,null,null,null,null,null,null,null,null,null,null,null,null,null,null,null,null,null,null,null,null,null,null,null,null,null,null,null,null,null,null,null,null,null,null,null,null,null,null,null,null,null,null,null,null,null,null,null,null,null,null,null,null,null,null,null,null,null,null,null,null,null,null,null,null,null,null,null,null,null,null,null,null,null,null,null,null,null,null,null,null,null,null,null,null,null,null,null,null,null,null,null,null,null,null,null,null,null,null,null,null,null,null,null,null,null,null,null,null,null,null,null,null,null,null,null,null,null,null,null,null,null,null,null,null,null,null,null,null,null,null,null,null,null,null,null,null,null,null,null,null,null,null,null,null,null,null,null,null,null,null,null,null,null,null,null,null,null,null,null,null,null,null,null,null,null,null,null,null,null,null,null,null,null,null,null,null,null,null,null,null,null,null,null,null,null,null,null,null,null,null,null,null,null,null,null,null,null,null,null,null,null,null,null,null,null,null,null,null,null,null,null,null,null,null,null,null,null,null,null,null,null,null,null,null,null,null,null,null,null,null,null,null,null,null,null,null,null,null,null,null,null,null,null,null,null,null,null,null,null,null,null,null,null,null,null,null,null,null,null,null,null,null,null,null,null,null,null,null,null,null,null,null,null,null,null,null,null,null,null,null,null,null,null,null,null,null,null,null,null,null,null,null,null,null,null,null,null,null,null,null,null,null,null,null,null,null,null,null,null,null,null,null,null,null,null,null,null,null,null,null,null,null,null,null,null,null,null,151,"Friends","CANTRIP",0.5,"Friends ",{"$f":"\"\"","v":""},"",{"$f":"IF(OR(TK153=Spellcasting!$AC$18,TK153=Spellcasting!$AC$19),\"ᵐ\",\"\")","v":""},{"$f":"IF(OR(TK153=Spellcasting!$AC$20,TK153=Spellcasting!$AC$21),\"ˢ\",\"\")","v":""},{"$f":"\"\"","v":""},"1 act","self","1 min ᶜᵒᶰ","SM","a small amount of makeup applied to the face as this spell is cast","enchantment","ench","For the duration, you have advantage on all Charisma checks directed at one creature of your choice that isn’t hostile toward you. When the spell ends, the creature realizes that you used magic to influence its mood and becomes hostile toward you. A creature prone to violence might attack you. Another creature might seek retribution in other ways (at the DM’s discretion), depending on the nature of your interaction with it."," adv cha checks 1 creature ",{"$f":"IF(UC$1>=$TM153,1,\"0\")","v":"0"},null,null,{"$f":"IF(UF$1>=$TM153,1,\"0\")","v":"0"},{"$f":"IF(UG$1>=$TM153,1,\"0\")","v":"0"},null,null,null,null,{"$f":"IF(UL$1>=$TM153,1,\"0\")","v":"0"},null,null,null,null,null,null,null,null,null,null,null,null,null,null,null,null,null,null,null,null,null,null,null,null,null,null,null,null,null,{"$f":"IF(VP$1>=$TM153,1,\"0\")","v":"0"},{"$f":"IF(VQ$1>=$TM153,1,\"0\")","v":"0"},null,null,null,null,null,null,null,null,null,null,{"$f":"IF(WB$1>=$TM153,1,\"0\")","v":"0"},null,{"$f":"IF(SUM($VZ$1:$WC$1)>0,IF(AND(SUM($VZ153:$WC153)>0,$TM153=WE$1),MAX(WD$2:WD152)+1,\"\"),IF(AND(SUM($UC153:$VY153)>0,$TM153=WE$1),MAX(WD$2:WD152)+1,\"\"))","v":""},"",{"$f":"IF(AND(SUM($UB153:$VY153)>0,$TM153=WG$1),MAX(WF$2:WF152)+1,\"\")","v":""},"",{"$f":"IF(AND(SUM($UB153:$VY153)>0,$TM153=WI$1),MAX(WH$2:WH152)+1,\"\")","v":""},"",{"$f":"IF(AND(SUM($UB153:$VY153)>0,$TM153=WK$1),MAX(WJ$2:WJ152)+1,\"\")","v":""},"",{"$f":"IF(AND(SUM($UB153:$VY153)>0,$TM153=WM$1),MAX(WL$2:WL152)+1,\"\")","v":""},"",{"$f":"IF(AND(SUM($UB153:$VY153)>0,$TM153=WO$1),MAX(WN$2:WN152)+1,\"\")","v":""},"",{"$f":"IF(AND(SUM($UB153:$VY153)>0,$TM153=WQ$1),MAX(WP$2:WP152)+1,\"\")","v":""},"",{"$f":"IF(AND(SUM($UB153:$VY153)>0,$TM153=WS$1),MAX(WR$2:WR152)+1,\"\")","v":""},"",{"$f":"IF(AND(SUM($UB153:$VY153)>0,$TM153=WU$1),MAX(WT$2:WT152)+1,\"\")","v":""},"",{"$f":"IF(AND(SUM($UB153:$VY153)>0,$TM153=WW$1),MAX(WV$2:WV152)+1,\"\")","v":""},"",{"$f":"IF(AND(SUM($UB153:$VY153)>0,$TM153=WY$1),MAX(WX$2:WX152)+1,\"\")","v":""},"",null,null,null,""]
[null,null,null,null,null,null,null,null,null,null,null,null,null,null,null,null,null,null,null,null,null,null,null,null,null,null,null,null,null,null,null,null,null,null,null,null,null,null,null,null,null,null,null,null,null,null,null,null,null,null,null,null,null,null,null,null,null,null,null,null,null,null,null,null,null,null,null,null,null,null,null,null,null,null,null,null,null,null,null,null,null,null,null,null,null,null,null,null,null,null,null,null,null,null,null,null,null,null,null,null,null,null,null,null,null,null,null,null,null,null,null,null,null,null,null,null,null,null,null,null,null,null,null,null,null,null,null,null,null,null,null,null,null,null,null,null,null,null,null,null,null,null,null,null,null,null,null,null,null,null,null,null,null,null,null,null,null,null,null,null,null,null,null,null,null,null,null,null,null,null,null,null,null,null,null,null,null,null,null,null,null,null,null,null,null,null,null,null,null,null,null,null,null,null,null,null,null,null,null,null,null,null,null,null,null,null,null,null,null,null,null,null,null,null,null,null,null,null,null,null,null,null,null,null,null,null,null,null,null,null,null,null,null,null,null,null,null,null,null,null,null,null,null,null,null,null,null,null,null,null,null,null,null,null,null,null,null,null,null,null,null,null,null,null,null,null,null,null,null,null,null,null,null,null,null,null,null,null,null,null,null,null,null,null,null,null,null,null,null,null,null,null,null,null,null,null,null,null,null,null,null,null,null,null,null,null,null,null,null,null,null,null,null,null,null,null,null,null,null,null,null,null,null,null,null,null,null,null,null,null,null,null,null,null,null,null,null,null,null,null,null,null,null,null,null,null,null,null,null,null,null,null,null,null,null,null,null,null,null,null,null,null,null,null,null,null,null,null,null,null,null,null,null,null,null,null,null,null,null,null,null,null,null,null,null,null,null,null,null,null,null,null,null,null,null,null,null,null,null,null,null,null,null,null,null,null,null,null,null,null,null,null,null,null,null,null,null,null,null,null,null,null,null,null,null,null,null,null,null,null,null,null,null,null,null,null,null,null,null,null,null,null,null,null,null,null,null,null,null,null,null,null,null,null,null,null,null,null,null,null,null,null,null,null,null,null,null,null,null,null,null,null,null,null,null,null,null,null,null,null,null,null,null,null,null,null,null,null,null,null,null,null,null,null,null,null,null,null,null,null,null,null,null,null,null,null,null,null,null,null,null,null,null,null,null,null,null,null,null,null,null,null,null,null,null,null,null,null,null,156,"Giant Insect","LEVEL 4",4,"Giant Insect ",{"$f":"\"\"","v":""},"",{"$f":"IF(OR(TK158=Spellcasting!$AC$18,TK158=Spellcasting!$AC$19),\"ᵐ\",\"\")","v":""},{"$f":"IF(OR(TK158=Spellcasting!$AC$20,TK158=Spellcasting!$AC$21),\"ˢ\",\"\")","v":""},{"$f":"\"\"","v":""},"1 act","30 ft","10 min ᶜᵒᶰ","VS",null,"transmutation","trans","You transform up to ten centipedes, three spiders, five wasps, or one scorpion within range into giant versions of their natural forms for the duration. A centipede becomes a giant centipede, a spider becomes a giant spider, a wasp becomes a giant wasp, and a scorpion becomes a giant scorpion. \n\nEach creature obeys your verbal commands, and in combat, they act on your turn each round. The DM has the statistics for these creatures and resolves their actions and movement. \n\nA creature remains in its giant size for the duration, until it drops to 0 hit points, or until you use an action to dismiss the effect on it. \n\nThe DM might allow you to choose different targets. For example, if you transform a bee, its giant version might have the same statistics as a giant wasp.","transform 10 centipedes, 3 spiders, 5 wasps, or 1 scorpion",null,null,null,null,null,null,{"$f":"IF(UI$1>=$TM158,1,\"0\")","v":"0"},null,null,null,null,null,null,null,null,null,null,null,null,null,null,null,null,null,null,null,null,null,null,null,null,null,null,null,null,null,null,null,null,null,null,null,null,null,null,null,null,null,null,null,null,null,null,{"$f":"IF(SUM($VZ$1:$WC$1)>0,IF(AND(SUM($VZ158:$WC158)>0,$TM158=WE$1),MAX(WD$2:WD157)+1,\"\"),IF(AND(SUM($UC158:$VY158)>0,$TM158=WE$1),MAX(WD$2:WD157)+1,\"\"))","v":""},"",{"$f":"IF(AND(SUM($UB158:$VY158)>0,$TM158=WG$1),MAX(WF$2:WF157)+1,\"\")","v":""},"",{"$f":"IF(AND(SUM($UB158:$VY158)>0,$TM158=WI$1),MAX(WH$2:WH157)+1,\"\")","v":""},"",{"$f":"IF(AND(SUM($UB158:$VY158)>0,$TM158=WK$1),MAX(WJ$2:WJ157)+1,\"\")","v":""},"",{"$f":"IF(AND(SUM($UB158:$VY158)>0,$TM158=WM$1),MAX(WL$2:WL157)+1,\"\")","v":""},"",{"$f":"IF(AND(SUM($UB158:$VY158)>0,$TM158=WO$1),MAX(WN$2:WN157)+1,\"\")","v":""},"",{"$f":"IF(AND(SUM($UB158:$VY158)>0,$TM158=WQ$1),MAX(WP$2:WP157)+1,\"\")","v":""},"",{"$f":"IF(AND(SUM($UB158:$VY158)>0,$TM158=WS$1),MAX(WR$2:WR157)+1,\"\")","v":""},"",{"$f":"IF(AND(SUM($UB158:$VY158)>0,$TM158=WU$1),MAX(WT$2:WT157)+1,\"\")","v":""},"",{"$f":"IF(AND(SUM($UB158:$VY158)>0,$TM158=WW$1),MAX(WV$2:WV157)+1,\"\")","v":""},"",{"$f":"IF(AND(SUM($UB158:$VY158)>0,$TM158=WY$1),MAX(WX$2:WX157)+1,\"\")","v":""},"",null,null,null,""]
[null,null,null,null,null,null,null,null,null,null,null,null,null,null,null,null,null,null,null,null,null,null,null,null,null,null,null,null,null,null,null,null,null,null,null,null,null,null,null,null,null,null,null,null,null,null,null,null,null,null,null,null,null,null,null,null,null,null,null,null,null,null,null,null,null,null,null,null,null,null,null,null,null,null,null,null,null,null,null,null,null,null,null,null,null,null,null,null,null,null,null,null,null,null,null,null,null,null,null,null,null,null,null,null,null,null,null,null,null,null,null,null,null,null,null,null,null,null,null,null,null,null,null,null,null,null,null,null,null,null,null,null,null,null,null,null,null,null,null,null,null,null,null,null,null,null,null,null,null,null,null,null,null,null,null,null,null,null,null,null,null,null,null,null,null,null,null,null,null,null,null,null,null,null,null,null,null,null,null,null,null,null,null,null,null,null,null,null,null,null,null,null,null,null,null,null,null,null,null,null,null,null,null,null,null,null,null,null,null,null,null,null,null,null,null,null,null,null,null,null,null,null,null,null,null,null,null,null,null,null,null,null,null,null,null,null,null,null,null,null,null,null,null,null,null,null,null,null,null,null,null,null,null,null,null,null,null,null,null,null,null,null,null,null,null,null,null,null,null,null,null,null,null,null,null,null,null,null,null,null,null,null,null,null,null,null,null,null,null,null,null,null,null,null,null,null,null,null,null,null,null,null,null,null,null,null,null,null,null,null,null,null,null,null,null,null,null,null,null,null,null,null,null,null,null,null,null,null,null,null,null,null,null,null,null,null,null,null,null,null,null,null,null,null,null,null,null,null,null,null,null,null,null,null,null,null,null,null,null,null,null,null,null,null,null,null,null,null,null,null,null,null,null,null,null,null,null,null,null,null,null,null,null,null,null,null,null,null,null,null,null,null,null,null,null,null,null,null,null,null,null,null,null,null,null,null,null,null,null,null,null,null,null,null,null,null,null,null,null,null,null,null,null,null,null,null,null,null,null,null,null,null,null,null,null,null,null,null,null,null,null,null,null,null,null,null,null,null,null,null,null,null,null,null,null,null,null,null,null,null,null,null,null,null,null,null,null,null,null,null,null,null,null,null,null,null,null,null,null,null,null,null,null,null,null,null,null,null,null,null,null,null,null,null,null,null,null,null,null,null,null,null,null,null,null,null,null,null,null,null,null,null,null,null,null,null,null,null,null,null,null,null,null,null,null,null,null,null,null,160,"Goodberry","LEVEL 1",1,"Goodberry ",{"$f":"\"\"","v":""},"",{"$f":"IF(OR(TK162=Spellcasting!$AC$18,TK162=Spellcasting!$AC$19),\"ᵐ\",\"\")","v":""},{"$f":"IF(OR(TK162=Spellcasting!$AC$20,TK162=Spellcasting!$AC$21),\"ˢ\",\"\")","v":""},{"$f":"\"\"","v":""},"1 act","touch","instant","VSM","a sprig of mistletoe","transmutation","trans","Up to ten berries appear in your hand and are infused with magic for the duration. A creature can use its action to eat one berry. Eating a berry restores 1 hit point, and the berry provides enough nourishment to sustain a creature for one day. The berries lose their potency if they have not been consumed within 24 hours of the casting of this spell.","24hr, 10 berries, heal 1 HP",null,null,{"$f":"IF(UE$1>=$TM162,1,\"0\")","v":"0"},null,null,null,{"$f":"IF(UI$1>=$TM162,1,\"0\")","v":"0"},null,null,null,null,null,null,null,null,null,null,null,null,null,null,null,null,null,null,null,null,null,null,null,null,null,null,null,null,null,null,null,null,null,null,null,null,null,null,null,null,null,null,null,null,null,null,{"$f":"IF(SUM($VZ$1:$WC$1)>0,IF(AND(SUM($VZ162:$WC162)>0,$TM162=WE$1),MAX(WD$2:WD161)+1,\"\"),IF(AND(SUM($UC162:$VY162)>0,$TM162=WE$1),MAX(WD$2:WD161)+1,\"\"))","v":""},"",{"$f":"IF(AND(SUM($UB162:$VY162)>0,$TM162=WG$1),MAX(WF$2:WF161)+1,\"\")","v":""},"",{"$f":"IF(AND(SUM($UB162:$VY162)>0,$TM162=WI$1),MAX(WH$2:WH161)+1,\"\")","v":""},"",{"$f":"IF(AND(SUM($UB162:$VY162)>0,$TM162=WK$1),MAX(WJ$2:WJ161)+1,\"\")","v":""},"",{"$f":"IF(AND(SUM($UB162:$VY162)>0,$TM162=WM$1),MAX(WL$2:WL161)+1,\"\")","v":""},"",{"$f":"IF(AND(SUM($UB162:$VY162)>0,$TM162=WO$1),MAX(WN$2:WN161)+1,\"\")","v":""},"",{"$f":"IF(AND(SUM($UB162:$VY162)>0,$TM162=WQ$1),MAX(WP$2:WP161)+1,\"\")","v":""},"",{"$f":"IF(AND(SUM($UB162:$VY162)>0,$TM162=WS$1),MAX(WR$2:WR161)+1,\"\")","v":""},"",{"$f":"IF(AND(SUM($UB162:$VY162)>0,$TM162=WU$1),MAX(WT$2:WT161)+1,\"\")","v":""},"",{"$f":"IF(AND(SUM($UB162:$VY162)>0,$TM162=WW$1),MAX(WV$2:WV161)+1,\"\")","v":""},"",{"$f":"IF(AND(SUM($UB162:$VY162)>0,$TM162=WY$1),MAX(WX$2:WX161)+1,\"\")","v":""},"",null,null,null,""]
[null,null,null,null,null,null,null,null,null,null,null,null,null,null,null,null,null,null,null,null,null,null,null,null,null,null,null,null,null,null,null,null,null,null,null,null,null,null,null,null,null,null,null,null,null,null,null,null,null,null,null,null,null,null,null,null,null,null,null,null,null,null,null,null,null,null,null,null,null,null,null,null,null,null,null,null,null,null,null,null,null,null,null,null,null,null,null,null,null,null,null,null,null,null,null,null,null,null,null,null,null,null,null,null,null,null,null,null,null,null,null,null,null,null,null,null,null,null,null,null,null,null,null,null,null,null,null,null,null,null,null,null,null,null,null,null,null,null,null,null,null,null,null,null,null,null,null,null,null,null,null,null,null,null,null,null,null,null,null,null,null,null,null,null,null,null,null,null,null,null,null,null,null,null,null,null,null,null,null,null,null,null,null,null,null,null,null,null,null,null,null,null,null,null,null,null,null,null,null,null,null,null,null,null,null,null,null,null,null,null,null,null,null,null,null,null,null,null,null,null,null,null,null,null,null,null,null,null,null,null,null,null,null,null,null,null,null,null,null,null,null,null,null,null,null,null,null,null,null,null,null,null,null,null,null,null,null,null,null,null,null,null,null,null,null,null,null,null,null,null,null,null,null,null,null,null,null,null,null,null,null,null,null,null,null,null,null,null,null,null,null,null,null,null,null,null,null,null,null,null,null,null,null,null,null,null,null,null,null,null,null,null,null,null,null,null,null,null,null,null,null,null,null,null,null,null,null,null,null,null,null,null,null,null,null,null,null,null,null,null,null,null,null,null,null,null,null,null,null,null,null,null,null,null,null,null,null,null,null,null,null,null,null,null,null,null,null,null,null,null,null,null,null,null,null,null,null,null,null,null,null,null,null,null,null,null,null,null,null,null,null,null,null,null,null,null,null,null,null,null,null,null,null,null,null,null,null,null,null,null,null,null,null,null,null,null,null,null,null,null,null,null,null,null,null,null,null,null,null,null,null,null,null,null,null,null,null,null,null,null,null,null,null,null,null,null,null,null,null,null,null,null,null,null,null,null,null,null,null,null,null,null,null,null,null,null,null,null,null,null,null,null,null,null,null,null,null,null,null,null,null,null,null,null,null,null,null,null,null,null,null,null,null,null,null,null,null,null,null,null,null,null,null,null,null,null,null,null,null,null,null,null,null,null,null,null,null,null,null,null,null,null,null,null,null,null,null,null,null,166,"Guards and Wards","LEVEL 6",6,"Guards and Wards ",{"$f":"\"\"","v":""},"",{"$f":"IF(OR(TK168=Spellcasting!$AC$18,TK168=Spellcasting!$AC$19),\"ᵐ\",\"\")","v":""},{"$f":"IF(OR(TK168=Spellcasting!$AC$20,TK168=Spellcasting!$AC$21),\"ˢ\",\"\")","v":""},{"$f":"\"\"","v":""},"10 min","touch","24 hrs","VSM","burning incense, a small measure of brimstone and oil, a knotted string, a small amount of umber hulk blood, and a small silver rod worth at least 10 gp","abjuration","abjur","You create a ward that protects up to 2,500 square feet of floor space (an area 50 feet square, or one hundred 5-foot squares or twenty-five 10-foot squares). The warded area can be up to 20 feet tall, and shaped as you desire. You can ward several stories of a stronghold by dividing the area among them, as long as you can walk into each contiguous area while you are casting the spell. \n\nWhen you cast this spell, you can specify individuals that are unaffected by any or all of the effects that you choose. You can also specify a password that, when spoken aloud, makes the speaker immune to these effects. \n\nGuards and wards creates the following effects within the warded area. \n\nCorridors. Fog fills all the warded corridors, making them heavily obscured. In addition, at each intersection or branching passage offering a choice of direction, there is a 50 percent chance that a creature other than you will believe it is going in the opposite direction from the one it chooses. \nDoors. All doors in the warded area are magically locked, as if sealed by an arcane lock spell. In addition, you can cover up to ten doors with an illusion (equivalent to the illusory object function of the minor illusion spell) to make them appear as plain sections of wall. \nStairs. Webs fill all stairs in the warded area from top to bottom, as the web spell. These strands regrow in 10 minutes if they are burned or torn away while guards and wards lasts. \nOther Spell Effect. You can place your choice of one of the following magical effects within the warded area of the stronghold.\n  • Place dancing lights in four corridors. You can designate a simple program that the lights repeat as long as guards and wards lasts. \n  • Place magic mouth in two locations. \n  • Place stinking cloud in two locations. The vapors appear in the places you designate; they return within 10 minutes if dispersed by wind while guards and wards lasts. \n  • Place a constant gust of wind in one corridor or room.","2,500sqft warded area, choose one spell effect",{"$f":"IF(UC$1>=$TM168,1,\"0\")","v":"0"},null,null,null,null,null,null,null,null,{"$f":"IF(UL$1>=$TM168,1,\"0\")","v":"0"},null,null,null,null,null,null,null,null,null,null,null,null,null,null,null,null,null,null,null,null,null,null,null,null,null,null,null,null,null,null,null,null,null,null,null,null,null,null,null,null,null,null,null,{"$f":"IF(SUM($VZ$1:$WC$1)>0,IF(AND(SUM($VZ168:$WC168)>0,$TM168=WE$1),MAX(WD$2:WD167)+1,\"\"),IF(AND(SUM($UC168:$VY168)>0,$TM168=WE$1),MAX(WD$2:WD167)+1,\"\"))","v":""},"",{"$f":"IF(AND(SUM($UB168:$VY168)>0,$TM168=WG$1),MAX(WF$2:WF167)+1,\"\")","v":""},"",{"$f":"IF(AND(SUM($UB168:$VY168)>0,$TM168=WI$1),MAX(WH$2:WH167)+1,\"\")","v":""},"",{"$f":"IF(AND(SUM($UB168:$VY168)>0,$TM168=WK$1),MAX(WJ$2:WJ167)+1,\"\")","v":""},"",{"$f":"IF(AND(SUM($UB168:$VY168)>0,$TM168=WM$1),MAX(WL$2:WL167)+1,\"\")","v":""},"",{"$f":"IF(AND(SUM($UB168:$VY168)>0,$TM168=WO$1),MAX(WN$2:WN167)+1,\"\")","v":""},"",{"$f":"IF(AND(SUM($UB168:$VY168)>0,$TM168=WQ$1),MAX(WP$2:WP167)+1,\"\")","v":""},"",{"$f":"IF(AND(SUM($UB168:$VY168)>0,$TM168=WS$1),MAX(WR$2:WR167)+1,\"\")","v":""},"",{"$f":"IF(AND(SUM($UB168:$VY168)>0,$TM168=WU$1),MAX(WT$2:WT167)+1,\"\")","v":""},"",{"$f":"IF(AND(SUM($UB168:$VY168)>0,$TM168=WW$1),MAX(WV$2:WV167)+1,\"\")","v":""},"",{"$f":"IF(AND(SUM($UB168:$VY168)>0,$TM168=WY$1),MAX(WX$2:WX167)+1,\"\")","v":""},"",null,null,null,""]
[null,null,null,null,null,null,null,null,null,null,null,null,null,null,null,null,null,null,null,null,null,null,null,null,null,null,null,null,null,null,null,null,null,null,null,null,null,null,null,null,null,null,null,null,null,null,null,null,null,null,null,null,null,null,null,null,null,null,null,null,null,null,null,null,null,null,null,null,null,null,null,null,null,null,null,null,null,null,null,null,null,null,null,null,null,null,null,null,null,null,null,null,null,null,null,null,null,null,null,null,null,null,null,null,null,null,null,null,null,null,null,null,null,null,null,null,null,null,null,null,null,null,null,null,null,null,null,null,null,null,null,null,null,null,null,null,null,null,null,null,null,null,null,null,null,null,null,null,null,null,null,null,null,null,null,null,null,null,null,null,null,null,null,null,null,null,null,null,null,null,null,null,null,null,null,null,null,null,null,null,null,null,null,null,null,null,null,null,null,null,null,null,null,null,null,null,null,null,null,null,null,null,null,null,null,null,null,null,null,null,null,null,null,null,null,null,null,null,null,null,null,null,null,null,null,null,null,null,null,null,null,null,null,null,null,null,null,null,null,null,null,null,null,null,null,null,null,null,null,null,null,null,null,null,null,null,null,null,null,null,null,null,null,null,null,null,null,null,null,null,null,null,null,null,null,null,null,null,null,null,null,null,null,null,null,null,null,null,null,null,null,null,null,null,null,null,null,null,null,null,null,null,null,null,null,null,null,null,null,null,null,null,null,null,null,null,null,null,null,null,null,null,null,null,null,null,null,null,null,null,null,null,null,null,null,null,null,null,null,null,null,null,null,null,null,null,null,null,null,null,null,null,null,null,null,null,null,null,null,null,null,null,null,null,null,null,null,null,null,null,null,null,null,null,null,null,null,null,null,null,null,null,null,null,null,null,null,null,null,null,null,null,null,null,null,null,null,null,null,null,null,null,null,null,null,null,null,null,null,null,null,null,null,null,null,null,null,null,null,null,null,null,null,null,null,null,null,null,null,null,null,null,null,null,null,null,null,null,null,null,null,null,null,null,null,null,null,null,null,null,null,null,null,null,null,null,null,null,null,null,null,null,null,null,null,null,null,null,null,null,null,null,null,null,null,null,null,null,null,null,null,null,null,null,null,null,null,null,null,null,null,null,null,null,null,null,null,null,null,null,null,null,null,null,null,null,null,null,null,null,null,null,null,null,null,null,null,null,null,null,null,null,null,null,null,null,null,null,null,171,"Hallow","LEVEL 5",5,"Hallow ",{"$f":"\"\"","v":""},"",{"$f":"IF(OR(TK173=Spellcasting!$AC$18,TK173=Spellcasting!$AC$19),\"ᵐ\",\"\")","v":""},{"$f":"IF(OR(TK173=Spellcasting!$AC$20,TK173=Spellcasting!$AC$21),\"ˢ\",\"\")","v":""},{"$f":"\"\"","v":""},"24 hrs","touch","dispelled","VSM","herbs, oils, and incense worth at least 1,000 gp, which the spell consumes","evocation","evoc","You touch a point and infuse an area around it with holy (or unholy) power. The area can have a radius up to 60 feet, and the spell fails if the radius includes an area already under the effect a hallow spell. The affected area is subject to the following effects. \n\nFirst, celestials, elementals, fey, fiends, and undead can’t enter the area, nor can such creatures charm, frighten, or possess creatures within it. Any creature charmed, frightened, or possessed by such a creature is no longer charmed, frightened, or possessed upon entering the area. You can exclude one or more of those types of creatures from this effect. \n\nSecond, you can bind an extra effect to the area. Choose the effect from the following list, or choose an effect offered by the DM. Some of these effects apply to creatures in the area; you can designate whether the effect applies to all creatures, creatures that follow a specific deity or leader, or creatures of a specific sort, such as ores or trolls. When a creature that would be affected enters the spell’s area for the first time on a turn or starts its turn there, it can make a Charisma saving throw. On a success, the creature ignores the extra effect until it leaves the area. \n\nCourage. Affected creatures can’t be frightened while in the area. Darkness. \nDarkness fills the area. Normal light, as well as magical light created by spells of a lower level than the slot you used to cast this spell, can’t illuminate the area. \nDaylight. Bright light fills the area. Magical darkness created by spells of a lower level than the slot you used to cast this spell can’t extinguish the light. \nEnergy Protection. Affected creatures in the area have resistance to one damage type of your choice, except for bludgeoning, piercing, or slashing.\nEnergy Vulnerability. Affected creatures in the area have vulnerability to one damage type of your choice, except for bludgeoning, piercing, or slashing. \nEverlasting Rest. Dead bodies interred in the area can’t be turned into undead. Extradimensional Interference. Affected creatures can’t move or travel using teleportation or by extradimensional or interplanar means. \nFear. Affected creatures are frightened while in the area. \nSilence. No sound can emanate from within the area, and no sound can reach into it. \nTongues. Affected creatures can communicate with any other creature in the area, even if they don’t share a common language.\n","60ft rad, choose 1 effect, cha save ",null,null,null,null,null,{"$f":"IF(UH$1>=$TM173,1,\"0\")","v":"0"},null,null,null,null,null,null,null,null,null,null,null,null,null,null,{"$f":"IF(UW$1>=$TM173,1,\"0\")","v":"0"},null,null,null,null,null,null,null,null,null,null,null,null,null,null,null,null,null,null,null,null,null,null,null,null,null,null,null,null,null,null,null,null,{"$f":"IF(SUM($VZ$1:$WC$1)>0,IF(AND(SUM($VZ173:$WC173)>0,$TM173=WE$1),MAX(WD$2:WD172)+1,\"\"),IF(AND(SUM($UC173:$VY173)>0,$TM173=WE$1),MAX(WD$2:WD172)+1,\"\"))","v":""},"",{"$f":"IF(AND(SUM($UB173:$VY173)>0,$TM173=WG$1),MAX(WF$2:WF172)+1,\"\")","v":""},"",{"$f":"IF(AND(SUM($UB173:$VY173)>0,$TM173=WI$1),MAX(WH$2:WH172)+1,\"\")","v":""},"",{"$f":"IF(AND(SUM($UB173:$VY173)>0,$TM173=WK$1),MAX(WJ$2:WJ172)+1,\"\")","v":""},"",{"$f":"IF(AND(SUM($UB173:$VY173)>0,$TM173=WM$1),MAX(WL$2:WL172)+1,\"\")","v":""},"",{"$f":"IF(AND(SUM($UB173:$VY173)>0,$TM173=WO$1),MAX(WN$2:WN172)+1,\"\")","v":""},"",{"$f":"IF(AND(SUM($UB173:$VY173)>0,$TM173=WQ$1),MAX(WP$2:WP172)+1,\"\")","v":""},"",{"$f":"IF(AND(SUM($UB173:$VY173)>0,$TM173=WS$1),MAX(WR$2:WR172)+1,\"\")","v":""},"",{"$f":"IF(AND(SUM($UB173:$VY173)>0,$TM173=WU$1),MAX(WT$2:WT172)+1,\"\")","v":""},"",{"$f":"IF(AND(SUM($UB173:$VY173)>0,$TM173=WW$1),MAX(WV$2:WV172)+1,\"\")","v":""},"",{"$f":"IF(AND(SUM($UB173:$VY173)>0,$TM173=WY$1),MAX(WX$2:WX172)+1,\"\")","v":""},"",null,null,null,""]
[null,null,null,null,null,null,null,null,null,null,null,null,null,null,null,null,null,null,null,null,null,null,null,null,null,null,null,null,null,null,null,null,null,null,null,null,null,null,null,null,null,null,null,null,null,null,null,null,null,null,null,null,null,null,null,null,null,null,null,null,null,null,null,null,null,null,null,null,null,null,null,null,null,null,null,null,null,null,null,null,null,null,null,null,null,null,null,null,null,null,null,null,null,null,null,null,null,null,null,null,null,null,null,null,null,null,null,null,null,null,null,null,null,null,null,null,null,null,null,null,null,null,null,null,null,null,null,null,null,null,null,null,null,null,null,null,null,null,null,null,null,null,null,null,null,null,null,null,null,null,null,null,null,null,null,null,null,null,null,null,null,null,null,null,null,null,null,null,null,null,null,null,null,null,null,null,null,null,null,null,null,null,null,null,null,null,null,null,null,null,null,null,null,null,null,null,null,null,null,null,null,null,null,null,null,null,null,null,null,null,null,null,null,null,null,null,null,null,null,null,null,null,null,null,null,null,null,null,null,null,null,null,null,null,null,null,null,null,null,null,null,null,null,null,null,null,null,null,null,null,null,null,null,null,null,null,null,null,null,null,null,null,null,null,null,null,null,null,null,null,null,null,null,null,null,null,null,null,null,null,null,null,null,null,null,null,null,null,null,null,null,null,null,null,null,null,null,null,null,null,null,null,null,null,null,null,null,null,null,null,null,null,null,null,null,null,null,null,null,null,null,null,null,null,null,null,null,null,null,null,null,null,null,null,null,null,null,null,null,null,null,null,null,null,null,null,null,null,null,null,null,null,null,null,null,null,null,null,null,null,null,null,null,null,null,null,null,null,null,null,null,null,null,null,null,null,null,null,null,null,null,null,null,null,null,null,null,null,null,null,null,null,null,null,null,null,null,null,null,null,null,null,null,null,null,null,null,null,null,null,null,null,null,null,null,null,null,null,null,null,null,null,null,null,null,null,null,null,null,null,null,null,null,null,null,null,null,null,null,null,null,null,null,null,null,null,null,null,null,null,null,null,null,null,null,null,null,null,null,null,null,null,null,null,null,null,null,null,null,null,null,null,null,null,null,null,null,null,null,null,null,null,null,null,null,null,null,null,null,null,null,null,null,null,null,null,null,null,null,null,null,null,null,null,null,null,null,null,null,null,null,null,null,null,null,null,null,null,null,null,null,null,null,null,null,null,null,null,null,173,"Harm","LEVEL 6",6,"Harm ",{"$f":"\"\"","v":""},"",{"$f":"IF(OR(TK175=Spellcasting!$AC$18,TK175=Spellcasting!$AC$19),\"ᵐ\",\"\")","v":""},{"$f":"IF(OR(TK175=Spellcasting!$AC$20,TK175=Spellcasting!$AC$21),\"ˢ\",\"\")","v":""},{"$f":"\"\"","v":""},"1 act","60 ft","instant","VS",{"$f":"\"\"","v":""},"necromancy","necro","You unleash a virulent disease on a creature that you can see within range. The target must make a Constitution saving throw. On a failed save, it takes 14d6 necrotic damage, or half as much damage on a successful save. The damage can’t reduce the target’s hit points below 1. If the target fails the saving throw, its hit point maximum is reduced for 1 hour by an amount equal to the necrotic damage it took. Any effect that removes a disease allows a creature’s hit point maximum to return to normal before that time passes.","14d6 necrotic, con save ½, cannot reduce below 1 HP",null,null,null,null,null,{"$f":"IF(UH$1>=$TM175,1,\"0\")","v":"0"},null,null,null,null,null,null,null,null,null,null,null,null,null,null,null,null,null,null,null,null,null,null,null,null,null,null,null,null,null,null,null,null,null,null,null,null,null,null,null,null,null,null,null,null,null,null,null,{"$f":"IF(SUM($VZ$1:$WC$1)>0,IF(AND(SUM($VZ175:$WC175)>0,$TM175=WE$1),MAX(WD$2:WD174)+1,\"\"),IF(AND(SUM($UC175:$VY175)>0,$TM175=WE$1),MAX(WD$2:WD174)+1,\"\"))","v":""},"",{"$f":"IF(AND(SUM($UB175:$VY175)>0,$TM175=WG$1),MAX(WF$2:WF174)+1,\"\")","v":""},"",{"$f":"IF(AND(SUM($UB175:$VY175)>0,$TM175=WI$1),MAX(WH$2:WH174)+1,\"\")","v":""},"",{"$f":"IF(AND(SUM($UB175:$VY175)>0,$TM175=WK$1),MAX(WJ$2:WJ174)+1,\"\")","v":""},"",{"$f":"IF(AND(SUM($UB175:$VY175)>0,$TM175=WM$1),MAX(WL$2:WL174)+1,\"\")","v":""},"",{"$f":"IF(AND(SUM($UB175:$VY175)>0,$TM175=WO$1),MAX(WN$2:WN174)+1,\"\")","v":""},"",{"$f":"IF(AND(SUM($UB175:$VY175)>0,$TM175=WQ$1),MAX(WP$2:WP174)+1,\"\")","v":""},"",{"$f":"IF(AND(SUM($UB175:$VY175)>0,$TM175=WS$1),MAX(WR$2:WR174)+1,\"\")","v":""},"",{"$f":"IF(AND(SUM($UB175:$VY175)>0,$TM175=WU$1),MAX(WT$2:WT174)+1,\"\")","v":""},"",{"$f":"IF(AND(SUM($UB175:$VY175)>0,$TM175=WW$1),MAX(WV$2:WV174)+1,\"\")","v":""},"",{"$f":"IF(AND(SUM($UB175:$VY175)>0,$TM175=WY$1),MAX(WX$2:WX174)+1,\"\")","v":""},"",null,null,null,""]
[null,null,null,null,null,null,null,null,null,null,null,null,null,null,null,null,null,null,null,null,null,null,null,null,null,null,null,null,null,null,null,null,null,null,null,null,null,null,null,null,null,null,null,null,null,null,null,null,null,null,null,null,null,null,null,null,null,null,null,null,null,null,null,null,null,null,null,null,null,null,null,null,null,null,null,null,null,null,null,null,null,null,null,null,null,null,null,null,null,null,null,null,null,null,null,null,null,null,null,null,null,null,null,null,null,null,null,null,null,null,null,null,null,null,null,null,null,null,null,null,null,null,null,null,null,null,null,null,null,null,null,null,null,null,null,null,null,null,null,null,null,null,null,null,null,null,null,null,null,null,null,null,null,null,null,null,null,null,null,null,null,null,null,null,null,null,null,null,null,null,null,null,null,null,null,null,null,null,null,null,null,null,null,null,null,null,null,null,null,null,null,null,null,null,null,null,null,null,null,null,null,null,null,null,null,null,null,null,null,null,null,null,null,null,null,null,null,null,null,null,null,null,null,null,null,null,null,null,null,null,null,null,null,null,null,null,null,null,null,null,null,null,null,null,null,null,null,null,null,null,null,null,null,null,null,null,null,null,null,null,null,null,null,null,null,null,null,null,null,null,null,null,null,null,null,null,null,null,null,null,null,null,null,null,null,null,null,null,null,null,null,null,null,null,null,null,null,null,null,null,null,null,null,null,null,null,null,null,null,null,null,null,null,null,null,null,null,null,null,null,null,null,null,null,null,null,null,null,null,null,null,null,null,null,null,null,null,null,null,null,null,null,null,null,null,null,null,null,null,null,null,null,null,null,null,null,null,null,null,null,null,null,null,null,null,null,null,null,null,null,null,null,null,null,null,null,null,null,null,null,null,null,null,null,null,null,null,null,null,null,null,null,null,null,null,null,null,null,null,null,null,null,null,null,null,null,null,null,null,null,null,null,null,null,null,null,null,null,null,null,null,null,null,null,null,null,null,null,null,null,null,null,null,null,null,null,null,null,null,null,null,null,null,null,null,null,null,null,null,null,null,null,null,null,null,null,null,null,null,null,null,null,null,null,null,null,null,null,null,null,null,null,null,null,null,null,null,null,null,null,null,null,null,null,null,null,null,null,null,null,null,null,null,null,null,null,null,null,null,null,null,null,null,null,null,null,null,null,null,null,null,null,null,null,null,null,null,null,null,null,null,null,null,null,null,null,null,null,null,176,"Healing Word","LEVEL 1",1,"Healing Word ᴴ ","ᴴ ","",{"$f":"IF(OR(TK178=Spellcasting!$AC$18,TK178=Spellcasting!$AC$19),\"ᵐ\",\"\")","v":""},{"$f":"IF(OR(TK178=Spellcasting!$AC$20,TK178=Spellcasting!$AC$21),\"ˢ\",\"\")","v":""},{"$f":"\"\"","v":""},"1 bon","60 ft","instant","V",{"$f":"\"\"","v":""},"evocation","evoc","A creature of your choice that you can see within range regains hit points equal to 1d4 + your spellcasting ability modifier. This spell has no effect on undead or constructs. \n\nAt Higher Levels. When you cast this spell using a spell slot of 2nd level or higher, the healing increases by 1d4 for each slot level above 1st.","heal 1d4 + spell ability modifier",{"$f":"IF(UC$1>=$TM178,1,\"0\")","v":"0"},null,null,null,null,{"$f":"IF(UH$1>=$TM178,1,\"0\")","v":"0"},{"$f":"IF(UI$1>=$TM178,1,\"0\")","v":"0"},null,null,null,null,null,null,null,null,null,null,null,null,null,null,null,null,null,null,null,null,null,null,null,null,null,null,null,null,null,null,null,null,null,null,null,null,null,null,null,null,null,null,null,null,null,null,{"$f":"IF(SUM($VZ$1:$WC$1)>0,IF(AND(SUM($VZ178:$WC178)>0,$TM178=WE$1),MAX(WD$2:WD177)+1,\"\"),IF(AND(SUM($UC178:$VY178)>0,$TM178=WE$1),MAX(WD$2:WD177)+1,\"\"))","v":""},"",{"$f":"IF(AND(SUM($UB178:$VY178)>0,$TM178=WG$1),MAX(WF$2:WF177)+1,\"\")","v":""},"",{"$f":"IF(AND(SUM($UB178:$VY178)>0,$TM178=WI$1),MAX(WH$2:WH177)+1,\"\")","v":""},"",{"$f":"IF(AND(SUM($UB178:$VY178)>0,$TM178=WK$1),MAX(WJ$2:WJ177)+1,\"\")","v":""},"",{"$f":"IF(AND(SUM($UB178:$VY178)>0,$TM178=WM$1),MAX(WL$2:WL177)+1,\"\")","v":""},"",{"$f":"IF(AND(SUM($UB178:$VY178)>0,$TM178=WO$1),MAX(WN$2:WN177)+1,\"\")","v":""},"",{"$f":"IF(AND(SUM($UB178:$VY178)>0,$TM178=WQ$1),MAX(WP$2:WP177)+1,\"\")","v":""},"",{"$f":"IF(AND(SUM($UB178:$VY178)>0,$TM178=WS$1),MAX(WR$2:WR177)+1,\"\")","v":""},"",{"$f":"IF(AND(SUM($UB178:$VY178)>0,$TM178=WU$1),MAX(WT$2:WT177)+1,\"\")","v":""},"",{"$f":"IF(AND(SUM($UB178:$VY178)>0,$TM178=WW$1),MAX(WV$2:WV177)+1,\"\")","v":""},"",{"$f":"IF(AND(SUM($UB178:$VY178)>0,$TM178=WY$1),MAX(WX$2:WX177)+1,\"\")","v":""},"",null,null,null,""]
[null,null,null,null,null,null,null,null,null,null,null,null,null,null,null,null,null,null,null,null,null,null,null,null,null,null,null,null,null,null,null,null,null,null,null,null,null,null,null,null,null,null,null,null,null,null,null,null,null,null,null,null,null,null,null,null,null,null,null,null,null,null,null,null,null,null,null,null,null,null,null,null,null,null,null,null,null,null,null,null,null,null,null,null,null,null,null,null,null,null,null,null,null,null,null,null,null,null,null,null,null,null,null,null,null,null,null,null,null,null,null,null,null,null,null,null,null,null,null,null,null,null,null,null,null,null,null,null,null,null,null,null,null,null,null,null,null,null,null,null,null,null,null,null,null,null,null,null,null,null,null,null,null,null,null,null,null,null,null,null,null,null,null,null,null,null,null,null,null,null,null,null,null,null,null,null,null,null,null,null,null,null,null,null,null,null,null,null,null,null,null,null,null,null,null,null,null,null,null,null,null,null,null,null,null,null,null,null,null,null,null,null,null,null,null,null,null,null,null,null,null,null,null,null,null,null,null,null,null,null,null,null,null,null,null,null,null,null,null,null,null,null,null,null,null,null,null,null,null,null,null,null,null,null,null,null,null,null,null,null,null,null,null,null,null,null,null,null,null,null,null,null,null,null,null,null,null,null,null,null,null,null,null,null,null,null,null,null,null,null,null,null,null,null,null,null,null,null,null,null,null,null,null,null,null,null,null,null,null,null,null,null,null,null,null,null,null,null,null,null,null,null,null,null,null,null,null,null,null,null,null,null,null,null,null,null,null,null,null,null,null,null,null,null,null,null,null,null,null,null,null,null,null,null,null,null,null,null,null,null,null,null,null,null,null,null,null,null,null,null,null,null,null,null,null,null,null,null,null,null,null,null,null,null,null,null,null,null,null,null,null,null,null,null,null,null,null,null,null,null,null,null,null,null,null,null,null,null,null,null,null,null,null,null,null,null,null,null,null,null,null,null,null,null,null,null,null,null,null,null,null,null,null,null,null,null,null,null,null,null,null,null,null,null,null,null,null,null,null,null,null,null,null,null,null,null,null,null,null,null,null,null,null,null,null,null,null,null,null,null,null,null,null,null,null,null,null,null,null,null,null,null,null,null,null,null,null,null,null,null,null,null,null,null,null,null,null,null,null,null,null,null,null,null,null,null,null,null,null,null,null,null,null,null,null,null,null,null,null,null,null,null,null,null,null,null,null,null,null,184,"Holy Aura","LEVEL 8",8,"Holy Aura ",{"$f":"\"\"","v":""},"",{"$f":"IF(OR(TK186=Spellcasting!$AC$18,TK186=Spellcasting!$AC$19),\"ᵐ\",\"\")","v":""},{"$f":"IF(OR(TK186=Spellcasting!$AC$20,TK186=Spellcasting!$AC$21),\"ˢ\",\"\")","v":""},{"$f":"\"\"","v":""},"1 act","self","1 min ᶜᵒᶰ","VSM","a tiny reliquary worth at least 1,000 gp containing a sacred relic, such as a scrap of cloth from a saint’s robe or a piece of parchment from a religious text","abjuration","abjur","Divine light washes out from you and coalesces in a soft radiance in a 30-foot radius around you. Creatures of your choice in that radius when you cast this spell shed dim light in a 5-foot radius and have advantage on all saving throws, and other creatures have disadvantage on attack rolls against them until the spell ends. In addition, when a fiend or an undead hits an affected creature with a melee attack, the aura flashes with brilliant light. The attacker must succeed on a Constitution saving throw or be blinded until the spell ends.","30ft rad, adv saves, others disadv attack",null,null,null,null,null,{"$f":"IF(UH$1>=$TM186,1,\"0\")","v":"0"},null,null,null,null,null,null,null,null,null,null,null,null,null,null,null,null,null,null,null,null,null,null,null,null,null,null,null,null,null,null,null,null,null,null,null,null,null,null,null,null,null,null,null,null,null,null,null,{"$f":"IF(SUM($VZ$1:$WC$1)>0,IF(AND(SUM($VZ186:$WC186)>0,$TM186=WE$1),MAX(WD$2:WD185)+1,\"\"),IF(AND(SUM($UC186:$VY186)>0,$TM186=WE$1),MAX(WD$2:WD185)+1,\"\"))","v":""},"",{"$f":"IF(AND(SUM($UB186:$VY186)>0,$TM186=WG$1),MAX(WF$2:WF185)+1,\"\")","v":""},"",{"$f":"IF(AND(SUM($UB186:$VY186)>0,$TM186=WI$1),MAX(WH$2:WH185)+1,\"\")","v":""},"",{"$f":"IF(AND(SUM($UB186:$VY186)>0,$TM186=WK$1),MAX(WJ$2:WJ185)+1,\"\")","v":""},"",{"$f":"IF(AND(SUM($UB186:$VY186)>0,$TM186=WM$1),MAX(WL$2:WL185)+1,\"\")","v":""},"",{"$f":"IF(AND(SUM($UB186:$VY186)>0,$TM186=WO$1),MAX(WN$2:WN185)+1,\"\")","v":""},"",{"$f":"IF(AND(SUM($UB186:$VY186)>0,$TM186=WQ$1),MAX(WP$2:WP185)+1,\"\")","v":""},"",{"$f":"IF(AND(SUM($UB186:$VY186)>0,$TM186=WS$1),MAX(WR$2:WR185)+1,\"\")","v":""},"",{"$f":"IF(AND(SUM($UB186:$VY186)>0,$TM186=WU$1),MAX(WT$2:WT185)+1,\"\")","v":""},"",{"$f":"IF(AND(SUM($UB186:$VY186)>0,$TM186=WW$1),MAX(WV$2:WV185)+1,\"\")","v":""},"",{"$f":"IF(AND(SUM($UB186:$VY186)>0,$TM186=WY$1),MAX(WX$2:WX185)+1,\"\")","v":""},"",null,null,null,""]
[null,null,null,null,null,null,null,null,null,null,null,null,null,null,null,null,null,null,null,null,null,null,null,null,null,null,null,null,null,null,null,null,null,null,null,null,null,null,null,null,null,null,null,null,null,null,null,null,null,null,null,null,null,null,null,null,null,null,null,null,null,null,null,null,null,null,null,null,null,null,null,null,null,null,null,null,null,null,null,null,null,null,null,null,null,null,null,null,null,null,null,null,null,null,null,null,null,null,null,null,null,null,null,null,null,null,null,null,null,null,null,null,null,null,null,null,null,null,null,null,null,null,null,null,null,null,null,null,null,null,null,null,null,null,null,null,null,null,null,null,null,null,null,null,null,null,null,null,null,null,null,null,null,null,null,null,null,null,null,null,null,null,null,null,null,null,null,null,null,null,null,null,null,null,null,null,null,null,null,null,null,null,null,null,null,null,null,null,null,null,null,null,null,null,null,null,null,null,null,null,null,null,null,null,null,null,null,null,null,null,null,null,null,null,null,null,null,null,null,null,null,null,null,null,null,null,null,null,null,null,null,null,null,null,null,null,null,null,null,null,null,null,null,null,null,null,null,null,null,null,null,null,null,null,null,null,null,null,null,null,null,null,null,null,null,null,null,null,null,null,null,null,null,null,null,null,null,null,null,null,null,null,null,null,null,null,null,null,null,null,null,null,null,null,null,null,null,null,null,null,null,null,null,null,null,null,null,null,null,null,null,null,null,null,null,null,null,null,null,null,null,null,null,null,null,null,null,null,null,null,null,null,null,null,null,null,null,null,null,null,null,null,null,null,null,null,null,null,null,null,null,null,null,null,null,null,null,null,null,null,null,null,null,null,null,null,null,null,null,null,null,null,null,null,null,null,null,null,null,null,null,null,null,null,null,null,null,null,null,null,null,null,null,null,null,null,null,null,null,null,null,null,null,null,null,null,null,null,null,null,null,null,null,null,null,null,null,null,null,null,null,null,null,null,null,null,null,null,null,null,null,null,null,null,null,null,null,null,null,null,null,null,null,null,null,null,null,null,null,null,null,null,null,null,null,null,null,null,null,null,null,null,null,null,null,null,null,null,null,null,null,null,null,null,null,null,null,null,null,null,null,null,null,null,null,null,null,null,null,null,null,null,null,null,null,null,null,null,null,null,null,null,null,null,null,null,null,null,null,null,null,null,null,null,null,null,null,null,null,null,null,null,null,null,null,null,null,null,null,186,"Hunter's Mark","LEVEL 1",1,"Hunter's Mark ᴴ ","ᴴ ","",{"$f":"IF(OR(TK188=Spellcasting!$AC$18,TK188=Spellcasting!$AC$19),\"ᵐ\",\"\")","v":""},{"$f":"IF(OR(TK188=Spellcasting!$AC$20,TK188=Spellcasting!$AC$21),\"ˢ\",\"\")","v":""},{"$f":"\"\"","v":""},"1 bon","90 ft","1 hr ᶜᵒᶰ","V",{"$f":"\"\"","v":""},"divination","divin","You choose a creature you can see within range and mystically mark it as your quarry. Until the spell ends, you deal an extra 1d6 damage to the target whenever you hit it with a weapon attack, and you have advantage on any Wisdom (Perception) or Wisdom (Survival) check you make to find it. If the target drops to 0 hit points before this spell ends, you can use a bonus action on a subsequent turn of yours to mark a new creature. \n\nAt Higher Levels. When you cast this spell using a spell slot of 3rd or 4th level, you can maintain your concentration on the spell for up to 8 hours. When you use a spell slot of 5th level or higher, you can maintain your concentration on the spell for up to 24 hours.","+1d6 extra damage, adv perception & survival check to find it",null,null,{"$f":"IF(UE$1>=$TM188,1,\"0\")","v":"0"},null,null,null,null,null,null,null,null,null,null,null,{"$f":"IF(UQ$1>=$TM188,1,\"0\")","v":"0"},null,null,null,null,null,null,null,null,null,null,null,null,null,null,null,null,null,null,null,null,null,null,null,null,null,null,null,null,null,null,null,null,null,null,null,null,null,null,{"$f":"IF(SUM($VZ$1:$WC$1)>0,IF(AND(SUM($VZ188:$WC188)>0,$TM188=WE$1),MAX(WD$2:WD187)+1,\"\"),IF(AND(SUM($UC188:$VY188)>0,$TM188=WE$1),MAX(WD$2:WD187)+1,\"\"))","v":""},"",{"$f":"IF(AND(SUM($UB188:$VY188)>0,$TM188=WG$1),MAX(WF$2:WF187)+1,\"\")","v":""},"",{"$f":"IF(AND(SUM($UB188:$VY188)>0,$TM188=WI$1),MAX(WH$2:WH187)+1,\"\")","v":""},"",{"$f":"IF(AND(SUM($UB188:$VY188)>0,$TM188=WK$1),MAX(WJ$2:WJ187)+1,\"\")","v":""},"",{"$f":"IF(AND(SUM($UB188:$VY188)>0,$TM188=WM$1),MAX(WL$2:WL187)+1,\"\")","v":""},"",{"$f":"IF(AND(SUM($UB188:$VY188)>0,$TM188=WO$1),MAX(WN$2:WN187)+1,\"\")","v":""},"",{"$f":"IF(AND(SUM($UB188:$VY188)>0,$TM188=WQ$1),MAX(WP$2:WP187)+1,\"\")","v":""},"",{"$f":"IF(AND(SUM($UB188:$VY188)>0,$TM188=WS$1),MAX(WR$2:WR187)+1,\"\")","v":""},"",{"$f":"IF(AND(SUM($UB188:$VY188)>0,$TM188=WU$1),MAX(WT$2:WT187)+1,\"\")","v":""},"",{"$f":"IF(AND(SUM($UB188:$VY188)>0,$TM188=WW$1),MAX(WV$2:WV187)+1,\"\")","v":""},"",{"$f":"IF(AND(SUM($UB188:$VY188)>0,$TM188=WY$1),MAX(WX$2:WX187)+1,\"\")","v":""},"",null,null,null,""]
[null,null,null,null,null,null,null,null,null,null,null,null,null,null,null,null,null,null,null,null,null,null,null,null,null,null,null,null,null,null,null,null,null,null,null,null,null,null,null,null,null,null,null,null,null,null,null,null,null,null,null,null,null,null,null,null,null,null,null,null,null,null,null,null,null,null,null,null,null,null,null,null,null,null,null,null,null,null,null,null,null,null,null,null,null,null,null,null,null,null,null,null,null,null,null,null,null,null,null,null,null,null,null,null,null,null,null,null,null,null,null,null,null,null,null,null,null,null,null,null,null,null,null,null,null,null,null,null,null,null,null,null,null,null,null,null,null,null,null,null,null,null,null,null,null,null,null,null,null,null,null,null,null,null,null,null,null,null,null,null,null,null,null,null,null,null,null,null,null,null,null,null,null,null,null,null,null,null,null,null,null,null,null,null,null,null,null,null,null,null,null,null,null,null,null,null,null,null,null,null,null,null,null,null,null,null,null,null,null,null,null,null,null,null,null,null,null,null,null,null,null,null,null,null,null,null,null,null,null,null,null,null,null,null,null,null,null,null,null,null,null,null,null,null,null,null,null,null,null,null,null,null,null,null,null,null,null,null,null,null,null,null,null,null,null,null,null,null,null,null,null,null,null,null,null,null,null,null,null,null,null,null,null,null,null,null,null,null,null,null,null,null,null,null,null,null,null,null,null,null,null,null,null,null,null,null,null,null,null,null,null,null,null,null,null,null,null,null,null,null,null,null,null,null,null,null,null,null,null,null,null,null,null,null,null,null,null,null,null,null,null,null,null,null,null,null,null,null,null,null,null,null,null,null,null,null,null,null,null,null,null,null,null,null,null,null,null,null,null,null,null,null,null,null,null,null,null,null,null,null,null,null,null,null,null,null,null,null,null,null,null,null,null,null,null,null,null,null,null,null,null,null,null,null,null,null,null,null,null,null,null,null,null,null,null,null,null,null,null,null,null,null,null,null,null,null,null,null,null,null,null,null,null,null,null,null,null,null,null,null,null,null,null,null,null,null,null,null,null,null,null,null,null,null,null,null,null,null,null,null,null,null,null,null,null,null,null,null,null,null,null,null,null,null,null,null,null,null,null,null,null,null,null,null,null,null,null,null,null,null,null,null,null,null,null,null,null,null,null,null,null,null,null,null,null,null,null,null,null,null,null,null,null,null,null,null,null,null,null,null,null,null,null,null,null,null,null,null,null,191,"Imprisonment","LEVEL 9",9,"Imprisonment ",{"$f":"\"\"","v":""},"",{"$f":"IF(OR(TK193=Spellcasting!$AC$18,TK193=Spellcasting!$AC$19),\"ᵐ\",\"\")","v":""},{"$f":"IF(OR(TK193=Spellcasting!$AC$20,TK193=Spellcasting!$AC$21),\"ˢ\",\"\")","v":""},{"$f":"\"\"","v":""},"1 min","30 ft","dispelled","VSM","a vellum depiction or a carved statuette in the likeness of the target, and a special component that varies according to the version of the spell you choose, worth at least 500 gp per Hit Die of the target","abjuration","abjur","You create a magical restraint to hold a creature that you can see within range. The target must succeed on a Wisdom saving throw or be bound by the spell; if it succeeds, it is immune to this spell if you cast it again. While affected by this spell, the creature doesn't need to breathe, eat, or drink, and it doesn’t age. Divination spells can’t locate or perceive the target. When you cast the spell, you choose one of the following forms of imprisonment. \n\nBurial. The target is entombed far beneath the earth in a sphere of magical force that is just large enough to contain the target. Nothing can pass through the sphere, nor can any creature teleport or use planar travel to get into or out of it. The special component for this version of the spell is a small mithral orb. \n\nChaining. Heavy chains, firmly rooted in the ground, hold the target in place. The target is restrained until the spell ends, and it can’t move or be moved by any means until then. The special component for this version of the spell is a fine chain of precious metal. \n\nHedged Prison. The spell transports the target into a tiny demiplane that is warded against teleportation and planar travel. The demiplane can be a labyrinth, a cage, a tower, or any similar confined structure or area of your choice. The special component for this version of the spell is a miniature representation of the prison made from jade. \n\nMinimus Containment. The target shrinks to a height of 1 inch and is imprisoned inside a gemstone or similar object. Light can pass through the gemstone normally (allowing the target to see out and other creatures to see in), but nothing else can pass through, even by means of teleportation or planar travel. The gemstone can’t be cut or broken while the spell remains in effect. \nThe special component for this version of the spell is a large, transparent gemstone, such as a corundum, diamond, or ruby. \n\nSlumber. The target falls asleep and can’t be awoken. The special component for this version of the spell consists of rare soporific herbs. \n\nEnding the Spell. During the casting of the spell, in any of its versions, you can specify a condition that will cause the spell to end and release the target. The condition can be as specific or as elaborate as you choose, but the DM must agree that the condition is reasonable and has a likelihood of coming to pass. The conditions can be based on a creature’s name, identity, or deity but otherwise must be based on observable actions or qualities and not based on intangibles such as level, class, or hit points. \n\nA dispel magic spell can end the spell only if it is cast as a 9th-level spell, targeting either the prison or the special component used to create it. \n\nYou can use a particular special component to create only one prison at a time. If you cast the spell again using the same component, the target of the first casting is immediately freed from its binding.","wis save, bound, choose imprisonment form",null,null,null,null,{"$f":"IF(UG$1>=$TM193,1,\"0\")","v":"0"},null,null,null,null,"0",null,null,null,null,null,null,null,null,null,null,null,null,null,null,null,null,null,null,null,null,null,null,null,null,null,null,null,null,null,null,null,null,null,null,null,null,null,null,null,null,null,null,null,{"$f":"IF(SUM($VZ$1:$WC$1)>0,IF(AND(SUM($VZ193:$WC193)>0,$TM193=WE$1),MAX(WD$2:WD192)+1,\"\"),IF(AND(SUM($UC193:$VY193)>0,$TM193=WE$1),MAX(WD$2:WD192)+1,\"\"))","v":""},"",{"$f":"IF(AND(SUM($UB193:$VY193)>0,$TM193=WG$1),MAX(WF$2:WF192)+1,\"\")","v":""},"",{"$f":"IF(AND(SUM($UB193:$VY193)>0,$TM193=WI$1),MAX(WH$2:WH192)+1,\"\")","v":""},"",{"$f":"IF(AND(SUM($UB193:$VY193)>0,$TM193=WK$1),MAX(WJ$2:WJ192)+1,\"\")","v":""},"",{"$f":"IF(AND(SUM($UB193:$VY193)>0,$TM193=WM$1),MAX(WL$2:WL192)+1,\"\")","v":""},"",{"$f":"IF(AND(SUM($UB193:$VY193)>0,$TM193=WO$1),MAX(WN$2:WN192)+1,\"\")","v":""},"",{"$f":"IF(AND(SUM($UB193:$VY193)>0,$TM193=WQ$1),MAX(WP$2:WP192)+1,\"\")","v":""},"",{"$f":"IF(AND(SUM($UB193:$VY193)>0,$TM193=WS$1),MAX(WR$2:WR192)+1,\"\")","v":""},"",{"$f":"IF(AND(SUM($UB193:$VY193)>0,$TM193=WU$1),MAX(WT$2:WT192)+1,\"\")","v":""},"",{"$f":"IF(AND(SUM($UB193:$VY193)>0,$TM193=WW$1),MAX(WV$2:WV192)+1,\"\")","v":""},"",{"$f":"IF(AND(SUM($UB193:$VY193)>0,$TM193=WY$1),MAX(WX$2:WX192)+1,\"\")","v":""},"",null,null,null,""]
[null,null,null,null,null,null,null,null,null,null,null,null,null,null,null,null,null,null,null,null,null,null,null,null,null,null,null,null,null,null,null,null,null,null,null,null,null,null,null,null,null,null,null,null,null,null,null,null,null,null,null,null,null,null,null,null,null,null,null,null,null,null,null,null,null,null,null,null,null,null,null,null,null,null,null,null,null,null,null,null,null,null,null,null,null,null,null,null,null,null,null,null,null,null,null,null,null,null,null,null,null,null,null,null,null,null,null,null,null,null,null,null,null,null,null,null,null,null,null,null,null,null,null,null,null,null,null,null,null,null,null,null,null,null,null,null,null,null,null,null,null,null,null,null,null,null,null,null,null,null,null,null,null,null,null,null,null,null,null,null,null,null,null,null,null,null,null,null,null,null,null,null,null,null,null,null,null,null,null,null,null,null,null,null,null,null,null,null,null,null,null,null,null,null,null,null,null,null,null,null,null,null,null,null,null,null,null,null,null,null,null,null,null,null,null,null,null,null,null,null,null,null,null,null,null,null,null,null,null,null,null,null,null,null,null,null,null,null,null,null,null,null,null,null,null,null,null,null,null,null,null,null,null,null,null,null,null,null,null,null,null,null,null,null,null,null,null,null,null,null,null,null,null,null,null,null,null,null,null,null,null,null,null,null,null,null,null,null,null,null,null,null,null,null,null,null,null,null,null,null,null,null,null,null,null,null,null,null,null,null,null,null,null,null,null,null,null,null,null,null,null,null,null,null,null,null,null,null,null,null,null,null,null,null,null,null,null,null,null,null,null,null,null,null,null,null,null,null,null,null,null,null,null,null,null,null,null,null,null,null,null,null,null,null,null,null,null,null,null,null,null,null,null,null,null,null,null,null,null,null,null,null,null,null,null,null,null,null,null,null,null,null,null,null,null,null,null,null,null,null,null,null,null,null,null,null,null,null,null,null,null,null,null,null,null,null,null,null,null,null,null,null,null,null,null,null,null,null,null,null,null,null,null,null,null,null,null,null,null,null,null,null,null,null,null,null,null,null,null,null,null,null,null,null,null,null,null,null,null,null,null,null,null,null,null,null,null,null,null,null,null,null,null,null,null,null,null,null,null,null,null,null,null,null,null,null,null,null,null,null,null,null,null,null,null,null,null,null,null,null,null,null,null,null,null,null,null,null,null,null,null,null,null,null,null,null,null,null,null,null,null,null,null,null,null,null,null,null,null,197,"Knock","LEVEL 2",2,"Knock ",{"$f":"\"\"","v":""},"",{"$f":"IF(OR(TK199=Spellcasting!$AC$18,TK199=Spellcasting!$AC$19),\"ᵐ\",\"\")","v":""},{"$f":"IF(OR(TK199=Spellcasting!$AC$20,TK199=Spellcasting!$AC$21),\"ˢ\",\"\")","v":""},{"$f":"\"\"","v":""},"1 act","60 ft","instant","V",{"$f":"\"\"","v":""},"transmutation","trans","Choose an object that you can see within range. The object can be a door, a box, a chest, a set of manacles, a padlock, or another object that contains a mundane or magical means that prevents access. \n\nA target that is held shut by a mundane lock or that is stuck or barred becomes unlocked, unstuck, or unbarred. If the object has multiple locks, only one of them is unlocked. \n\nIf you choose a target that is held shut with arcane lock, that spell is suppressed for 10 minutes, during which time the target can be opened and shut normally. \n\nWhen you cast the spell, a loud knock, audible from as far away as 300 feet, emanates from the target object.","unlock one lock, 10min arcane lock",{"$f":"IF(UC$1>=$TM199,1,\"0\")","v":"0"},null,null,{"$f":"IF(UF$1>=$TM199,1,\"0\")","v":"0"},null,null,null,null,null,"0",null,null,null,null,null,null,null,null,null,null,null,null,null,null,null,null,null,null,null,null,null,null,null,null,null,null,null,null,null,null,null,null,null,null,null,null,null,null,null,null,null,null,null,{"$f":"IF(SUM($VZ$1:$WC$1)>0,IF(AND(SUM($VZ199:$WC199)>0,$TM199=WE$1),MAX(WD$2:WD198)+1,\"\"),IF(AND(SUM($UC199:$VY199)>0,$TM199=WE$1),MAX(WD$2:WD198)+1,\"\"))","v":""},"",{"$f":"IF(AND(SUM($UB199:$VY199)>0,$TM199=WG$1),MAX(WF$2:WF198)+1,\"\")","v":""},"",{"$f":"IF(AND(SUM($UB199:$VY199)>0,$TM199=WI$1),MAX(WH$2:WH198)+1,\"\")","v":""},"",{"$f":"IF(AND(SUM($UB199:$VY199)>0,$TM199=WK$1),MAX(WJ$2:WJ198)+1,\"\")","v":""},"",{"$f":"IF(AND(SUM($UB199:$VY199)>0,$TM199=WM$1),MAX(WL$2:WL198)+1,\"\")","v":""},"",{"$f":"IF(AND(SUM($UB199:$VY199)>0,$TM199=WO$1),MAX(WN$2:WN198)+1,\"\")","v":""},"",{"$f":"IF(AND(SUM($UB199:$VY199)>0,$TM199=WQ$1),MAX(WP$2:WP198)+1,\"\")","v":""},"",{"$f":"IF(AND(SUM($UB199:$VY199)>0,$TM199=WS$1),MAX(WR$2:WR198)+1,\"\")","v":""},"",{"$f":"IF(AND(SUM($UB199:$VY199)>0,$TM199=WU$1),MAX(WT$2:WT198)+1,\"\")","v":""},"",{"$f":"IF(AND(SUM($UB199:$VY199)>0,$TM199=WW$1),MAX(WV$2:WV198)+1,\"\")","v":""},"",{"$f":"IF(AND(SUM($UB199:$VY199)>0,$TM199=WY$1),MAX(WX$2:WX198)+1,\"\")","v":""},"",null,null,null,""]
[null,null,null,null,null,null,null,null,null,null,null,null,null,null,null,null,null,null,null,null,null,null,null,null,null,null,null,null,null,null,null,null,null,null,null,null,null,null,null,null,null,null,null,null,null,null,null,null,null,null,null,null,null,null,null,null,null,null,null,null,null,null,null,null,null,null,null,null,null,null,null,null,null,null,null,null,null,null,null,null,null,null,null,null,null,null,null,null,null,null,null,null,null,null,null,null,null,null,null,null,null,null,null,null,null,null,null,null,null,null,null,null,null,null,null,null,null,null,null,null,null,null,null,null,null,null,null,null,null,null,null,null,null,null,null,null,null,null,null,null,null,null,null,null,null,null,null,null,null,null,null,null,null,null,null,null,null,null,null,null,null,null,null,null,null,null,null,null,null,null,null,null,null,null,null,null,null,null,null,null,null,null,null,null,null,null,null,null,null,null,null,null,null,null,null,null,null,null,null,null,null,null,null,null,null,null,null,null,null,null,null,null,null,null,null,null,null,null,null,null,null,null,null,null,null,null,null,null,null,null,null,null,null,null,null,null,null,null,null,null,null,null,null,null,null,null,null,null,null,null,null,null,null,null,null,null,null,null,null,null,null,null,null,null,null,null,null,null,null,null,null,null,null,null,null,null,null,null,null,null,null,null,null,null,null,null,null,null,null,null,null,null,null,null,null,null,null,null,null,null,null,null,null,null,null,null,null,null,null,null,null,null,null,null,null,null,null,null,null,null,null,null,null,null,null,null,null,null,null,null,null,null,null,null,null,null,null,null,null,null,null,null,null,null,null,null,null,null,null,null,null,null,null,null,null,null,null,null,null,null,null,null,null,null,null,null,null,null,null,null,null,null,null,null,null,null,null,null,null,null,null,null,null,null,null,null,null,null,null,null,null,null,null,null,null,null,null,null,null,null,null,null,null,null,null,null,null,null,null,null,null,null,null,null,null,null,null,null,null,null,null,null,null,null,null,null,null,null,null,null,null,null,null,null,null,null,null,null,null,null,null,null,null,null,null,null,null,null,null,null,null,null,null,null,null,null,null,null,null,null,null,null,null,null,null,null,null,null,null,null,null,null,null,null,null,null,null,null,null,null,null,null,null,null,null,null,null,null,null,null,null,null,null,null,null,null,null,null,null,null,null,null,null,null,null,null,null,null,null,null,null,null,null,null,null,null,null,null,null,null,null,null,null,null,null,null,null,null,null,201,"Lesser Restoration","LEVEL 2",2,"Lesser Restoration ",{"$f":"\"\"","v":""},"",{"$f":"IF(OR(TK203=Spellcasting!$AC$18,TK203=Spellcasting!$AC$19),\"ᵐ\",\"\")","v":""},{"$f":"IF(OR(TK203=Spellcasting!$AC$20,TK203=Spellcasting!$AC$21),\"ˢ\",\"\")","v":""},{"$f":"\"\"","v":""},"1 act","touch","instant","VS",{"$f":"\"\"","v":""},"abjuration","abjur","You touch a creature and can end either one disease or one condition afflicting it. The condition can be blinded, deafened, paralyzed, or poisoned.","remove 1 disease or condition",{"$f":"IF(UC$1>=$TM203,1,\"0\")","v":"0"},{"$f":"IF(UD$1>=$TM203,1,\"0\")","v":"0"},{"$f":"IF(UE$1>=$TM203,1,\"0\")","v":"0"},null,null,{"$f":"IF(UH$1>=$TM203,1,\"0\")","v":"0"},{"$f":"IF(UI$1>=$TM203,1,\"0\")","v":"0"},null,null,null,null,null,{"$f":"IF(UO$1>=$TM203,1,\"0\")","v":"0"},null,null,null,null,null,null,null,null,null,null,{"$f":"IF(UZ$1>=$TM203,1,\"0\")","v":"0"},null,null,null,null,null,null,null,null,null,null,null,null,null,null,null,null,null,null,null,null,null,null,null,null,null,null,null,null,null,{"$f":"IF(SUM($VZ$1:$WC$1)>0,IF(AND(SUM($VZ203:$WC203)>0,$TM203=WE$1),MAX(WD$2:WD202)+1,\"\"),IF(AND(SUM($UC203:$VY203)>0,$TM203=WE$1),MAX(WD$2:WD202)+1,\"\"))","v":""},"",{"$f":"IF(AND(SUM($UB203:$VY203)>0,$TM203=WG$1),MAX(WF$2:WF202)+1,\"\")","v":""},"",{"$f":"IF(AND(SUM($UB203:$VY203)>0,$TM203=WI$1),MAX(WH$2:WH202)+1,\"\")","v":""},"",{"$f":"IF(AND(SUM($UB203:$VY203)>0,$TM203=WK$1),MAX(WJ$2:WJ202)+1,\"\")","v":""},"",{"$f":"IF(AND(SUM($UB203:$VY203)>0,$TM203=WM$1),MAX(WL$2:WL202)+1,\"\")","v":""},"",{"$f":"IF(AND(SUM($UB203:$VY203)>0,$TM203=WO$1),MAX(WN$2:WN202)+1,\"\")","v":""},"",{"$f":"IF(AND(SUM($UB203:$VY203)>0,$TM203=WQ$1),MAX(WP$2:WP202)+1,\"\")","v":""},"",{"$f":"IF(AND(SUM($UB203:$VY203)>0,$TM203=WS$1),MAX(WR$2:WR202)+1,\"\")","v":""},"",{"$f":"IF(AND(SUM($UB203:$VY203)>0,$TM203=WU$1),MAX(WT$2:WT202)+1,\"\")","v":""},"",{"$f":"IF(AND(SUM($UB203:$VY203)>0,$TM203=WW$1),MAX(WV$2:WV202)+1,\"\")","v":""},"",{"$f":"IF(AND(SUM($UB203:$VY203)>0,$TM203=WY$1),MAX(WX$2:WX202)+1,\"\")","v":""},"",null,null,null,{"$f":"IF(ISERROR(VLOOKUP($WZ207,$WH$1:$WI$5013,2,FALSE)),\"\",VLOOKUP($WZ207,$WH$1:$WI$5013,2,FALSE))","v":""}]
[null,null,null,null,null,null,null,null,null,null,null,null,null,null,null,null,null,null,null,null,null,null,null,null,null,null,null,null,null,null,null,null,null,null,null,null,null,null,null,null,null,null,null,null,null,null,null,null,null,null,null,null,null,null,null,null,null,null,null,null,null,null,null,null,null,null,null,null,null,null,null,null,null,null,null,null,null,null,null,null,null,null,null,null,null,null,null,null,null,null,null,null,null,null,null,null,null,null,null,null,null,null,null,null,null,null,null,null,null,null,null,null,null,null,null,null,null,null,null,null,null,null,null,null,null,null,null,null,null,null,null,null,null,null,null,null,null,null,null,null,null,null,null,null,null,null,null,null,null,null,null,null,null,null,null,null,null,null,null,null,null,null,null,null,null,null,null,null,null,null,null,null,null,null,null,null,null,null,null,null,null,null,null,null,null,null,null,null,null,null,null,null,null,null,null,null,null,null,null,null,null,null,null,null,null,null,null,null,null,null,null,null,null,null,null,null,null,null,null,null,null,null,null,null,null,null,null,null,null,null,null,null,null,null,null,null,null,null,null,null,null,null,null,null,null,null,null,null,null,null,null,null,null,null,null,null,null,null,null,null,null,null,null,null,null,null,null,null,null,null,null,null,null,null,null,null,null,null,null,null,null,null,null,null,null,null,null,null,null,null,null,null,null,null,null,null,null,null,null,null,null,null,null,null,null,null,null,null,null,null,null,null,null,null,null,null,null,null,null,null,null,null,null,null,null,null,null,null,null,null,null,null,null,null,null,null,null,null,null,null,null,null,null,null,null,null,null,null,null,null,null,null,null,null,null,null,null,null,null,null,null,null,null,null,null,null,null,null,null,null,null,null,null,null,null,null,null,null,null,null,null,null,null,null,null,null,null,null,null,null,null,null,null,null,null,null,null,null,null,null,null,null,null,null,null,null,null,null,null,null,null,null,null,null,null,null,null,null,null,null,null,null,null,null,null,null,null,null,null,null,null,null,null,null,null,null,null,null,null,null,null,null,null,null,null,null,null,null,null,null,null,null,null,null,null,null,null,null,null,null,null,null,null,null,null,null,null,null,null,null,null,null,null,null,null,null,null,null,null,null,null,null,null,null,null,null,null,null,null,null,null,null,null,null,null,null,null,null,null,null,null,null,null,null,null,null,null,null,null,null,null,null,null,null,null,null,null,null,null,null,null,null,null,null,null,null,null,null,null,{"$f":"TJ207+1","v":206},"Locate Animals or Plants","LEVEL 2",2,"Locate Animals or Plants ",{"$f":"\"\"","v":""},"",{"$f":"IF(OR(TK208=Spellcasting!$AC$18,TK208=Spellcasting!$AC$19),\"ᵐ\",\"\")","v":""},{"$f":"IF(OR(TK208=Spellcasting!$AC$20,TK208=Spellcasting!$AC$21),\"ˢ\",\"\")","v":""},"ritual","1 act ᴿ","self","instant","VSM","a bit of fur from a bloodhound","divination","divin","Describe or name a specific kind of beast or plant. Concentrating on the voice of nature in your surroundings, you learn the direction and distance to the closest creature or plant of that kind within 5 miles, if any are present.","find beast or plant within 5 miles",{"$f":"IF(UC$1>=$TM208,1,\"0\")","v":"0"},null,{"$f":"IF(UE$1>=$TM208,1,\"0\")","v":"0"},null,null,null,{"$f":"IF(UI$1>=$TM208,1,\"0\")","v":"0"},null,null,null,null,null,null,null,null,null,null,null,null,null,null,null,null,null,null,null,null,null,null,null,null,null,null,null,null,null,null,null,null,null,null,null,null,null,null,null,null,null,null,null,null,null,null,{"$f":"IF(SUM($VZ$1:$WC$1)>0,IF(AND(SUM($VZ208:$WC208)>0,$TM208=WE$1),MAX(WD$2:WD207)+1,\"\"),IF(AND(SUM($UC208:$VY208)>0,$TM208=WE$1),MAX(WD$2:WD207)+1,\"\"))","v":""},"",{"$f":"IF(AND(SUM($UB208:$VY208)>0,$TM208=WG$1),MAX(WF$2:WF207)+1,\"\")","v":""},"",{"$f":"IF(AND(SUM($UB208:$VY208)>0,$TM208=WI$1),MAX(WH$2:WH207)+1,\"\")","v":""},"",{"$f":"IF(AND(SUM($UB208:$VY208)>0,$TM208=WK$1),MAX(WJ$2:WJ207)+1,\"\")","v":""},"",{"$f":"IF(AND(SUM($UB208:$VY208)>0,$TM208=WM$1),MAX(WL$2:WL207)+1,\"\")","v":""},"",{"$f":"IF(AND(SUM($UB208:$VY208)>0,$TM208=WO$1),MAX(WN$2:WN207)+1,\"\")","v":""},"",{"$f":"IF(AND(SUM($UB208:$VY208)>0,$TM208=WQ$1),MAX(WP$2:WP207)+1,\"\")","v":""},"",{"$f":"IF(AND(SUM($UB208:$VY208)>0,$TM208=WS$1),MAX(WR$2:WR207)+1,\"\")","v":""},"",{"$f":"IF(AND(SUM($UB208:$VY208)>0,$TM208=WU$1),MAX(WT$2:WT207)+1,\"\")","v":""},"",{"$f":"IF(AND(SUM($UB208:$VY208)>0,$TM208=WW$1),MAX(WV$2:WV207)+1,\"\")","v":""},"",{"$f":"IF(AND(SUM($UB208:$VY208)>0,$TM208=WY$1),MAX(WX$2:WX207)+1,\"\")","v":""},"",null,null,null,""]
[null,null,null,null,null,null,null,null,null,null,null,null,null,null,null,null,null,null,null,null,null,null,null,null,null,null,null,null,null,null,null,null,null,null,null,null,null,null,null,null,null,null,null,null,null,null,null,null,null,null,null,null,null,null,null,null,null,null,null,null,null,null,null,null,null,null,null,null,null,null,null,null,null,null,null,null,null,null,null,null,null,null,null,null,null,null,null,null,null,null,null,null,null,null,null,null,null,null,null,null,null,null,null,null,null,null,null,null,null,null,null,null,null,null,null,null,null,null,null,null,null,null,null,null,null,null,null,null,null,null,null,null,null,null,null,null,null,null,null,null,null,null,null,null,null,null,null,null,null,null,null,null,null,null,null,null,null,null,null,null,null,null,null,null,null,null,null,null,null,null,null,null,null,null,null,null,null,null,null,null,null,null,null,null,null,null,null,null,null,null,null,null,null,null,null,null,null,null,null,null,null,null,null,null,null,null,null,null,null,null,null,null,null,null,null,null,null,null,null,null,null,null,null,null,null,null,null,null,null,null,null,null,null,null,null,null,null,null,null,null,null,null,null,null,null,null,null,null,null,null,null,null,null,null,null,null,null,null,null,null,null,null,null,null,null,null,null,null,null,null,null,null,null,null,null,null,null,null,null,null,null,null,null,null,null,null,null,null,null,null,null,null,null,null,null,null,null,null,null,null,null,null,null,null,null,null,null,null,null,null,null,null,null,null,null,null,null,null,null,null,null,null,null,null,null,null,null,null,null,null,null,null,null,null,null,null,null,null,null,null,null,null,null,null,null,null,null,null,null,null,null,null,null,null,null,null,null,null,null,null,null,null,null,null,null,null,null,null,null,null,null,null,null,null,null,null,null,null,null,null,null,null,null,null,null,null,null,null,null,null,null,null,null,null,null,null,null,null,null,null,null,null,null,null,null,null,null,null,null,null,null,null,null,null,null,null,null,null,null,null,null,null,null,null,null,null,null,null,null,null,null,null,null,null,null,null,null,null,null,null,null,null,null,null,null,null,null,null,null,null,null,null,null,null,null,null,null,null,null,null,null,null,null,null,null,null,null,null,null,null,null,null,null,null,null,null,null,null,null,null,null,null,null,null,null,null,null,null,null,null,null,null,null,null,null,null,null,null,null,null,null,null,null,null,null,null,null,null,null,null,null,null,null,null,null,null,null,null,null,null,null,null,null,null,null,null,null,null,null,210,"Mage Armor","LEVEL 1",1,"Mage Armor ",{"$f":"\"\"","v":""},"",{"$f":"IF(OR(TK212=Spellcasting!$AC$18,TK212=Spellcasting!$AC$19),\"ᵐ\",\"\")","v":""},{"$f":"IF(OR(TK212=Spellcasting!$AC$20,TK212=Spellcasting!$AC$21),\"ˢ\",\"\")","v":""},{"$f":"\"\"","v":""},"1 act","touch","8 hrs","VSM","a piece of cured leather","abjuration","abjur","You touch a willing creature who isn’t wearing armor, and a protective magical force surrounds it until the spell ends. The target’s base AC becomes 13 + its Dexterity modifier. The spell ends if the target dons armor or if you dismiss the spell as an action.","Willing creature wearing no armor, AC 13 + dex modifier",null,null,null,{"$f":"IF(UF$1>=$TM212,1,\"0\")","v":"0"},null,null,null,null,null,"0",null,null,null,null,null,null,null,null,null,null,null,null,null,null,null,null,null,null,null,null,null,null,null,null,null,null,null,null,null,{"$f":"IF(VP$1>=$TM212,1,\"0\")","v":"0"},null,null,null,null,null,null,null,null,null,null,null,null,null,{"$f":"IF(SUM($VZ$1:$WC$1)>0,IF(AND(SUM($VZ212:$WC212)>0,$TM212=WE$1),MAX(WD$2:WD211)+1,\"\"),IF(AND(SUM($UC212:$VY212)>0,$TM212=WE$1),MAX(WD$2:WD211)+1,\"\"))","v":""},"",{"$f":"IF(AND(SUM($UB212:$VY212)>0,$TM212=WG$1),MAX(WF$2:WF211)+1,\"\")","v":""},"",{"$f":"IF(AND(SUM($UB212:$VY212)>0,$TM212=WI$1),MAX(WH$2:WH211)+1,\"\")","v":""},"",{"$f":"IF(AND(SUM($UB212:$VY212)>0,$TM212=WK$1),MAX(WJ$2:WJ211)+1,\"\")","v":""},"",{"$f":"IF(AND(SUM($UB212:$VY212)>0,$TM212=WM$1),MAX(WL$2:WL211)+1,\"\")","v":""},"",{"$f":"IF(AND(SUM($UB212:$VY212)>0,$TM212=WO$1),MAX(WN$2:WN211)+1,\"\")","v":""},"",{"$f":"IF(AND(SUM($UB212:$VY212)>0,$TM212=WQ$1),MAX(WP$2:WP211)+1,\"\")","v":""},"",{"$f":"IF(AND(SUM($UB212:$VY212)>0,$TM212=WS$1),MAX(WR$2:WR211)+1,\"\")","v":""},"",{"$f":"IF(AND(SUM($UB212:$VY212)>0,$TM212=WU$1),MAX(WT$2:WT211)+1,\"\")","v":""},"",{"$f":"IF(AND(SUM($UB212:$VY212)>0,$TM212=WW$1),MAX(WV$2:WV211)+1,\"\")","v":""},"",{"$f":"IF(AND(SUM($UB212:$VY212)>0,$TM212=WY$1),MAX(WX$2:WX211)+1,\"\")","v":""},"",null,null,null,""]
[null,null,null,null,null,null,null,null,null,null,null,null,null,null,null,null,null,null,null,null,null,null,null,null,null,null,null,null,null,null,null,null,null,null,null,null,null,null,null,null,null,null,null,null,null,null,null,null,null,null,null,null,null,null,null,null,null,null,null,null,null,null,null,null,null,null,null,null,null,null,null,null,null,null,null,null,null,null,null,null,null,null,null,null,null,null,null,null,null,null,null,null,null,null,null,null,null,null,null,null,null,null,null,null,null,null,null,null,null,null,null,null,null,null,null,null,null,null,null,null,null,null,null,null,null,null,null,null,null,null,null,null,null,null,null,null,null,null,null,null,null,null,null,null,null,null,null,null,null,null,null,null,null,null,null,null,null,null,null,null,null,null,null,null,null,null,null,null,null,null,null,null,null,null,null,null,null,null,null,null,null,null,null,null,null,null,null,null,null,null,null,null,null,null,null,null,null,null,null,null,null,null,null,null,null,null,null,null,null,null,null,null,null,null,null,null,null,null,null,null,null,null,null,null,null,null,null,null,null,null,null,null,null,null,null,null,null,null,null,null,null,null,null,null,null,null,null,null,null,null,null,null,null,null,null,null,null,null,null,null,null,null,null,null,null,null,null,null,null,null,null,null,null,null,null,null,null,null,null,null,null,null,null,null,null,null,null,null,null,null,null,null,null,null,null,null,null,null,null,null,null,null,null,null,null,null,null,null,null,null,null,null,null,null,null,null,null,null,null,null,null,null,null,null,null,null,null,null,null,null,null,null,null,null,null,null,null,null,null,null,null,null,null,null,null,null,null,null,null,null,null,null,null,null,null,null,null,null,null,null,null,null,null,null,null,null,null,null,null,null,null,null,null,null,null,null,null,null,null,null,null,null,null,null,null,null,null,null,null,null,null,null,null,null,null,null,null,null,null,null,null,null,null,null,null,null,null,null,null,null,null,null,null,null,null,null,null,null,null,null,null,null,null,null,null,null,null,null,null,null,null,null,null,null,null,null,null,null,null,null,null,null,null,null,null,null,null,null,null,null,null,null,null,null,null,null,null,null,null,null,null,null,null,null,null,null,null,null,null,null,null,null,null,null,null,null,null,null,null,null,null,null,null,null,null,null,null,null,null,null,null,null,null,null,null,null,null,null,null,null,null,null,null,null,null,null,null,null,null,null,null,null,null,null,null,null,null,null,null,null,null,null,null,null,null,null,null,null,null,216,"Magic Weapon","LEVEL 2",2,"Magic Weapon ᴴ ","ᴴ ","",{"$f":"IF(OR(TK218=Spellcasting!$AC$18,TK218=Spellcasting!$AC$19),\"ᵐ\",\"\")","v":""},{"$f":"IF(OR(TK218=Spellcasting!$AC$20,TK218=Spellcasting!$AC$21),\"ˢ\",\"\")","v":""},{"$f":"\"\"","v":""},"1 bon","touch","1 hr ᶜᵒᶰ","VS",{"$f":"\"\"","v":""},"transmutation","trans","You touch a nonmagical weapon. Until the spell ends, that weapon becomes a magic weapon with a +1 bonus to attack rolls and damage rolls. \n\nAt Higher Levels. When you cast this spell using a spell slot of 4th level or higher, the bonus increases to +2. When you use a spell slot of 6th level or higher, the bonus increases to +3.","magic +1 attack & damage",null,{"$f":"IF(UD$1>=$TM218,1,\"0\")","v":"0"},null,null,null,null,null,null,null,"0",null,null,null,null,null,null,null,null,null,null,null,null,null,null,null,null,null,null,{"$f":"IF(VE$1>=$TM218,1,\"0\")","v":"0"},null,null,null,null,null,null,null,null,null,null,null,null,null,null,null,null,null,null,null,null,null,null,null,null,{"$f":"IF(SUM($VZ$1:$WC$1)>0,IF(AND(SUM($VZ218:$WC218)>0,$TM218=WE$1),MAX(WD$2:WD217)+1,\"\"),IF(AND(SUM($UC218:$VY218)>0,$TM218=WE$1),MAX(WD$2:WD217)+1,\"\"))","v":""},"",{"$f":"IF(AND(SUM($UB218:$VY218)>0,$TM218=WG$1),MAX(WF$2:WF217)+1,\"\")","v":""},"",{"$f":"IF(AND(SUM($UB218:$VY218)>0,$TM218=WI$1),MAX(WH$2:WH217)+1,\"\")","v":""},"",{"$f":"IF(AND(SUM($UB218:$VY218)>0,$TM218=WK$1),MAX(WJ$2:WJ217)+1,\"\")","v":""},"",{"$f":"IF(AND(SUM($UB218:$VY218)>0,$TM218=WM$1),MAX(WL$2:WL217)+1,\"\")","v":""},"",{"$f":"IF(AND(SUM($UB218:$VY218)>0,$TM218=WO$1),MAX(WN$2:WN217)+1,\"\")","v":""},"",{"$f":"IF(AND(SUM($UB218:$VY218)>0,$TM218=WQ$1),MAX(WP$2:WP217)+1,\"\")","v":""},"",{"$f":"IF(AND(SUM($UB218:$VY218)>0,$TM218=WS$1),MAX(WR$2:WR217)+1,\"\")","v":""},"",{"$f":"IF(AND(SUM($UB218:$VY218)>0,$TM218=WU$1),MAX(WT$2:WT217)+1,\"\")","v":""},"",{"$f":"IF(AND(SUM($UB218:$VY218)>0,$TM218=WW$1),MAX(WV$2:WV217)+1,\"\")","v":""},"",{"$f":"IF(AND(SUM($UB218:$VY218)>0,$TM218=WY$1),MAX(WX$2:WX217)+1,\"\")","v":""},"",null,null,null,""]
[null,null,null,null,null,null,null,null,null,null,null,null,null,null,null,null,null,null,null,null,null,null,null,null,null,null,null,null,null,null,null,null,null,null,null,null,null,null,null,null,null,null,null,null,null,null,null,null,null,null,null,null,null,null,null,null,null,null,null,null,null,null,null,null,null,null,null,null,null,null,null,null,null,null,null,null,null,null,null,null,null,null,null,null,null,null,null,null,null,null,null,null,null,null,null,null,null,null,null,null,null,null,null,null,null,null,null,null,null,null,null,null,null,null,null,null,null,null,null,null,null,null,null,null,null,null,null,null,null,null,null,null,null,null,null,null,null,null,null,null,null,null,null,null,null,null,null,null,null,null,null,null,null,null,null,null,null,null,null,null,null,null,null,null,null,null,null,null,null,null,null,null,null,null,null,null,null,null,null,null,null,null,null,null,null,null,null,null,null,null,null,null,null,null,null,null,null,null,null,null,null,null,null,null,null,null,null,null,null,null,null,null,null,null,null,null,null,null,null,null,null,null,null,null,null,null,null,null,null,null,null,null,null,null,null,null,null,null,null,null,null,null,null,null,null,null,null,null,null,null,null,null,null,null,null,null,null,null,null,null,null,null,null,null,null,null,null,null,null,null,null,null,null,null,null,null,null,null,null,null,null,null,null,null,null,null,null,null,null,null,null,null,null,null,null,null,null,null,null,null,null,null,null,null,null,null,null,null,null,null,null,null,null,null,null,null,null,null,null,null,null,null,null,null,null,null,null,null,null,null,null,null,null,null,null,null,null,null,null,null,null,null,null,null,null,null,null,null,null,null,null,null,null,null,null,null,null,null,null,null,null,null,null,null,null,null,null,null,null,null,null,null,null,null,null,null,null,null,null,null,null,null,null,null,null,null,null,null,null,null,null,null,null,null,null,null,null,null,null,null,null,null,null,null,null,null,null,null,null,null,null,null,null,null,null,null,null,null,null,null,null,null,null,null,null,null,null,null,null,null,null,null,null,null,null,null,null,null,null,null,null,null,null,null,null,null,null,null,null,null,null,null,null,null,null,null,null,null,null,null,null,null,null,null,null,null,null,null,null,null,null,null,null,null,null,null,null,null,null,null,null,null,null,null,null,null,null,null,null,null,null,null,null,null,null,null,null,null,null,null,null,null,null,null,null,null,null,null,null,null,null,null,null,null,null,null,null,null,null,null,null,null,null,null,null,null,null,null,null,221,"Mass Suggestion","LEVEL 6",6,"Mass Suggestion ᴴ ","ᴴ ","",{"$f":"IF(OR(TK223=Spellcasting!$AC$18,TK223=Spellcasting!$AC$19),\"ᵐ\",\"\")","v":""},{"$f":"IF(OR(TK223=Spellcasting!$AC$20,TK223=Spellcasting!$AC$21),\"ˢ\",\"\")","v":""},{"$f":"\"\"","v":""},"1 act","60 ft","1 day","VM","a snake’s tongue and either a bit of honeycomb or a drop of sweet oil","enchantment","ench","You suggest a course of activity (limited to a sentence or two) and magically influence up to twelve creatures of your choice that you can see within range and that can hear and understand you. Creatures that can’t be charmed are immune to this effect. The suggestion must be worded in such a manner as to make the course of action sound reasonable. Asking the creature to stab itself, throw itself onto a spear, immolate itself, or do some other obviously harmful act automatically negates the effect of the spell. \n\nEach target must make a Wisdom saving throw. On a failed save, it pursues the course of action you described to the best of its ability. The suggested course of action can continue for the entire duration. If the suggested activity can be completed in a shorter time, the spell ends when the subject finishes what it was asked to do. \n\nYou can also specify conditions that will trigger a special activity during the duration. For example, you might suggest that a group of soldiers give all their money to the first beggar they meet. If the condition isn’t met before the spell ends, the activity isn’t performed. \n\nIf you or any of your companions damage a creature affected by this spell, the spell ends for that creature. \n\nAt Higher Levels. When you cast this spell using a 7th-level spell slot, the duration is 10 days. When you use an 8th-level spell slot, the duration is 30 days. When you use a 9th-level spell slot, the duration is a year and a day.","12 targets, wis save, must do as suggested",{"$f":"IF(UC$1>=$TM223,1,\"0\")","v":"0"},null,null,{"$f":"IF(UF$1>=$TM223,1,\"0\")","v":"0"},{"$f":"IF(UG$1>=$TM223,1,\"0\")","v":"0"},null,null,null,null,{"$f":"IF(UL$1>=$TM223,1,\"0\")","v":"0"},null,null,null,null,null,null,null,null,null,null,null,null,null,null,null,null,null,null,null,null,null,null,null,null,null,null,null,null,null,null,null,null,null,null,null,null,null,null,null,null,null,null,null,{"$f":"IF(SUM($VZ$1:$WC$1)>0,IF(AND(SUM($VZ223:$WC223)>0,$TM223=WE$1),MAX(WD$2:WD222)+1,\"\"),IF(AND(SUM($UC223:$VY223)>0,$TM223=WE$1),MAX(WD$2:WD222)+1,\"\"))","v":""},"",{"$f":"IF(AND(SUM($UB223:$VY223)>0,$TM223=WG$1),MAX(WF$2:WF222)+1,\"\")","v":""},"",{"$f":"IF(AND(SUM($UB223:$VY223)>0,$TM223=WI$1),MAX(WH$2:WH222)+1,\"\")","v":""},"",{"$f":"IF(AND(SUM($UB223:$VY223)>0,$TM223=WK$1),MAX(WJ$2:WJ222)+1,\"\")","v":""},"",{"$f":"IF(AND(SUM($UB223:$VY223)>0,$TM223=WM$1),MAX(WL$2:WL222)+1,\"\")","v":""},"",{"$f":"IF(AND(SUM($UB223:$VY223)>0,$TM223=WO$1),MAX(WN$2:WN222)+1,\"\")","v":""},"",{"$f":"IF(AND(SUM($UB223:$VY223)>0,$TM223=WQ$1),MAX(WP$2:WP222)+1,\"\")","v":""},"",{"$f":"IF(AND(SUM($UB223:$VY223)>0,$TM223=WS$1),MAX(WR$2:WR222)+1,\"\")","v":""},"",{"$f":"IF(AND(SUM($UB223:$VY223)>0,$TM223=WU$1),MAX(WT$2:WT222)+1,\"\")","v":""},"",{"$f":"IF(AND(SUM($UB223:$VY223)>0,$TM223=WW$1),MAX(WV$2:WV222)+1,\"\")","v":""},"",{"$f":"IF(AND(SUM($UB223:$VY223)>0,$TM223=WY$1),MAX(WX$2:WX222)+1,\"\")","v":""},"",null,null,null,""]
[null,null,null,null,null,null,null,null,null,null,null,null,null,null,null,null,null,null,null,null,null,null,null,null,null,null,null,null,null,null,null,null,null,null,null,null,null,null,null,null,null,null,null,null,null,null,null,null,null,null,null,null,null,null,null,null,null,null,null,null,null,null,null,null,null,null,null,null,null,null,null,null,null,null,null,null,null,null,null,null,null,null,null,null,null,null,null,null,null,null,null,null,null,null,null,null,null,null,null,null,null,null,null,null,null,null,null,null,null,null,null,null,null,null,null,null,null,null,null,null,null,null,null,null,null,null,null,null,null,null,null,null,null,null,null,null,null,null,null,null,null,null,null,null,null,null,null,null,null,null,null,null,null,null,null,null,null,null,null,null,null,null,null,null,null,null,null,null,null,null,null,null,null,null,null,null,null,null,null,null,null,null,null,null,null,null,null,null,null,null,null,null,null,null,null,null,null,null,null,null,null,null,null,null,null,null,null,null,null,null,null,null,null,null,null,null,null,null,null,null,null,null,null,null,null,null,null,null,null,null,null,null,null,null,null,null,null,null,null,null,null,null,null,null,null,null,null,null,null,null,null,null,null,null,null,null,null,null,null,null,null,null,null,null,null,null,null,null,null,null,null,null,null,null,null,null,null,null,null,null,null,null,null,null,null,null,null,null,null,null,null,null,null,null,null,null,null,null,null,null,null,null,null,null,null,null,null,null,null,null,null,null,null,null,null,null,null,null,null,null,null,null,null,null,null,null,null,null,null,null,null,null,null,null,null,null,null,null,null,null,null,null,null,null,null,null,null,null,null,null,null,null,null,null,null,null,null,null,null,null,null,null,null,null,null,null,null,null,null,null,null,null,null,null,null,null,null,null,null,null,null,null,null,null,null,null,null,null,null,null,null,null,null,null,null,null,null,null,null,null,null,null,null,null,null,null,null,null,null,null,null,null,null,null,null,null,null,null,null,null,null,null,null,null,null,null,null,null,null,null,null,null,null,null,null,null,null,null,null,null,null,null,null,null,null,null,null,null,null,null,null,null,null,null,null,null,null,null,null,null,null,null,null,null,null,null,null,null,null,null,null,null,null,null,null,null,null,null,null,null,null,null,null,null,null,null,null,null,null,null,null,null,null,null,null,null,null,null,null,null,null,null,null,null,null,null,null,null,null,null,null,null,null,null,null,null,null,null,null,null,null,null,null,null,null,null,null,null,null,223,"Meld into Stone","LEVEL 3",3,"Meld into Stone ",{"$f":"\"\"","v":""},"",{"$f":"IF(OR(TK225=Spellcasting!$AC$18,TK225=Spellcasting!$AC$19),\"ᵐ\",\"\")","v":""},{"$f":"IF(OR(TK225=Spellcasting!$AC$20,TK225=Spellcasting!$AC$21),\"ˢ\",\"\")","v":""},"ritual","1 act ᴿ","touch","8 hrs","VS",{"$f":"\"\"","v":""},"transmutation","trans","You step into a stone object or surface large enough to fully contain your body, melding yourself and all the equipment you carry with the stone for the duration. Using your movement, you step into the stone at a point you can touch. Nothing of your presence remains visible or otherwise detectable by nonmagical senses. \n\nWhile merged with the stone, you can’t see what occurs outside it, and any Wisdom (Perception) checks you make to hear sounds outside it are made with disadvantage. You remain aware of the passage of time and can cast spells on yourself while merged in the stone. You can use your movement to leave the stone where you entered it, which ends the spell. You otherwise can’t move. \n\nMinor physical damage to the stone doesn’t harm you, but its partial destruction or a change in its shape (to the extent that you no longer fit within it) expels you and deals 6d6 bludgeoning damage to you. The stone’s complete destruction (or transmutation into a different substance) expels you and deals 50 bludgeoning damage to you. If expelled, you fall prone in an unoccupied space closest to where you first entered.","step into a stone object",null,null,null,null,null,{"$f":"IF(UH$1>=$TM225,1,\"0\")","v":"0"},{"$f":"IF(UI$1>=$TM225,1,\"0\")","v":"0"},null,null,null,null,null,null,null,null,null,null,null,null,null,null,null,null,null,null,null,null,null,null,null,null,null,null,null,null,{"$f":"IF(VL$1>=$TM225,1,\"0\")","v":"0"},null,null,null,null,null,null,null,null,null,null,null,null,null,null,null,null,null,{"$f":"IF(SUM($VZ$1:$WC$1)>0,IF(AND(SUM($VZ225:$WC225)>0,$TM225=WE$1),MAX(WD$2:WD224)+1,\"\"),IF(AND(SUM($UC225:$VY225)>0,$TM225=WE$1),MAX(WD$2:WD224)+1,\"\"))","v":""},"",{"$f":"IF(AND(SUM($UB225:$VY225)>0,$TM225=WG$1),MAX(WF$2:WF224)+1,\"\")","v":""},"",{"$f":"IF(AND(SUM($UB225:$VY225)>0,$TM225=WI$1),MAX(WH$2:WH224)+1,\"\")","v":""},"",{"$f":"IF(AND(SUM($UB225:$VY225)>0,$TM225=WK$1),MAX(WJ$2:WJ224)+1,\"\")","v":""},"",{"$f":"IF(AND(SUM($UB225:$VY225)>0,$TM225=WM$1),MAX(WL$2:WL224)+1,\"\")","v":""},"",{"$f":"IF(AND(SUM($UB225:$VY225)>0,$TM225=WO$1),MAX(WN$2:WN224)+1,\"\")","v":""},"",{"$f":"IF(AND(SUM($UB225:$VY225)>0,$TM225=WQ$1),MAX(WP$2:WP224)+1,\"\")","v":""},"",{"$f":"IF(AND(SUM($UB225:$VY225)>0,$TM225=WS$1),MAX(WR$2:WR224)+1,\"\")","v":""},"",{"$f":"IF(AND(SUM($UB225:$VY225)>0,$TM225=WU$1),MAX(WT$2:WT224)+1,\"\")","v":""},"",{"$f":"IF(AND(SUM($UB225:$VY225)>0,$TM225=WW$1),MAX(WV$2:WV224)+1,\"\")","v":""},"",{"$f":"IF(AND(SUM($UB225:$VY225)>0,$TM225=WY$1),MAX(WX$2:WX224)+1,\"\")","v":""},"",null,null,null,""]
[null,null,null,null,null,null,null,null,null,null,null,null,null,null,null,null,null,null,null,null,null,null,null,null,null,null,null,null,null,null,null,null,null,null,null,null,null,null,null,null,null,null,null,null,null,null,null,null,null,null,null,null,null,null,null,null,null,null,null,null,null,null,null,null,null,null,null,null,null,null,null,null,null,null,null,null,null,null,null,null,null,null,null,null,null,null,null,null,null,null,null,null,null,null,null,null,null,null,null,null,null,null,null,null,null,null,null,null,null,null,null,null,null,null,null,null,null,null,null,null,null,null,null,null,null,null,null,null,null,null,null,null,null,null,null,null,null,null,null,null,null,null,null,null,null,null,null,null,null,null,null,null,null,null,null,null,null,null,null,null,null,null,null,null,null,null,null,null,null,null,null,null,null,null,null,null,null,null,null,null,null,null,null,null,null,null,null,null,null,null,null,null,null,null,null,null,null,null,null,null,null,null,null,null,null,null,null,null,null,null,null,null,null,null,null,null,null,null,null,null,null,null,null,null,null,null,null,null,null,null,null,null,null,null,null,null,null,null,null,null,null,null,null,null,null,null,null,null,null,null,null,null,null,null,null,null,null,null,null,null,null,null,null,null,null,null,null,null,null,null,null,null,null,null,null,null,null,null,null,null,null,null,null,null,null,null,null,null,null,null,null,null,null,null,null,null,null,null,null,null,null,null,null,null,null,null,null,null,null,null,null,null,null,null,null,null,null,null,null,null,null,null,null,null,null,null,null,null,null,null,null,null,null,null,null,null,null,null,null,null,null,null,null,null,null,null,null,null,null,null,null,null,null,null,null,null,null,null,null,null,null,null,null,null,null,null,null,null,null,null,null,null,null,null,null,null,null,null,null,null,null,null,null,null,null,null,null,null,null,null,null,null,null,null,null,null,null,null,null,null,null,null,null,null,null,null,null,null,null,null,null,null,null,null,null,null,null,null,null,null,null,null,null,null,null,null,null,null,null,null,null,null,null,null,null,null,null,null,null,null,null,null,null,null,null,null,null,null,null,null,null,null,null,null,null,null,null,null,null,null,null,null,null,null,null,null,null,null,null,null,null,null,null,null,null,null,null,null,null,null,null,null,null,null,null,null,null,null,null,null,null,null,null,null,null,null,null,null,null,null,null,null,null,null,null,null,null,null,null,null,null,null,null,null,null,null,null,null,null,null,null,null,null,null,null,null,null,null,null,231,"Mirror Image","LEVEL 2",2,"Mirror Image ",{"$f":"\"\"","v":""},"",{"$f":"IF(OR(TK233=Spellcasting!$AC$18,TK233=Spellcasting!$AC$19),\"ᵐ\",\"\")","v":""},{"$f":"IF(OR(TK233=Spellcasting!$AC$20,TK233=Spellcasting!$AC$21),\"ˢ\",\"\")","v":""},{"$f":"\"\"","v":""},"1 act","self","1 min","VS",{"$f":"\"\"","v":""},"illusion","illus","Three illusory duplicates of yourself appear in your space. Until the spell ends, the duplicates move with you and mimic your actions, shifting position so it’s impossible to track which image is real. You can use your action to dismiss the illusory duplicates. \n\nEach time a creature targets you with an attack during the spell’s duration, roll a d20 to determine whether the attack instead targets one of your duplicates. \n\nIf you have three duplicates, you must roll a 6 or higher to change the attack’s target to a duplicate. With two duplicates, you must roll an 8 or higher. With one duplicate, you must roll an 11 or higher. \n\nA duplicate’s AC equals 10 + your Dexterity modifier. If an attack hits a duplicate, the duplicate is destroyed. A duplicate can be destroyed only by an attack that hits it. It ignores all other damage and effects. The spell ends when all three duplicates are destroyed. \n\nA creature is unaffected by this spell if it can’t see, if it relies on senses other than sight, such as blindsight, or if it can perceive illusions as false, as with truesight.",{"$f":"\"3 illusory duplicates, AC \"&10+DEXMod&\", roll D20: three 6+, two 8+, one 11+\"","v":"3 illusory duplicates, AC 5, roll D20: three 6+, two 8+, one 11+"},null,null,null,{"$f":"IF(UF$1>=$TM233,1,\"0\")","v":"0"},{"$f":"IF(UG$1>=$TM233,1,\"0\")","v":"0"},null,null,null,null,"0",null,null,null,null,null,null,null,null,null,null,null,null,null,null,null,null,null,{"$f":"IF(VD$1>=$TM233,1,\"0\")","v":"0"},null,null,null,{"$f":"IF(VH$1>=$TM233,1,\"0\")","v":"0"},null,null,null,null,null,null,null,null,{"$f":"IF(VQ$1>=$TM233,1,\"0\")","v":"0"},null,null,null,null,null,null,null,null,null,null,null,null,{"$f":"IF(SUM($VZ$1:$WC$1)>0,IF(AND(SUM($VZ233:$WC233)>0,$TM233=WE$1),MAX(WD$2:WD232)+1,\"\"),IF(AND(SUM($UC233:$VY233)>0,$TM233=WE$1),MAX(WD$2:WD232)+1,\"\"))","v":""},"",{"$f":"IF(AND(SUM($UB233:$VY233)>0,$TM233=WG$1),MAX(WF$2:WF232)+1,\"\")","v":""},"",{"$f":"IF(AND(SUM($UB233:$VY233)>0,$TM233=WI$1),MAX(WH$2:WH232)+1,\"\")","v":""},"",{"$f":"IF(AND(SUM($UB233:$VY233)>0,$TM233=WK$1),MAX(WJ$2:WJ232)+1,\"\")","v":""},"",{"$f":"IF(AND(SUM($UB233:$VY233)>0,$TM233=WM$1),MAX(WL$2:WL232)+1,\"\")","v":""},"",{"$f":"IF(AND(SUM($UB233:$VY233)>0,$TM233=WO$1),MAX(WN$2:WN232)+1,\"\")","v":""},"",{"$f":"IF(AND(SUM($UB233:$VY233)>0,$TM233=WQ$1),MAX(WP$2:WP232)+1,\"\")","v":""},"",{"$f":"IF(AND(SUM($UB233:$VY233)>0,$TM233=WS$1),MAX(WR$2:WR232)+1,\"\")","v":""},"",{"$f":"IF(AND(SUM($UB233:$VY233)>0,$TM233=WU$1),MAX(WT$2:WT232)+1,\"\")","v":""},"",{"$f":"IF(AND(SUM($UB233:$VY233)>0,$TM233=WW$1),MAX(WV$2:WV232)+1,\"\")","v":""},"",{"$f":"IF(AND(SUM($UB233:$VY233)>0,$TM233=WY$1),MAX(WX$2:WX232)+1,\"\")","v":""},"",null,null,null,""]
[null,null,null,null,null,null,null,null,null,null,null,null,null,null,null,null,null,null,null,null,null,null,null,null,null,null,null,null,null,null,null,null,null,null,null,null,null,null,null,null,null,null,null,null,null,null,null,null,null,null,null,null,null,null,null,null,null,null,null,null,null,null,null,null,null,null,null,null,null,null,null,null,null,null,null,null,null,null,null,null,null,null,null,null,null,null,null,null,null,null,null,null,null,null,null,null,null,null,null,null,null,null,null,null,null,null,null,null,null,null,null,null,null,null,null,null,null,null,null,null,null,null,null,null,null,null,null,null,null,null,null,null,null,null,null,null,null,null,null,null,null,null,null,null,null,null,null,null,null,null,null,null,null,null,null,null,null,null,null,null,null,null,null,null,null,null,null,null,null,null,null,null,null,null,null,null,null,null,null,null,null,null,null,null,null,null,null,null,null,null,null,null,null,null,null,null,null,null,null,null,null,null,null,null,null,null,null,null,null,null,null,null,null,null,null,null,null,null,null,null,null,null,null,null,null,null,null,null,null,null,null,null,null,null,null,null,null,null,null,null,null,null,null,null,null,null,null,null,null,null,null,null,null,null,null,null,null,null,null,null,null,null,null,null,null,null,null,null,null,null,null,null,null,null,null,null,null,null,null,null,null,null,null,null,null,null,null,null,null,null,null,null,null,null,null,null,null,null,null,null,null,null,null,null,null,null,null,null,null,null,null,null,null,null,null,null,null,null,null,null,null,null,null,null,null,null,null,null,null,null,null,null,null,null,null,null,null,null,null,null,null,null,null,null,null,null,null,null,null,null,null,null,null,null,null,null,null,null,null,null,null,null,null,null,null,null,null,null,null,null,null,null,null,null,null,null,null,null,null,null,null,null,null,null,null,null,null,null,null,null,null,null,null,null,null,null,null,null,null,null,null,null,null,null,null,null,null,null,null,null,null,null,null,null,null,null,null,null,null,null,null,null,null,null,null,null,null,null,null,null,null,null,null,null,null,null,null,null,null,null,null,null,null,null,null,null,null,null,null,null,null,null,null,null,null,null,null,null,null,null,null,null,null,null,null,null,null,null,null,null,null,null,null,null,null,null,null,null,null,null,null,null,null,null,null,null,null,null,null,null,null,null,null,null,null,null,null,null,null,null,null,null,null,null,null,null,null,null,null,null,null,null,null,null,null,null,null,null,null,null,null,null,null,null,null,null,null,null,null,234,"Modify Memory","LEVEL 5",5,"Modify Memory ᴴ ","ᴴ ","",{"$f":"IF(OR(TK236=Spellcasting!$AC$18,TK236=Spellcasting!$AC$19),\"ᵐ\",\"\")","v":""},{"$f":"IF(OR(TK236=Spellcasting!$AC$20,TK236=Spellcasting!$AC$21),\"ˢ\",\"\")","v":""},{"$f":"\"\"","v":""},"1 act","30 ft","1 min ᶜᵒᶰ","VS",{"$f":"\"\"","v":""},"enchantment","ench","You attempt to reshape another creature’s memories. One creature that you can see must make a Wisdom saving throw. If you are fighting the creature, it has advantage on the saving throw. On a failed save, the target becomes charmed by you for the duration. The charmed target is incapacitated and unaware of its surroundings, though it can still hear you. If it takes any damage or is targeted by another spell, this spell ends, and none of the target’s memories are modified. \n\nWhile this charm lasts, you can affect the target’s memory of an event that it experienced within the last 24 hours and that lasted no more than 10 minutes. You can permanently eliminate all memory of the event, allow the target to recall the event with perfect clarity and exacting detail, change its memory of the details of the event, or create a memory of some other event. \n\nYou must speak to the target to describe how its memories are affected, and it must be able to understand your language for the modified memories to take root. Its mind fills in any gaps in the details of your description. If the spell ends before you have finished describing the modified memories, the creature’s memory isn’t altered. Otherwise, the modified memories take hold when the spell ends. \n\nA modified memory doesn’t necessarily affect how a creature behaves, particularly if the memory contradicts the creature’s natural inclinations, alignment, or beliefs. An illogical modified memory, such as implanting a memory of how much the creature enjoyed dousing itself in acid, is dismissed, perhaps as a bad dream. The DM might deem a modified memory too nonsensical to affect a creature in a significant manner. A remove curse or greater restoration spell cast on the target restores the creature’s true memory. \n\nAt Higher Levels. If you cast this spell using a spell slot of 6th level or higher, you can alter the target’s memories of an event that took place up to 7 days ago (6th level), 30 days ago (7th level), 1 year ago (8th level), or any time in the creature’s past (9th level).","reshape memory, wis save, charmed",{"$f":"IF(UC$1>=$TM236,1,\"0\")","v":"0"},null,null,null,null,null,null,null,null,"0",null,null,null,null,null,null,null,null,null,null,null,null,null,null,null,null,null,{"$f":"IF(VD$1>=$TM236,1,\"0\")","v":"0"},null,null,null,null,null,null,null,null,null,null,null,null,null,null,null,null,null,null,null,null,null,null,null,null,null,{"$f":"IF(SUM($VZ$1:$WC$1)>0,IF(AND(SUM($VZ236:$WC236)>0,$TM236=WE$1),MAX(WD$2:WD235)+1,\"\"),IF(AND(SUM($UC236:$VY236)>0,$TM236=WE$1),MAX(WD$2:WD235)+1,\"\"))","v":""},"",{"$f":"IF(AND(SUM($UB236:$VY236)>0,$TM236=WG$1),MAX(WF$2:WF235)+1,\"\")","v":""},"",{"$f":"IF(AND(SUM($UB236:$VY236)>0,$TM236=WI$1),MAX(WH$2:WH235)+1,\"\")","v":""},"",{"$f":"IF(AND(SUM($UB236:$VY236)>0,$TM236=WK$1),MAX(WJ$2:WJ235)+1,\"\")","v":""},"",{"$f":"IF(AND(SUM($UB236:$VY236)>0,$TM236=WM$1),MAX(WL$2:WL235)+1,\"\")","v":""},"",{"$f":"IF(AND(SUM($UB236:$VY236)>0,$TM236=WO$1),MAX(WN$2:WN235)+1,\"\")","v":""},"",{"$f":"IF(AND(SUM($UB236:$VY236)>0,$TM236=WQ$1),MAX(WP$2:WP235)+1,\"\")","v":""},"",{"$f":"IF(AND(SUM($UB236:$VY236)>0,$TM236=WS$1),MAX(WR$2:WR235)+1,\"\")","v":""},"",{"$f":"IF(AND(SUM($UB236:$VY236)>0,$TM236=WU$1),MAX(WT$2:WT235)+1,\"\")","v":""},"",{"$f":"IF(AND(SUM($UB236:$VY236)>0,$TM236=WW$1),MAX(WV$2:WV235)+1,\"\")","v":""},"",{"$f":"IF(AND(SUM($UB236:$VY236)>0,$TM236=WY$1),MAX(WX$2:WX235)+1,\"\")","v":""},""]
[null,null,null,null,null,null,null,null,null,null,null,null,null,null,null,null,null,null,null,null,null,null,null,null,null,null,null,null,null,null,null,null,null,null,null,null,null,null,null,null,null,null,null,null,null,null,null,null,null,null,null,null,null,null,null,null,null,null,null,null,null,null,null,null,null,null,null,null,null,null,null,null,null,null,null,null,null,null,null,null,null,null,null,null,null,null,null,null,null,null,null,null,null,null,null,null,null,null,null,null,null,null,null,null,null,null,null,null,null,null,null,null,null,null,null,null,null,null,null,null,null,null,null,null,null,null,null,null,null,null,null,null,null,null,null,null,null,null,null,null,null,null,null,null,null,null,null,null,null,null,null,null,null,null,null,null,null,null,null,null,null,null,null,null,null,null,null,null,null,null,null,null,null,null,null,null,null,null,null,null,null,null,null,null,null,null,null,null,null,null,null,null,null,null,null,null,null,null,null,null,null,null,null,null,null,null,null,null,null,null,null,null,null,null,null,null,null,null,null,null,null,null,null,null,null,null,null,null,null,null,null,null,null,null,null,null,null,null,null,null,null,null,null,null,null,null,null,null,null,null,null,null,null,null,null,null,null,null,null,null,null,null,null,null,null,null,null,null,null,null,null,null,null,null,null,null,null,null,null,null,null,null,null,null,null,null,null,null,null,null,null,null,null,null,null,null,null,null,null,null,null,null,null,null,null,null,null,null,null,null,null,null,null,null,null,null,null,null,null,null,null,null,null,null,null,null,null,null,null,null,null,null,null,null,null,null,null,null,null,null,null,null,null,null,null,null,null,null,null,null,null,null,null,null,null,null,null,null,null,null,null,null,null,null,null,null,null,null,null,null,null,null,null,null,null,null,null,null,null,null,null,null,null,null,null,null,null,null,null,null,null,null,null,null,null,null,null,null,null,null,null,null,null,null,null,null,null,null,null,null,null,null,null,null,null,null,null,null,null,null,null,null,null,null,null,null,null,null,null,null,null,null,null,null,null,null,null,null,null,null,null,null,null,null,null,null,null,null,null,null,null,null,null,null,null,null,null,null,null,null,null,null,null,null,null,null,null,null,null,null,null,null,null,null,null,null,null,null,null,null,null,null,null,null,null,null,null,null,null,null,null,null,null,null,null,null,null,null,null,null,null,null,null,null,null,null,null,null,null,null,null,null,null,null,null,null,null,null,null,null,null,null,null,null,null,null,null,null,null,236,"Mordenkainen's Faithful Hound","LEVEL 4",4,"Mordenkainen's Faithful Hound ",{"$f":"\"\"","v":""},"",{"$f":"IF(OR(TK238=Spellcasting!$AC$18,TK238=Spellcasting!$AC$19),\"ᵐ\",\"\")","v":""},{"$f":"IF(OR(TK238=Spellcasting!$AC$20,TK238=Spellcasting!$AC$21),\"ˢ\",\"\")","v":""},{"$f":"\"\"","v":""},"1 act","30 ft","8 hrs","VSM","a tiny silver whistle, a piece of bone, and a thread","conjuration","conjur","You conjure a phantom watchdog in an unoccupied space that you can see within range, where it remains for the duration, until you dismiss it as an action, or until you move more than 100 feet away from it. \n\nThe hound is invisible to all creatures except you and can't be harmed. When a Small or larger creature comes within 30 feet of it without first speaking the password that you specify when you cast this spell, the hound starts barking loudly. The hound sees invisible creatures and can see into the Ethereal Plane. It ignores illusions. \n\nAt the start of each of your turns, the hound attempts to bite one creature within 5 feet of it that is hostile to you. The hound’s attack bonus is equal to your spellcasting ability modifier + your proficiency bonus. On a hit, it deals 4d8 piercing damage.",{"$f":"\"invisble, barks within 30ft, melee +\"&INTMod+ProfBonus&\", 5ft reach, 4d8 pierce\"","v":"invisble, barks within 30ft, melee +-3, 5ft reach, 4d8 pierce"},null,null,null,null,null,null,null,null,null,{"$f":"IF(UL$1>=$TM238,1,\"0\")","v":"0"},null,null,null,null,null,null,null,null,null,null,null,null,null,null,null,null,null,null,null,null,null,null,null,null,null,null,null,null,null,null,null,null,null,null,null,null,null,null,null,null,null,null,null,{"$f":"IF(SUM($VZ$1:$WC$1)>0,IF(AND(SUM($VZ238:$WC238)>0,$TM238=WE$1),MAX(WD$2:WD237)+1,\"\"),IF(AND(SUM($UC238:$VY238)>0,$TM238=WE$1),MAX(WD$2:WD237)+1,\"\"))","v":""},"",{"$f":"IF(AND(SUM($UB238:$VY238)>0,$TM238=WG$1),MAX(WF$2:WF237)+1,\"\")","v":""},"",{"$f":"IF(AND(SUM($UB238:$VY238)>0,$TM238=WI$1),MAX(WH$2:WH237)+1,\"\")","v":""},"",{"$f":"IF(AND(SUM($UB238:$VY238)>0,$TM238=WK$1),MAX(WJ$2:WJ237)+1,\"\")","v":""},"",{"$f":"IF(AND(SUM($UB238:$VY238)>0,$TM238=WM$1),MAX(WL$2:WL237)+1,\"\")","v":""},"",{"$f":"IF(AND(SUM($UB238:$VY238)>0,$TM238=WO$1),MAX(WN$2:WN237)+1,\"\")","v":""},"",{"$f":"IF(AND(SUM($UB238:$VY238)>0,$TM238=WQ$1),MAX(WP$2:WP237)+1,\"\")","v":""},"",{"$f":"IF(AND(SUM($UB238:$VY238)>0,$TM238=WS$1),MAX(WR$2:WR237)+1,\"\")","v":""},"",{"$f":"IF(AND(SUM($UB238:$VY238)>0,$TM238=WU$1),MAX(WT$2:WT237)+1,\"\")","v":""},"",{"$f":"IF(AND(SUM($UB238:$VY238)>0,$TM238=WW$1),MAX(WV$2:WV237)+1,\"\")","v":""},"",{"$f":"IF(AND(SUM($UB238:$VY238)>0,$TM238=WY$1),MAX(WX$2:WX237)+1,\"\")","v":""},""]
[null,null,null,null,null,null,null,null,null,null,null,null,null,null,null,null,null,null,null,null,null,null,null,null,null,null,null,null,null,null,null,null,null,null,null,null,null,null,null,null,null,null,null,null,null,null,null,null,null,null,null,null,null,null,null,null,null,null,null,null,null,null,null,null,null,null,null,null,null,null,null,null,null,null,null,null,null,null,null,null,null,null,null,null,null,null,null,null,null,null,null,null,null,null,null,null,null,null,null,null,null,null,null,null,null,null,null,null,null,null,null,null,null,null,null,null,null,null,null,null,null,null,null,null,null,null,null,null,null,null,null,null,null,null,null,null,null,null,null,null,null,null,null,null,null,null,null,null,null,null,null,null,null,null,null,null,null,null,null,null,null,null,null,null,null,null,null,null,null,null,null,null,null,null,null,null,null,null,null,null,null,null,null,null,null,null,null,null,null,null,null,null,null,null,null,null,null,null,null,null,null,null,null,null,null,null,null,null,null,null,null,null,null,null,null,null,null,null,null,null,null,null,null,null,null,null,null,null,null,null,null,null,null,null,null,null,null,null,null,null,null,null,null,null,null,null,null,null,null,null,null,null,null,null,null,null,null,null,null,null,null,null,null,null,null,null,null,null,null,null,null,null,null,null,null,null,null,null,null,null,null,null,null,null,null,null,null,null,null,null,null,null,null,null,null,null,null,null,null,null,null,null,null,null,null,null,null,null,null,null,null,null,null,null,null,null,null,null,null,null,null,null,null,null,null,null,null,null,null,null,null,null,null,null,null,null,null,null,null,null,null,null,null,null,null,null,null,null,null,null,null,null,null,null,null,null,null,null,null,null,null,null,null,null,null,null,null,null,null,null,null,null,null,null,null,null,null,null,null,null,null,null,null,null,null,null,null,null,null,null,null,null,null,null,null,null,null,null,null,null,null,null,null,null,null,null,null,null,null,null,null,null,null,null,null,null,null,null,null,null,null,null,null,null,null,null,null,null,null,null,null,null,null,null,null,null,null,null,null,null,null,null,null,null,null,null,null,null,null,null,null,null,null,null,null,null,null,null,null,null,null,null,null,null,null,null,null,null,null,null,null,null,null,null,null,null,null,null,null,null,null,null,null,null,null,null,null,null,null,null,null,null,null,null,null,null,null,null,null,null,null,null,null,null,null,null,null,null,null,null,null,null,null,null,null,null,null,null,null,null,null,null,null,null,null,null,null,null,null,241,"Nondetection","LEVEL 3",3,"Nondetection ",{"$f":"\"\"","v":""},"",{"$f":"IF(OR(TK243=Spellcasting!$AC$18,TK243=Spellcasting!$AC$19),\"ᵐ\",\"\")","v":""},{"$f":"IF(OR(TK243=Spellcasting!$AC$20,TK243=Spellcasting!$AC$21),\"ˢ\",\"\")","v":""},{"$f":"\"\"","v":""},"1 act","touch","8 hrs","VSM","a pinch of diamond dust worth 25 gp sprinkled over the target, which the spell consumes","abjuration","abjur","For the duration, you hide a target that you touch from divination magic. The target can be a willing creature or a place or an object no larger than 10 feet in any dimension. The target can’t be targeted by any divination magic or perceived through magical scrying sensors.","hide target divination magic",{"$f":"IF(UC$1>=$TM243,1,\"0\")","v":"0"},null,null,null,null,null,null,null,null,"0",null,null,null,null,null,null,null,null,null,null,null,null,{"$f":"IF(UY$1>=$TM243,1,\"0\")","v":"0"},null,null,null,null,null,null,null,null,null,null,null,null,null,null,null,null,{"$f":"IF(VP$1>=$TM243,1,\"0\")","v":"0"},null,null,null,null,null,null,null,null,null,null,null,null,null,{"$f":"IF(SUM($VZ$1:$WC$1)>0,IF(AND(SUM($VZ243:$WC243)>0,$TM243=WE$1),MAX(WD$2:WD242)+1,\"\"),IF(AND(SUM($UC243:$VY243)>0,$TM243=WE$1),MAX(WD$2:WD242)+1,\"\"))","v":""},"",{"$f":"IF(AND(SUM($UB243:$VY243)>0,$TM243=WG$1),MAX(WF$2:WF242)+1,\"\")","v":""},"",{"$f":"IF(AND(SUM($UB243:$VY243)>0,$TM243=WI$1),MAX(WH$2:WH242)+1,\"\")","v":""},"",{"$f":"IF(AND(SUM($UB243:$VY243)>0,$TM243=WK$1),MAX(WJ$2:WJ242)+1,\"\")","v":""},"",{"$f":"IF(AND(SUM($UB243:$VY243)>0,$TM243=WM$1),MAX(WL$2:WL242)+1,\"\")","v":""},"",{"$f":"IF(AND(SUM($UB243:$VY243)>0,$TM243=WO$1),MAX(WN$2:WN242)+1,\"\")","v":""},"",{"$f":"IF(AND(SUM($UB243:$VY243)>0,$TM243=WQ$1),MAX(WP$2:WP242)+1,\"\")","v":""},"",{"$f":"IF(AND(SUM($UB243:$VY243)>0,$TM243=WS$1),MAX(WR$2:WR242)+1,\"\")","v":""},"",{"$f":"IF(AND(SUM($UB243:$VY243)>0,$TM243=WU$1),MAX(WT$2:WT242)+1,\"\")","v":""},"",{"$f":"IF(AND(SUM($UB243:$VY243)>0,$TM243=WW$1),MAX(WV$2:WV242)+1,\"\")","v":""},"",{"$f":"IF(AND(SUM($UB243:$VY243)>0,$TM243=WY$1),MAX(WX$2:WX242)+1,\"\")","v":""},""]
[null,null,null,null,null,null,null,null,null,null,null,null,null,null,null,null,null,null,null,null,null,null,null,null,null,null,null,null,null,null,null,null,null,null,null,null,null,null,null,null,null,null,null,null,null,null,null,null,null,null,null,null,null,null,null,null,null,null,null,null,null,null,null,null,null,null,null,null,null,null,null,null,null,null,null,null,null,null,null,null,null,null,null,null,null,null,null,null,null,null,null,null,null,null,null,null,null,null,null,null,null,null,null,null,null,null,null,null,null,null,null,null,null,null,null,null,null,null,null,null,null,null,null,null,null,null,null,null,null,null,null,null,null,null,null,null,null,null,null,null,null,null,null,null,null,null,null,null,null,null,null,null,null,null,null,null,null,null,null,null,null,null,null,null,null,null,null,null,null,null,null,null,null,null,null,null,null,null,null,null,null,null,null,null,null,null,null,null,null,null,null,null,null,null,null,null,null,null,null,null,null,null,null,null,null,null,null,null,null,null,null,null,null,null,null,null,null,null,null,null,null,null,null,null,null,null,null,null,null,null,null,null,null,null,null,null,null,null,null,null,null,null,null,null,null,null,null,null,null,null,null,null,null,null,null,null,null,null,null,null,null,null,null,null,null,null,null,null,null,null,null,null,null,null,null,null,null,null,null,null,null,null,null,null,null,null,null,null,null,null,null,null,null,null,null,null,null,null,null,null,null,null,null,null,null,null,null,null,null,null,null,null,null,null,null,null,null,null,null,null,null,null,null,null,null,null,null,null,null,null,null,null,null,null,null,null,null,null,null,null,null,null,null,null,null,null,null,null,null,null,null,null,null,null,null,null,null,null,null,null,null,null,null,null,null,null,null,null,null,null,null,null,null,null,null,null,null,null,null,null,null,null,null,null,null,null,null,null,null,null,null,null,null,null,null,null,null,null,null,null,null,null,null,null,null,null,null,null,null,null,null,null,null,null,null,null,null,null,null,null,null,null,null,null,null,null,null,null,null,null,null,null,null,null,null,null,null,null,null,null,null,null,null,null,null,null,null,null,null,null,null,null,null,null,null,null,null,null,null,null,null,null,null,null,null,null,null,null,null,null,null,null,null,null,null,null,null,null,null,null,null,null,null,null,null,null,null,null,null,null,null,null,null,null,null,null,null,null,null,null,null,null,null,null,null,null,null,null,null,null,null,null,null,null,null,null,null,null,null,null,null,null,null,null,null,null,null,null,null,247,"Passwall","LEVEL 5",5,"Passwall ",{"$f":"\"\"","v":""},"",{"$f":"IF(OR(TK249=Spellcasting!$AC$18,TK249=Spellcasting!$AC$19),\"ᵐ\",\"\")","v":""},{"$f":"IF(OR(TK249=Spellcasting!$AC$20,TK249=Spellcasting!$AC$21),\"ˢ\",\"\")","v":""},{"$f":"\"\"","v":""},"1 act","30 ft","1 hr","VSM"," a pinch of sesame seeds","transmutation","trans","A passage appears at a point of your choice that you can see on a wooden, plaster, or stone surface (such as a wall, a ceiling, or a floor) within range, and lasts for the duration. You choose the opening’s dimensions: up to 5 feet wide, 8 feet tall, and 20 feet deep. The passage creates no instability in a structure surrounding it. \n\nWhen the opening disappears, any creatures or objects still in the passage created by the spell are safely ejected to an unoccupied space nearest to the surface on which you cast the spell.","create up to 5ft wide, 8ft tall, 20ft deep passage",null,null,null,null,null,null,null,null,null,{"$f":"IF(UL$1>=$TM249,1,\"0\")","v":"0"},null,null,null,null,null,null,null,null,null,null,null,null,null,null,null,null,null,null,null,null,null,null,null,null,null,{"$f":"IF(VL$1>=$TM249,1,\"0\")","v":"0"},null,null,null,null,null,null,null,null,null,null,null,null,null,null,null,null,null,{"$f":"IF(SUM($VZ$1:$WC$1)>0,IF(AND(SUM($VZ249:$WC249)>0,$TM249=WE$1),MAX(WD$2:WD248)+1,\"\"),IF(AND(SUM($UC249:$VY249)>0,$TM249=WE$1),MAX(WD$2:WD248)+1,\"\"))","v":""},"",{"$f":"IF(AND(SUM($UB249:$VY249)>0,$TM249=WG$1),MAX(WF$2:WF248)+1,\"\")","v":""},"",{"$f":"IF(AND(SUM($UB249:$VY249)>0,$TM249=WI$1),MAX(WH$2:WH248)+1,\"\")","v":""},"",{"$f":"IF(AND(SUM($UB249:$VY249)>0,$TM249=WK$1),MAX(WJ$2:WJ248)+1,\"\")","v":""},"",{"$f":"IF(AND(SUM($UB249:$VY249)>0,$TM249=WM$1),MAX(WL$2:WL248)+1,\"\")","v":""},"",{"$f":"IF(AND(SUM($UB249:$VY249)>0,$TM249=WO$1),MAX(WN$2:WN248)+1,\"\")","v":""},"",{"$f":"IF(AND(SUM($UB249:$VY249)>0,$TM249=WQ$1),MAX(WP$2:WP248)+1,\"\")","v":""},"",{"$f":"IF(AND(SUM($UB249:$VY249)>0,$TM249=WS$1),MAX(WR$2:WR248)+1,\"\")","v":""},"",{"$f":"IF(AND(SUM($UB249:$VY249)>0,$TM249=WU$1),MAX(WT$2:WT248)+1,\"\")","v":""},"",{"$f":"IF(AND(SUM($UB249:$VY249)>0,$TM249=WW$1),MAX(WV$2:WV248)+1,\"\")","v":""},"",{"$f":"IF(AND(SUM($UB249:$VY249)>0,$TM249=WY$1),MAX(WX$2:WX248)+1,\"\")","v":""},""]
[null,null,null,null,null,null,null,null,null,null,null,null,null,null,null,null,null,null,null,null,null,null,null,null,null,null,null,null,null,null,null,null,null,null,null,null,null,null,null,null,null,null,null,null,null,null,null,null,null,null,null,null,null,null,null,null,null,null,null,null,null,null,null,null,null,null,null,null,null,null,null,null,null,null,null,null,null,null,null,null,null,null,null,null,null,null,null,null,null,null,null,null,null,null,null,null,null,null,null,null,null,null,null,null,null,null,null,null,null,null,null,null,null,null,null,null,null,null,null,null,null,null,null,null,null,null,null,null,null,null,null,null,null,null,null,null,null,null,null,null,null,null,null,null,null,null,null,null,null,null,null,null,null,null,null,null,null,null,null,null,null,null,null,null,null,null,null,null,null,null,null,null,null,null,null,null,null,null,null,null,null,null,null,null,null,null,null,null,null,null,null,null,null,null,null,null,null,null,null,null,null,null,null,null,null,null,null,null,null,null,null,null,null,null,null,null,null,null,null,null,null,null,null,null,null,null,null,null,null,null,null,null,null,null,null,null,null,null,null,null,null,null,null,null,null,null,null,null,null,null,null,null,null,null,null,null,null,null,null,null,null,null,null,null,null,null,null,null,null,null,null,null,null,null,null,null,null,null,null,null,null,null,null,null,null,null,null,null,null,null,null,null,null,null,null,null,null,null,null,null,null,null,null,null,null,null,null,null,null,null,null,null,null,null,null,null,null,null,null,null,null,null,null,null,null,null,null,null,null,null,null,null,null,null,null,null,null,null,null,null,null,null,null,null,null,null,null,null,null,null,null,null,null,null,null,null,null,null,null,null,null,null,null,null,null,null,null,null,null,null,null,null,null,null,null,null,null,null,null,null,null,null,null,null,null,null,null,null,null,null,null,null,null,null,null,null,null,null,null,null,null,null,null,null,null,null,null,null,null,null,null,null,null,null,null,null,null,null,null,null,null,null,null,null,null,null,null,null,null,null,null,null,null,null,null,null,null,null,null,null,null,null,null,null,null,null,null,null,null,null,null,null,null,null,null,null,null,null,null,null,null,null,null,null,null,null,null,null,null,null,null,null,null,null,null,null,null,null,null,null,null,null,null,null,null,null,null,null,null,null,null,null,null,null,null,null,null,null,null,null,null,null,null,null,null,null,null,null,null,null,null,null,null,null,null,null,null,null,null,null,null,null,null,null,null,null,null,null,null,251,"Planar Ally","LEVEL 6",6,"Planar Ally ",{"$f":"\"\"","v":""},"",{"$f":"IF(OR(TK253=Spellcasting!$AC$18,TK253=Spellcasting!$AC$19),\"ᵐ\",\"\")","v":""},{"$f":"IF(OR(TK253=Spellcasting!$AC$20,TK253=Spellcasting!$AC$21),\"ˢ\",\"\")","v":""},{"$f":"\"\"","v":""},"10 min","60 ft","instant","VS",{"$f":"\"\"","v":""},"conjuration","conjur","You beseech an otherworldly entity for aid. The being must be known to you: a god, a primordial, a demon prince, or some other being of cosmic power. That entity sends a celestial, an elemental, or a fiend loyal to it to aid you, making the creature appear in an unoccupied space within range. If you know a specific creature’s name, you can speak that name when you cast this spell to request that creature, though you might get a different creature anyway (DM’s choice). \n\nWhen the creature appears, it is under no compulsion to behave in any particular way. You can ask the creature to perform a service in exchange for payment, but it isn’t obliged to do so. The requested task could range from simple (fly us across the chasm, or help us fight a battle) to complex (spy on our enemies, or protect  during our foray into the dungeon). You must be able to communicate with the creature to bargain for its services. \n\nPayment can take a variety of forms. A celestial might require a sizable donation of gold or magic items to an allied temple, while a fiend might demand a living sacrifice or a gift of treasure. Some creatures might exchange their service for a quest undertaken by you. \n\nAs a rule of thumb, a task that can be measured in minutes requires a payment worth 100 gp per minute. A task measured in hours requires 1,000 gp per hour. And a task measured in days (up to 10 days) requires 10,000 gp per day. The DM can adjust these payments based on the circumstances under which you cast the spell. If the task is aligned with the creature’s ethos, the payment might be halved or even waived. Nonhazardous tasks typically require only half the suggested payment, while especially dangerous tasks might require a greater gift. Creatures rarely accept tasks that seem suicidal. \n\nAfter the creature completes the task, or when the agreed-upon duration of service expires, the creature returns to its home plane after reporting back to you, if appropriate to the task and if possible. If you are unable to agree on a price for the creature’s service, the creature immediately returns to its home plane. \n\nA creature enlisted to join your group counts as a member of it, receiving a full share of experience points awarded.","pay a celestial, elemental, or fiend for service",null,null,null,null,null,{"$f":"IF(UH$1>=$TM253,1,\"0\")","v":"0"},null,null,null,null,null,null,null,null,null,null,null,null,null,null,null,null,null,null,null,null,null,null,null,null,null,null,null,null,null,null,null,null,null,null,null,null,null,null,null,null,null,null,null,null,null,null,null,{"$f":"IF(SUM($VZ$1:$WC$1)>0,IF(AND(SUM($VZ253:$WC253)>0,$TM253=WE$1),MAX(WD$2:WD252)+1,\"\"),IF(AND(SUM($UC253:$VY253)>0,$TM253=WE$1),MAX(WD$2:WD252)+1,\"\"))","v":""},"",{"$f":"IF(AND(SUM($UB253:$VY253)>0,$TM253=WG$1),MAX(WF$2:WF252)+1,\"\")","v":""},"",{"$f":"IF(AND(SUM($UB253:$VY253)>0,$TM253=WI$1),MAX(WH$2:WH252)+1,\"\")","v":""},"",{"$f":"IF(AND(SUM($UB253:$VY253)>0,$TM253=WK$1),MAX(WJ$2:WJ252)+1,\"\")","v":""},"",{"$f":"IF(AND(SUM($UB253:$VY253)>0,$TM253=WM$1),MAX(WL$2:WL252)+1,\"\")","v":""},"",{"$f":"IF(AND(SUM($UB253:$VY253)>0,$TM253=WO$1),MAX(WN$2:WN252)+1,\"\")","v":""},"",{"$f":"IF(AND(SUM($UB253:$VY253)>0,$TM253=WQ$1),MAX(WP$2:WP252)+1,\"\")","v":""},"",{"$f":"IF(AND(SUM($UB253:$VY253)>0,$TM253=WS$1),MAX(WR$2:WR252)+1,\"\")","v":""},"",{"$f":"IF(AND(SUM($UB253:$VY253)>0,$TM253=WU$1),MAX(WT$2:WT252)+1,\"\")","v":""},"",{"$f":"IF(AND(SUM($UB253:$VY253)>0,$TM253=WW$1),MAX(WV$2:WV252)+1,\"\")","v":""},"",{"$f":"IF(AND(SUM($UB253:$VY253)>0,$TM253=WY$1),MAX(WX$2:WX252)+1,\"\")","v":""},""]
[null,null,null,null,null,null,null,null,null,null,null,null,null,null,null,null,null,null,null,null,null,null,null,null,null,null,null,null,null,null,null,null,null,null,null,null,null,null,null,null,null,null,null,null,null,null,null,null,null,null,null,null,null,null,null,null,null,null,null,null,null,null,null,null,null,null,null,null,null,null,null,null,null,null,null,null,null,null,null,null,null,null,null,null,null,null,null,null,null,null,null,null,null,null,null,null,null,null,null,null,null,null,null,null,null,null,null,null,null,null,null,null,null,null,null,null,null,null,null,null,null,null,null,null,null,null,null,null,null,null,null,null,null,null,null,null,null,null,null,null,null,null,null,null,null,null,null,null,null,null,null,null,null,null,null,null,null,null,null,null,null,null,null,null,null,null,null,null,null,null,null,null,null,null,null,null,null,null,null,null,null,null,null,null,null,null,null,null,null,null,null,null,null,null,null,null,null,null,null,null,null,null,null,null,null,null,null,null,null,null,null,null,null,null,null,null,null,null,null,null,null,null,null,null,null,null,null,null,null,null,null,null,null,null,null,null,null,null,null,null,null,null,null,null,null,null,null,null,null,null,null,null,null,null,null,null,null,null,null,null,null,null,null,null,null,null,null,null,null,null,null,null,null,null,null,null,null,null,null,null,null,null,null,null,null,null,null,null,null,null,null,null,null,null,null,null,null,null,null,null,null,null,null,null,null,null,null,null,null,null,null,null,null,null,null,null,null,null,null,null,null,null,null,null,null,null,null,null,null,null,null,null,null,null,null,null,null,null,null,null,null,null,null,null,null,null,null,null,null,null,null,null,null,null,null,null,null,null,null,null,null,null,null,null,null,null,null,null,null,null,null,null,null,null,null,null,null,null,null,null,null,null,null,null,null,null,null,null,null,null,null,null,null,null,null,null,null,null,null,null,null,null,null,null,null,null,null,null,null,null,null,null,null,null,null,null,null,null,null,null,null,null,null,null,null,null,null,null,null,null,null,null,null,null,null,null,null,null,null,null,null,null,null,null,null,null,null,null,null,null,null,null,null,null,null,null,null,null,null,null,null,null,null,null,null,null,null,null,null,null,null,null,null,null,null,null,null,null,null,null,null,null,null,null,null,null,null,null,null,null,null,null,null,null,null,null,null,null,null,null,null,null,null,null,null,null,null,null,null,null,null,null,null,null,null,null,null,null,null,null,null,null,null,null,null,null,null,null,null,257,"Power Word Heal","LEVEL 9",9,{"$f":"TK259&\" \"&TO259&TP259&TQ259&TR259","v":"Power Word Heal "},{"$f":"\"\"","v":""},{"$f":"IF(SUM(UY259:VE259)>0,\"ᵈ\",\"\")&IF(SUM(UO259:UQ259)>0,\"ᵒ\",\"\")&IF(SUM(VG259:VO259)>0,\"ᶜ\",\"\")","v":""},{"$f":"IF(OR(TK259=Spellcasting!$AC$18,TK259=Spellcasting!$AC$19),\"ᵐ\",\"\")","v":""},{"$f":"IF(OR(TK259=Spellcasting!$AC$20,TK259=Spellcasting!$AC$21),\"ˢ\",\"\")","v":""},{"$f":"\"\"","v":""},"1 act","touch","instant","VS",null,"evocation","evoc","A wave of healing energy washes over the creature you touch. The target regains all its hit points. If the creature is charmed, frightened, paralyzed, or stunned, the condition ends. If the creature is prone, it can use its reaction to stand up. This spell has no effect on undead or constructs.","target regains all HP, clears conditions, use reaction to stand up",null,null,null,null,null,null,null,null,null,null,null,null,null,null,null,null,null,null,null,null,null,null,null,null,null,null,null,null,null,null,null,null,null,null,null,null,null,null,null,null,null,null,null,null,null,null,null,null,null,null,null,null,null,{"$f":"IF(SUM($VZ$1:$WC$1)>0,IF(AND(SUM($VZ259:$WC259)>0,$TM259=WE$1),MAX(WD$2:WD258)+1,\"\"),IF(AND(SUM($UC259:$VY259)>0,$TM259=WE$1),MAX(WD$2:WD258)+1,\"\"))","v":""},"",{"$f":"IF(AND(SUM($UB259:$VY259)>0,$TM259=WG$1),MAX(WF$2:WF258)+1,\"\")","v":""},"",{"$f":"IF(AND(SUM($UB259:$VY259)>0,$TM259=WI$1),MAX(WH$2:WH258)+1,\"\")","v":""},"",{"$f":"IF(AND(SUM($UB259:$VY259)>0,$TM259=WK$1),MAX(WJ$2:WJ258)+1,\"\")","v":""},"",{"$f":"IF(AND(SUM($UB259:$VY259)>0,$TM259=WM$1),MAX(WL$2:WL258)+1,\"\")","v":""},"",{"$f":"IF(AND(SUM($UB259:$VY259)>0,$TM259=WO$1),MAX(WN$2:WN258)+1,\"\")","v":""},"",{"$f":"IF(AND(SUM($UB259:$VY259)>0,$TM259=WQ$1),MAX(WP$2:WP258)+1,\"\")","v":""},"",{"$f":"IF(AND(SUM($UB259:$VY259)>0,$TM259=WS$1),MAX(WR$2:WR258)+1,\"\")","v":""},"",{"$f":"IF(AND(SUM($UB259:$VY259)>0,$TM259=WU$1),MAX(WT$2:WT258)+1,\"\")","v":""},"",{"$f":"IF(AND(SUM($UB259:$VY259)>0,$TM259=WW$1),MAX(WV$2:WV258)+1,\"\")","v":""},"",{"$f":"IF(AND(SUM($UB259:$VY259)>0,$TM259=WY$1),MAX(WX$2:WX258)+1,\"\")","v":""},""]
[null,null,null,null,null,null,null,null,null,null,null,null,null,null,null,null,null,null,null,null,null,null,null,null,null,null,null,null,null,null,null,null,null,null,null,null,null,null,null,null,null,null,null,null,null,null,null,null,null,null,null,null,null,null,null,null,null,null,null,null,null,null,null,null,null,null,null,null,null,null,null,null,null,null,null,null,null,null,null,null,null,null,null,null,null,null,null,null,null,null,null,null,null,null,null,null,null,null,null,null,null,null,null,null,null,null,null,null,null,null,null,null,null,null,null,null,null,null,null,null,null,null,null,null,null,null,null,null,null,null,null,null,null,null,null,null,null,null,null,null,null,null,null,null,null,null,null,null,null,null,null,null,null,null,null,null,null,null,null,null,null,null,null,null,null,null,null,null,null,null,null,null,null,null,null,null,null,null,null,null,null,null,null,null,null,null,null,null,null,null,null,null,null,null,null,null,null,null,null,null,null,null,null,null,null,null,null,null,null,null,null,null,null,null,null,null,null,null,null,null,null,null,null,null,null,null,null,null,null,null,null,null,null,null,null,null,null,null,null,null,null,null,null,null,null,null,null,null,null,null,null,null,null,null,null,null,null,null,null,null,null,null,null,null,null,null,null,null,null,null,null,null,null,null,null,null,null,null,null,null,null,null,null,null,null,null,null,null,null,null,null,null,null,null,null,null,null,null,null,null,null,null,null,null,null,null,null,null,null,null,null,null,null,null,null,null,null,null,null,null,null,null,null,null,null,null,null,null,null,null,null,null,null,null,null,null,null,null,null,null,null,null,null,null,null,null,null,null,null,null,null,null,null,null,null,null,null,null,null,null,null,null,null,null,null,null,null,null,null,null,null,null,null,null,null,null,null,null,null,null,null,null,null,null,null,null,null,null,null,null,null,null,null,null,null,null,null,null,null,null,null,null,null,null,null,null,null,null,null,null,null,null,null,null,null,null,null,null,null,null,null,null,null,null,null,null,null,null,null,null,null,null,null,null,null,null,null,null,null,null,null,null,null,null,null,null,null,null,null,null,null,null,null,null,null,null,null,null,null,null,null,null,null,null,null,null,null,null,null,null,null,null,null,null,null,null,null,null,null,null,null,null,null,null,null,null,null,null,null,null,null,null,null,null,null,null,null,null,null,null,null,null,null,null,null,null,null,null,null,null,null,null,null,null,null,null,null,null,null,null,null,null,null,null,null,null,null,null,null,260,"Prayer of Healing","LEVEL 2",2,"Prayer of Healing ",{"$f":"\"\"","v":""},"",{"$f":"IF(OR(TK262=Spellcasting!$AC$18,TK262=Spellcasting!$AC$19),\"ᵐ\",\"\")","v":""},{"$f":"IF(OR(TK262=Spellcasting!$AC$20,TK262=Spellcasting!$AC$21),\"ˢ\",\"\")","v":""},{"$f":"\"\"","v":""},"10 min","30 ft","instant","V",{"$f":"\"\"","v":""},"evocation","evoc","Up to six creatures of your choice that you can see within range each regain hit points equal to 2d8 + your spellcasting ability modifier. This spell has no effect on undead or constructs.\n\nAt Higher Levels. When you cast this spell using a spell slot of 3rd level or higher, the healing increases by 1d8 for each slot level above 2nd.","6 targets, heal 2d8 + spell ability modifier",null,null,null,null,null,{"$f":"IF(UH$1>=$TM262,1,\"0\")","v":"0"},null,null,null,null,null,null,null,null,null,null,null,null,null,null,null,null,null,null,null,null,null,null,null,null,null,null,null,null,null,null,null,null,null,null,null,null,null,null,null,null,null,null,null,null,null,null,null,{"$f":"IF(SUM($VZ$1:$WC$1)>0,IF(AND(SUM($VZ262:$WC262)>0,$TM262=WE$1),MAX(WD$2:WD261)+1,\"\"),IF(AND(SUM($UC262:$VY262)>0,$TM262=WE$1),MAX(WD$2:WD261)+1,\"\"))","v":""},"",{"$f":"IF(AND(SUM($UB262:$VY262)>0,$TM262=WG$1),MAX(WF$2:WF261)+1,\"\")","v":""},"",{"$f":"IF(AND(SUM($UB262:$VY262)>0,$TM262=WI$1),MAX(WH$2:WH261)+1,\"\")","v":""},"",{"$f":"IF(AND(SUM($UB262:$VY262)>0,$TM262=WK$1),MAX(WJ$2:WJ261)+1,\"\")","v":""},"",{"$f":"IF(AND(SUM($UB262:$VY262)>0,$TM262=WM$1),MAX(WL$2:WL261)+1,\"\")","v":""},"",{"$f":"IF(AND(SUM($UB262:$VY262)>0,$TM262=WO$1),MAX(WN$2:WN261)+1,\"\")","v":""},"",{"$f":"IF(AND(SUM($UB262:$VY262)>0,$TM262=WQ$1),MAX(WP$2:WP261)+1,\"\")","v":""},"",{"$f":"IF(AND(SUM($UB262:$VY262)>0,$TM262=WS$1),MAX(WR$2:WR261)+1,\"\")","v":""},"",{"$f":"IF(AND(SUM($UB262:$VY262)>0,$TM262=WU$1),MAX(WT$2:WT261)+1,\"\")","v":""},"",{"$f":"IF(AND(SUM($UB262:$VY262)>0,$TM262=WW$1),MAX(WV$2:WV261)+1,\"\")","v":""},"",{"$f":"IF(AND(SUM($UB262:$VY262)>0,$TM262=WY$1),MAX(WX$2:WX261)+1,\"\")","v":""},""]
[null,null,null,null,null,null,null,null,null,null,null,null,null,null,null,null,null,null,null,null,null,null,null,null,null,null,null,null,null,null,null,null,null,null,null,null,null,null,null,null,null,null,null,null,null,null,null,null,null,null,null,null,null,null,null,null,null,null,null,null,null,null,null,null,null,null,null,null,null,null,null,null,null,null,null,null,null,null,null,null,null,null,null,null,null,null,null,null,null,null,null,null,null,null,null,null,null,null,null,null,null,null,null,null,null,null,null,null,null,null,null,null,null,null,null,null,null,null,null,null,null,null,null,null,null,null,null,null,null,null,null,null,null,null,null,null,null,null,null,null,null,null,null,null,null,null,null,null,null,null,null,null,null,null,null,null,null,null,null,null,null,null,null,null,null,null,null,null,null,null,null,null,null,null,null,null,null,null,null,null,null,null,null,null,null,null,null,null,null,null,null,null,null,null,null,null,null,null,null,null,null,null,null,null,null,null,null,null,null,null,null,null,null,null,null,null,null,null,null,null,null,null,null,null,null,null,null,null,null,null,null,null,null,null,null,null,null,null,null,null,null,null,null,null,null,null,null,null,null,null,null,null,null,null,null,null,null,null,null,null,null,null,null,null,null,null,null,null,null,null,null,null,null,null,null,null,null,null,null,null,null,null,null,null,null,null,null,null,null,null,null,null,null,null,null,null,null,null,null,null,null,null,null,null,null,null,null,null,null,null,null,null,null,null,null,null,null,null,null,null,null,null,null,null,null,null,null,null,null,null,null,null,null,null,null,null,null,null,null,null,null,null,null,null,null,null,null,null,null,null,null,null,null,null,null,null,null,null,null,null,null,null,null,null,null,null,null,null,null,null,null,null,null,null,null,null,null,null,null,null,null,null,null,null,null,null,null,null,null,null,null,null,null,null,null,null,null,null,null,null,null,null,null,null,null,null,null,null,null,null,null,null,null,null,null,null,null,null,null,null,null,null,null,null,null,null,null,null,null,null,null,null,null,null,null,null,null,null,null,null,null,null,null,null,null,null,null,null,null,null,null,null,null,null,null,null,null,null,null,null,null,null,null,null,null,null,null,null,null,null,null,null,null,null,null,null,null,null,null,null,null,null,null,null,null,null,null,null,null,null,null,null,null,null,null,null,null,null,null,null,null,null,null,null,null,null,null,null,null,null,null,null,null,null,null,null,null,null,null,null,null,null,null,null,null,null,null,null,null,266,"Project Image","LEVEL 7",7,"Project Image ",{"$f":"\"\"","v":""},"",{"$f":"IF(OR(TK268=Spellcasting!$AC$18,TK268=Spellcasting!$AC$19),\"ᵐ\",\"\")","v":""},{"$f":"IF(OR(TK268=Spellcasting!$AC$20,TK268=Spellcasting!$AC$21),\"ˢ\",\"\")","v":""},{"$f":"\"\"","v":""},"1 act","500 miles","1 day ᶜᵒᶰ","VSM","a small replica of you mad from materials worth at least 5 gp","illusion","illus","You create an illusory copy of yourself that lasts for the duration. The copy can appear at any location within range that you have seen before, regardless of intervening obstacles. The illusion looks and sounds like you but is intangible. If the illusion takes any damage, it disappears, and the spell ends. \n\nYou can use your action to move this illusion up to twice your speed, and make it gesture, speak, and behave in whatever way you choose. It mimics your mannerisms perfectly. \n\nYou can see through its eyes and hear through its ears as if you were in its space. On your turn as a bonus action, you can switch from using its senses to using your own, or back again. While you are using its senses, you are blinded and deafened in regard to your own surroundings. \n\nPhysical interaction with the image reveals it to be an illusion, because things can pass through it. A creature that uses its action to examine the image can determine that it is an illusion with a successful Intelligence (Investigation) check against your spell save DC. If a creature discerns the illusion for what it is, the creature can see through the image, and any noise it makes sounds hollow to the creature.","illusory copy of you, Intelligence (Investigation) DC = spell save",{"$f":"IF(UC$1>=$TM268,1,\"0\")","v":"0"},null,null,null,null,null,null,null,null,{"$f":"IF(UL$1>=$TM268,1,\"0\")","v":"0"},null,null,null,null,null,null,null,null,null,null,null,null,null,null,null,null,null,null,null,null,null,null,null,null,null,null,null,null,null,null,null,null,null,null,null,null,null,null,null,null,null,null,null,{"$f":"IF(SUM($VZ$1:$WC$1)>0,IF(AND(SUM($VZ268:$WC268)>0,$TM268=WE$1),MAX(WD$2:WD267)+1,\"\"),IF(AND(SUM($UC268:$VY268)>0,$TM268=WE$1),MAX(WD$2:WD267)+1,\"\"))","v":""},"",{"$f":"IF(AND(SUM($UB268:$VY268)>0,$TM268=WG$1),MAX(WF$2:WF267)+1,\"\")","v":""},"",{"$f":"IF(AND(SUM($UB268:$VY268)>0,$TM268=WI$1),MAX(WH$2:WH267)+1,\"\")","v":""},"",{"$f":"IF(AND(SUM($UB268:$VY268)>0,$TM268=WK$1),MAX(WJ$2:WJ267)+1,\"\")","v":""},"",{"$f":"IF(AND(SUM($UB268:$VY268)>0,$TM268=WM$1),MAX(WL$2:WL267)+1,\"\")","v":""},"",{"$f":"IF(AND(SUM($UB268:$VY268)>0,$TM268=WO$1),MAX(WN$2:WN267)+1,\"\")","v":""},"",{"$f":"IF(AND(SUM($UB268:$VY268)>0,$TM268=WQ$1),MAX(WP$2:WP267)+1,\"\")","v":""},"",{"$f":"IF(AND(SUM($UB268:$VY268)>0,$TM268=WS$1),MAX(WR$2:WR267)+1,\"\")","v":""},"",{"$f":"IF(AND(SUM($UB268:$VY268)>0,$TM268=WU$1),MAX(WT$2:WT267)+1,\"\")","v":""},"",{"$f":"IF(AND(SUM($UB268:$VY268)>0,$TM268=WW$1),MAX(WV$2:WV267)+1,\"\")","v":""},"",{"$f":"IF(AND(SUM($UB268:$VY268)>0,$TM268=WY$1),MAX(WX$2:WX267)+1,\"\")","v":""},""]
[null,null,null,null,null,null,null,null,null,null,null,null,null,null,null,null,null,null,null,null,null,null,null,null,null,null,null,null,null,null,null,null,null,null,null,null,null,null,null,null,null,null,null,null,null,null,null,null,null,null,null,null,null,null,null,null,null,null,null,null,null,null,null,null,null,null,null,null,null,null,null,null,null,null,null,null,null,null,null,null,null,null,null,null,null,null,null,null,null,null,null,null,null,null,null,null,null,null,null,null,null,null,null,null,null,null,null,null,null,null,null,null,null,null,null,null,null,null,null,null,null,null,null,null,null,null,null,null,null,null,null,null,null,null,null,null,null,null,null,null,null,null,null,null,null,null,null,null,null,null,null,null,null,null,null,null,null,null,null,null,null,null,null,null,null,null,null,null,null,null,null,null,null,null,null,null,null,null,null,null,null,null,null,null,null,null,null,null,null,null,null,null,null,null,null,null,null,null,null,null,null,null,null,null,null,null,null,null,null,null,null,null,null,null,null,null,null,null,null,null,null,null,null,null,null,null,null,null,null,null,null,null,null,null,null,null,null,null,null,null,null,null,null,null,null,null,null,null,null,null,null,null,null,null,null,null,null,null,null,null,null,null,null,null,null,null,null,null,null,null,null,null,null,null,null,null,null,null,null,null,null,null,null,null,null,null,null,null,null,null,null,null,null,null,null,null,null,null,null,null,null,null,null,null,null,null,null,null,null,null,null,null,null,null,null,null,null,null,null,null,null,null,null,null,null,null,null,null,null,null,null,null,null,null,null,null,null,null,null,null,null,null,null,null,null,null,null,null,null,null,null,null,null,null,null,null,null,null,null,null,null,null,null,null,null,null,null,null,null,null,null,null,null,null,null,null,null,null,null,null,null,null,null,null,null,null,null,null,null,null,null,null,null,null,null,null,null,null,null,null,null,null,null,null,null,null,null,null,null,null,null,null,null,null,null,null,null,null,null,null,null,null,null,null,null,null,null,null,null,null,null,null,null,null,null,null,null,null,null,null,null,null,null,null,null,null,null,null,null,null,null,null,null,null,null,null,null,null,null,null,null,null,null,null,null,null,null,null,null,null,null,null,null,null,null,null,null,null,null,null,null,null,null,null,null,null,null,null,null,null,null,null,null,null,null,null,null,null,null,null,null,null,null,null,null,null,null,null,null,null,null,null,null,null,null,null,null,null,null,null,null,null,null,null,null,null,null,null,null,271,"Raise Dead","LEVEL 5",5,"Raise Dead ",{"$f":"\"\"","v":""},"",{"$f":"IF(OR(TK273=Spellcasting!$AC$18,TK273=Spellcasting!$AC$19),\"ᵐ\",\"\")","v":""},{"$f":"IF(OR(TK273=Spellcasting!$AC$20,TK273=Spellcasting!$AC$21),\"ˢ\",\"\")","v":""},{"$f":"\"\"","v":""},"1 hr","touch","instant","VSM","a diamond worth at least 500 gp, which the spell consumes","necromancy","necro","You return a dead creature you touch to life, provided that it has been dead no longer than 10 days. If the creature’s soul is both willing and at liberty to rejoin the body, the creature returns to life with 1 hit point. \n\nThis spell also neutralizes any poisons and cures nonmagical diseases that affected the creature at the time it died. This spell doesn’t, however, remove magical diseases, curses, or similar effects; if these aren’t first removed prior to casting the spell, they take effect when the creature returns to life. The spell can’t return an undead creature to life. \n\nThis spell closes all mortal wounds, but it doesn’t restore missing body parts. If the creature is lacking body parts or organs integral for its survival—its head, for instance—the spell automatically fails. \n\nComing back from the dead is an ordeal. The target takes a -4 penalty to all attack rolls, saving throws, and ability checks. Every time the target finishes a long rest, the penalty is reduced by 1 until it disappears.","return dead creature to life if dead < 10 days",{"$f":"IF(UC$1>=$TM273,1,\"0\")","v":"0"},{"$f":"IF(UD$1>=$TM273,1,\"0\")","v":"0"},null,null,null,{"$f":"IF(UH$1>=$TM273,1,\"0\")","v":"0"},null,null,null,null,null,null,null,null,null,null,null,null,null,null,null,null,null,{"$f":"IF(UZ$1>=$TM273,1,\"0\")","v":"0"},null,null,null,null,null,null,null,null,null,null,null,null,null,null,null,null,null,null,null,null,null,null,null,null,null,null,null,null,null,{"$f":"IF(SUM($VZ$1:$WC$1)>0,IF(AND(SUM($VZ273:$WC273)>0,$TM273=WE$1),MAX(WD$2:WD272)+1,\"\"),IF(AND(SUM($UC273:$VY273)>0,$TM273=WE$1),MAX(WD$2:WD272)+1,\"\"))","v":""},"",{"$f":"IF(AND(SUM($UB273:$VY273)>0,$TM273=WG$1),MAX(WF$2:WF272)+1,\"\")","v":""},"",{"$f":"IF(AND(SUM($UB273:$VY273)>0,$TM273=WI$1),MAX(WH$2:WH272)+1,\"\")","v":""},"",{"$f":"IF(AND(SUM($UB273:$VY273)>0,$TM273=WK$1),MAX(WJ$2:WJ272)+1,\"\")","v":""},"",{"$f":"IF(AND(SUM($UB273:$VY273)>0,$TM273=WM$1),MAX(WL$2:WL272)+1,\"\")","v":""},"",{"$f":"IF(AND(SUM($UB273:$VY273)>0,$TM273=WO$1),MAX(WN$2:WN272)+1,\"\")","v":""},"",{"$f":"IF(AND(SUM($UB273:$VY273)>0,$TM273=WQ$1),MAX(WP$2:WP272)+1,\"\")","v":""},"",{"$f":"IF(AND(SUM($UB273:$VY273)>0,$TM273=WS$1),MAX(WR$2:WR272)+1,\"\")","v":""},"",{"$f":"IF(AND(SUM($UB273:$VY273)>0,$TM273=WU$1),MAX(WT$2:WT272)+1,\"\")","v":""},"",{"$f":"IF(AND(SUM($UB273:$VY273)>0,$TM273=WW$1),MAX(WV$2:WV272)+1,\"\")","v":""},"",{"$f":"IF(AND(SUM($UB273:$VY273)>0,$TM273=WY$1),MAX(WX$2:WX272)+1,\"\")","v":""},""]
[null,null,null,null,null,null,null,null,null,null,null,null,null,null,null,null,null,null,null,null,null,null,null,null,null,null,null,null,null,null,null,null,null,null,null,null,null,null,null,null,null,null,null,null,null,null,null,null,null,null,null,null,null,null,null,null,null,null,null,null,null,null,null,null,null,null,null,null,null,null,null,null,null,null,null,null,null,null,null,null,null,null,null,null,null,null,null,null,null,null,null,null,null,null,null,null,null,null,null,null,null,null,null,null,null,null,null,null,null,null,null,null,null,null,null,null,null,null,null,null,null,null,null,null,null,null,null,null,null,null,null,null,null,null,null,null,null,null,null,null,null,null,null,null,null,null,null,null,null,null,null,null,null,null,null,null,null,null,null,null,null,null,null,null,null,null,null,null,null,null,null,null,null,null,null,null,null,null,null,null,null,null,null,null,null,null,null,null,null,null,null,null,null,null,null,null,null,null,null,null,null,null,null,null,null,null,null,null,null,null,null,null,null,null,null,null,null,null,null,null,null,null,null,null,null,null,null,null,null,null,null,null,null,null,null,null,null,null,null,null,null,null,null,null,null,null,null,null,null,null,null,null,null,null,null,null,null,null,null,null,null,null,null,null,null,null,null,null,null,null,null,null,null,null,null,null,null,null,null,null,null,null,null,null,null,null,null,null,null,null,null,null,null,null,null,null,null,null,null,null,null,null,null,null,null,null,null,null,null,null,null,null,null,null,null,null,null,null,null,null,null,null,null,null,null,null,null,null,null,null,null,null,null,null,null,null,null,null,null,null,null,null,null,null,null,null,null,null,null,null,null,null,null,null,null,null,null,null,null,null,null,null,null,null,null,null,null,null,null,null,null,null,null,null,null,null,null,null,null,null,null,null,null,null,null,null,null,null,null,null,null,null,null,null,null,null,null,null,null,null,null,null,null,null,null,null,null,null,null,null,null,null,null,null,null,null,null,null,null,null,null,null,null,null,null,null,null,null,null,null,null,null,null,null,null,null,null,null,null,null,null,null,null,null,null,null,null,null,null,null,null,null,null,null,null,null,null,null,null,null,null,null,null,null,null,null,null,null,null,null,null,null,null,null,null,null,null,null,null,null,null,null,null,null,null,null,null,null,null,null,null,null,null,null,null,null,null,null,null,null,null,null,null,null,null,null,null,null,null,null,null,null,null,null,null,null,null,null,null,null,null,null,null,null,null,null,null,null,null,276,"Regenerate","LEVEL 7",7,"Regenerate ",{"$f":"\"\"","v":""},"",{"$f":"IF(OR(TK278=Spellcasting!$AC$18,TK278=Spellcasting!$AC$19),\"ᵐ\",\"\")","v":""},{"$f":"IF(OR(TK278=Spellcasting!$AC$20,TK278=Spellcasting!$AC$21),\"ˢ\",\"\")","v":""},{"$f":"\"\"","v":""},"1 min","touch","1 hr","VSM","a prayer wheel and holy water","transmutation","trans","You touch a creature and stimulate its natural healing ability. The target regains 4d8+15 hit points. For the duration of the spell, the target regains 1 hit point at the start of each of its turns (10 hit points each minute). \n\nThe target’s severed body members (fingers, legs, tails, and so on), if any, are restored after 2 minutes. If you have the severed part and hold it to the stump, the spell instantaneously causes the limb to knit to the stump.","4d8+15 HP, +1 HP per round",{"$f":"IF(UC$1>=$TM278,1,\"0\")","v":"0"},null,null,null,null,{"$f":"IF(UH$1>=$TM278,1,\"0\")","v":"0"},{"$f":"IF(UI$1>=$TM278,1,\"0\")","v":"0"},null,null,null,null,null,null,null,null,null,null,null,null,null,null,null,null,null,null,null,null,null,null,null,null,null,null,null,null,null,null,null,null,null,null,null,null,null,null,null,null,null,null,null,null,null,null,{"$f":"IF(SUM($VZ$1:$WC$1)>0,IF(AND(SUM($VZ278:$WC278)>0,$TM278=WE$1),MAX(WD$2:WD277)+1,\"\"),IF(AND(SUM($UC278:$VY278)>0,$TM278=WE$1),MAX(WD$2:WD277)+1,\"\"))","v":""},"",{"$f":"IF(AND(SUM($UB278:$VY278)>0,$TM278=WG$1),MAX(WF$2:WF277)+1,\"\")","v":""},"",{"$f":"IF(AND(SUM($UB278:$VY278)>0,$TM278=WI$1),MAX(WH$2:WH277)+1,\"\")","v":""},"",{"$f":"IF(AND(SUM($UB278:$VY278)>0,$TM278=WK$1),MAX(WJ$2:WJ277)+1,\"\")","v":""},"",{"$f":"IF(AND(SUM($UB278:$VY278)>0,$TM278=WM$1),MAX(WL$2:WL277)+1,\"\")","v":""},"",{"$f":"IF(AND(SUM($UB278:$VY278)>0,$TM278=WO$1),MAX(WN$2:WN277)+1,\"\")","v":""},"",{"$f":"IF(AND(SUM($UB278:$VY278)>0,$TM278=WQ$1),MAX(WP$2:WP277)+1,\"\")","v":""},"",{"$f":"IF(AND(SUM($UB278:$VY278)>0,$TM278=WS$1),MAX(WR$2:WR277)+1,\"\")","v":""},"",{"$f":"IF(AND(SUM($UB278:$VY278)>0,$TM278=WU$1),MAX(WT$2:WT277)+1,\"\")","v":""},"",{"$f":"IF(AND(SUM($UB278:$VY278)>0,$TM278=WW$1),MAX(WV$2:WV277)+1,\"\")","v":""},"",{"$f":"IF(AND(SUM($UB278:$VY278)>0,$TM278=WY$1),MAX(WX$2:WX277)+1,\"\")","v":""},""]
[null,null,null,null,null,null,null,null,null,null,null,null,null,null,null,null,null,null,null,null,null,null,null,null,null,null,null,null,null,null,null,null,null,null,null,null,null,null,null,null,null,null,null,null,null,null,null,null,null,null,null,null,null,null,null,null,null,null,null,null,null,null,null,null,null,null,null,null,null,null,null,null,null,null,null,null,null,null,null,null,null,null,null,null,null,null,null,null,null,null,null,null,null,null,null,null,null,null,null,null,null,null,null,null,null,null,null,null,null,null,null,null,null,null,null,null,null,null,null,null,null,null,null,null,null,null,null,null,null,null,null,null,null,null,null,null,null,null,null,null,null,null,null,null,null,null,null,null,null,null,null,null,null,null,null,null,null,null,null,null,null,null,null,null,null,null,null,null,null,null,null,null,null,null,null,null,null,null,null,null,null,null,null,null,null,null,null,null,null,null,null,null,null,null,null,null,null,null,null,null,null,null,null,null,null,null,null,null,null,null,null,null,null,null,null,null,null,null,null,null,null,null,null,null,null,null,null,null,null,null,null,null,null,null,null,null,null,null,null,null,null,null,null,null,null,null,null,null,null,null,null,null,null,null,null,null,null,null,null,null,null,null,null,null,null,null,null,null,null,null,null,null,null,null,null,null,null,null,null,null,null,null,null,null,null,null,null,null,null,null,null,null,null,null,null,null,null,null,null,null,null,null,null,null,null,null,null,null,null,null,null,null,null,null,null,null,null,null,null,null,null,null,null,null,null,null,null,null,null,null,null,null,null,null,null,null,null,null,null,null,null,null,null,null,null,null,null,null,null,null,null,null,null,null,null,null,null,null,null,null,null,null,null,null,null,null,null,null,null,null,null,null,null,null,null,null,null,null,null,null,null,null,null,null,null,null,null,null,null,null,null,null,null,null,null,null,null,null,null,null,null,null,null,null,null,null,null,null,null,null,null,null,null,null,null,null,null,null,null,null,null,null,null,null,null,null,null,null,null,null,null,null,null,null,null,null,null,null,null,null,null,null,null,null,null,null,null,null,null,null,null,null,null,null,null,null,null,null,null,null,null,null,null,null,null,null,null,null,null,null,null,null,null,null,null,null,null,null,null,null,null,null,null,null,null,null,null,null,null,null,null,null,null,null,null,null,null,null,null,null,null,null,null,null,null,null,null,null,null,null,null,null,null,null,null,null,null,null,null,null,null,null,null,null,null,null,null,null,null,281,"Reverse Gravity","LEVEL 7",7,"Reverse Gravity ",{"$f":"\"\"","v":""},"",{"$f":"IF(OR(TK283=Spellcasting!$AC$18,TK283=Spellcasting!$AC$19),\"ᵐ\",\"\")","v":""},{"$f":"IF(OR(TK283=Spellcasting!$AC$20,TK283=Spellcasting!$AC$21),\"ˢ\",\"\")","v":""},{"$f":"\"\"","v":""},"1 act","100 ft","1 min ᶜᵒᶰ","VSM","a lodestone and iron filings","transmutation","trans","This spell reverses gravity in a 50-foot-radius, 100-foot high cylinder centered on a point within range. All creatures and objects that aren’t somehow anchored to the ground in the area fall upward and reach the top of the area when you cast this spell. A creature can make a Dexterity saving throw to grab onto a fixed object it can reach, thus avoiding the fall. \n\nIf some solid object (such as a ceiling) is encountered in this fall, falling objects and creatures strike it just as they would during a normal downward fall. If an object or creature reaches the top of the area without striking anything, it remains there, oscillating slightly, for the duration. \n\nAt the end of the duration, affected objects and creatures fall back down.","100x50ft rad cylinder, dex save to grab fixed object",null,null,null,{"$f":"IF(UF$1>=$TM283,1,\"0\")","v":"0"},null,null,{"$f":"IF(UI$1>=$TM283,1,\"0\")","v":"0"},null,null,{"$f":"IF(UL$1>=$TM283,1,\"0\")","v":"0"},null,null,null,null,null,null,null,null,null,null,null,null,null,null,null,null,null,null,null,null,null,null,null,null,null,null,null,null,null,null,null,null,null,null,null,null,null,null,null,null,null,null,null,{"$f":"IF(SUM($VZ$1:$WC$1)>0,IF(AND(SUM($VZ283:$WC283)>0,$TM283=WE$1),MAX(WD$2:WD282)+1,\"\"),IF(AND(SUM($UC283:$VY283)>0,$TM283=WE$1),MAX(WD$2:WD282)+1,\"\"))","v":""},"",{"$f":"IF(AND(SUM($UB283:$VY283)>0,$TM283=WG$1),MAX(WF$2:WF282)+1,\"\")","v":""},"",{"$f":"IF(AND(SUM($UB283:$VY283)>0,$TM283=WI$1),MAX(WH$2:WH282)+1,\"\")","v":""},"",{"$f":"IF(AND(SUM($UB283:$VY283)>0,$TM283=WK$1),MAX(WJ$2:WJ282)+1,\"\")","v":""},"",{"$f":"IF(AND(SUM($UB283:$VY283)>0,$TM283=WM$1),MAX(WL$2:WL282)+1,\"\")","v":""},"",{"$f":"IF(AND(SUM($UB283:$VY283)>0,$TM283=WO$1),MAX(WN$2:WN282)+1,\"\")","v":""},"",{"$f":"IF(AND(SUM($UB283:$VY283)>0,$TM283=WQ$1),MAX(WP$2:WP282)+1,\"\")","v":""},"",{"$f":"IF(AND(SUM($UB283:$VY283)>0,$TM283=WS$1),MAX(WR$2:WR282)+1,\"\")","v":""},"",{"$f":"IF(AND(SUM($UB283:$VY283)>0,$TM283=WU$1),MAX(WT$2:WT282)+1,\"\")","v":""},"",{"$f":"IF(AND(SUM($UB283:$VY283)>0,$TM283=WW$1),MAX(WV$2:WV282)+1,\"\")","v":""},"",{"$f":"IF(AND(SUM($UB283:$VY283)>0,$TM283=WY$1),MAX(WX$2:WX282)+1,\"\")","v":""},""]
[null,null,null,null,null,null,null,null,null,null,null,null,null,null,null,null,null,null,null,null,null,null,null,null,null,null,null,null,null,null,null,null,null,null,null,null,null,null,null,null,null,null,null,null,null,null,null,null,null,null,null,null,null,null,null,null,null,null,null,null,null,null,null,null,null,null,null,null,null,null,null,null,null,null,null,null,null,null,null,null,null,null,null,null,null,null,null,null,null,null,null,null,null,null,null,null,null,null,null,null,null,null,null,null,null,null,null,null,null,null,null,null,null,null,null,null,null,null,null,null,null,null,null,null,null,null,null,null,null,null,null,null,null,null,null,null,null,null,null,null,null,null,null,null,null,null,null,null,null,null,null,null,null,null,null,null,null,null,null,null,null,null,null,null,null,null,null,null,null,null,null,null,null,null,null,null,null,null,null,null,null,null,null,null,null,null,null,null,null,null,null,null,null,null,null,null,null,null,null,null,null,null,null,null,null,null,null,null,null,null,null,null,null,null,null,null,null,null,null,null,null,null,null,null,null,null,null,null,null,null,null,null,null,null,null,null,null,null,null,null,null,null,null,null,null,null,null,null,null,null,null,null,null,null,null,null,null,null,null,null,null,null,null,null,null,null,null,null,null,null,null,null,null,null,null,null,null,null,null,null,null,null,null,null,null,null,null,null,null,null,null,null,null,null,null,null,null,null,null,null,null,null,null,null,null,null,null,null,null,null,null,null,null,null,null,null,null,null,null,null,null,null,null,null,null,null,null,null,null,null,null,null,null,null,null,null,null,null,null,null,null,null,null,null,null,null,null,null,null,null,null,null,null,null,null,null,null,null,null,null,null,null,null,null,null,null,null,null,null,null,null,null,null,null,null,null,null,null,null,null,null,null,null,null,null,null,null,null,null,null,null,null,null,null,null,null,null,null,null,null,null,null,null,null,null,null,null,null,null,null,null,null,null,null,null,null,null,null,null,null,null,null,null,null,null,null,null,null,null,null,null,null,null,null,null,null,null,null,null,null,null,null,null,null,null,null,null,null,null,null,null,null,null,null,null,null,null,null,null,null,null,null,null,null,null,null,null,null,null,null,null,null,null,null,null,null,null,null,null,null,null,null,null,null,null,null,null,null,null,null,null,null,null,null,null,null,null,null,null,null,null,null,null,null,null,null,null,null,null,null,null,null,null,null,null,null,null,null,null,null,null,null,null,null,null,null,null,null,null,284,"Sacred Flame","CANTRIP",0.5,"Sacred Flame ",{"$f":"\"\"","v":""},"",{"$f":"IF(OR(TK286=Spellcasting!$AC$18,TK286=Spellcasting!$AC$19),\"ᵐ\",\"\")","v":""},{"$f":"IF(OR(TK286=Spellcasting!$AC$20,TK286=Spellcasting!$AC$21),\"ˢ\",\"\")","v":""},{"$f":"\"\"","v":""},"1 act","60 ft","instant","VS",{"$f":"\"\"","v":""},"evocation","evoc","Flame-like radiance descends on a creature that you can see within range. The target must succeed on a Dexterity saving throw or take 1d8 radiant damage. The target gains no benefit from cover for this saving throw. \n\nThe spell’s damage increases by 1d8 when you reach 5th level (2d8), 11th level (3d8), and 17th level (4d8).",{"$f":"IF(CharacterLevel>16,\"4d8\",IF(CharacterLevel>10,\"3d8\",IF(CharacterLevel>4,\"2d8\",\"1d8\"))) &\" radiant, dex\"","v":"1d8 radiant, dex"},null,null,null,null,null,{"$f":"IF(UH$1>=$TM286,1,\"0\")","v":"0"},null,null,null,null,null,null,null,null,null,null,null,null,null,null,null,null,null,null,null,null,null,null,null,null,null,null,null,null,null,null,null,null,null,null,null,null,null,null,null,null,null,null,null,null,null,null,null,{"$f":"IF(SUM($VZ$1:$WC$1)>0,IF(AND(SUM($VZ286:$WC286)>0,$TM286=WE$1),MAX(WD$2:WD285)+1,\"\"),IF(AND(SUM($UC286:$VY286)>0,$TM286=WE$1),MAX(WD$2:WD285)+1,\"\"))","v":""},"",{"$f":"IF(AND(SUM($UB286:$VY286)>0,$TM286=WG$1),MAX(WF$2:WF285)+1,\"\")","v":""},"",{"$f":"IF(AND(SUM($UB286:$VY286)>0,$TM286=WI$1),MAX(WH$2:WH285)+1,\"\")","v":""},"",{"$f":"IF(AND(SUM($UB286:$VY286)>0,$TM286=WK$1),MAX(WJ$2:WJ285)+1,\"\")","v":""},"",{"$f":"IF(AND(SUM($UB286:$VY286)>0,$TM286=WM$1),MAX(WL$2:WL285)+1,\"\")","v":""},"",{"$f":"IF(AND(SUM($UB286:$VY286)>0,$TM286=WO$1),MAX(WN$2:WN285)+1,\"\")","v":""},"",{"$f":"IF(AND(SUM($UB286:$VY286)>0,$TM286=WQ$1),MAX(WP$2:WP285)+1,\"\")","v":""},"",{"$f":"IF(AND(SUM($UB286:$VY286)>0,$TM286=WS$1),MAX(WR$2:WR285)+1,\"\")","v":""},"",{"$f":"IF(AND(SUM($UB286:$VY286)>0,$TM286=WU$1),MAX(WT$2:WT285)+1,\"\")","v":""},"",{"$f":"IF(AND(SUM($UB286:$VY286)>0,$TM286=WW$1),MAX(WV$2:WV285)+1,\"\")","v":""},"",{"$f":"IF(AND(SUM($UB286:$VY286)>0,$TM286=WY$1),MAX(WX$2:WX285)+1,\"\")","v":""},""]
[null,null,null,null,null,null,null,null,null,null,null,null,null,null,null,null,null,null,null,null,null,null,null,null,null,null,null,null,null,null,null,null,null,null,null,null,null,null,null,null,null,null,null,null,null,null,null,null,null,null,null,null,null,null,null,null,null,null,null,null,null,null,null,null,null,null,null,null,null,null,null,null,null,null,null,null,null,null,null,null,null,null,null,null,null,null,null,null,null,null,null,null,null,null,null,null,null,null,null,null,null,null,null,null,null,null,null,null,null,null,null,null,null,null,null,null,null,null,null,null,null,null,null,null,null,null,null,null,null,null,null,null,null,null,null,null,null,null,null,null,null,null,null,null,null,null,null,null,null,null,null,null,null,null,null,null,null,null,null,null,null,null,null,null,null,null,null,null,null,null,null,null,null,null,null,null,null,null,null,null,null,null,null,null,null,null,null,null,null,null,null,null,null,null,null,null,null,null,null,null,null,null,null,null,null,null,null,null,null,null,null,null,null,null,null,null,null,null,null,null,null,null,null,null,null,null,null,null,null,null,null,null,null,null,null,null,null,null,null,null,null,null,null,null,null,null,null,null,null,null,null,null,null,null,null,null,null,null,null,null,null,null,null,null,null,null,null,null,null,null,null,null,null,null,null,null,null,null,null,null,null,null,null,null,null,null,null,null,null,null,null,null,null,null,null,null,null,null,null,null,null,null,null,null,null,null,null,null,null,null,null,null,null,null,null,null,null,null,null,null,null,null,null,null,null,null,null,null,null,null,null,null,null,null,null,null,null,null,null,null,null,null,null,null,null,null,null,null,null,null,null,null,null,null,null,null,null,null,null,null,null,null,null,null,null,null,null,null,null,null,null,null,null,null,null,null,null,null,null,null,null,null,null,null,null,null,null,null,null,null,null,null,null,null,null,null,null,null,null,null,null,null,null,null,null,null,null,null,null,null,null,null,null,null,null,null,null,null,null,null,null,null,null,null,null,null,null,null,null,null,null,null,null,null,null,null,null,null,null,null,null,null,null,null,null,null,null,null,null,null,null,null,null,null,null,null,null,null,null,null,null,null,null,null,null,null,null,null,null,null,null,null,null,null,null,null,null,null,null,null,null,null,null,null,null,null,null,null,null,null,null,null,null,null,null,null,null,null,null,null,null,null,null,null,null,null,null,null,null,null,null,null,null,null,null,null,null,null,null,null,null,null,null,null,null,null,null,null,null,291,"Sending","LEVEL 3",3,"Sending ",{"$f":"\"\"","v":""},"",{"$f":"IF(OR(TK293=Spellcasting!$AC$18,TK293=Spellcasting!$AC$19),\"ᵐ\",\"\")","v":""},{"$f":"IF(OR(TK293=Spellcasting!$AC$20,TK293=Spellcasting!$AC$21),\"ˢ\",\"\")","v":""},{"$f":"\"\"","v":""},"1 act","unlimited","1 rnd","VSM","a short piece of fine copper wire","evocation","evoc","You send a short message of twenty-five words or less to a creature with which you are familiar. The creature hears the message in its mind, recognizes you as the sender if it knows you, and can answer in a like manner immediately. The spell enables creatures with Intelligence scores of at least 1 to understand the meaning of your message. \n\nYou can send the message across any distance and even to other planes of existence, but if the target is on a different plane than you, there is a 5 percent chance that the message doesn’t arrive.","25 words send and reply to 1 known target",{"$f":"IF(UC$1>=$TM293,1,\"0\")","v":"0"},null,null,null,null,{"$f":"IF(UH$1>=$TM293,1,\"0\")","v":"0"},null,null,null,"0",null,null,null,null,null,null,null,null,null,null,null,{"$f":"IF(UX$1>=$TM293,1,\"0\")","v":"0"},null,null,null,null,null,null,null,null,null,null,null,null,null,null,null,null,null,{"$f":"IF(VP$1>=$TM293,1,\"0\")","v":"0"},null,null,null,null,null,null,null,null,null,null,null,null,null,{"$f":"IF(SUM($VZ$1:$WC$1)>0,IF(AND(SUM($VZ293:$WC293)>0,$TM293=WE$1),MAX(WD$2:WD292)+1,\"\"),IF(AND(SUM($UC293:$VY293)>0,$TM293=WE$1),MAX(WD$2:WD292)+1,\"\"))","v":""},"",{"$f":"IF(AND(SUM($UB293:$VY293)>0,$TM293=WG$1),MAX(WF$2:WF292)+1,\"\")","v":""},"",{"$f":"IF(AND(SUM($UB293:$VY293)>0,$TM293=WI$1),MAX(WH$2:WH292)+1,\"\")","v":""},"",{"$f":"IF(AND(SUM($UB293:$VY293)>0,$TM293=WK$1),MAX(WJ$2:WJ292)+1,\"\")","v":""},"",{"$f":"IF(AND(SUM($UB293:$VY293)>0,$TM293=WM$1),MAX(WL$2:WL292)+1,\"\")","v":""},"",{"$f":"IF(AND(SUM($UB293:$VY293)>0,$TM293=WO$1),MAX(WN$2:WN292)+1,\"\")","v":""},"",{"$f":"IF(AND(SUM($UB293:$VY293)>0,$TM293=WQ$1),MAX(WP$2:WP292)+1,\"\")","v":""},"",{"$f":"IF(AND(SUM($UB293:$VY293)>0,$TM293=WS$1),MAX(WR$2:WR292)+1,\"\")","v":""},"",{"$f":"IF(AND(SUM($UB293:$VY293)>0,$TM293=WU$1),MAX(WT$2:WT292)+1,\"\")","v":""},"",{"$f":"IF(AND(SUM($UB293:$VY293)>0,$TM293=WW$1),MAX(WV$2:WV292)+1,\"\")","v":""},"",{"$f":"IF(AND(SUM($UB293:$VY293)>0,$TM293=WY$1),MAX(WX$2:WX292)+1,\"\")","v":""},""]
[null,null,null,null,null,null,null,null,null,null,null,null,null,null,null,null,null,null,null,null,null,null,null,null,null,null,null,null,null,null,null,null,null,null,null,null,null,null,null,null,null,null,null,null,null,null,null,null,null,null,null,null,null,null,null,null,null,null,null,null,null,null,null,null,null,null,null,null,null,null,null,null,null,null,null,null,null,null,null,null,null,null,null,null,null,null,null,null,null,null,null,null,null,null,null,null,null,null,null,null,null,null,null,null,null,null,null,null,null,null,null,null,null,null,null,null,null,null,null,null,null,null,null,null,null,null,null,null,null,null,null,null,null,null,null,null,null,null,null,null,null,null,null,null,null,null,null,null,null,null,null,null,null,null,null,null,null,null,null,null,null,null,null,null,null,null,null,null,null,null,null,null,null,null,null,null,null,null,null,null,null,null,null,null,null,null,null,null,null,null,null,null,null,null,null,null,null,null,null,null,null,null,null,null,null,null,null,null,null,null,null,null,null,null,null,null,null,null,null,null,null,null,null,null,null,null,null,null,null,null,null,null,null,null,null,null,null,null,null,null,null,null,null,null,null,null,null,null,null,null,null,null,null,null,null,null,null,null,null,null,null,null,null,null,null,null,null,null,null,null,null,null,null,null,null,null,null,null,null,null,null,null,null,null,null,null,null,null,null,null,null,null,null,null,null,null,null,null,null,null,null,null,null,null,null,null,null,null,null,null,null,null,null,null,null,null,null,null,null,null,null,null,null,null,null,null,null,null,null,null,null,null,null,null,null,null,null,null,null,null,null,null,null,null,null,null,null,null,null,null,null,null,null,null,null,null,null,null,null,null,null,null,null,null,null,null,null,null,null,null,null,null,null,null,null,null,null,null,null,null,null,null,null,null,null,null,null,null,null,null,null,null,null,null,null,null,null,null,null,null,null,null,null,null,null,null,null,null,null,null,null,null,null,null,null,null,null,null,null,null,null,null,null,null,null,null,null,null,null,null,null,null,null,null,null,null,null,null,null,null,null,null,null,null,null,null,null,null,null,null,null,null,null,null,null,null,null,null,null,null,null,null,null,null,null,null,null,null,null,null,null,null,null,null,null,null,null,null,null,null,null,null,null,null,null,null,null,null,null,null,null,null,null,null,null,null,null,null,null,null,null,null,null,null,null,null,null,null,null,null,null,null,null,null,null,null,null,null,null,null,null,null,null,null,null,null,null,null,null,292,"Sequester","LEVEL 7",7,"Sequester ",{"$f":"\"\"","v":""},"",{"$f":"IF(OR(TK294=Spellcasting!$AC$18,TK294=Spellcasting!$AC$19),\"ᵐ\",\"\")","v":""},{"$f":"IF(OR(TK294=Spellcasting!$AC$20,TK294=Spellcasting!$AC$21),\"ˢ\",\"\")","v":""},{"$f":"\"\"","v":""},"1 act","touch","dispelled","VSM","a power composed of diamond, emerald, ruby, and sapphire dust worth at least 5,000 gp, which the spell consumes","transmutation","trans","By means of this spell, a willing creature or an object can be hidden away, safe from detection for the duration. When you cast the spell and touch the target, it becomes invisible and can’t be targeted by divination spells or perceived through scrying sensors created by divination spells. \n\nIf the target is a creature, it falls into a state of suspended animation. Time ceases to flow for it, and it doesn’t grow older. \n\nYou can set a condition for the spell to end early. The condition can be anything you choose, but it must occur or be visible within 1 mile of the target. Examples include “after 1,000 years” or “when the tarrasque awakens.” This spell also ends if the target takes any damage.","hide willing creature or object, set condition to end",null,null,null,null,null,null,null,null,null,"0",null,null,null,null,null,null,null,null,null,null,null,null,null,null,null,null,null,null,null,null,null,null,null,null,null,null,null,null,null,null,null,null,null,null,null,null,null,null,null,null,null,null,null,{"$f":"IF(SUM($VZ$1:$WC$1)>0,IF(AND(SUM($VZ294:$WC294)>0,$TM294=WE$1),MAX(WD$2:WD293)+1,\"\"),IF(AND(SUM($UC294:$VY294)>0,$TM294=WE$1),MAX(WD$2:WD293)+1,\"\"))","v":""},"",{"$f":"IF(AND(SUM($UB294:$VY294)>0,$TM294=WG$1),MAX(WF$2:WF293)+1,\"\")","v":""},"",{"$f":"IF(AND(SUM($UB294:$VY294)>0,$TM294=WI$1),MAX(WH$2:WH293)+1,\"\")","v":""},"",{"$f":"IF(AND(SUM($UB294:$VY294)>0,$TM294=WK$1),MAX(WJ$2:WJ293)+1,\"\")","v":""},"",{"$f":"IF(AND(SUM($UB294:$VY294)>0,$TM294=WM$1),MAX(WL$2:WL293)+1,\"\")","v":""},"",{"$f":"IF(AND(SUM($UB294:$VY294)>0,$TM294=WO$1),MAX(WN$2:WN293)+1,\"\")","v":""},"",{"$f":"IF(AND(SUM($UB294:$VY294)>0,$TM294=WQ$1),MAX(WP$2:WP293)+1,\"\")","v":""},"",{"$f":"IF(AND(SUM($UB294:$VY294)>0,$TM294=WS$1),MAX(WR$2:WR293)+1,\"\")","v":""},"",{"$f":"IF(AND(SUM($UB294:$VY294)>0,$TM294=WU$1),MAX(WT$2:WT293)+1,\"\")","v":""},"",{"$f":"IF(AND(SUM($UB294:$VY294)>0,$TM294=WW$1),MAX(WV$2:WV293)+1,\"\")","v":""},"",{"$f":"IF(AND(SUM($UB294:$VY294)>0,$TM294=WY$1),MAX(WX$2:WX293)+1,\"\")","v":""},""]
[null,null,null,null,null,null,null,null,null,null,null,null,null,null,null,null,null,null,null,null,null,null,null,null,null,null,null,null,null,null,null,null,null,null,null,null,null,null,null,null,null,null,null,null,null,null,null,null,null,null,null,null,null,null,null,null,null,null,null,null,null,null,null,null,null,null,null,null,null,null,null,null,null,null,null,null,null,null,null,null,null,null,null,null,null,null,null,null,null,null,null,null,null,null,null,null,null,null,null,null,null,null,null,null,null,null,null,null,null,null,null,null,null,null,null,null,null,null,null,null,null,null,null,null,null,null,null,null,null,null,null,null,null,null,null,null,null,null,null,null,null,null,null,null,null,null,null,null,null,null,null,null,null,null,null,null,null,null,null,null,null,null,null,null,null,null,null,null,null,null,null,null,null,null,null,null,null,null,null,null,null,null,null,null,null,null,null,null,null,null,null,null,null,null,null,null,null,null,null,null,null,null,null,null,null,null,null,null,null,null,null,null,null,null,null,null,null,null,null,null,null,null,null,null,null,null,null,null,null,null,null,null,null,null,null,null,null,null,null,null,null,null,null,null,null,null,null,null,null,null,null,null,null,null,null,null,null,null,null,null,null,null,null,null,null,null,null,null,null,null,null,null,null,null,null,null,null,null,null,null,null,null,null,null,null,null,null,null,null,null,null,null,null,null,null,null,null,null,null,null,null,null,null,null,null,null,null,null,null,null,null,null,null,null,null,null,null,null,null,null,null,null,null,null,null,null,null,null,null,null,null,null,null,null,null,null,null,null,null,null,null,null,null,null,null,null,null,null,null,null,null,null,null,null,null,null,null,null,null,null,null,null,null,null,null,null,null,null,null,null,null,null,null,null,null,null,null,null,null,null,null,null,null,null,null,null,null,null,null,null,null,null,null,null,null,null,null,null,null,null,null,null,null,null,null,null,null,null,null,null,null,null,null,null,null,null,null,null,null,null,null,null,null,null,null,null,null,null,null,null,null,null,null,null,null,null,null,null,null,null,null,null,null,null,null,null,null,null,null,null,null,null,null,null,null,null,null,null,null,null,null,null,null,null,null,null,null,null,null,null,null,null,null,null,null,null,null,null,null,null,null,null,null,null,null,null,null,null,null,null,null,null,null,null,null,null,null,null,null,null,null,null,null,null,null,null,null,null,null,null,null,null,null,null,null,null,null,null,null,null,null,null,null,null,null,null,null,null,null,297,"Shillelagh","CANTRIP",0.5,"Shillelagh ",{"$f":"\"\"","v":""},"",{"$f":"IF(OR(TK299=Spellcasting!$AC$18,TK299=Spellcasting!$AC$19),\"ᵐ\",\"\")","v":""},{"$f":"IF(OR(TK299=Spellcasting!$AC$20,TK299=Spellcasting!$AC$21),\"ˢ\",\"\")","v":""},{"$f":"\"\"","v":""},"1 bon","touch","1 min","VSM","mistletoe, a shamrock leaf, and a club or quarterstaff","transmutation","trans","The wood of a club or quarterstaff you are holding is imbued with nature’s power. For the duration, you can use your spellcasting ability instead of Strength for the attack and damage rolls of melee attacks using that weapon, and the weapon's damage die becomes a d8. The weapon also becomes magical, if it isn’t already. The spell ends if you cast it again or if you let go of the weapon.","use spell ability for attack and damage, d8 magical",null,null,null,null,null,null,{"$f":"IF(UI$1>=$TM299,1,\"0\")","v":"0"},null,null,null,null,null,null,null,null,null,null,null,null,null,null,null,null,null,null,{"$f":"IF(VB$1>=$TM299,1,\"0\")","v":"0"},null,null,null,null,null,null,null,null,null,null,null,null,null,null,null,null,null,null,null,null,null,null,null,null,null,null,null,{"$f":"IF(SUM($VZ$1:$WC$1)>0,IF(AND(SUM($VZ299:$WC299)>0,$TM299=WE$1),MAX(WD$2:WD298)+1,\"\"),IF(AND(SUM($UC299:$VY299)>0,$TM299=WE$1),MAX(WD$2:WD298)+1,\"\"))","v":""},"",{"$f":"IF(AND(SUM($UB299:$VY299)>0,$TM299=WG$1),MAX(WF$2:WF298)+1,\"\")","v":""},"",{"$f":"IF(AND(SUM($UB299:$VY299)>0,$TM299=WI$1),MAX(WH$2:WH298)+1,\"\")","v":""},"",{"$f":"IF(AND(SUM($UB299:$VY299)>0,$TM299=WK$1),MAX(WJ$2:WJ298)+1,\"\")","v":""},"",{"$f":"IF(AND(SUM($UB299:$VY299)>0,$TM299=WM$1),MAX(WL$2:WL298)+1,\"\")","v":""},"",{"$f":"IF(AND(SUM($UB299:$VY299)>0,$TM299=WO$1),MAX(WN$2:WN298)+1,\"\")","v":""},"",{"$f":"IF(AND(SUM($UB299:$VY299)>0,$TM299=WQ$1),MAX(WP$2:WP298)+1,\"\")","v":""},"",{"$f":"IF(AND(SUM($UB299:$VY299)>0,$TM299=WS$1),MAX(WR$2:WR298)+1,\"\")","v":""},"",{"$f":"IF(AND(SUM($UB299:$VY299)>0,$TM299=WU$1),MAX(WT$2:WT298)+1,\"\")","v":""},"",{"$f":"IF(AND(SUM($UB299:$VY299)>0,$TM299=WW$1),MAX(WV$2:WV298)+1,\"\")","v":""},"",{"$f":"IF(AND(SUM($UB299:$VY299)>0,$TM299=WY$1),MAX(WX$2:WX298)+1,\"\")","v":""},""]
[null,null,null,null,null,null,null,null,null,null,null,null,null,null,null,null,null,null,null,null,null,null,null,null,null,null,null,null,null,null,null,null,null,null,null,null,null,null,null,null,null,null,null,null,null,null,null,null,null,null,null,null,null,null,null,null,null,null,null,null,null,null,null,null,null,null,null,null,null,null,null,null,null,null,null,null,null,null,null,null,null,null,null,null,null,null,null,null,null,null,null,null,null,null,null,null,null,null,null,null,null,null,null,null,null,null,null,null,null,null,null,null,null,null,null,null,null,null,null,null,null,null,null,null,null,null,null,null,null,null,null,null,null,null,null,null,null,null,null,null,null,null,null,null,null,null,null,null,null,null,null,null,null,null,null,null,null,null,null,null,null,null,null,null,null,null,null,null,null,null,null,null,null,null,null,null,null,null,null,null,null,null,null,null,null,null,null,null,null,null,null,null,null,null,null,null,null,null,null,null,null,null,null,null,null,null,null,null,null,null,null,null,null,null,null,null,null,null,null,null,null,null,null,null,null,null,null,null,null,null,null,null,null,null,null,null,null,null,null,null,null,null,null,null,null,null,null,null,null,null,null,null,null,null,null,null,null,null,null,null,null,null,null,null,null,null,null,null,null,null,null,null,null,null,null,null,null,null,null,null,null,null,null,null,null,null,null,null,null,null,null,null,null,null,null,null,null,null,null,null,null,null,null,null,null,null,null,null,null,null,null,null,null,null,null,null,null,null,null,null,null,null,null,null,null,null,null,null,null,null,null,null,null,null,null,null,null,null,null,null,null,null,null,null,null,null,null,null,null,null,null,null,null,null,null,null,null,null,null,null,null,null,null,null,null,null,null,null,null,null,null,null,null,null,null,null,null,null,null,null,null,null,null,null,null,null,null,null,null,null,null,null,null,null,null,null,null,null,null,null,null,null,null,null,null,null,null,null,null,null,null,null,null,null,null,null,null,null,null,null,null,null,null,null,null,null,null,null,null,null,null,null,null,null,null,null,null,null,null,null,null,null,null,null,null,null,null,null,null,null,null,null,null,null,null,null,null,null,null,null,null,null,null,null,null,null,null,null,null,null,null,null,null,null,null,null,null,null,null,null,null,null,null,null,null,null,null,null,null,null,null,null,null,null,null,null,null,null,null,null,null,null,null,null,null,null,null,null,null,null,null,null,null,null,null,null,null,null,null,null,null,null,null,null,null,null,null,null,null,301,"Simulacrum","LEVEL 7",7,"Simulacrum ",{"$f":"\"\"","v":""},"",{"$f":"IF(OR(TK303=Spellcasting!$AC$18,TK303=Spellcasting!$AC$19),\"ᵐ\",\"\")","v":""},{"$f":"IF(OR(TK303=Spellcasting!$AC$20,TK303=Spellcasting!$AC$21),\"ˢ\",\"\")","v":""},{"$f":"\"\"","v":""},"12 hrs","touch","dispelled","VSM","snow or ice in quantities sufficient to made a life-size copy of the duplicated creature; some hair, fingernail clippings, or other piece of that creature’s body placed inside the snow or ice; and powdered ruby worth 1,500 gp, sprinkled over the duplicate and consumed by the spell","illusion","illus","You shape an illusory duplicate of one beast or humanoid that is within range for the entire casting time of the spell. The duplicate is a creature, partially real and formed from ice or snow, and it can take actions and otherwise be affected as a normal creature. It appears to be the same as the original, but it has half the creature’s hit point maximum and is formed without any equipment. Otherwise, the illusion uses all the statistics of the creature it duplicates. \n\nThe simulacrum is friendly to you and creatures you designate. It obeys your spoken commands, moving and acting in accordance with your wishes and acting on your turn in combat. The simulacrum lacks the ability to learn or become more powerful, so it never increases its level or other abilities, nor can it regain expended spell slots.\n\nIf the simulacrum is damaged, you can repair it in an alchemical laboratory, using rare herbs and minerals worth 100 gp per hit point it regains. The simulacrum lasts until it drops to 0 hit points, at which point it reverts to snow and melts instantly. \n\nIf you cast this spell again, any currently active duplicates you created with this spell are instantly destroyed.","shape illusory duplicate of one beast or humanoid",null,null,null,null,null,null,null,null,null,{"$f":"IF(UL$1>=$TM303,1,\"0\")","v":"0"},null,null,null,null,null,null,null,null,null,null,null,null,null,null,null,null,null,null,null,null,null,null,null,null,null,null,null,null,null,null,null,null,null,null,null,null,null,null,null,null,null,null,null,{"$f":"IF(SUM($VZ$1:$WC$1)>0,IF(AND(SUM($VZ303:$WC303)>0,$TM303=WE$1),MAX(WD$2:WD302)+1,\"\"),IF(AND(SUM($UC303:$VY303)>0,$TM303=WE$1),MAX(WD$2:WD302)+1,\"\"))","v":""},"",{"$f":"IF(AND(SUM($UB303:$VY303)>0,$TM303=WG$1),MAX(WF$2:WF302)+1,\"\")","v":""},"",{"$f":"IF(AND(SUM($UB303:$VY303)>0,$TM303=WI$1),MAX(WH$2:WH302)+1,\"\")","v":""},"",{"$f":"IF(AND(SUM($UB303:$VY303)>0,$TM303=WK$1),MAX(WJ$2:WJ302)+1,\"\")","v":""},"",{"$f":"IF(AND(SUM($UB303:$VY303)>0,$TM303=WM$1),MAX(WL$2:WL302)+1,\"\")","v":""},"",{"$f":"IF(AND(SUM($UB303:$VY303)>0,$TM303=WO$1),MAX(WN$2:WN302)+1,\"\")","v":""},"",{"$f":"IF(AND(SUM($UB303:$VY303)>0,$TM303=WQ$1),MAX(WP$2:WP302)+1,\"\")","v":""},"",{"$f":"IF(AND(SUM($UB303:$VY303)>0,$TM303=WS$1),MAX(WR$2:WR302)+1,\"\")","v":""},"",{"$f":"IF(AND(SUM($UB303:$VY303)>0,$TM303=WU$1),MAX(WT$2:WT302)+1,\"\")","v":""},"",{"$f":"IF(AND(SUM($UB303:$VY303)>0,$TM303=WW$1),MAX(WV$2:WV302)+1,\"\")","v":""},"",{"$f":"IF(AND(SUM($UB303:$VY303)>0,$TM303=WY$1),MAX(WX$2:WX302)+1,\"\")","v":""},""]
[null,null,null,null,null,null,null,null,null,null,null,null,null,null,null,null,null,null,null,null,null,null,null,null,null,null,null,null,null,null,null,null,null,null,null,null,null,null,null,null,null,null,null,null,null,null,null,null,null,null,null,null,null,null,null,null,null,null,null,null,null,null,null,null,null,null,null,null,null,null,null,null,null,null,null,null,null,null,null,null,null,null,null,null,null,null,null,null,null,null,null,null,null,null,null,null,null,null,null,null,null,null,null,null,null,null,null,null,null,null,null,null,null,null,null,null,null,null,null,null,null,null,null,null,null,null,null,null,null,null,null,null,null,null,null,null,null,null,null,null,null,null,null,null,null,null,null,null,null,null,null,null,null,null,null,null,null,null,null,null,null,null,null,null,null,null,null,null,null,null,null,null,null,null,null,null,null,null,null,null,null,null,null,null,null,null,null,null,null,null,null,null,null,null,null,null,null,null,null,null,null,null,null,null,null,null,null,null,null,null,null,null,null,null,null,null,null,null,null,null,null,null,null,null,null,null,null,null,null,null,null,null,null,null,null,null,null,null,null,null,null,null,null,null,null,null,null,null,null,null,null,null,null,null,null,null,null,null,null,null,null,null,null,null,null,null,null,null,null,null,null,null,null,null,null,null,null,null,null,null,null,null,null,null,null,null,null,null,null,null,null,null,null,null,null,null,null,null,null,null,null,null,null,null,null,null,null,null,null,null,null,null,null,null,null,null,null,null,null,null,null,null,null,null,null,null,null,null,null,null,null,null,null,null,null,null,null,null,null,null,null,null,null,null,null,null,null,null,null,null,null,null,null,null,null,null,null,null,null,null,null,null,null,null,null,null,null,null,null,null,null,null,null,null,null,null,null,null,null,null,null,null,null,null,null,null,null,null,null,null,null,null,null,null,null,null,null,null,null,null,null,null,null,null,null,null,null,null,null,null,null,null,null,null,null,null,null,null,null,null,null,null,null,null,null,null,null,null,null,null,null,null,null,null,null,null,null,null,null,null,null,null,null,null,null,null,null,null,null,null,null,null,null,null,null,null,null,null,null,null,null,null,null,null,null,null,null,null,null,null,null,null,null,null,null,null,null,null,null,null,null,null,null,null,null,null,null,null,null,null,null,null,null,null,null,null,null,null,null,null,null,null,null,null,null,null,null,null,null,null,null,null,null,null,null,null,null,null,null,null,null,null,null,null,null,null,null,null,null,308,"Speak with Plants","LEVEL 3",3,"Speak with Plants ",{"$f":"\"\"","v":""},"",{"$f":"IF(OR(TK310=Spellcasting!$AC$18,TK310=Spellcasting!$AC$19),\"ᵐ\",\"\")","v":""},{"$f":"IF(OR(TK310=Spellcasting!$AC$20,TK310=Spellcasting!$AC$21),\"ˢ\",\"\")","v":""},{"$f":"\"\"","v":""},"1 act","self","10 min","VS",null,"transmutation","trans","You imbue plants within 30 feet of you with limited sentience and animation, giving them the ability to communicate with you and follow your simple commands. You can question plants about events in the spell’s area within the past day, gaining information about creatures that have passed, weather, and other circumstances. \n\nYou can also turn difficult terrain caused by plant growth (such as thickets and undergrowth) into ordinary terrain that lasts for the duration. Or you can turn ordinary terrain where plants are present into difficult terrain that lasts for the duration, causing vines and branches to hinder pursuers, for example. \n\nPlants might be able to perform other tasks on your behalf, at the DM’s discretion. The spell doesn’t enable plants to uproot themselves and move about, but they can freely move branches, tendrils, and stalks. \n\nIf a plant creature is in the area, you can communicate with it as if you shared a common language, but you gain no magical ability to influence it. \n\nThis spell can cause the plants created by the entangle spell to release a restrained creature.","30ft rad, simple commands & questions to plants",{"$f":"IF(UC$1>=$TM310,1,\"0\")","v":"0"},null,null,null,null,null,{"$f":"IF(UI$1>=$TM310,1,\"0\")","v":"0"},null,null,null,null,null,null,null,null,null,null,null,null,null,null,null,null,null,null,null,null,null,null,null,null,null,null,null,null,null,null,null,null,null,null,null,null,null,null,null,null,null,null,null,null,null,null,{"$f":"IF(SUM($VZ$1:$WC$1)>0,IF(AND(SUM($VZ310:$WC310)>0,$TM310=WE$1),MAX(WD$2:WD309)+1,\"\"),IF(AND(SUM($UC310:$VY310)>0,$TM310=WE$1),MAX(WD$2:WD309)+1,\"\"))","v":""},"",{"$f":"IF(AND(SUM($UB310:$VY310)>0,$TM310=WG$1),MAX(WF$2:WF309)+1,\"\")","v":""},"",{"$f":"IF(AND(SUM($UB310:$VY310)>0,$TM310=WI$1),MAX(WH$2:WH309)+1,\"\")","v":""},"",{"$f":"IF(AND(SUM($UB310:$VY310)>0,$TM310=WK$1),MAX(WJ$2:WJ309)+1,\"\")","v":""},"",{"$f":"IF(AND(SUM($UB310:$VY310)>0,$TM310=WM$1),MAX(WL$2:WL309)+1,\"\")","v":""},"",{"$f":"IF(AND(SUM($UB310:$VY310)>0,$TM310=WO$1),MAX(WN$2:WN309)+1,\"\")","v":""},"",{"$f":"IF(AND(SUM($UB310:$VY310)>0,$TM310=WQ$1),MAX(WP$2:WP309)+1,\"\")","v":""},"",{"$f":"IF(AND(SUM($UB310:$VY310)>0,$TM310=WS$1),MAX(WR$2:WR309)+1,\"\")","v":""},"",{"$f":"IF(AND(SUM($UB310:$VY310)>0,$TM310=WU$1),MAX(WT$2:WT309)+1,\"\")","v":""},"",{"$f":"IF(AND(SUM($UB310:$VY310)>0,$TM310=WW$1),MAX(WV$2:WV309)+1,\"\")","v":""},"",{"$f":"IF(AND(SUM($UB310:$VY310)>0,$TM310=WY$1),MAX(WX$2:WX309)+1,\"\")","v":""},""]
[null,null,null,null,null,null,null,null,null,null,null,null,null,null,null,null,null,null,null,null,null,null,null,null,null,null,null,null,null,null,null,null,null,null,null,null,null,null,null,null,null,null,null,null,null,null,null,null,null,null,null,null,null,null,null,null,null,null,null,null,null,null,null,null,null,null,null,null,null,null,null,null,null,null,null,null,null,null,null,null,null,null,null,null,null,null,null,null,null,null,null,null,null,null,null,null,null,null,null,null,null,null,null,null,null,null,null,null,null,null,null,null,null,null,null,null,null,null,null,null,null,null,null,null,null,null,null,null,null,null,null,null,null,null,null,null,null,null,null,null,null,null,null,null,null,null,null,null,null,null,null,null,null,null,null,null,null,null,null,null,null,null,null,null,null,null,null,null,null,null,null,null,null,null,null,null,null,null,null,null,null,null,null,null,null,null,null,null,null,null,null,null,null,null,null,null,null,null,null,null,null,null,null,null,null,null,null,null,null,null,null,null,null,null,null,null,null,null,null,null,null,null,null,null,null,null,null,null,null,null,null,null,null,null,null,null,null,null,null,null,null,null,null,null,null,null,null,null,null,null,null,null,null,null,null,null,null,null,null,null,null,null,null,null,null,null,null,null,null,null,null,null,null,null,null,null,null,null,null,null,null,null,null,null,null,null,null,null,null,null,null,null,null,null,null,null,null,null,null,null,null,null,null,null,null,null,null,null,null,null,null,null,null,null,null,null,null,null,null,null,null,null,null,null,null,null,null,null,null,null,null,null,null,null,null,null,null,null,null,null,null,null,null,null,null,null,null,null,null,null,null,null,null,null,null,null,null,null,null,null,null,null,null,null,null,null,null,null,null,null,null,null,null,null,null,null,null,null,null,null,null,null,null,null,null,null,null,null,null,null,null,null,null,null,null,null,null,null,null,null,null,null,null,null,null,null,null,null,null,null,null,null,null,null,null,null,null,null,null,null,null,null,null,null,null,null,null,null,null,null,null,null,null,null,null,null,null,null,null,null,null,null,null,null,null,null,null,null,null,null,null,null,null,null,null,null,null,null,null,null,null,null,null,null,null,null,null,null,null,null,null,null,null,null,null,null,null,null,null,null,null,null,null,null,null,null,null,null,null,null,null,null,null,null,null,null,null,null,null,null,null,null,null,null,null,null,null,null,null,null,null,null,null,null,null,null,null,null,null,null,null,null,null,null,null,null,null,null,null,311,"Spirit Guardians","LEVEL 3",3,"Spirit Guardians ᴴ ","ᴴ ","",{"$f":"IF(OR(TK313=Spellcasting!$AC$18,TK313=Spellcasting!$AC$19),\"ᵐ\",\"\")","v":""},{"$f":"IF(OR(TK313=Spellcasting!$AC$20,TK313=Spellcasting!$AC$21),\"ˢ\",\"\")","v":""},{"$f":"\"\"","v":""},"1 act","self","10 min ᶜᵒᶰ","VSM","a holy symbol","conjuration","conjur","You call forth spirits to protect you. They flit around you to a distance of 15 feet for the duration. If you are good or neutral, their spectral form appears angelic or fey (your choice). If you are evil, they appear fiendish. \n\nWhen you cast this spell, you can designate any number of creatures you can see to be unaffected by it. An affected creature’s speed is halved in the area, and when the creature enters the area for the first time on a turn or starts its turn there, it must make a Wisdom saving throw. On a failed save, the creature takes 3d8 radiant damage (if you are good or neutral) or 3d8 necrotic damage (if you are evil). On a successful save, the creature takes half as much damage. \n\nAt Higher Levels. When you cast this spell using a spell slot of 4th level or higher, the damage increases by 1d8 for each slot level above 3rd.","15ft rad, 3d8 radiant or necrotic, wis save ½",null,null,null,null,null,{"$f":"IF(UH$1>=$TM313,1,\"0\")","v":"0"},null,null,null,null,null,null,null,null,null,null,null,null,null,null,null,null,null,null,null,null,null,null,{"$f":"IF(VE$1>=$TM313,1,\"0\")","v":"0"},null,null,null,null,null,null,null,null,null,null,null,null,null,null,null,null,null,null,null,null,null,null,null,null,{"$f":"IF(SUM($VZ$1:$WC$1)>0,IF(AND(SUM($VZ313:$WC313)>0,$TM313=WE$1),MAX(WD$2:WD312)+1,\"\"),IF(AND(SUM($UC313:$VY313)>0,$TM313=WE$1),MAX(WD$2:WD312)+1,\"\"))","v":""},"",{"$f":"IF(AND(SUM($UB313:$VY313)>0,$TM313=WG$1),MAX(WF$2:WF312)+1,\"\")","v":""},"",{"$f":"IF(AND(SUM($UB313:$VY313)>0,$TM313=WI$1),MAX(WH$2:WH312)+1,\"\")","v":""},"",{"$f":"IF(AND(SUM($UB313:$VY313)>0,$TM313=WK$1),MAX(WJ$2:WJ312)+1,\"\")","v":""},"",{"$f":"IF(AND(SUM($UB313:$VY313)>0,$TM313=WM$1),MAX(WL$2:WL312)+1,\"\")","v":""},"",{"$f":"IF(AND(SUM($UB313:$VY313)>0,$TM313=WO$1),MAX(WN$2:WN312)+1,\"\")","v":""},"",{"$f":"IF(AND(SUM($UB313:$VY313)>0,$TM313=WQ$1),MAX(WP$2:WP312)+1,\"\")","v":""},"",{"$f":"IF(AND(SUM($UB313:$VY313)>0,$TM313=WS$1),MAX(WR$2:WR312)+1,\"\")","v":""},"",{"$f":"IF(AND(SUM($UB313:$VY313)>0,$TM313=WU$1),MAX(WT$2:WT312)+1,\"\")","v":""},"",{"$f":"IF(AND(SUM($UB313:$VY313)>0,$TM313=WW$1),MAX(WV$2:WV312)+1,\"\")","v":""},"",{"$f":"IF(AND(SUM($UB313:$VY313)>0,$TM313=WY$1),MAX(WX$2:WX312)+1,\"\")","v":""},""]
[null,null,null,null,null,null,null,null,null,null,null,null,null,null,null,null,null,null,null,null,null,null,null,null,null,null,null,null,null,null,null,null,null,null,null,null,null,null,null,null,null,null,null,null,null,null,null,null,null,null,null,null,null,null,null,null,null,null,null,null,null,null,null,null,null,null,null,null,null,null,null,null,null,null,null,null,null,null,null,null,null,null,null,null,null,null,null,null,null,null,null,null,null,null,null,null,null,null,null,null,null,null,null,null,null,null,null,null,null,null,null,null,null,null,null,null,null,null,null,null,null,null,null,null,null,null,null,null,null,null,null,null,null,null,null,null,null,null,null,null,null,null,null,null,null,null,null,null,null,null,null,null,null,null,null,null,null,null,null,null,null,null,null,null,null,null,null,null,null,null,null,null,null,null,null,null,null,null,null,null,null,null,null,null,null,null,null,null,null,null,null,null,null,null,null,null,null,null,null,null,null,null,null,null,null,null,null,null,null,null,null,null,null,null,null,null,null,null,null,null,null,null,null,null,null,null,null,null,null,null,null,null,null,null,null,null,null,null,null,null,null,null,null,null,null,null,null,null,null,null,null,null,null,null,null,null,null,null,null,null,null,null,null,null,null,null,null,null,null,null,null,null,null,null,null,null,null,null,null,null,null,null,null,null,null,null,null,null,null,null,null,null,null,null,null,null,null,null,null,null,null,null,null,null,null,null,null,null,null,null,null,null,null,null,null,null,null,null,null,null,null,null,null,null,null,null,null,null,null,null,null,null,null,null,null,null,null,null,null,null,null,null,null,null,null,null,null,null,null,null,null,null,null,null,null,null,null,null,null,null,null,null,null,null,null,null,null,null,null,null,null,null,null,null,null,null,null,null,null,null,null,null,null,null,null,null,null,null,null,null,null,null,null,null,null,null,null,null,null,null,null,null,null,null,null,null,null,null,null,null,null,null,null,null,null,null,null,null,null,null,null,null,null,null,null,null,null,null,null,null,null,null,null,null,null,null,null,null,null,null,null,null,null,null,null,null,null,null,null,null,null,null,null,null,null,null,null,null,null,null,null,null,null,null,null,null,null,null,null,null,null,null,null,null,null,null,null,null,null,null,null,null,null,null,null,null,null,null,null,null,null,null,null,null,null,null,null,null,null,null,null,null,null,null,null,null,null,null,null,null,null,null,null,null,null,null,null,null,null,null,null,null,null,null,null,null,null,null,null,317,"Storm of Vengeance","LEVEL 9",9,"Storm of Vengeance ",{"$f":"\"\"","v":""},"",{"$f":"IF(OR(TK319=Spellcasting!$AC$18,TK319=Spellcasting!$AC$19),\"ᵐ\",\"\")","v":""},{"$f":"IF(OR(TK319=Spellcasting!$AC$20,TK319=Spellcasting!$AC$21),\"ˢ\",\"\")","v":""},{"$f":"\"\"","v":""},"1 act","sight","1 min ᶜᵒᶰ","VS",{"$f":"\"\"","v":""},"conjuration","conjur","A churning storm cloud forms, centered on a point you can see and spreading to a radius of 360 feet. Lightning flashes in the area, thunder booms, and strong winds roar. Each creature under the cloud (no more than 5,000 feet beneath the cloud) when it appears must make a Constitution saving throw. On a failed save, a creature takes 2d6 thunder damage and becomes deafened for 5 minutes. \n\nEach round you maintain concentration on this spell, the storm produces additional effects on your turn. \n\nRound 2. Acidic rain falls from the cloud. Each creature and object under the cloud takes 1d6 acid damage. \nRound 3. You call six bolts of lightning from the cloud to strike six creatures or objects of your choice beneath the cloud. A given creature or object can’t be struck by more than one bolt. A struck creature must make a Dexterity saving throw. The creature takes 10d6 lightning damage on a failed save, or half as much damage on a successful one. \nRound 4. Hailstones rain down from the cloud. Each creature under the cloud takes 2d6 bludgeoning damage. \nRound 5-10. Gusts and freezing rain assail the area under the cloud. The area becomes difficult terrain and is heavily obscured. Each creature there takes 1d6 cold damage. Ranged weapon attacks in the area are impossible. The wind and rain count as a severe distraction for the purposes of maintaining concentration on spells. Finally, gusts of strong wind (ranging from 20 to 50 miles per hour) automatically disperse fog, mists, and similar phenomena in the area, whether mundane or magical.","360ft rad, rounds 1-10 different effect",null,null,null,null,null,null,{"$f":"IF(UI$1>=$TM319,1,\"0\")","v":"0"},null,null,null,null,null,null,null,null,null,null,null,null,null,null,null,null,null,null,null,null,null,null,null,null,null,null,null,null,null,null,null,null,null,null,null,null,null,null,null,null,null,null,null,null,null,null,{"$f":"IF(SUM($VZ$1:$WC$1)>0,IF(AND(SUM($VZ319:$WC319)>0,$TM319=WE$1),MAX(WD$2:WD318)+1,\"\"),IF(AND(SUM($UC319:$VY319)>0,$TM319=WE$1),MAX(WD$2:WD318)+1,\"\"))","v":""},"",{"$f":"IF(AND(SUM($UB319:$VY319)>0,$TM319=WG$1),MAX(WF$2:WF318)+1,\"\")","v":""},"",{"$f":"IF(AND(SUM($UB319:$VY319)>0,$TM319=WI$1),MAX(WH$2:WH318)+1,\"\")","v":""},"",{"$f":"IF(AND(SUM($UB319:$VY319)>0,$TM319=WK$1),MAX(WJ$2:WJ318)+1,\"\")","v":""},"",{"$f":"IF(AND(SUM($UB319:$VY319)>0,$TM319=WM$1),MAX(WL$2:WL318)+1,\"\")","v":""},"",{"$f":"IF(AND(SUM($UB319:$VY319)>0,$TM319=WO$1),MAX(WN$2:WN318)+1,\"\")","v":""},"",{"$f":"IF(AND(SUM($UB319:$VY319)>0,$TM319=WQ$1),MAX(WP$2:WP318)+1,\"\")","v":""},"",{"$f":"IF(AND(SUM($UB319:$VY319)>0,$TM319=WS$1),MAX(WR$2:WR318)+1,\"\")","v":""},"",{"$f":"IF(AND(SUM($UB319:$VY319)>0,$TM319=WU$1),MAX(WT$2:WT318)+1,\"\")","v":""},"",{"$f":"IF(AND(SUM($UB319:$VY319)>0,$TM319=WW$1),MAX(WV$2:WV318)+1,\"\")","v":""},"",{"$f":"IF(AND(SUM($UB319:$VY319)>0,$TM319=WY$1),MAX(WX$2:WX318)+1,\"\")","v":""},""]
[null,null,null,null,null,null,null,null,null,null,null,null,null,null,null,null,null,null,null,null,null,null,null,null,null,null,null,null,null,null,null,null,null,null,null,null,null,null,null,null,null,null,null,null,null,null,null,null,null,null,null,null,null,null,null,null,null,null,null,null,null,null,null,null,null,null,null,null,null,null,null,null,null,null,null,null,null,null,null,null,null,null,null,null,null,null,null,null,null,null,null,null,null,null,null,null,null,null,null,null,null,null,null,null,null,null,null,null,null,null,null,null,null,null,null,null,null,null,null,null,null,null,null,null,null,null,null,null,null,null,null,null,null,null,null,null,null,null,null,null,null,null,null,null,null,null,null,null,null,null,null,null,null,null,null,null,null,null,null,null,null,null,null,null,null,null,null,null,null,null,null,null,null,null,null,null,null,null,null,null,null,null,null,null,null,null,null,null,null,null,null,null,null,null,null,null,null,null,null,null,null,null,null,null,null,null,null,null,null,null,null,null,null,null,null,null,null,null,null,null,null,null,null,null,null,null,null,null,null,null,null,null,null,null,null,null,null,null,null,null,null,null,null,null,null,null,null,null,null,null,null,null,null,null,null,null,null,null,null,null,null,null,null,null,null,null,null,null,null,null,null,null,null,null,null,null,null,null,null,null,null,null,null,null,null,null,null,null,null,null,null,null,null,null,null,null,null,null,null,null,null,null,null,null,null,null,null,null,null,null,null,null,null,null,null,null,null,null,null,null,null,null,null,null,null,null,null,null,null,null,null,null,null,null,null,null,null,null,null,null,null,null,null,null,null,null,null,null,null,null,null,null,null,null,null,null,null,null,null,null,null,null,null,null,null,null,null,null,null,null,null,null,null,null,null,null,null,null,null,null,null,null,null,null,null,null,null,null,null,null,null,null,null,null,null,null,null,null,null,null,null,null,null,null,null,null,null,null,null,null,null,null,null,null,null,null,null,null,null,null,null,null,null,null,null,null,null,null,null,null,null,null,null,null,null,null,null,null,null,null,null,null,null,null,null,null,null,null,null,null,null,null,null,null,null,null,null,null,null,null,null,null,null,null,null,null,null,null,null,null,null,null,null,null,null,null,null,null,null,null,null,null,null,null,null,null,null,null,null,null,null,null,null,null,null,null,null,null,null,null,null,null,null,null,null,null,null,null,null,null,null,null,null,null,null,null,null,null,null,null,null,null,null,null,null,null,null,null,null,321,"Swift Quiver","LEVEL 5",5,{"$f":"TK323&\" \"&TO323&TP323&TQ323&TR323","v":"Swift Quiver "},{"$f":"\"\"","v":""},{"$f":"IF(SUM(UY323:VE323)>0,\"ᵈ\",\"\")&IF(SUM(UO323:UQ323)>0,\"ᵒ\",\"\")&IF(SUM(VG323:VO323)>0,\"ᶜ\",\"\")","v":""},{"$f":"IF(OR(TK323=Spellcasting!$AC$18,TK323=Spellcasting!$AC$19),\"ᵐ\",\"\")","v":""},{"$f":"IF(OR(TK323=Spellcasting!$AC$20,TK323=Spellcasting!$AC$21),\"ˢ\",\"\")","v":""},{"$f":"\"\"","v":""},"1 bon","self","1 min ᶜᵒᶰ","VM",{"$f":"\"\"","v":""},"transmutation","trans","You transmute your quiver so it produces an endless supply of nonmagical ammunition, which seems to leap into your hand when you reach for it. \n\nOn each of your turns until the spell ends, you can use a bonus action to make two attacks with a weapon that uses ammunition from the quiver. Each time you make such a ranged attack, your quiver magically replaces the piece of ammunition you used with a similar piece of nonmagical ammunition. Any pieces of ammunition created by this spell disintegrate when the spell ends. If the quiver leaves your possession, the spell ends","bonus action make 2 attacks from quiver",null,null,{"$f":"IF(UE$1>=$TM323,1,\"0\")","v":"0"},null,null,null,null,null,null,null,null,null,null,null,null,null,null,null,null,null,null,null,null,null,null,null,null,null,null,null,null,null,null,null,null,null,null,null,null,null,null,null,null,null,null,null,null,null,null,null,null,null,null,{"$f":"IF(SUM($VZ$1:$WC$1)>0,IF(AND(SUM($VZ323:$WC323)>0,$TM323=WE$1),MAX(WD$2:WD322)+1,\"\"),IF(AND(SUM($UC323:$VY323)>0,$TM323=WE$1),MAX(WD$2:WD322)+1,\"\"))","v":""},"",{"$f":"IF(AND(SUM($UB323:$VY323)>0,$TM323=WG$1),MAX(WF$2:WF322)+1,\"\")","v":""},"",{"$f":"IF(AND(SUM($UB323:$VY323)>0,$TM323=WI$1),MAX(WH$2:WH322)+1,\"\")","v":""},"",{"$f":"IF(AND(SUM($UB323:$VY323)>0,$TM323=WK$1),MAX(WJ$2:WJ322)+1,\"\")","v":""},"",{"$f":"IF(AND(SUM($UB323:$VY323)>0,$TM323=WM$1),MAX(WL$2:WL322)+1,\"\")","v":""},"",{"$f":"IF(AND(SUM($UB323:$VY323)>0,$TM323=WO$1),MAX(WN$2:WN322)+1,\"\")","v":""},"",{"$f":"IF(AND(SUM($UB323:$VY323)>0,$TM323=WQ$1),MAX(WP$2:WP322)+1,\"\")","v":""},"",{"$f":"IF(AND(SUM($UB323:$VY323)>0,$TM323=WS$1),MAX(WR$2:WR322)+1,\"\")","v":""},"",{"$f":"IF(AND(SUM($UB323:$VY323)>0,$TM323=WU$1),MAX(WT$2:WT322)+1,\"\")","v":""},"",{"$f":"IF(AND(SUM($UB323:$VY323)>0,$TM323=WW$1),MAX(WV$2:WV322)+1,\"\")","v":""},"",{"$f":"IF(AND(SUM($UB323:$VY323)>0,$TM323=WY$1),MAX(WX$2:WX322)+1,\"\")","v":""},""]
[null,null,null,null,null,null,null,null,null,null,null,null,null,null,null,null,null,null,null,null,null,null,null,null,null,null,null,null,null,null,null,null,null,null,null,null,null,null,null,null,null,null,null,null,null,null,null,null,null,null,null,null,null,null,null,null,null,null,null,null,null,null,null,null,null,null,null,null,null,null,null,null,null,null,null,null,null,null,null,null,null,null,null,null,null,null,null,null,null,null,null,null,null,null,null,null,null,null,null,null,null,null,null,null,null,null,null,null,null,null,null,null,null,null,null,null,null,null,null,null,null,null,null,null,null,null,null,null,null,null,null,null,null,null,null,null,null,null,null,null,null,null,null,null,null,null,null,null,null,null,null,null,null,null,null,null,null,null,null,null,null,null,null,null,null,null,null,null,null,null,null,null,null,null,null,null,null,null,null,null,null,null,null,null,null,null,null,null,null,null,null,null,null,null,null,null,null,null,null,null,null,null,null,null,null,null,null,null,null,null,null,null,null,null,null,null,null,null,null,null,null,null,null,null,null,null,null,null,null,null,null,null,null,null,null,null,null,null,null,null,null,null,null,null,null,null,null,null,null,null,null,null,null,null,null,null,null,null,null,null,null,null,null,null,null,null,null,null,null,null,null,null,null,null,null,null,null,null,null,null,null,null,null,null,null,null,null,null,null,null,null,null,null,null,null,null,null,null,null,null,null,null,null,null,null,null,null,null,null,null,null,null,null,null,null,null,null,null,null,null,null,null,null,null,null,null,null,null,null,null,null,null,null,null,null,null,null,null,null,null,null,null,null,null,null,null,null,null,null,null,null,null,null,null,null,null,null,null,null,null,null,null,null,null,null,null,null,null,null,null,null,null,null,null,null,null,null,null,null,null,null,null,null,null,null,null,null,null,null,null,null,null,null,null,null,null,null,null,null,null,null,null,null,null,null,null,null,null,null,null,null,null,null,null,null,null,null,null,null,null,null,null,null,null,null,null,null,null,null,null,null,null,null,null,null,null,null,null,null,null,null,null,null,null,null,null,null,null,null,null,null,null,null,null,null,null,null,null,null,null,null,null,null,null,null,null,null,null,null,null,null,null,null,null,null,null,null,null,null,null,null,null,null,null,null,null,null,null,null,null,null,null,null,null,null,null,null,null,null,null,null,null,null,null,null,null,null,null,null,null,null,null,null,null,null,null,null,null,null,null,null,null,null,null,null,null,null,null,null,326,"Teleport","LEVEL 7",7,"Teleport ",{"$f":"\"\"","v":""},"",{"$f":"IF(OR(TK328=Spellcasting!$AC$18,TK328=Spellcasting!$AC$19),\"ᵐ\",\"\")","v":""},{"$f":"IF(OR(TK328=Spellcasting!$AC$20,TK328=Spellcasting!$AC$21),\"ˢ\",\"\")","v":""},{"$f":"\"\"","v":""},"1 act","10 ft","instant","V",{"$f":"\"\"","v":""},"conjuration","conjur","This spell instantly transports you and up to eight willing creatures of your choice that you can see within range, or a single object that you can see within range, to a destination you select. If you target an object, it must be able to fit entirely inside a 10-foot cube, and it can’t be held or carried by an unwilling creature. \n\nThe destination you choose must be known to you, and it must be on the same plane of existence as you. Your familiarity with the destination determines whether you arrive there successfully. The DM rolls d100 and consults the table.\n\nFamiliarity                      Mishap         Similar             Off                     On \n                                                                 Area             Target              Target \nPermanent circle                —                 —                —                   01-100\nAssociated object               —                 —                —                   01-100 \nVery familiar                    01-05            06-13           14-24              25-100 \nSeen casually                 01-33            34-43           44-53              54-100 \nViewed once                   01-43            44-53           54-73              74-100 \nDescription                      01-43            44-53           54-73              74-100 \nFalse destination            01-50            51-100            —                    —\n\nFamiliarity. \n  “Permanent circle” means a permanent teleportation circle whose sigil sequence you know. \n  “Associated object” means that you possess an object taken from the desired destination within the last six months, \n    such as a book from a wizard’s library, bed linen from a royal suite, or a chunk of marble from a lich’s secret tomb. \n  “Very familiar” is a place you have been very often, a place you have carefully studied, or a place you can see when you cast the spell. \n  “Seen casually” is someplace you have seen more than once but with which you aren’t very familiar. \n  “Viewed once” is a place you have seen once, possibly using magic. \n  “Description” is a place whose location and appearance you know through someone else’s description, perhaps from a map. \n  “False destination” is a place that doesn’t exist. Perhaps you tried to scry an enemy’s sanctum but instead viewed an illusion, \n    or you are attempting to teleport to a familiar location that no longer exists. \nOn Target. You and your group (or the target object) appear where you want to. \nOff Target. You and your group (or the target object) appear a random distance away from the destination in a random direction. Distance off target is 1d10 x 1d10 percent of the distance that was to be traveled. For example, if you tried to travel 120 miles, landed off target, and rolled a 5 and 3 on the two d 10s, then you would be off target by 15 percent, or 18 miles. The DM determines the direction off target randomly by rolling a d8 and designating 1 as north, 2 as northeast, 3 as east, and so on around the points of the compass. If you were teleporting to a coastal city and wound up 18 miles out at sea, you could be in trouble. \nSimilar Area. You and your group (or the target object) wind up in a different area that’s visually or thematically similar to the target area. If you are heading for your home laboratory, for example, you might wind up in another wizard’s laboratory or in an alchemical supply shop that has many of the same tools and implements as your laboratory. Generally, you appear in the closest similar place, but since the spell has no range limit, you could conceivably wind up anywhere on the plane. \nMishap. The spell’s unpredictable magic results in a difficult journey. Each teleporting creature (or the target object) takes 3d10 force damage, and the DM rerolls on the table to see where you wind up (multiple mishaps can occur, dealing damage each time).\n","instantly transport you and up to 8 others",{"$f":"IF(UC$1>=$TM328,1,\"0\")","v":"0"},null,null,{"$f":"IF(UF$1>=$TM328,1,\"0\")","v":"0"},null,null,null,null,null,"0",null,null,null,null,null,null,null,null,null,null,null,null,null,null,null,null,null,null,null,null,null,null,null,null,null,null,null,null,null,null,null,null,null,null,null,null,null,null,null,null,null,null,null,{"$f":"IF(SUM($VZ$1:$WC$1)>0,IF(AND(SUM($VZ328:$WC328)>0,$TM328=WE$1),MAX(WD$2:WD327)+1,\"\"),IF(AND(SUM($UC328:$VY328)>0,$TM328=WE$1),MAX(WD$2:WD327)+1,\"\"))","v":""},"",{"$f":"IF(AND(SUM($UB328:$VY328)>0,$TM328=WG$1),MAX(WF$2:WF327)+1,\"\")","v":""},"",{"$f":"IF(AND(SUM($UB328:$VY328)>0,$TM328=WI$1),MAX(WH$2:WH327)+1,\"\")","v":""},"",{"$f":"IF(AND(SUM($UB328:$VY328)>0,$TM328=WK$1),MAX(WJ$2:WJ327)+1,\"\")","v":""},"",{"$f":"IF(AND(SUM($UB328:$VY328)>0,$TM328=WM$1),MAX(WL$2:WL327)+1,\"\")","v":""},"",{"$f":"IF(AND(SUM($UB328:$VY328)>0,$TM328=WO$1),MAX(WN$2:WN327)+1,\"\")","v":""},"",{"$f":"IF(AND(SUM($UB328:$VY328)>0,$TM328=WQ$1),MAX(WP$2:WP327)+1,\"\")","v":""},"",{"$f":"IF(AND(SUM($UB328:$VY328)>0,$TM328=WS$1),MAX(WR$2:WR327)+1,\"\")","v":""},"",{"$f":"IF(AND(SUM($UB328:$VY328)>0,$TM328=WU$1),MAX(WT$2:WT327)+1,\"\")","v":""},"",{"$f":"IF(AND(SUM($UB328:$VY328)>0,$TM328=WW$1),MAX(WV$2:WV327)+1,\"\")","v":""},"",{"$f":"IF(AND(SUM($UB328:$VY328)>0,$TM328=WY$1),MAX(WX$2:WX327)+1,\"\")","v":""},""]
[null,null,null,null,null,null,null,null,null,null,null,null,null,null,null,null,null,null,null,null,null,null,null,null,null,null,null,null,null,null,null,null,null,null,null,null,null,null,null,null,null,null,null,null,null,null,null,null,null,null,null,null,null,null,null,null,null,null,null,null,null,null,null,null,null,null,null,null,null,null,null,null,null,null,null,null,null,null,null,null,null,null,null,null,null,null,null,null,null,null,null,null,null,null,null,null,null,null,null,null,null,null,null,null,null,null,null,null,null,null,null,null,null,null,null,null,null,null,null,null,null,null,null,null,null,null,null,null,null,null,null,null,null,null,null,null,null,null,null,null,null,null,null,null,null,null,null,null,null,null,null,null,null,null,null,null,null,null,null,null,null,null,null,null,null,null,null,null,null,null,null,null,null,null,null,null,null,null,null,null,null,null,null,null,null,null,null,null,null,null,null,null,null,null,null,null,null,null,null,null,null,null,null,null,null,null,null,null,null,null,null,null,null,null,null,null,null,null,null,null,null,null,null,null,null,null,null,null,null,null,null,null,null,null,null,null,null,null,null,null,null,null,null,null,null,null,null,null,null,null,null,null,null,null,null,null,null,null,null,null,null,null,null,null,null,null,null,null,null,null,null,null,null,null,null,null,null,null,null,null,null,null,null,null,null,null,null,null,null,null,null,null,null,null,null,null,null,null,null,null,null,null,null,null,null,null,null,null,null,null,null,null,null,null,null,null,null,null,null,null,null,null,null,null,null,null,null,null,null,null,null,null,null,null,null,null,null,null,null,null,null,null,null,null,null,null,null,null,null,null,null,null,null,null,null,null,null,null,null,null,null,null,null,null,null,null,null,null,null,null,null,null,null,null,null,null,null,null,null,null,null,null,null,null,null,null,null,null,null,null,null,null,null,null,null,null,null,null,null,null,null,null,null,null,null,null,null,null,null,null,null,null,null,null,null,null,null,null,null,null,null,null,null,null,null,null,null,null,null,null,null,null,null,null,null,null,null,null,null,null,null,null,null,null,null,null,null,null,null,null,null,null,null,null,null,null,null,null,null,null,null,null,null,null,null,null,null,null,null,null,null,null,null,null,null,null,null,null,null,null,null,null,null,null,null,null,null,null,null,null,null,null,null,null,null,null,null,null,null,null,null,null,null,null,null,null,null,null,null,null,null,null,null,null,null,null,null,null,null,null,null,null,null,null,null,null,null,null,null,332,"Thunderwave","LEVEL 1",1,"Thunderwave ᴴ ","ᴴ ","",{"$f":"IF(OR(TK334=Spellcasting!$AC$18,TK334=Spellcasting!$AC$19),\"ᵐ\",\"\")","v":""},{"$f":"IF(OR(TK334=Spellcasting!$AC$20,TK334=Spellcasting!$AC$21),\"ˢ\",\"\")","v":""},{"$f":"\"\"","v":""},"1 act","self","instant","VS",{"$f":"\"\"","v":""},"evocation","evoc","A wave of thunderous force sweeps out from you. Each creature in a 15-foot cube originating from you must make a Constitution saving throw. On a failed save, a creature takes 2d8 thunder damage and is pushed 10 feet away from you. On a successful save, the creature takes half as much damage and isn’t pushed. \n\nIn addition, unsecured objects that are completely within the area of effect are automatically pushed 10 feet away from you by the spell’s effect, and the spell emits a thunderous boom audible out to 300 feet. \n\nAt Higher Levels. When you cast this spell using a spell slot of 2nd level or higher, the damage increases by 1d8 for each slot level above 1st.",{"$f":"\"15ft cube, 2d8\"&IF(WizardEvocationLevel>=10,\"+\"&INTMod,\"\")&\" thunder 10ft push, con save ½\"","v":"15ft cube, 2d8 thunder 10ft push, con save ½"},{"$f":"IF(UC$1>=$TM334,1,\"0\")","v":"0"},null,null,{"$f":"IF(UF$1>=$TM334,1,\"0\")","v":"0"},null,null,{"$f":"IF(UI$1>=$TM334,1,\"0\")","v":"0"},null,null,{"$f":"IF(UL$1>=$TM334,1,\"0\")","v":"0"},null,null,null,null,null,null,null,null,null,null,null,null,null,null,null,null,{"$f":"IF(VC$1>=$TM334,1,\"0\")","v":"0"},null,null,null,null,null,null,null,null,null,null,null,null,{"$f":"IF(VP$1>=$TM334,1,\"0\")","v":"0"},null,null,null,null,null,null,null,null,null,null,null,null,null,{"$f":"IF(SUM($VZ$1:$WC$1)>0,IF(AND(SUM($VZ334:$WC334)>0,$TM334=WE$1),MAX(WD$2:WD333)+1,\"\"),IF(AND(SUM($UC334:$VY334)>0,$TM334=WE$1),MAX(WD$2:WD333)+1,\"\"))","v":""},"",{"$f":"IF(AND(SUM($UB334:$VY334)>0,$TM334=WG$1),MAX(WF$2:WF333)+1,\"\")","v":""},"",{"$f":"IF(AND(SUM($UB334:$VY334)>0,$TM334=WI$1),MAX(WH$2:WH333)+1,\"\")","v":""},"",{"$f":"IF(AND(SUM($UB334:$VY334)>0,$TM334=WK$1),MAX(WJ$2:WJ333)+1,\"\")","v":""},"",{"$f":"IF(AND(SUM($UB334:$VY334)>0,$TM334=WM$1),MAX(WL$2:WL333)+1,\"\")","v":""},"",{"$f":"IF(AND(SUM($UB334:$VY334)>0,$TM334=WO$1),MAX(WN$2:WN333)+1,\"\")","v":""},"",{"$f":"IF(AND(SUM($UB334:$VY334)>0,$TM334=WQ$1),MAX(WP$2:WP333)+1,\"\")","v":""},"",{"$f":"IF(AND(SUM($UB334:$VY334)>0,$TM334=WS$1),MAX(WR$2:WR333)+1,\"\")","v":""},"",{"$f":"IF(AND(SUM($UB334:$VY334)>0,$TM334=WU$1),MAX(WT$2:WT333)+1,\"\")","v":""},"",{"$f":"IF(AND(SUM($UB334:$VY334)>0,$TM334=WW$1),MAX(WV$2:WV333)+1,\"\")","v":""},"",{"$f":"IF(AND(SUM($UB334:$VY334)>0,$TM334=WY$1),MAX(WX$2:WX333)+1,\"\")","v":""},""]
[null,null,null,null,null,null,null,null,null,null,null,null,null,null,null,null,null,null,null,null,null,null,null,null,null,null,null,null,null,null,null,null,null,null,null,null,null,null,null,null,null,null,null,null,null,null,null,null,null,null,null,null,null,null,null,null,null,null,null,null,null,null,null,null,null,null,null,null,null,null,null,null,null,null,null,null,null,null,null,null,null,null,null,null,null,null,null,null,null,null,null,null,null,null,null,null,null,null,null,null,null,null,null,null,null,null,null,null,null,null,null,null,null,null,null,null,null,null,null,null,null,null,null,null,null,null,null,null,null,null,null,null,null,null,null,null,null,null,null,null,null,null,null,null,null,null,null,null,null,null,null,null,null,null,null,null,null,null,null,null,null,null,null,null,null,null,null,null,null,null,null,null,null,null,null,null,null,null,null,null,null,null,null,null,null,null,null,null,null,null,null,null,null,null,null,null,null,null,null,null,null,null,null,null,null,null,null,null,null,null,null,null,null,null,null,null,null,null,null,null,null,null,null,null,null,null,null,null,null,null,null,null,null,null,null,null,null,null,null,null,null,null,null,null,null,null,null,null,null,null,null,null,null,null,null,null,null,null,null,null,null,null,null,null,null,null,null,null,null,null,null,null,null,null,null,null,null,null,null,null,null,null,null,null,null,null,null,null,null,null,null,null,null,null,null,null,null,null,null,null,null,null,null,null,null,null,null,null,null,null,null,null,null,null,null,null,null,null,null,null,null,null,null,null,null,null,null,null,null,null,null,null,null,null,null,null,null,null,null,null,null,null,null,null,null,null,null,null,null,null,null,null,null,null,null,null,null,null,null,null,null,null,null,null,null,null,null,null,null,null,null,null,null,null,null,null,null,null,null,null,null,null,null,null,null,null,null,null,null,null,null,null,null,null,null,null,null,null,null,null,null,null,null,null,null,null,null,null,null,null,null,null,null,null,null,null,null,null,null,null,null,null,null,null,null,null,null,null,null,null,null,null,null,null,null,null,null,null,null,null,null,null,null,null,null,null,null,null,null,null,null,null,null,null,null,null,null,null,null,null,null,null,null,null,null,null,null,null,null,null,null,null,null,null,null,null,null,null,null,null,null,null,null,null,null,null,null,null,null,null,null,null,null,null,null,null,null,null,null,null,null,null,null,null,null,null,null,null,null,null,null,null,null,null,null,null,null,null,null,null,null,null,null,null,null,null,null,null,null,{"$f":"TJ335+1","v":334},"Tongues","LEVEL 3",3,"Tongues ",{"$f":"\"\"","v":""},"",{"$f":"IF(OR(TK336=Spellcasting!$AC$18,TK336=Spellcasting!$AC$19),\"ᵐ\",\"\")","v":""},{"$f":"IF(OR(TK336=Spellcasting!$AC$20,TK336=Spellcasting!$AC$21),\"ˢ\",\"\")","v":""},{"$f":"\"\"","v":""},"1 act","touch","1 hr","VM","a small clay model of a ziggurat","divination","divin","This spell grants the creature you touch the ability to understand any spoken language it hears. Moreover, when the target speaks, any creature that knows at least one language and can hear the target understands what it says.","understand any spoken language heard",{"$f":"IF(UC$1>=$TM336,1,\"0\")","v":"0"},null,null,{"$f":"IF(UF$1>=$TM336,1,\"0\")","v":"0"},{"$f":"IF(UG$1>=$TM336,1,\"0\")","v":"0"},{"$f":"IF(UH$1>=$TM336,1,\"0\")","v":"0"},null,null,null,{"$f":"IF(UL$1>=$TM336,1,\"0\")","v":"0"},null,null,null,null,null,null,null,null,null,null,null,null,null,null,null,null,null,null,null,null,null,null,null,null,null,null,null,null,null,null,null,null,null,null,null,null,null,null,null,null,null,null,null,{"$f":"IF(SUM($VZ$1:$WC$1)>0,IF(AND(SUM($VZ336:$WC336)>0,$TM336=WE$1),MAX(WD$2:WD335)+1,\"\"),IF(AND(SUM($UC336:$VY336)>0,$TM336=WE$1),MAX(WD$2:WD335)+1,\"\"))","v":""},"",{"$f":"IF(AND(SUM($UB336:$VY336)>0,$TM336=WG$1),MAX(WF$2:WF335)+1,\"\")","v":""},"",{"$f":"IF(AND(SUM($UB336:$VY336)>0,$TM336=WI$1),MAX(WH$2:WH335)+1,\"\")","v":""},"",{"$f":"IF(AND(SUM($UB336:$VY336)>0,$TM336=WK$1),MAX(WJ$2:WJ335)+1,\"\")","v":""},"",{"$f":"IF(AND(SUM($UB336:$VY336)>0,$TM336=WM$1),MAX(WL$2:WL335)+1,\"\")","v":""},"",{"$f":"IF(AND(SUM($UB336:$VY336)>0,$TM336=WO$1),MAX(WN$2:WN335)+1,\"\")","v":""},"",{"$f":"IF(AND(SUM($UB336:$VY336)>0,$TM336=WQ$1),MAX(WP$2:WP335)+1,\"\")","v":""},"",{"$f":"IF(AND(SUM($UB336:$VY336)>0,$TM336=WS$1),MAX(WR$2:WR335)+1,\"\")","v":""},"",{"$f":"IF(AND(SUM($UB336:$VY336)>0,$TM336=WU$1),MAX(WT$2:WT335)+1,\"\")","v":""},"",{"$f":"IF(AND(SUM($UB336:$VY336)>0,$TM336=WW$1),MAX(WV$2:WV335)+1,\"\")","v":""},"",{"$f":"IF(AND(SUM($UB336:$VY336)>0,$TM336=WY$1),MAX(WX$2:WX335)+1,\"\")","v":""},""]
[null,null,null,null,null,null,null,null,null,null,null,null,null,null,null,null,null,null,null,null,null,null,null,null,null,null,null,null,null,null,null,null,null,null,null,null,null,null,null,null,null,null,null,null,null,null,null,null,null,null,null,null,null,null,null,null,null,null,null,null,null,null,null,null,null,null,null,null,null,null,null,null,null,null,null,null,null,null,null,null,null,null,null,null,null,null,null,null,null,null,null,null,null,null,null,null,null,null,null,null,null,null,null,null,null,null,null,null,null,null,null,null,null,null,null,null,null,null,null,null,null,null,null,null,null,null,null,null,null,null,null,null,null,null,null,null,null,null,null,null,null,null,null,null,null,null,null,null,null,null,null,null,null,null,null,null,null,null,null,null,null,null,null,null,null,null,null,null,null,null,null,null,null,null,null,null,null,null,null,null,null,null,null,null,null,null,null,null,null,null,null,null,null,null,null,null,null,null,null,null,null,null,null,null,null,null,null,null,null,null,null,null,null,null,null,null,null,null,null,null,null,null,null,null,null,null,null,null,null,null,null,null,null,null,null,null,null,null,null,null,null,null,null,null,null,null,null,null,null,null,null,null,null,null,null,null,null,null,null,null,null,null,null,null,null,null,null,null,null,null,null,null,null,null,null,null,null,null,null,null,null,null,null,null,null,null,null,null,null,null,null,null,null,null,null,null,null,null,null,null,null,null,null,null,null,null,null,null,null,null,null,null,null,null,null,null,null,null,null,null,null,null,null,null,null,null,null,null,null,null,null,null,null,null,null,null,null,null,null,null,null,null,null,null,null,null,null,null,null,null,null,null,null,null,null,null,null,null,null,null,null,null,null,null,null,null,null,null,null,null,null,null,null,null,null,null,null,null,null,null,null,null,null,null,null,null,null,null,null,null,null,null,null,null,null,null,null,null,null,null,null,null,null,null,null,null,null,null,null,null,null,null,null,null,null,null,null,null,null,null,null,null,null,null,null,null,null,null,null,null,null,null,null,null,null,null,null,null,null,null,null,null,null,null,null,null,null,null,null,null,null,null,null,null,null,null,null,null,null,null,null,null,null,null,null,null,null,null,null,null,null,null,null,null,null,null,null,null,null,null,null,null,null,null,null,null,null,null,null,null,null,null,null,null,null,null,null,null,null,null,null,null,null,null,null,null,null,null,null,null,null,null,null,null,null,null,null,null,null,null,null,null,null,null,null,null,null,null,null,341,"True Strike","CANTRIP",0.5,"True Strike ",{"$f":"\"\"","v":""},"",{"$f":"IF(OR(TK343=Spellcasting!$AC$18,TK343=Spellcasting!$AC$19),\"ᵐ\",\"\")","v":""},{"$f":"IF(OR(TK343=Spellcasting!$AC$20,TK343=Spellcasting!$AC$21),\"ˢ\",\"\")","v":""},{"$f":"\"\"","v":""},"1 act","30 ft","1 rnd ᶜᵒᶰ","S",{"$f":"\"\"","v":""},"divination","divin","You extend your hand and point a finger at a target in range. Your magic grants you a brief insight into the target’s defenses. On your next turn, you gain advantage on your first attack roll against the target, provided that this spell hasn’t ended.","on next turn, advantage on first attack",{"$f":"IF(UC$1>=$TM343,1,\"0\")","v":"0"},null,null,{"$f":"IF(UF$1>=$TM343,1,\"0\")","v":"0"},{"$f":"IF(UG$1>=$TM343,1,\"0\")","v":"0"},null,null,null,null,{"$f":"IF(UL$1>=$TM343,1,\"0\")","v":"0"},null,null,null,null,null,null,null,null,null,null,null,null,null,null,null,null,null,null,null,null,null,null,null,null,null,null,null,null,null,{"$f":"IF(VP$1>=$TM343,1,\"0\")","v":"0"},{"$f":"IF(VQ$1>=$TM343,1,\"0\")","v":"0"},null,null,null,null,null,null,null,null,null,null,{"$f":"IF(WB$1>=$TM343,1,\"0\")","v":"0"},null,{"$f":"IF(SUM($VZ$1:$WC$1)>0,IF(AND(SUM($VZ343:$WC343)>0,$TM343=WE$1),MAX(WD$2:WD342)+1,\"\"),IF(AND(SUM($UC343:$VY343)>0,$TM343=WE$1),MAX(WD$2:WD342)+1,\"\"))","v":""},"",{"$f":"IF(AND(SUM($UB343:$VY343)>0,$TM343=WG$1),MAX(WF$2:WF342)+1,\"\")","v":""},"",{"$f":"IF(AND(SUM($UB343:$VY343)>0,$TM343=WI$1),MAX(WH$2:WH342)+1,\"\")","v":""},"",{"$f":"IF(AND(SUM($UB343:$VY343)>0,$TM343=WK$1),MAX(WJ$2:WJ342)+1,\"\")","v":""},"",{"$f":"IF(AND(SUM($UB343:$VY343)>0,$TM343=WM$1),MAX(WL$2:WL342)+1,\"\")","v":""},"",{"$f":"IF(AND(SUM($UB343:$VY343)>0,$TM343=WO$1),MAX(WN$2:WN342)+1,\"\")","v":""},"",{"$f":"IF(AND(SUM($UB343:$VY343)>0,$TM343=WQ$1),MAX(WP$2:WP342)+1,\"\")","v":""},"",{"$f":"IF(AND(SUM($UB343:$VY343)>0,$TM343=WS$1),MAX(WR$2:WR342)+1,\"\")","v":""},"",{"$f":"IF(AND(SUM($UB343:$VY343)>0,$TM343=WU$1),MAX(WT$2:WT342)+1,\"\")","v":""},"",{"$f":"IF(AND(SUM($UB343:$VY343)>0,$TM343=WW$1),MAX(WV$2:WV342)+1,\"\")","v":""},"",{"$f":"IF(AND(SUM($UB343:$VY343)>0,$TM343=WY$1),MAX(WX$2:WX342)+1,\"\")","v":""},""]
[null,null,null,null,null,null,null,null,null,null,null,null,null,null,null,null,null,null,null,null,null,null,null,null,null,null,null,null,null,null,null,null,null,null,null,null,null,null,null,null,null,null,null,null,null,null,null,null,null,null,null,null,null,null,null,null,null,null,null,null,null,null,null,null,null,null,null,null,null,null,null,null,null,null,null,null,null,null,null,null,null,null,null,null,null,null,null,null,null,null,null,null,null,null,null,null,null,null,null,null,null,null,null,null,null,null,null,null,null,null,null,null,null,null,null,null,null,null,null,null,null,null,null,null,null,null,null,null,null,null,null,null,null,null,null,null,null,null,null,null,null,null,null,null,null,null,null,null,null,null,null,null,null,null,null,null,null,null,null,null,null,null,null,null,null,null,null,null,null,null,null,null,null,null,null,null,null,null,null,null,null,null,null,null,null,null,null,null,null,null,null,null,null,null,null,null,null,null,null,null,null,null,null,null,null,null,null,null,null,null,null,null,null,null,null,null,null,null,null,null,null,null,null,null,null,null,null,null,null,null,null,null,null,null,null,null,null,null,null,null,null,null,null,null,null,null,null,null,null,null,null,null,null,null,null,null,null,null,null,null,null,null,null,null,null,null,null,null,null,null,null,null,null,null,null,null,null,null,null,null,null,null,null,null,null,null,null,null,null,null,null,null,null,null,null,null,null,null,null,null,null,null,null,null,null,null,null,null,null,null,null,null,null,null,null,null,null,null,null,null,null,null,null,null,null,null,null,null,null,null,null,null,null,null,null,null,null,null,null,null,null,null,null,null,null,null,null,null,null,null,null,null,null,null,null,null,null,null,null,null,null,null,null,null,null,null,null,null,null,null,null,null,null,null,null,null,null,null,null,null,null,null,null,null,null,null,null,null,null,null,null,null,null,null,null,null,null,null,null,null,null,null,null,null,null,null,null,null,null,null,null,null,null,null,null,null,null,null,null,null,null,null,null,null,null,null,null,null,null,null,null,null,null,null,null,null,null,null,null,null,null,null,null,null,null,null,null,null,null,null,null,null,null,null,null,null,null,null,null,null,null,null,null,null,null,null,null,null,null,null,null,null,null,null,null,null,null,null,null,null,null,null,null,null,null,null,null,null,null,null,null,null,null,null,null,null,null,null,null,null,null,null,null,null,null,null,null,null,null,null,null,null,null,null,null,null,null,null,null,null,null,null,null,null,null,null,null,null,null,347,"Wall of Force","LEVEL 5",5,"Wall of Force ",{"$f":"\"\"","v":""},"",{"$f":"IF(OR(TK349=Spellcasting!$AC$18,TK349=Spellcasting!$AC$19),\"ᵐ\",\"\")","v":""},{"$f":"IF(OR(TK349=Spellcasting!$AC$20,TK349=Spellcasting!$AC$21),\"ˢ\",\"\")","v":""},{"$f":"\"\"","v":""},"1 act","120 ft","10 min ᶜᵒᶰ","VSM","a pinch of powder made by crushing a clear gemstone","evocation","evoc","An invisible wall of force springs into existence at a point you choose within range. The wall appears in any orientation you choose, as a horizontal or vertical barrier or at an angle. It can be free floating or resting on a solid surface. You can form it into a hemispherical dome or a sphere with a radius of up to 10 feet, or you can shape a flat surface made up of ten 10-foot-by- 10-foot panels. Each panel must be contiguous with another panel. In any form, the wall is 1/4 inch thick. It lasts for the duration. If the wall cuts through a creature’s space when it appears, the creature is pushed to one side of the wall (your choice which side). \n\nNothing can physically pass through the wall. It is immune to all damage and can’t be dispelled by dispel magic. A disintegrate spell destroys the wall instantly, however. The wall also extends into the Ethereal Plane, blocking ethereal travel through the wall.","invisible, ten 10x10ft panels or 10ft rad dome",null,null,null,null,null,null,null,null,null,{"$f":"IF(UL$1>=$TM349,1,\"0\")","v":"0"},null,null,null,null,null,null,null,null,null,null,null,null,null,null,null,null,null,null,null,null,null,null,null,null,null,null,null,null,null,null,null,null,null,null,null,null,null,null,null,null,null,null,null,{"$f":"IF(SUM($VZ$1:$WC$1)>0,IF(AND(SUM($VZ349:$WC349)>0,$TM349=WE$1),MAX(WD$2:WD348)+1,\"\"),IF(AND(SUM($UC349:$VY349)>0,$TM349=WE$1),MAX(WD$2:WD348)+1,\"\"))","v":""},"",{"$f":"IF(AND(SUM($UB349:$VY349)>0,$TM349=WG$1),MAX(WF$2:WF348)+1,\"\")","v":""},"",{"$f":"IF(AND(SUM($UB349:$VY349)>0,$TM349=WI$1),MAX(WH$2:WH348)+1,\"\")","v":""},"",{"$f":"IF(AND(SUM($UB349:$VY349)>0,$TM349=WK$1),MAX(WJ$2:WJ348)+1,\"\")","v":""},"",{"$f":"IF(AND(SUM($UB349:$VY349)>0,$TM349=WM$1),MAX(WL$2:WL348)+1,\"\")","v":""},"",{"$f":"IF(AND(SUM($UB349:$VY349)>0,$TM349=WO$1),MAX(WN$2:WN348)+1,\"\")","v":""},"",{"$f":"IF(AND(SUM($UB349:$VY349)>0,$TM349=WQ$1),MAX(WP$2:WP348)+1,\"\")","v":""},"",{"$f":"IF(AND(SUM($UB349:$VY349)>0,$TM349=WS$1),MAX(WR$2:WR348)+1,\"\")","v":""},"",{"$f":"IF(AND(SUM($UB349:$VY349)>0,$TM349=WU$1),MAX(WT$2:WT348)+1,\"\")","v":""},"",{"$f":"IF(AND(SUM($UB349:$VY349)>0,$TM349=WW$1),MAX(WV$2:WV348)+1,\"\")","v":""},"",{"$f":"IF(AND(SUM($UB349:$VY349)>0,$TM349=WY$1),MAX(WX$2:WX348)+1,\"\")","v":""},""]
[null,null,null,null,null,null,null,null,null,null,null,null,null,null,null,null,null,null,null,null,null,null,null,null,null,null,null,null,null,null,null,null,null,null,null,null,null,null,null,null,null,null,null,null,null,null,null,null,null,null,null,null,null,null,null,null,null,null,null,null,null,null,null,null,null,null,null,null,null,null,null,null,null,null,null,null,null,null,null,null,null,null,null,null,null,null,null,null,null,null,null,null,null,null,null,null,null,null,null,null,null,null,null,null,null,null,null,null,null,null,null,null,null,null,null,null,null,null,null,null,null,null,null,null,null,null,null,null,null,null,null,null,null,null,null,null,null,null,null,null,null,null,null,null,null,null,null,null,null,null,null,null,null,null,null,null,null,null,null,null,null,null,null,null,null,null,null,null,null,null,null,null,null,null,null,null,null,null,null,null,null,null,null,null,null,null,null,null,null,null,null,null,null,null,null,null,null,null,null,null,null,null,null,null,null,null,null,null,null,null,null,null,null,null,null,null,null,null,null,null,null,null,null,null,null,null,null,null,null,null,null,null,null,null,null,null,null,null,null,null,null,null,null,null,null,null,null,null,null,null,null,null,null,null,null,null,null,null,null,null,null,null,null,null,null,null,null,null,null,null,null,null,null,null,null,null,null,null,null,null,null,null,null,null,null,null,null,null,null,null,null,null,null,null,null,null,null,null,null,null,null,null,null,null,null,null,null,null,null,null,null,null,null,null,null,null,null,null,null,null,null,null,null,null,null,null,null,null,null,null,null,null,null,null,null,null,null,null,null,null,null,null,null,null,null,null,null,null,null,null,null,null,null,null,null,null,null,null,null,null,null,null,null,null,null,null,null,null,null,null,null,null,null,null,null,null,null,null,null,null,null,null,null,null,null,null,null,null,null,null,null,null,null,null,null,null,null,null,null,null,null,null,null,null,null,null,null,null,null,null,null,null,null,null,null,null,null,null,null,null,null,null,null,null,null,null,null,null,null,null,null,null,null,null,null,null,null,null,null,null,null,null,null,null,null,null,null,null,null,null,null,null,null,null,null,null,null,null,null,null,null,null,null,null,null,null,null,null,null,null,null,null,null,null,null,null,null,null,null,null,null,null,null,null,null,null,null,null,null,null,null,null,null,null,null,null,null,null,null,null,null,null,null,null,null,null,null,null,null,null,null,null,null,null,null,null,null,null,null,null,null,null,null,null,null,null,null,null,null,348,"Wall of Ice","LEVEL 6",6,"Wall of Ice ᴴ ","ᴴ ","",{"$f":"IF(OR(TK350=Spellcasting!$AC$18,TK350=Spellcasting!$AC$19),\"ᵐ\",\"\")","v":""},{"$f":"IF(OR(TK350=Spellcasting!$AC$20,TK350=Spellcasting!$AC$21),\"ˢ\",\"\")","v":""},{"$f":"\"\"","v":""},"1 act","120 ft","10 min ᶜᵒᶰ","VSM","a small piece of quartz","evocation","evoc","You create a wall of ice on a solid surface within range. You can form it into a hemispherical dome or a sphere with a radius of up to 10 feet, or you can shape a flat surface made up of ten 10-foot-square panels. Each panel must be contiguous with another panel. In any form, the wall is 1 foot thick and lasts for the duration. \n\nIf the wall cuts through a creature’s space when it appears, the creature within its area is pushed to one side of the wall and must make a Dexterity saving throw. On a failed save, the creature takes 10d6 cold damage, or half as much damage on a successful save. \n\nThe wall is an object that can be damaged and thus breached. It has AC 12 and 30 hit points per 10-foot section, and it is vulnerable to fire damage. Reducing a 10-foot section of wall to 0 hit points destroys it and leaves behind a sheet of frigid air in the space the wall occupied. A creature moving through the sheet of frigid air for the first time on a turn must make a Constitution saving throw. That creature takes 5d6 cold damage on a failed save, or half as much damage on a successful one. \n\nAt Higher Levels. When you cast this spell using a spell slot of 7th level or higher, the damage the wall deals when it appears increases by 2d6, and the damage from passing through the sheet of frigid air increases by 1d6, for each slot level above 6th.",{"$f":"\"ten 10x10ft panels, 10d6\"&IF(WizardEvocationLevel>=10,\"+\"&INTMod,\"\")&\"  cold, dex save ½\"","v":"ten 10x10ft panels, 10d6  cold, dex save ½"},null,null,null,null,null,null,null,null,null,{"$f":"IF(UL$1>=$TM350,1,\"0\")","v":"0"},null,null,null,null,null,null,null,null,null,null,null,null,null,null,null,null,null,null,null,null,null,null,null,null,null,null,null,null,null,null,null,null,null,null,null,null,null,null,null,null,null,null,null,{"$f":"IF(SUM($VZ$1:$WC$1)>0,IF(AND(SUM($VZ350:$WC350)>0,$TM350=WE$1),MAX(WD$2:WD349)+1,\"\"),IF(AND(SUM($UC350:$VY350)>0,$TM350=WE$1),MAX(WD$2:WD349)+1,\"\"))","v":""},"",{"$f":"IF(AND(SUM($UB350:$VY350)>0,$TM350=WG$1),MAX(WF$2:WF349)+1,\"\")","v":""},"",{"$f":"IF(AND(SUM($UB350:$VY350)>0,$TM350=WI$1),MAX(WH$2:WH349)+1,\"\")","v":""},"",{"$f":"IF(AND(SUM($UB350:$VY350)>0,$TM350=WK$1),MAX(WJ$2:WJ349)+1,\"\")","v":""},"",{"$f":"IF(AND(SUM($UB350:$VY350)>0,$TM350=WM$1),MAX(WL$2:WL349)+1,\"\")","v":""},"",{"$f":"IF(AND(SUM($UB350:$VY350)>0,$TM350=WO$1),MAX(WN$2:WN349)+1,\"\")","v":""},"",{"$f":"IF(AND(SUM($UB350:$VY350)>0,$TM350=WQ$1),MAX(WP$2:WP349)+1,\"\")","v":""},"",{"$f":"IF(AND(SUM($UB350:$VY350)>0,$TM350=WS$1),MAX(WR$2:WR349)+1,\"\")","v":""},"",{"$f":"IF(AND(SUM($UB350:$VY350)>0,$TM350=WU$1),MAX(WT$2:WT349)+1,\"\")","v":""},"",{"$f":"IF(AND(SUM($UB350:$VY350)>0,$TM350=WW$1),MAX(WV$2:WV349)+1,\"\")","v":""},"",{"$f":"IF(AND(SUM($UB350:$VY350)>0,$TM350=WY$1),MAX(WX$2:WX349)+1,\"\")","v":""},""]
[null,null,null,null,null,null,null,null,null,null,null,null,null,null,null,null,null,null,null,null,null,null,null,null,null,null,null,null,null,null,null,null,null,null,null,null,null,null,null,null,null,null,null,null,null,null,null,null,null,null,null,null,null,null,null,null,null,null,null,null,null,null,null,null,null,null,null,null,null,null,null,null,null,null,null,null,null,null,null,null,null,null,null,null,null,null,null,null,null,null,null,null,null,null,null,null,null,null,null,null,null,null,null,null,null,null,null,null,null,null,null,null,null,null,null,null,null,null,null,null,null,null,null,null,null,null,null,null,null,null,null,null,null,null,null,null,null,null,null,null,null,null,null,null,null,null,null,null,null,null,null,null,null,null,null,null,null,null,null,null,null,null,null,null,null,null,null,null,null,null,null,null,null,null,null,null,null,null,null,null,null,null,null,null,null,null,null,null,null,null,null,null,null,null,null,null,null,null,null,null,null,null,null,null,null,null,null,null,null,null,null,null,null,null,null,null,null,null,null,null,null,null,null,null,null,null,null,null,null,null,null,null,null,null,null,null,null,null,null,null,null,null,null,null,null,null,null,null,null,null,null,null,null,null,null,null,null,null,null,null,null,null,null,null,null,null,null,null,null,null,null,null,null,null,null,null,null,null,null,null,null,null,null,null,null,null,null,null,null,null,null,null,null,null,null,null,null,null,null,null,null,null,null,null,null,null,null,null,null,null,null,null,null,null,null,null,null,null,null,null,null,null,null,null,null,null,null,null,null,null,null,null,null,null,null,null,null,null,null,null,null,null,null,null,null,null,null,null,null,null,null,null,null,null,null,null,null,null,null,null,null,null,null,null,null,null,null,null,null,null,null,null,null,null,null,null,null,null,null,null,null,null,null,null,null,null,null,null,null,null,null,null,null,null,null,null,null,null,null,null,null,null,null,null,null,null,null,null,null,null,null,null,null,null,null,null,null,null,null,null,null,null,null,null,null,null,null,null,null,null,null,null,null,null,null,null,null,null,null,null,null,null,null,null,null,null,null,null,null,null,null,null,null,null,null,null,null,null,null,null,null,null,null,null,null,null,null,null,null,null,null,null,null,null,null,null,null,null,null,null,null,null,null,null,null,null,null,null,null,null,null,null,null,null,null,null,null,null,null,null,null,null,null,null,null,null,null,null,null,null,null,null,null,null,null,null,null,null,null,null,null,null,null,null,null,null,null,null,null,349,"Wall of Stone","LEVEL 5",5,"Wall of Stone ",{"$f":"\"\"","v":""},"",{"$f":"IF(OR(TK351=Spellcasting!$AC$18,TK351=Spellcasting!$AC$19),\"ᵐ\",\"\")","v":""},{"$f":"IF(OR(TK351=Spellcasting!$AC$20,TK351=Spellcasting!$AC$21),\"ˢ\",\"\")","v":""},{"$f":"\"\"","v":""},"1 act","120 ft","10 min ᶜᵒᶰ","VSM","a small block of granite","evocation","evoc","A nonmagical wall of solid stone springs into existence at a point you choose within range. The wall is 6 inches thick and is com posed of ten 10-foot-by-10-foot panels. Each panel must be contiguous with at least one other panel. Alternatively, you can create 10-foot-by-20-foot panels that are only 3 inches thick. \n\nIf the wall cuts through a creature’s space when it appears, the creature is pushed to one side of the wall (your choice). If a creature would be surrounded on all sides by the wall (or the wall and another solid surface), that creature can make a Dexterity saving throw. On a success, it can use its reaction to move up to its speed so that it is no longer enclosed by the wall. \n\nThe wall can have any shape you desire, though it can’t occupy the same space as a creature or object. The wall doesn’t need to be vertical or rest on any firm foundation. It must, however, merge with and be solidly supported by existing stone. Thus, you can use this spell to bridge a chasm or create a ramp. \n\nIf you create a span greater than 20 feet in length, you must halve the size of each panel to create supports. You can crudely shape the wall to create crenellations, battlements, and so on. \n\nThe wall is an object made of stone that can be damaged and thus breached. Each panel has AC 15 and 30 hit points per inch of thickness. Reducing a panel to 0 hit points destroys it and might cause connected panels to collapse at the DM’s discretion. \n\nIf you maintain your concentration on this spell for its whole duration, the wall becomes permanent and can’t be dispelled. Otherwise, the wall disappears when the spell ends.","ten 10x10ft 6\" or 10x20ft 3\" panels, trapped creature dex save ",null,null,null,{"$f":"IF(UF$1>=$TM351,1,\"0\")","v":"0"},null,null,{"$f":"IF(UI$1>=$TM351,1,\"0\")","v":"0"},null,null,{"$f":"IF(UL$1>=$TM351,1,\"0\")","v":"0"},null,null,null,null,null,null,null,null,null,null,null,null,null,null,null,null,null,null,null,null,null,null,{"$f":"IF(VI$1>=$TM351,1,\"0\")","v":"0"},null,null,{"$f":"IF(VL$1>=$TM351,1,\"0\")","v":"0"},null,null,null,null,null,null,null,null,null,null,null,null,null,null,null,null,null,{"$f":"IF(SUM($VZ$1:$WC$1)>0,IF(AND(SUM($VZ351:$WC351)>0,$TM351=WE$1),MAX(WD$2:WD350)+1,\"\"),IF(AND(SUM($UC351:$VY351)>0,$TM351=WE$1),MAX(WD$2:WD350)+1,\"\"))","v":""},"",{"$f":"IF(AND(SUM($UB351:$VY351)>0,$TM351=WG$1),MAX(WF$2:WF350)+1,\"\")","v":""},"",{"$f":"IF(AND(SUM($UB351:$VY351)>0,$TM351=WI$1),MAX(WH$2:WH350)+1,\"\")","v":""},"",{"$f":"IF(AND(SUM($UB351:$VY351)>0,$TM351=WK$1),MAX(WJ$2:WJ350)+1,\"\")","v":""},"",{"$f":"IF(AND(SUM($UB351:$VY351)>0,$TM351=WM$1),MAX(WL$2:WL350)+1,\"\")","v":""},"",{"$f":"IF(AND(SUM($UB351:$VY351)>0,$TM351=WO$1),MAX(WN$2:WN350)+1,\"\")","v":""},"",{"$f":"IF(AND(SUM($UB351:$VY351)>0,$TM351=WQ$1),MAX(WP$2:WP350)+1,\"\")","v":""},"",{"$f":"IF(AND(SUM($UB351:$VY351)>0,$TM351=WS$1),MAX(WR$2:WR350)+1,\"\")","v":""},"",{"$f":"IF(AND(SUM($UB351:$VY351)>0,$TM351=WU$1),MAX(WT$2:WT350)+1,\"\")","v":""},"",{"$f":"IF(AND(SUM($UB351:$VY351)>0,$TM351=WW$1),MAX(WV$2:WV350)+1,\"\")","v":""},"",{"$f":"IF(AND(SUM($UB351:$VY351)>0,$TM351=WY$1),MAX(WX$2:WX350)+1,\"\")","v":""},""]
[null,null,null,null,null,null,null,null,null,null,null,null,null,null,null,null,null,null,null,null,null,null,null,null,null,null,null,null,null,null,null,null,null,null,null,null,null,null,null,null,null,null,null,null,null,null,null,null,null,null,null,null,null,null,null,null,null,null,null,null,null,null,null,null,null,null,null,null,null,null,null,null,null,null,null,null,null,null,null,null,null,null,null,null,null,null,null,null,null,null,null,null,null,null,null,null,null,null,null,null,null,null,null,null,null,null,null,null,null,null,null,null,null,null,null,null,null,null,null,null,null,null,null,null,null,null,null,null,null,null,null,null,null,null,null,null,null,null,null,null,null,null,null,null,null,null,null,null,null,null,null,null,null,null,null,null,null,null,null,null,null,null,null,null,null,null,null,null,null,null,null,null,null,null,null,null,null,null,null,null,null,null,null,null,null,null,null,null,null,null,null,null,null,null,null,null,null,null,null,null,null,null,null,null,null,null,null,null,null,null,null,null,null,null,null,null,null,null,null,null,null,null,null,null,null,null,null,null,null,null,null,null,null,null,null,null,null,null,null,null,null,null,null,null,null,null,null,null,null,null,null,null,null,null,null,null,null,null,null,null,null,null,null,null,null,null,null,null,null,null,null,null,null,null,null,null,null,null,null,null,null,null,null,null,null,null,null,null,null,null,null,null,null,null,null,null,null,null,null,null,null,null,null,null,null,null,null,null,null,null,null,null,null,null,null,null,null,null,null,null,null,null,null,null,null,null,null,null,null,null,null,null,null,null,null,null,null,null,null,null,null,null,null,null,null,null,null,null,null,null,null,null,null,null,null,null,null,null,null,null,null,null,null,null,null,null,null,null,null,null,null,null,null,null,null,null,null,null,null,null,null,null,null,null,null,null,null,null,null,null,null,null,null,null,null,null,null,null,null,null,null,null,null,null,null,null,null,null,null,null,null,null,null,null,null,null,null,null,null,null,null,null,null,null,null,null,null,null,null,null,null,null,null,null,null,null,null,null,null,null,null,null,null,null,null,null,null,null,null,null,null,null,null,null,null,null,null,null,null,null,null,null,null,null,null,null,null,null,null,null,null,null,null,null,null,null,null,null,null,null,null,null,null,null,null,null,null,null,null,null,null,null,null,null,null,null,null,null,null,null,null,null,null,null,null,null,null,null,null,null,null,null,null,null,null,null,null,null,null,null,null,null,null,null,null,null,null,null,null,350,"Wall of Thorns","LEVEL 6",6,"Wall of Thorns ᴴ ","ᴴ ","",{"$f":"IF(OR(TK352=Spellcasting!$AC$18,TK352=Spellcasting!$AC$19),\"ᵐ\",\"\")","v":""},{"$f":"IF(OR(TK352=Spellcasting!$AC$20,TK352=Spellcasting!$AC$21),\"ˢ\",\"\")","v":""},{"$f":"\"\"","v":""},"1 act","100 ft","10 min ᶜᵒᶰ","VS",{"$f":"\"\"","v":""},"conjuration","conjur","You create a wall of tough, pliable, tangled brush bristling with needle-sharp thorns. The wall appears within range on a solid surface and lasts for the duration. You choose to make the wall up to 60 feet long, 10 feet high, and 5 feet thick or a circle that has a 20-foot diameter and is up to 20 feet high and 5 feet thick. The wall blocks line of sight. \n\nWhen the wall appears, each creature within its area must make a Dexterity saving throw. On a failed save, a creature takes 7d8 piercing damage, or half as much damage on a successful save. \n\nA creature can move through the wall, albeit slowly and painfully. For every 1 foot a creature moves through the wall, it must spend 4 feet of movement. Furthermore, the first time a creature enters the wall on a turn or ends its turn there, the creature must make a Dexterity saving throw. It takes 7d8 slashing damage on a failed save, or half as much damage on a successful one. \n\nAt Higher Levels. When you cast this spell using a spell slot of 7th level or higher, both types of damage increase by 1d8 for each slot level above 6th.","5ft wide, 10ft high, 60ft long, 7d8 pierce, dex save ½",null,null,null,null,null,null,{"$f":"IF(UI$1>=$TM352,1,\"0\")","v":"0"},null,null,null,null,null,null,null,null,null,null,null,null,null,null,null,null,null,null,null,null,null,null,null,null,null,null,null,null,null,null,null,null,null,null,null,null,null,null,null,null,null,null,null,null,null,null,{"$f":"IF(SUM($VZ$1:$WC$1)>0,IF(AND(SUM($VZ352:$WC352)>0,$TM352=WE$1),MAX(WD$2:WD351)+1,\"\"),IF(AND(SUM($UC352:$VY352)>0,$TM352=WE$1),MAX(WD$2:WD351)+1,\"\"))","v":""},"",{"$f":"IF(AND(SUM($UB352:$VY352)>0,$TM352=WG$1),MAX(WF$2:WF351)+1,\"\")","v":""},"",{"$f":"IF(AND(SUM($UB352:$VY352)>0,$TM352=WI$1),MAX(WH$2:WH351)+1,\"\")","v":""},"",{"$f":"IF(AND(SUM($UB352:$VY352)>0,$TM352=WK$1),MAX(WJ$2:WJ351)+1,\"\")","v":""},"",{"$f":"IF(AND(SUM($UB352:$VY352)>0,$TM352=WM$1),MAX(WL$2:WL351)+1,\"\")","v":""},"",{"$f":"IF(AND(SUM($UB352:$VY352)>0,$TM352=WO$1),MAX(WN$2:WN351)+1,\"\")","v":""},"",{"$f":"IF(AND(SUM($UB352:$VY352)>0,$TM352=WQ$1),MAX(WP$2:WP351)+1,\"\")","v":""},"",{"$f":"IF(AND(SUM($UB352:$VY352)>0,$TM352=WS$1),MAX(WR$2:WR351)+1,\"\")","v":""},"",{"$f":"IF(AND(SUM($UB352:$VY352)>0,$TM352=WU$1),MAX(WT$2:WT351)+1,\"\")","v":""},"",{"$f":"IF(AND(SUM($UB352:$VY352)>0,$TM352=WW$1),MAX(WV$2:WV351)+1,\"\")","v":""},"",{"$f":"IF(AND(SUM($UB352:$VY352)>0,$TM352=WY$1),MAX(WX$2:WX351)+1,\"\")","v":""},""]
[null,null,null,null,null,null,null,null,null,null,null,null,null,null,null,null,null,null,null,null,null,null,null,null,null,null,null,null,null,null,null,null,null,null,null,null,null,null,null,null,null,null,null,null,null,null,null,null,null,null,null,null,null,null,null,null,null,null,null,null,null,null,null,null,null,null,null,null,null,null,null,null,null,null,null,null,null,null,null,null,null,null,null,null,null,null,null,null,null,null,null,null,null,null,null,null,null,null,null,null,null,null,null,null,null,null,null,null,null,null,null,null,null,null,null,null,null,null,null,null,null,null,null,null,null,null,null,null,null,null,null,null,null,null,null,null,null,null,null,null,null,null,null,null,null,null,null,null,null,null,null,null,null,null,null,null,null,null,null,null,null,null,null,null,null,null,null,null,null,null,null,null,null,null,null,null,null,null,null,null,null,null,null,null,null,null,null,null,null,null,null,null,null,null,null,null,null,null,null,null,null,null,null,null,null,null,null,null,null,null,null,null,null,null,null,null,null,null,null,null,null,null,null,null,null,null,null,null,null,null,null,null,null,null,null,null,null,null,null,null,null,null,null,null,null,null,null,null,null,null,null,null,null,null,null,null,null,null,null,null,null,null,null,null,null,null,null,null,null,null,null,null,null,null,null,null,null,null,null,null,null,null,null,null,null,null,null,null,null,null,null,null,null,null,null,null,null,null,null,null,null,null,null,null,null,null,null,null,null,null,null,null,null,null,null,null,null,null,null,null,null,null,null,null,null,null,null,null,null,null,null,null,null,null,null,null,null,null,null,null,null,null,null,null,null,null,null,null,null,null,null,null,null,null,null,null,null,null,null,null,null,null,null,null,null,null,null,null,null,null,null,null,null,null,null,null,null,null,null,null,null,null,null,null,null,null,null,null,null,null,null,null,null,null,null,null,null,null,null,null,null,null,null,null,null,null,null,null,null,null,null,null,null,null,null,null,null,null,null,null,null,null,null,null,null,null,null,null,null,null,null,null,null,null,null,null,null,null,null,null,null,null,null,null,null,null,null,null,null,null,null,null,null,null,null,null,null,null,null,null,null,null,null,null,null,null,null,null,null,null,null,null,null,null,null,null,null,null,null,null,null,null,null,null,null,null,null,null,null,null,null,null,null,null,null,null,null,null,null,null,null,null,null,null,null,null,null,null,null,null,null,null,null,null,null,null,null,null,null,null,null,null,null,null,null,null,null,null,null,351,"Warding Bond","LEVEL 2",2,"Warding Bond ",{"$f":"\"\"","v":""},"",{"$f":"IF(OR(TK353=Spellcasting!$AC$18,TK353=Spellcasting!$AC$19),\"ᵐ\",\"\")","v":""},{"$f":"IF(OR(TK353=Spellcasting!$AC$20,TK353=Spellcasting!$AC$21),\"ˢ\",\"\")","v":""},{"$f":"\"\"","v":""},"1 act","touch","1 hr","VSM","a pair of platinum rings worth at least 50 gp each, which you and the target must wear for the duration","abjuration","abjur","This spell wards a willing creature you touch and creates a mystic connection between you and the target until the spell ends. While the target is within 60 feet of you, it gains a +1 bonus to AC and saving throws, and it has resistance to all damage. Also, each time it takes damage, you take the same amount of damage. \n\nThe spell ends if you drop to 0 hit points or if you and the target becom e separated by more than 60 feet. It also ends if the spell is cast again on either of the connected creatures. You can also dismiss the spell as an action.","60ft, +1 AC, resistance all, you take same damage",null,null,null,null,null,{"$f":"IF(UH$1>=$TM353,1,\"0\")","v":"0"},null,null,null,null,null,null,null,null,null,null,null,null,null,null,null,null,null,null,null,null,null,null,null,null,null,null,null,null,null,null,null,null,null,null,null,null,null,null,null,null,null,null,null,null,null,null,null,{"$f":"IF(SUM($VZ$1:$WC$1)>0,IF(AND(SUM($VZ353:$WC353)>0,$TM353=WE$1),MAX(WD$2:WD352)+1,\"\"),IF(AND(SUM($UC353:$VY353)>0,$TM353=WE$1),MAX(WD$2:WD352)+1,\"\"))","v":""},"",{"$f":"IF(AND(SUM($UB353:$VY353)>0,$TM353=WG$1),MAX(WF$2:WF352)+1,\"\")","v":""},"",{"$f":"IF(AND(SUM($UB353:$VY353)>0,$TM353=WI$1),MAX(WH$2:WH352)+1,\"\")","v":""},"",{"$f":"IF(AND(SUM($UB353:$VY353)>0,$TM353=WK$1),MAX(WJ$2:WJ352)+1,\"\")","v":""},"",{"$f":"IF(AND(SUM($UB353:$VY353)>0,$TM353=WM$1),MAX(WL$2:WL352)+1,\"\")","v":""},"",{"$f":"IF(AND(SUM($UB353:$VY353)>0,$TM353=WO$1),MAX(WN$2:WN352)+1,\"\")","v":""},"",{"$f":"IF(AND(SUM($UB353:$VY353)>0,$TM353=WQ$1),MAX(WP$2:WP352)+1,\"\")","v":""},"",{"$f":"IF(AND(SUM($UB353:$VY353)>0,$TM353=WS$1),MAX(WR$2:WR352)+1,\"\")","v":""},"",{"$f":"IF(AND(SUM($UB353:$VY353)>0,$TM353=WU$1),MAX(WT$2:WT352)+1,\"\")","v":""},"",{"$f":"IF(AND(SUM($UB353:$VY353)>0,$TM353=WW$1),MAX(WV$2:WV352)+1,\"\")","v":""},"",{"$f":"IF(AND(SUM($UB353:$VY353)>0,$TM353=WY$1),MAX(WX$2:WX352)+1,\"\")","v":""},""]
[null,null,null,null,null,null,null,null,null,null,null,null,null,null,null,null,null,null,null,null,null,null,null,null,null,null,null,null,null,null,null,null,null,null,null,null,null,null,null,null,null,null,null,null,null,null,null,null,null,null,null,null,null,null,null,null,null,null,null,null,null,null,null,null,null,null,null,null,null,null,null,null,null,null,null,null,null,null,null,null,null,null,null,null,null,null,null,null,null,null,null,null,null,null,null,null,null,null,null,null,null,null,null,null,null,null,null,null,null,null,null,null,null,null,null,null,null,null,null,null,null,null,null,null,null,null,null,null,null,null,null,null,null,null,null,null,null,null,null,null,null,null,null,null,null,null,null,null,null,null,null,null,null,null,null,null,null,null,null,null,null,null,null,null,null,null,null,null,null,null,null,null,null,null,null,null,null,null,null,null,null,null,null,null,null,null,null,null,null,null,null,null,null,null,null,null,null,null,null,null,null,null,null,null,null,null,null,null,null,null,null,null,null,null,null,null,null,null,null,null,null,null,null,null,null,null,null,null,null,null,null,null,null,null,null,null,null,null,null,null,null,null,null,null,null,null,null,null,null,null,null,null,null,null,null,null,null,null,null,null,null,null,null,null,null,null,null,null,null,null,null,null,null,null,null,null,null,null,null,null,null,null,null,null,null,null,null,null,null,null,null,null,null,null,null,null,null,null,null,null,null,null,null,null,null,null,null,null,null,null,null,null,null,null,null,null,null,null,null,null,null,null,null,null,null,null,null,null,null,null,null,null,null,null,null,null,null,null,null,null,null,null,null,null,null,null,null,null,null,null,null,null,null,null,null,null,null,null,null,null,null,null,null,null,null,null,null,null,null,null,null,null,null,null,null,null,null,null,null,null,null,null,null,null,null,null,null,null,null,null,null,null,null,null,null,null,null,null,null,null,null,null,null,null,null,null,null,null,null,null,null,null,null,null,null,null,null,null,null,null,null,null,null,null,null,null,null,null,null,null,null,null,null,null,null,null,null,null,null,null,null,null,null,null,null,null,null,null,null,null,null,null,null,null,null,null,null,null,null,null,null,null,null,null,null,null,null,null,null,null,null,null,null,null,null,null,null,null,null,null,null,null,null,null,null,null,null,null,null,null,null,null,null,null,null,null,null,null,null,null,null,null,null,null,null,null,null,null,null,null,null,null,null,null,null,null,null,null,null,null,null,null,null,null,null,null,null,null,null,352,"Water Breathing","LEVEL 3",3,"Water Breathing ",{"$f":"\"\"","v":""},"",{"$f":"IF(OR(TK354=Spellcasting!$AC$18,TK354=Spellcasting!$AC$19),\"ᵐ\",\"\")","v":""},{"$f":"IF(OR(TK354=Spellcasting!$AC$20,TK354=Spellcasting!$AC$21),\"ˢ\",\"\")","v":""},"ritual","1 act ᴿ","30 ft","24 hrs","VSM","a short reed or piece of straw","transmutation","trans","This spell grants up to ten willing creatures you can see within range the ability to breathe underwater until the spell ends. Affected creatures also retain their normal mode of respiration.","10 targets, breath underwater",null,null,{"$f":"IF(UE$1>=$TM354,1,\"0\")","v":"0"},{"$f":"IF(UF$1>=$TM354,1,\"0\")","v":"0"},null,null,{"$f":"IF(UI$1>=$TM354,1,\"0\")","v":"0"},null,null,{"$f":"IF(UL$1>=$TM354,1,\"0\")","v":"0"},null,null,null,null,null,null,null,null,null,null,null,null,null,null,null,null,null,null,null,null,null,{"$f":"IF(VH$1>=$TM354,1,\"0\")","v":"0"},null,null,null,null,null,null,null,null,null,null,null,null,null,null,null,null,null,null,null,null,null,{"$f":"IF(SUM($VZ$1:$WC$1)>0,IF(AND(SUM($VZ354:$WC354)>0,$TM354=WE$1),MAX(WD$2:WD353)+1,\"\"),IF(AND(SUM($UC354:$VY354)>0,$TM354=WE$1),MAX(WD$2:WD353)+1,\"\"))","v":""},"",{"$f":"IF(AND(SUM($UB354:$VY354)>0,$TM354=WG$1),MAX(WF$2:WF353)+1,\"\")","v":""},"",{"$f":"IF(AND(SUM($UB354:$VY354)>0,$TM354=WI$1),MAX(WH$2:WH353)+1,\"\")","v":""},"",{"$f":"IF(AND(SUM($UB354:$VY354)>0,$TM354=WK$1),MAX(WJ$2:WJ353)+1,\"\")","v":""},"",{"$f":"IF(AND(SUM($UB354:$VY354)>0,$TM354=WM$1),MAX(WL$2:WL353)+1,\"\")","v":""},"",{"$f":"IF(AND(SUM($UB354:$VY354)>0,$TM354=WO$1),MAX(WN$2:WN353)+1,\"\")","v":""},"",{"$f":"IF(AND(SUM($UB354:$VY354)>0,$TM354=WQ$1),MAX(WP$2:WP353)+1,\"\")","v":""},"",{"$f":"IF(AND(SUM($UB354:$VY354)>0,$TM354=WS$1),MAX(WR$2:WR353)+1,\"\")","v":""},"",{"$f":"IF(AND(SUM($UB354:$VY354)>0,$TM354=WU$1),MAX(WT$2:WT353)+1,\"\")","v":""},"",{"$f":"IF(AND(SUM($UB354:$VY354)>0,$TM354=WW$1),MAX(WV$2:WV353)+1,\"\")","v":""},"",{"$f":"IF(AND(SUM($UB354:$VY354)>0,$TM354=WY$1),MAX(WX$2:WX353)+1,\"\")","v":""},""]
[null,null,null,null,null,null,null,null,null,null,null,null,null,null,null,null,null,null,null,null,null,null,null,null,null,null,null,null,null,null,null,null,null,null,null,null,null,null,null,null,null,null,null,null,null,null,null,null,null,null,null,null,null,null,null,null,null,null,null,null,null,null,null,null,null,null,null,null,null,null,null,null,null,null,null,null,null,null,null,null,null,null,null,null,null,null,null,null,null,null,null,null,null,null,null,null,null,null,null,null,null,null,null,null,null,null,null,null,null,null,null,null,null,null,null,null,null,null,null,null,null,null,null,null,null,null,null,null,null,null,null,null,null,null,null,null,null,null,null,null,null,null,null,null,null,null,null,null,null,null,null,null,null,null,null,null,null,null,null,null,null,null,null,null,null,null,null,null,null,null,null,null,null,null,null,null,null,null,null,null,null,null,null,null,null,null,null,null,null,null,null,null,null,null,null,null,null,null,null,null,null,null,null,null,null,null,null,null,null,null,null,null,null,null,null,null,null,null,null,null,null,null,null,null,null,null,null,null,null,null,null,null,null,null,null,null,null,null,null,null,null,null,null,null,null,null,null,null,null,null,null,null,null,null,null,null,null,null,null,null,null,null,null,null,null,null,null,null,null,null,null,null,null,null,null,null,null,null,null,null,null,null,null,null,null,null,null,null,null,null,null,null,null,null,null,null,null,null,null,null,null,null,null,null,null,null,null,null,null,null,null,null,null,null,null,null,null,null,null,null,null,null,null,null,null,null,null,null,null,null,null,null,null,null,null,null,null,null,null,null,null,null,null,null,null,null,null,null,null,null,null,null,null,null,null,null,null,null,null,null,null,null,null,null,null,null,null,null,null,null,null,null,null,null,null,null,null,null,null,null,null,null,null,null,null,null,null,null,null,null,null,null,null,null,null,null,null,null,null,null,null,null,null,null,null,null,null,null,null,null,null,null,null,null,null,null,null,null,null,null,null,null,null,null,null,null,null,null,null,null,null,null,null,null,null,null,null,null,null,null,null,null,null,null,null,null,null,null,null,null,null,null,null,null,null,null,null,null,null,null,null,null,null,null,null,null,null,null,null,null,null,null,null,null,null,null,null,null,null,null,null,null,null,null,null,null,null,null,null,null,null,null,null,null,null,null,null,null,null,null,null,null,null,null,null,null,null,null,null,null,null,null,null,null,null,null,null,null,null,null,null,null,null,null,null,null,null,null,null,353,"Water Walk","LEVEL 3",3,"Water Walk ",{"$f":"\"\"","v":""},"",{"$f":"IF(OR(TK355=Spellcasting!$AC$18,TK355=Spellcasting!$AC$19),\"ᵐ\",\"\")","v":""},{"$f":"IF(OR(TK355=Spellcasting!$AC$20,TK355=Spellcasting!$AC$21),\"ˢ\",\"\")","v":""},"ritual","1 act ᴿ","30 ft","1 hr","VSM","a piece of cork","transmutation","trans","This spell grants the ability to move across any liquid surface—such as water, acid, mud, snow, quicksand, or lava—as if it were harmless solid ground (creatures crossing molten lava can still take damage from the heat). Up to ten willing creatures you can see within range gain this ability for the duration. If you target a creature submerged in a liquid, the spell carries the target to the surface of the liquid at a rate of 60 feet per round.","10 targets, move over any liquid surface",null,null,{"$f":"IF(UE$1>=$TM355,1,\"0\")","v":"0"},{"$f":"IF(UF$1>=$TM355,1,\"0\")","v":"0"},null,{"$f":"IF(UH$1>=$TM355,1,\"0\")","v":"0"},{"$f":"IF(UI$1>=$TM355,1,\"0\")","v":"0"},null,null,null,null,null,null,null,null,null,null,null,null,null,null,null,null,null,null,null,null,null,null,null,null,{"$f":"IF(VH$1>=$TM355,1,\"0\")","v":"0"},null,null,null,null,{"$f":"IF(VM$1>=$TM355,1,\"0\")","v":"0"},null,null,null,null,null,null,null,null,null,null,null,null,null,null,null,null,{"$f":"IF(SUM($VZ$1:$WC$1)>0,IF(AND(SUM($VZ355:$WC355)>0,$TM355=WE$1),MAX(WD$2:WD354)+1,\"\"),IF(AND(SUM($UC355:$VY355)>0,$TM355=WE$1),MAX(WD$2:WD354)+1,\"\"))","v":""},"",{"$f":"IF(AND(SUM($UB355:$VY355)>0,$TM355=WG$1),MAX(WF$2:WF354)+1,\"\")","v":""},"",{"$f":"IF(AND(SUM($UB355:$VY355)>0,$TM355=WI$1),MAX(WH$2:WH354)+1,\"\")","v":""},"",{"$f":"IF(AND(SUM($UB355:$VY355)>0,$TM355=WK$1),MAX(WJ$2:WJ354)+1,\"\")","v":""},"",{"$f":"IF(AND(SUM($UB355:$VY355)>0,$TM355=WM$1),MAX(WL$2:WL354)+1,\"\")","v":""},"",{"$f":"IF(AND(SUM($UB355:$VY355)>0,$TM355=WO$1),MAX(WN$2:WN354)+1,\"\")","v":""},"",{"$f":"IF(AND(SUM($UB355:$VY355)>0,$TM355=WQ$1),MAX(WP$2:WP354)+1,\"\")","v":""},"",{"$f":"IF(AND(SUM($UB355:$VY355)>0,$TM355=WS$1),MAX(WR$2:WR354)+1,\"\")","v":""},"",{"$f":"IF(AND(SUM($UB355:$VY355)>0,$TM355=WU$1),MAX(WT$2:WT354)+1,\"\")","v":""},"",{"$f":"IF(AND(SUM($UB355:$VY355)>0,$TM355=WW$1),MAX(WV$2:WV354)+1,\"\")","v":""},"",{"$f":"IF(AND(SUM($UB355:$VY355)>0,$TM355=WY$1),MAX(WX$2:WX354)+1,\"\")","v":""},""]
[null,null,null,null,null,null,null,null,null,null,null,null,null,null,null,null,null,null,null,null,null,null,null,null,null,null,null,null,null,null,null,null,null,null,null,null,null,null,null,null,null,null,null,null,null,null,null,null,null,null,null,null,null,null,null,null,null,null,null,null,null,null,null,null,null,null,null,null,null,null,null,null,null,null,null,null,null,null,null,null,null,null,null,null,null,null,null,null,null,null,null,null,null,null,null,null,null,null,null,null,null,null,null,null,null,null,null,null,null,null,null,null,null,null,null,null,null,null,null,null,null,null,null,null,null,null,null,null,null,null,null,null,null,null,null,null,null,null,null,null,null,null,null,null,null,null,null,null,null,null,null,null,null,null,null,null,null,null,null,null,null,null,null,null,null,null,null,null,null,null,null,null,null,null,null,null,null,null,null,null,null,null,null,null,null,null,null,null,null,null,null,null,null,null,null,null,null,null,null,null,null,null,null,null,null,null,null,null,null,null,null,null,null,null,null,null,null,null,null,null,null,null,null,null,null,null,null,null,null,null,null,null,null,null,null,null,null,null,null,null,null,null,null,null,null,null,null,null,null,null,null,null,null,null,null,null,null,null,null,null,null,null,null,null,null,null,null,null,null,null,null,null,null,null,null,null,null,null,null,null,null,null,null,null,null,null,null,null,null,null,null,null,null,null,null,null,null,null,null,null,null,null,null,null,null,null,null,null,null,null,null,null,null,null,null,null,null,null,null,null,null,null,null,null,null,null,null,null,null,null,null,null,null,null,null,null,null,null,null,null,null,null,null,null,null,null,null,null,null,null,null,null,null,null,null,null,null,null,null,null,null,null,null,null,null,null,null,null,null,null,null,null,null,null,null,null,null,null,null,null,null,null,null,null,null,null,null,null,null,null,null,null,null,null,null,null,null,null,null,null,null,null,null,null,null,null,null,null,null,null,null,null,null,null,null,null,null,null,null,null,null,null,null,null,null,null,null,null,null,null,null,null,null,null,null,null,null,null,null,null,null,null,null,null,null,null,null,null,null,null,null,null,null,null,null,null,null,null,null,null,null,null,null,null,null,null,null,null,null,null,null,null,null,null,null,null,null,null,null,null,null,null,null,null,null,null,null,null,null,null,null,null,null,null,null,null,null,null,null,null,null,null,null,null,null,null,null,null,null,null,null,null,null,null,null,null,null,null,null,null,null,null,null,null,null,null,null,null,null,354,"Web","LEVEL 2",2,"Web ",{"$f":"\"\"","v":""},"",{"$f":"IF(OR(TK356=Spellcasting!$AC$18,TK356=Spellcasting!$AC$19),\"ᵐ\",\"\")","v":""},{"$f":"IF(OR(TK356=Spellcasting!$AC$20,TK356=Spellcasting!$AC$21),\"ˢ\",\"\")","v":""},{"$f":"\"\"","v":""},"1 act","60 ft","1 hr ᶜᵒᶰ","VSM","a bit of spiderweb","conjuration","conjur","You conjure a mass of thick, sticky webbing at a point of your choice within range. The webs fill a 20-foot cube from that point for the duration. The webs are difficult terrain and lightly obscure their area. \n\nIf the webs aren’t anchored between two solid masses (such as walls or trees) or layered across a floor, wall, or ceiling, the conjured web collapses on itself, and the spell ends at the start of your next turn. Webs layered over a flat surface have a depth of 5 feet. \n\nEach creature that starts its turn in the webs or that enters them during its turn must make a Dexterity saving throw. On a failed save, the creature is restrained as long as it remains in the webs or until it breaks free. \n\nA creature restrained by the webs can use its action to make a Strength check against your spell save DC. If it succeeds, it is no longer restrained. \n\nThe webs are flammable. Any 5-foot cube of webs exposed to fire burns away in 1 round, dealing 2d4 fire damage to any creature that starts its turn in the fire.","20ft cube, dex save, restrained",null,null,null,{"$f":"IF(UF$1>=$TM356,1,\"0\")","v":"0"},null,null,null,null,null,{"$f":"IF(UL$1>=$TM356,1,\"0\")","v":"0"},null,null,null,null,null,null,null,null,null,null,null,null,null,null,null,null,null,null,null,null,null,null,null,null,null,null,null,{"$f":"IF(VN$1>=$TM356,1,\"0\")","v":"0"},null,null,null,null,null,null,null,null,null,null,null,null,null,null,null,{"$f":"IF(SUM($VZ$1:$WC$1)>0,IF(AND(SUM($VZ356:$WC356)>0,$TM356=WE$1),MAX(WD$2:WD355)+1,\"\"),IF(AND(SUM($UC356:$VY356)>0,$TM356=WE$1),MAX(WD$2:WD355)+1,\"\"))","v":""},"",{"$f":"IF(AND(SUM($UB356:$VY356)>0,$TM356=WG$1),MAX(WF$2:WF355)+1,\"\")","v":""},"",{"$f":"IF(AND(SUM($UB356:$VY356)>0,$TM356=WI$1),MAX(WH$2:WH355)+1,\"\")","v":""},"",{"$f":"IF(AND(SUM($UB356:$VY356)>0,$TM356=WK$1),MAX(WJ$2:WJ355)+1,\"\")","v":""},"",{"$f":"IF(AND(SUM($UB356:$VY356)>0,$TM356=WM$1),MAX(WL$2:WL355)+1,\"\")","v":""},"",{"$f":"IF(AND(SUM($UB356:$VY356)>0,$TM356=WO$1),MAX(WN$2:WN355)+1,\"\")","v":""},"",{"$f":"IF(AND(SUM($UB356:$VY356)>0,$TM356=WQ$1),MAX(WP$2:WP355)+1,\"\")","v":""},"",{"$f":"IF(AND(SUM($UB356:$VY356)>0,$TM356=WS$1),MAX(WR$2:WR355)+1,\"\")","v":""},"",{"$f":"IF(AND(SUM($UB356:$VY356)>0,$TM356=WU$1),MAX(WT$2:WT355)+1,\"\")","v":""},"",{"$f":"IF(AND(SUM($UB356:$VY356)>0,$TM356=WW$1),MAX(WV$2:WV355)+1,\"\")","v":""},"",{"$f":"IF(AND(SUM($UB356:$VY356)>0,$TM356=WY$1),MAX(WX$2:WX355)+1,\"\")","v":""},""]
[null,null,null,null,null,null,null,null,null,null,null,null,null,null,null,null,null,null,null,null,null,null,null,null,null,null,null,null,null,null,null,null,null,null,null,null,null,null,null,null,null,null,null,null,null,null,null,null,null,null,null,null,null,null,null,null,null,null,null,null,null,null,null,null,null,null,null,null,null,null,null,null,null,null,null,null,null,null,null,null,null,null,null,null,null,null,null,null,null,null,null,null,null,null,null,null,null,null,null,null,null,null,null,null,null,null,null,null,null,null,null,null,null,null,null,null,null,null,null,null,null,null,null,null,null,null,null,null,null,null,null,null,null,null,null,null,null,null,null,null,null,null,null,null,null,null,null,null,null,null,null,null,null,null,null,null,null,null,null,null,null,null,null,null,null,null,null,null,null,null,null,null,null,null,null,null,null,null,null,null,null,null,null,null,null,null,null,null,null,null,null,null,null,null,null,null,null,null,null,null,null,null,null,null,null,null,null,null,null,null,null,null,null,null,null,null,null,null,null,null,null,null,null,null,null,null,null,null,null,null,null,null,null,null,null,null,null,null,null,null,null,null,null,null,null,null,null,null,null,null,null,null,null,null,null,null,null,null,null,null,null,null,null,null,null,null,null,null,null,null,null,null,null,null,null,null,null,null,null,null,null,null,null,null,null,null,null,null,null,null,null,null,null,null,null,null,null,null,null,null,null,null,null,null,null,null,null,null,null,null,null,null,null,null,null,null,null,null,null,null,null,null,null,null,null,null,null,null,null,null,null,null,null,null,null,null,null,null,null,null,null,null,null,null,null,null,null,null,null,null,null,null,null,null,null,null,null,null,null,null,null,null,null,null,null,null,null,null,null,null,null,null,null,null,null,null,null,null,null,null,null,null,null,null,null,null,null,null,null,null,null,null,null,null,null,null,null,null,null,null,null,null,null,null,null,null,null,null,null,null,null,null,null,null,null,null,null,null,null,null,null,null,null,null,null,null,null,null,null,null,null,null,null,null,null,null,null,null,null,null,null,null,null,null,null,null,null,null,null,null,null,null,null,null,null,null,null,null,null,null,null,null,null,null,null,null,null,null,null,null,null,null,null,null,null,null,null,null,null,null,null,null,null,null,null,null,null,null,null,null,null,null,null,null,null,null,null,null,null,null,null,null,null,null,null,null,null,null,null,null,null,null,null,null,null,null,null,null,null,null,null,null,null,null,null,null,null,null,null,355,"Weird","LEVEL 9",9,"Weird ",{"$f":"\"\"","v":""},"",{"$f":"IF(OR(TK357=Spellcasting!$AC$18,TK357=Spellcasting!$AC$19),\"ᵐ\",\"\")","v":""},{"$f":"IF(OR(TK357=Spellcasting!$AC$20,TK357=Spellcasting!$AC$21),\"ˢ\",\"\")","v":""},{"$f":"\"\"","v":""},"1 act","120 ft","1 min ᶜᵒᶰ","VS",{"$f":"\"\"","v":""},"illusion","illus","Drawing on the deepest fears of a group of creatures, you create illusory creatures in their minds, visible only to them. Each creature in a 30-foot-radius sphere centered on a point of your choice within range must make a Wisdom saving throw. On a failed save, a creature becom es frightened for the duration. The illusion calls on the creature’s deepest fears, manifesting its worst nightmares as an implacable threat. At the start of each of the frightened creature’s turns, it must succeed on a Wisdom saving throw or take 4d10 psychic damage. On a successful save, the spell ends for that creature.","30ft rad sphere, frightened 4d10 psychic, wis save / turn",null,null,null,null,null,null,null,null,null,{"$f":"IF(UL$1>=$TM357,1,\"0\")","v":"0"},null,null,null,null,null,null,null,null,null,null,null,null,null,null,null,null,null,null,null,null,null,null,null,null,null,null,null,null,null,null,null,null,null,null,null,null,null,null,null,null,null,null,null,{"$f":"IF(SUM($VZ$1:$WC$1)>0,IF(AND(SUM($VZ357:$WC357)>0,$TM357=WE$1),MAX(WD$2:WD356)+1,\"\"),IF(AND(SUM($UC357:$VY357)>0,$TM357=WE$1),MAX(WD$2:WD356)+1,\"\"))","v":""},"",{"$f":"IF(AND(SUM($UB357:$VY357)>0,$TM357=WG$1),MAX(WF$2:WF356)+1,\"\")","v":""},"",{"$f":"IF(AND(SUM($UB357:$VY357)>0,$TM357=WI$1),MAX(WH$2:WH356)+1,\"\")","v":""},"",{"$f":"IF(AND(SUM($UB357:$VY357)>0,$TM357=WK$1),MAX(WJ$2:WJ356)+1,\"\")","v":""},"",{"$f":"IF(AND(SUM($UB357:$VY357)>0,$TM357=WM$1),MAX(WL$2:WL356)+1,\"\")","v":""},"",{"$f":"IF(AND(SUM($UB357:$VY357)>0,$TM357=WO$1),MAX(WN$2:WN356)+1,\"\")","v":""},"",{"$f":"IF(AND(SUM($UB357:$VY357)>0,$TM357=WQ$1),MAX(WP$2:WP356)+1,\"\")","v":""},"",{"$f":"IF(AND(SUM($UB357:$VY357)>0,$TM357=WS$1),MAX(WR$2:WR356)+1,\"\")","v":""},"",{"$f":"IF(AND(SUM($UB357:$VY357)>0,$TM357=WU$1),MAX(WT$2:WT356)+1,\"\")","v":""},"",{"$f":"IF(AND(SUM($UB357:$VY357)>0,$TM357=WW$1),MAX(WV$2:WV356)+1,\"\")","v":""},"",{"$f":"IF(AND(SUM($UB357:$VY357)>0,$TM357=WY$1),MAX(WX$2:WX356)+1,\"\")","v":""},""]
[null,null,null,null,null,null,null,null,null,null,null,null,null,null,null,null,null,null,null,null,null,null,null,null,null,null,null,null,null,null,null,null,null,null,null,null,null,null,null,null,null,null,null,null,null,null,null,null,null,null,null,null,null,null,null,null,null,null,null,null,null,null,null,null,null,null,null,null,null,null,null,null,null,null,null,null,null,null,null,null,null,null,null,null,null,null,null,null,null,null,null,null,null,null,null,null,null,null,null,null,null,null,null,null,null,null,null,null,null,null,null,null,null,null,null,null,null,null,null,null,null,null,null,null,null,null,null,null,null,null,null,null,null,null,null,null,null,null,null,null,null,null,null,null,null,null,null,null,null,null,null,null,null,null,null,null,null,null,null,null,null,null,null,null,null,null,null,null,null,null,null,null,null,null,null,null,null,null,null,null,null,null,null,null,null,null,null,null,null,null,null,null,null,null,null,null,null,null,null,null,null,null,null,null,null,null,null,null,null,null,null,null,null,null,null,null,null,null,null,null,null,null,null,null,null,null,null,null,null,null,null,null,null,null,null,null,null,null,null,null,null,null,null,null,null,null,null,null,null,null,null,null,null,null,null,null,null,null,null,null,null,null,null,null,null,null,null,null,null,null,null,null,null,null,null,null,null,null,null,null,null,null,null,null,null,null,null,null,null,null,null,null,null,null,null,null,null,null,null,null,null,null,null,null,null,null,null,null,null,null,null,null,null,null,null,null,null,null,null,null,null,null,null,null,null,null,null,null,null,null,null,null,null,null,null,null,null,null,null,null,null,null,null,null,null,null,null,null,null,null,null,null,null,null,null,null,null,null,null,null,null,null,null,null,null,null,null,null,null,null,null,null,null,null,null,null,null,null,null,null,null,null,null,null,null,null,null,null,null,null,null,null,null,null,null,null,null,null,null,null,null,null,null,null,null,null,null,null,null,null,null,null,null,null,null,null,null,null,null,null,null,null,null,null,null,null,null,null,null,null,null,null,null,null,null,null,null,null,null,null,null,null,null,null,null,null,null,null,null,null,null,null,null,null,null,null,null,null,null,null,null,null,null,null,null,null,null,null,null,null,null,null,null,null,null,null,null,null,null,null,null,null,null,null,null,null,null,null,null,null,null,null,null,null,null,null,null,null,null,null,null,null,null,null,null,null,null,null,null,null,null,null,null,null,null,null,null,null,null,null,null,null,null,null,null,null,null,null,null,356,"Wind Walk","LEVEL 6",6,"Wind Walk ",{"$f":"\"\"","v":""},"",{"$f":"IF(OR(TK358=Spellcasting!$AC$18,TK358=Spellcasting!$AC$19),\"ᵐ\",\"\")","v":""},{"$f":"IF(OR(TK358=Spellcasting!$AC$20,TK358=Spellcasting!$AC$21),\"ˢ\",\"\")","v":""},{"$f":"\"\"","v":""},"1 min","30 ft","8 hrs","VS",{"$f":"\"\"","v":""},"transmutation","trans","You and up to ten willing creatures you can see within range assume a gaseous form for the duration, appearing as wisps of cloud. While in this cloud form, a creature has a flying speed of 300 feet and has resistance to damage from nonmagical weapons. The only actions a creature can take in this form are the Dash action or to revert to its normal form. Reverting takes 1 minute, during which time a creature is incapacitated and can’t move. Until the spell ends, a creature can revert to cloud form, which also requires the 1-minute transformation. \n\nIf a creature is in cloud form and flying when the effect ends, the creature descends 60 feet per round for 1 minute until it lands, which it does safely. If it can’t land after 1 minute, the creature falls the remaining distance.","you and 10 targets, gaseous form, fly speed 300ft",null,null,null,null,null,null,{"$f":"IF(UI$1>=$TM358,1,\"0\")","v":"0"},null,null,null,null,null,null,null,null,null,null,null,null,null,null,null,null,null,null,null,null,null,null,null,null,null,null,null,null,null,null,null,null,null,null,null,null,null,null,null,null,null,null,null,null,null,null,{"$f":"IF(SUM($VZ$1:$WC$1)>0,IF(AND(SUM($VZ358:$WC358)>0,$TM358=WE$1),MAX(WD$2:WD357)+1,\"\"),IF(AND(SUM($UC358:$VY358)>0,$TM358=WE$1),MAX(WD$2:WD357)+1,\"\"))","v":""},"",{"$f":"IF(AND(SUM($UB358:$VY358)>0,$TM358=WG$1),MAX(WF$2:WF357)+1,\"\")","v":""},"",{"$f":"IF(AND(SUM($UB358:$VY358)>0,$TM358=WI$1),MAX(WH$2:WH357)+1,\"\")","v":""},"",{"$f":"IF(AND(SUM($UB358:$VY358)>0,$TM358=WK$1),MAX(WJ$2:WJ357)+1,\"\")","v":""},"",{"$f":"IF(AND(SUM($UB358:$VY358)>0,$TM358=WM$1),MAX(WL$2:WL357)+1,\"\")","v":""},"",{"$f":"IF(AND(SUM($UB358:$VY358)>0,$TM358=WO$1),MAX(WN$2:WN357)+1,\"\")","v":""},"",{"$f":"IF(AND(SUM($UB358:$VY358)>0,$TM358=WQ$1),MAX(WP$2:WP357)+1,\"\")","v":""},"",{"$f":"IF(AND(SUM($UB358:$VY358)>0,$TM358=WS$1),MAX(WR$2:WR357)+1,\"\")","v":""},"",{"$f":"IF(AND(SUM($UB358:$VY358)>0,$TM358=WU$1),MAX(WT$2:WT357)+1,\"\")","v":""},"",{"$f":"IF(AND(SUM($UB358:$VY358)>0,$TM358=WW$1),MAX(WV$2:WV357)+1,\"\")","v":""},"",{"$f":"IF(AND(SUM($UB358:$VY358)>0,$TM358=WY$1),MAX(WX$2:WX357)+1,\"\")","v":""},""]
[null,null,null,null,null,null,null,null,null,null,null,null,null,null,null,null,null,null,null,null,null,null,null,null,null,null,null,null,null,null,null,null,null,null,null,null,null,null,null,null,null,null,null,null,null,null,null,null,null,null,null,null,null,null,null,null,null,null,null,null,null,null,null,null,null,null,null,null,null,null,null,null,null,null,null,null,null,null,null,null,null,null,null,null,null,null,null,null,null,null,null,null,null,null,null,null,null,null,null,null,null,null,null,null,null,null,null,null,null,null,null,null,null,null,null,null,null,null,null,null,null,null,null,null,null,null,null,null,null,null,null,null,null,null,null,null,null,null,null,null,null,null,null,null,null,null,null,null,null,null,null,null,null,null,null,null,null,null,null,null,null,null,null,null,null,null,null,null,null,null,null,null,null,null,null,null,null,null,null,null,null,null,null,null,null,null,null,null,null,null,null,null,null,null,null,null,null,null,null,null,null,null,null,null,null,null,null,null,null,null,null,null,null,null,null,null,null,null,null,null,null,null,null,null,null,null,null,null,null,null,null,null,null,null,null,null,null,null,null,null,null,null,null,null,null,null,null,null,null,null,null,null,null,null,null,null,null,null,null,null,null,null,null,null,null,null,null,null,null,null,null,null,null,null,null,null,null,null,null,null,null,null,null,null,null,null,null,null,null,null,null,null,null,null,null,null,null,null,null,null,null,null,null,null,null,null,null,null,null,null,null,null,null,null,null,null,null,null,null,null,null,null,null,null,null,null,null,null,null,null,null,null,null,null,null,null,null,null,null,null,null,null,null,null,null,null,null,null,null,null,null,null,null,null,null,null,null,null,null,null,null,null,null,null,null,null,null,null,null,null,null,null,null,null,null,null,null,null,null,null,null,null,null,null,null,null,null,null,null,null,null,null,null,null,null,null,null,null,null,null,null,null,null,null,null,null,null,null,null,null,null,null,null,null,null,null,null,null,null,null,null,null,null,null,null,null,null,null,null,null,null,null,null,null,null,null,null,null,null,null,null,null,null,null,null,null,null,null,null,null,null,null,null,null,null,null,null,null,null,null,null,null,null,null,null,null,null,null,null,null,null,null,null,null,null,null,null,null,null,null,null,null,null,null,null,null,null,null,null,null,null,null,null,null,null,null,null,null,null,null,null,null,null,null,null,null,null,null,null,null,null,null,null,null,null,null,null,null,null,null,null,null,null,null,null,null,null,null,null,357,"Wind Wall","LEVEL 3",3,"Wind Wall ",{"$f":"\"\"","v":""},"",{"$f":"IF(OR(TK359=Spellcasting!$AC$18,TK359=Spellcasting!$AC$19),\"ᵐ\",\"\")","v":""},{"$f":"IF(OR(TK359=Spellcasting!$AC$20,TK359=Spellcasting!$AC$21),\"ˢ\",\"\")","v":""},{"$f":"\"\"","v":""},"1 act","120 ft","1 min ᶜᵒᶰ","VSM","a tiny fan and a feather of exotic origin","evocation","evoc","A  wall of strong wind rises from the ground at a point you choose within range. You can make the wall up to 50 feet long, 15 feet high, and 1 foot thick. You can shape the wall in any way you choose so long as it makes one continuous path along the ground. The wall lasts for the duration. \n\nWhen the wall appears, each creature within its area must make a Strength saving throw. A creature takes 3d8 bludgeoning damage on a failed save, or half as much damage on a successful one. \n\nThe strong wind keeps fog, smoke, and other gases at bay. Small or smaller flying creatures or objects can’t pass through the wall. Loose, lightweight materials brought into the wall fly upward. Arrows, bolts, and other ordinary projectiles launched at targets behind the wall are deflected upward and automatically miss. (Boulders hurled by giants or siege engines, and similar projectiles, are unaffected.) Creatures in gaseous form can’t pass through it.","1x15x50ft long, 3d8 bludgeon, str save ½",null,null,null,null,null,null,{"$f":"IF(UI$1>=$TM359,1,\"0\")","v":"0"},null,null,null,null,null,null,null,null,null,null,null,null,null,null,null,null,null,null,{"$f":"IF(VB$1>=$TM359,1,\"0\")","v":"0"},null,null,null,null,null,null,null,null,null,null,null,null,null,null,null,null,null,null,null,null,null,null,null,null,null,null,null,{"$f":"IF(SUM($VZ$1:$WC$1)>0,IF(AND(SUM($VZ359:$WC359)>0,$TM359=WE$1),MAX(WD$2:WD358)+1,\"\"),IF(AND(SUM($UC359:$VY359)>0,$TM359=WE$1),MAX(WD$2:WD358)+1,\"\"))","v":""},"",{"$f":"IF(AND(SUM($UB359:$VY359)>0,$TM359=WG$1),MAX(WF$2:WF358)+1,\"\")","v":""},"",{"$f":"IF(AND(SUM($UB359:$VY359)>0,$TM359=WI$1),MAX(WH$2:WH358)+1,\"\")","v":""},"",{"$f":"IF(AND(SUM($UB359:$VY359)>0,$TM359=WK$1),MAX(WJ$2:WJ358)+1,\"\")","v":""},"",{"$f":"IF(AND(SUM($UB359:$VY359)>0,$TM359=WM$1),MAX(WL$2:WL358)+1,\"\")","v":""},"",{"$f":"IF(AND(SUM($UB359:$VY359)>0,$TM359=WO$1),MAX(WN$2:WN358)+1,\"\")","v":""},"",{"$f":"IF(AND(SUM($UB359:$VY359)>0,$TM359=WQ$1),MAX(WP$2:WP358)+1,\"\")","v":""},"",{"$f":"IF(AND(SUM($UB359:$VY359)>0,$TM359=WS$1),MAX(WR$2:WR358)+1,\"\")","v":""},"",{"$f":"IF(AND(SUM($UB359:$VY359)>0,$TM359=WU$1),MAX(WT$2:WT358)+1,\"\")","v":""},"",{"$f":"IF(AND(SUM($UB359:$VY359)>0,$TM359=WW$1),MAX(WV$2:WV358)+1,\"\")","v":""},"",{"$f":"IF(AND(SUM($UB359:$VY359)>0,$TM359=WY$1),MAX(WX$2:WX358)+1,\"\")","v":""},""]
[null,null,null,null,null,null,null,null,null,null,null,null,null,null,null,null,null,null,null,null,null,null,null,null,null,null,null,null,null,null,null,null,null,null,null,null,null,null,null,null,null,null,null,null,null,null,null,null,null,null,null,null,null,null,null,null,null,null,null,null,null,null,null,null,null,null,null,null,null,null,null,null,null,null,null,null,null,null,null,null,null,null,null,null,null,null,null,null,null,null,null,null,null,null,null,null,null,null,null,null,null,null,null,null,null,null,null,null,null,null,null,null,null,null,null,null,null,null,null,null,null,null,null,null,null,null,null,null,null,null,null,null,null,null,null,null,null,null,null,null,null,null,null,null,null,null,null,null,null,null,null,null,null,null,null,null,null,null,null,null,null,null,null,null,null,null,null,null,null,null,null,null,null,null,null,null,null,null,null,null,null,null,null,null,null,null,null,null,null,null,null,null,null,null,null,null,null,null,null,null,null,null,null,null,null,null,null,null,null,null,null,null,null,null,null,null,null,null,null,null,null,null,null,null,null,null,null,null,null,null,null,null,null,null,null,null,null,null,null,null,null,null,null,null,null,null,null,null,null,null,null,null,null,null,null,null,null,null,null,null,null,null,null,null,null,null,null,null,null,null,null,null,null,null,null,null,null,null,null,null,null,null,null,null,null,null,null,null,null,null,null,null,null,null,null,null,null,null,null,null,null,null,null,null,null,null,null,null,null,null,null,null,null,null,null,null,null,null,null,null,null,null,null,null,null,null,null,null,null,null,null,null,null,null,null,null,null,null,null,null,null,null,null,null,null,null,null,null,null,null,null,null,null,null,null,null,null,null,null,null,null,null,null,null,null,null,null,null,null,null,null,null,null,null,null,null,null,null,null,null,null,null,null,null,null,null,null,null,null,null,null,null,null,null,null,null,null,null,null,null,null,null,null,null,null,null,null,null,null,null,null,null,null,null,null,null,null,null,null,null,null,null,null,null,null,null,null,null,null,null,null,null,null,null,null,null,null,null,null,null,null,null,null,null,null,null,null,null,null,null,null,null,null,null,null,null,null,null,null,null,null,null,null,null,null,null,null,null,null,null,null,null,null,null,null,null,null,null,null,null,null,null,null,null,null,null,null,null,null,null,null,null,null,null,null,null,null,null,null,null,null,null,null,null,null,null,null,null,null,null,null,null,null,null,null,null,null,null,null,null,null,null,null,null,null,null,null,null,null,358,"Wish","LEVEL 9",9,"Wish ",{"$f":"\"\"","v":""},"",{"$f":"IF(OR(TK360=Spellcasting!$AC$18,TK360=Spellcasting!$AC$19),\"ᵐ\",\"\")","v":""},{"$f":"IF(OR(TK360=Spellcasting!$AC$20,TK360=Spellcasting!$AC$21),\"ˢ\",\"\")","v":""},{"$f":"\"\"","v":""},"1 act","self","instant","V",{"$f":"\"\"","v":""},"conjuration","conjur","Wish is the mightiest spell a mortal creature can cast. By simply speaking aloud, you can alter the very foundations of reality in accord with your desires. \n\nThe basic use of this spell is to duplicate any other spell of 8th level or lower. You don’t need to meet any requirements in that spell, including costly components. \n\nThe spell simply takes effect. \n\nAlternatively, you can create one of the following effects of your choice:\n\n• You create one object of up to 25,000 gp in value that isn’t a magic item. The object can be no more than 300 feet in any dimension, and it appears in an unoc­ cupied space you can see on the ground. \n• You allow up to twenty creatures that you can see to regain all hit points, and you end all effects on them described in the greater restoration spell. \n• You grant up to ten creatures that you can see resistance to a damage type you choose. \n• You grant up to ten creatures you can see immunity to a single spell or other magical effect for 8 hours. For instance, you could make yourself and all your com ­ panions immune to a lich’s life drain attack. \n• You undo a single recent event by forcing a reroll of any roll made within the last round (including your last turn). Reality reshapes itself to accommodate the new result. For example, a wish spell could undo an opponent’s successful save, a foe’s critical hit, or a friend’s failed save. You can force the reroll to be made with advantage or disadvantage, and you can choose whether to use the reroll or the original roll.\n\nYou might be able to achieve something beyond the scope of the above examples. State your wish to the DM as precisely as possible. The DM has great latitude in ruling what occurs in such an instance; the greater the wish, the greater the likelihood that something goes wrong. This spell might simply fail, the effect you desire might only be partly achieved, or you might suffer some unforeseen consequence as a result of how you worded the wish. For example, wishing that a villain were dead might propel you forward in time to a period when that villain is no longer alive, effectively removing you from the game. Similarly, wishing for a legendary magic item or artifact might instantly transport you to the presence of the item’s current owner. \n\nThe stress of casting this spell to produce any effect other than duplicating another spell weakens you. After enduring that stress, each time you cast a spell until you finish a long rest, you take 1d10 necrotic damage per level of that spell. This damage can’t be reduced or prevented in any way. In addition, your Strength drops to 3, if it isn’t 3 or lower already, for 2d4 days. For each of those days that you spend resting and doing nothing more than light activity, your remaining recovery time decreases by 2 days. Finally, there is a 33 percent chance that you are unable to cast wish ever again if you suffer this stress.","duplicate 8th level or lower spell, or choose effect",null,null,null,{"$f":"IF(UF$1>=$TM360,1,\"0\")","v":"0"},null,null,null,null,null,{"$f":"IF(UL$1>=$TM360,1,\"0\")","v":"0"},null,null,null,null,null,null,null,null,null,null,null,null,null,null,null,null,null,null,null,null,null,null,null,null,null,null,null,null,null,null,null,null,null,null,null,null,null,null,null,null,null,null,null,{"$f":"IF(SUM($VZ$1:$WC$1)>0,IF(AND(SUM($VZ360:$WC360)>0,$TM360=WE$1),MAX(WD$2:WD359)+1,\"\"),IF(AND(SUM($UC360:$VY360)>0,$TM360=WE$1),MAX(WD$2:WD359)+1,\"\"))","v":""},"",{"$f":"IF(AND(SUM($UB360:$VY360)>0,$TM360=WG$1),MAX(WF$2:WF359)+1,\"\")","v":""},"",{"$f":"IF(AND(SUM($UB360:$VY360)>0,$TM360=WI$1),MAX(WH$2:WH359)+1,\"\")","v":""},"",{"$f":"IF(AND(SUM($UB360:$VY360)>0,$TM360=WK$1),MAX(WJ$2:WJ359)+1,\"\")","v":""},"",{"$f":"IF(AND(SUM($UB360:$VY360)>0,$TM360=WM$1),MAX(WL$2:WL359)+1,\"\")","v":""},"",{"$f":"IF(AND(SUM($UB360:$VY360)>0,$TM360=WO$1),MAX(WN$2:WN359)+1,\"\")","v":""},"",{"$f":"IF(AND(SUM($UB360:$VY360)>0,$TM360=WQ$1),MAX(WP$2:WP359)+1,\"\")","v":""},"",{"$f":"IF(AND(SUM($UB360:$VY360)>0,$TM360=WS$1),MAX(WR$2:WR359)+1,\"\")","v":""},"",{"$f":"IF(AND(SUM($UB360:$VY360)>0,$TM360=WU$1),MAX(WT$2:WT359)+1,\"\")","v":""},"",{"$f":"IF(AND(SUM($UB360:$VY360)>0,$TM360=WW$1),MAX(WV$2:WV359)+1,\"\")","v":""},"",{"$f":"IF(AND(SUM($UB360:$VY360)>0,$TM360=WY$1),MAX(WX$2:WX359)+1,\"\")","v":""},""]
[null,null,null,null,null,null,null,null,null,null,null,null,null,null,null,null,null,null,null,null,null,null,null,null,null,null,null,null,null,null,null,null,null,null,null,null,null,null,null,null,null,null,null,null,null,null,null,null,null,null,null,null,null,null,null,null,null,null,null,null,null,null,null,null,null,null,null,null,null,null,null,null,null,null,null,null,null,null,null,null,null,null,null,null,null,null,null,null,null,null,null,null,null,null,null,null,null,null,null,null,null,null,null,null,null,null,null,null,null,null,null,null,null,null,null,null,null,null,null,null,null,null,null,null,null,null,null,null,null,null,null,null,null,null,null,null,null,null,null,null,null,null,null,null,null,null,null,null,null,null,null,null,null,null,null,null,null,null,null,null,null,null,null,null,null,null,null,null,null,null,null,null,null,null,null,null,null,null,null,null,null,null,null,null,null,null,null,null,null,null,null,null,null,null,null,null,null,null,null,null,null,null,null,null,null,null,null,null,null,null,null,null,null,null,null,null,null,null,null,null,null,null,null,null,null,null,null,null,null,null,null,null,null,null,null,null,null,null,null,null,null,null,null,null,null,null,null,null,null,null,null,null,null,null,null,null,null,null,null,null,null,null,null,null,null,null,null,null,null,null,null,null,null,null,null,null,null,null,null,null,null,null,null,null,null,null,null,null,null,null,null,null,null,null,null,null,null,null,null,null,null,null,null,null,null,null,null,null,null,null,null,null,null,null,null,null,null,null,null,null,null,null,null,null,null,null,null,null,null,null,null,null,null,null,null,null,null,null,null,null,null,null,null,null,null,null,null,null,null,null,null,null,null,null,null,null,null,null,null,null,null,null,null,null,null,null,null,null,null,null,null,null,null,null,null,null,null,null,null,null,null,null,null,null,null,null,null,null,null,null,null,null,null,null,null,null,null,null,null,null,null,null,null,null,null,null,null,null,null,null,null,null,null,null,null,null,null,null,null,null,null,null,null,null,null,null,null,null,null,null,null,null,null,null,null,null,null,null,null,null,null,null,null,null,null,null,null,null,null,null,null,null,null,null,null,null,null,null,null,null,null,null,null,null,null,null,null,null,null,null,null,null,null,null,null,null,null,null,null,null,null,null,null,null,null,null,null,null,null,null,null,null,null,null,null,null,null,null,null,null,null,null,null,null,null,null,null,null,null,null,null,null,null,null,null,null,null,null,null,null,null,null,null,null,null,null,null,null,null,359,"Witch Bolt","LEVEL 1",1,"Witch Bolt ᴴ ","ᴴ ","",{"$f":"IF(OR(TK361=Spellcasting!$AC$18,TK361=Spellcasting!$AC$19),\"ᵐ\",\"\")","v":""},{"$f":"IF(OR(TK361=Spellcasting!$AC$20,TK361=Spellcasting!$AC$21),\"ˢ\",\"\")","v":""},{"$f":"\"\"","v":""},"1 act","30 ft","1 min ᶜᵒᶰ","VSM","a twig from a tree that has been struck by lightning","evocation","evoc","A beam of crackling, blue energy lances out toward a creature within range, forming a sustained arc of lightning between you and the target. Make a ranged spell attack against that creature. On a hit, the target takes 1d12 lightning damage, and on each of your turns for the duration, you can use your action to deal 1d12 lightning damage to the target automatically. The spell ends if you use your action to do anything else. The spell also ends if the target is ever outside the spell’s range or if it has total cover from you. \n\nAt Higher Levels. When you cast this spell using a spell slot of 2nd level or higher, the initial damage increases by 1d12 for each slot level above 1st.",{"$f":"\"ranged, 1d12\"&IF(WizardEvocationLevel>=10,\"+\"&INTMod,\"\")&\" lightning, use action to deal 1d12\"&IF(WizardEvocationLevel>=10,\"+\"&INTMod,IF(AD278=TRUE,\"+\"&CHAMod,\"\"))&\" lightning\"","v":"ranged, 1d12 lightning, use action to deal 1d12 lightning"},null,null,null,{"$f":"IF(UF$1>=$TM361,1,\"0\")","v":"0"},{"$f":"IF(UG$1>=$TM361,1,\"0\")","v":"0"},null,null,null,null,{"$f":"IF(UL$1>=$TM361,1,\"0\")","v":"0"},null,null,null,null,null,null,null,null,null,null,null,null,null,null,null,null,null,null,null,null,null,null,null,null,null,null,null,null,null,{"$f":"IF(VP$1>=$TM361,1,\"0\")","v":"0"},null,null,null,null,null,null,null,null,null,null,null,null,null,{"$f":"IF(SUM($VZ$1:$WC$1)>0,IF(AND(SUM($VZ361:$WC361)>0,$TM361=WE$1),MAX(WD$2:WD360)+1,\"\"),IF(AND(SUM($UC361:$VY361)>0,$TM361=WE$1),MAX(WD$2:WD360)+1,\"\"))","v":""},"",{"$f":"IF(AND(SUM($UB361:$VY361)>0,$TM361=WG$1),MAX(WF$2:WF360)+1,\"\")","v":""},"",{"$f":"IF(AND(SUM($UB361:$VY361)>0,$TM361=WI$1),MAX(WH$2:WH360)+1,\"\")","v":""},"",{"$f":"IF(AND(SUM($UB361:$VY361)>0,$TM361=WK$1),MAX(WJ$2:WJ360)+1,\"\")","v":""},"",{"$f":"IF(AND(SUM($UB361:$VY361)>0,$TM361=WM$1),MAX(WL$2:WL360)+1,\"\")","v":""},"",{"$f":"IF(AND(SUM($UB361:$VY361)>0,$TM361=WO$1),MAX(WN$2:WN360)+1,\"\")","v":""},"",{"$f":"IF(AND(SUM($UB361:$VY361)>0,$TM361=WQ$1),MAX(WP$2:WP360)+1,\"\")","v":""},"",{"$f":"IF(AND(SUM($UB361:$VY361)>0,$TM361=WS$1),MAX(WR$2:WR360)+1,\"\")","v":""},"",{"$f":"IF(AND(SUM($UB361:$VY361)>0,$TM361=WU$1),MAX(WT$2:WT360)+1,\"\")","v":""},"",{"$f":"IF(AND(SUM($UB361:$VY361)>0,$TM361=WW$1),MAX(WV$2:WV360)+1,\"\")","v":""},"",{"$f":"IF(AND(SUM($UB361:$VY361)>0,$TM361=WY$1),MAX(WX$2:WX360)+1,\"\")","v":""},""]
[null,null,null,null,null,null,null,null,null,null,null,null,null,null,null,null,null,null,null,null,null,null,null,null,null,null,null,null,null,null,null,null,null,null,null,null,null,null,null,null,null,null,null,null,null,null,null,null,null,null,null,null,null,null,null,null,null,null,null,null,null,null,null,null,null,null,null,null,null,null,null,null,null,null,null,null,null,null,null,null,null,null,null,null,null,null,null,null,null,null,null,null,null,null,null,null,null,null,null,null,null,null,null,null,null,null,null,null,null,null,null,null,null,null,null,null,null,null,null,null,null,null,null,null,null,null,null,null,null,null,null,null,null,null,null,null,null,null,null,null,null,null,null,null,null,null,null,null,null,null,null,null,null,null,null,null,null,null,null,null,null,null,null,null,null,null,null,null,null,null,null,null,null,null,null,null,null,null,null,null,null,null,null,null,null,null,null,null,null,null,null,null,null,null,null,null,null,null,null,null,null,null,null,null,null,null,null,null,null,null,null,null,null,null,null,null,null,null,null,null,null,null,null,null,null,null,null,null,null,null,null,null,null,null,null,null,null,null,null,null,null,null,null,null,null,null,null,null,null,null,null,null,null,null,null,null,null,null,null,null,null,null,null,null,null,null,null,null,null,null,null,null,null,null,null,null,null,null,null,null,null,null,null,null,null,null,null,null,null,null,null,null,null,null,null,null,null,null,null,null,null,null,null,null,null,null,null,null,null,null,null,null,null,null,null,null,null,null,null,null,null,null,null,null,null,null,null,null,null,null,null,null,null,null,null,null,null,null,null,null,null,null,null,null,null,null,null,null,null,null,null,null,null,null,null,null,null,null,null,null,null,null,null,null,null,null,null,null,null,null,null,null,null,null,null,null,null,null,null,null,null,null,null,null,null,null,null,null,null,null,null,null,null,null,null,null,null,null,null,null,null,null,null,null,null,null,null,null,null,null,null,null,null,null,null,null,null,null,null,null,null,null,null,null,null,null,null,null,null,null,null,null,null,null,null,null,null,null,null,null,null,null,null,null,null,null,null,null,null,null,null,null,null,null,null,null,null,null,null,null,null,null,null,null,null,null,null,null,null,null,null,null,null,null,null,null,null,null,null,null,null,null,null,null,null,null,null,null,null,null,null,null,null,null,null,null,null,null,null,null,null,null,null,null,null,null,null,null,null,null,null,null,null,null,null,null,null,null,null,null,null,null,null,null,null,null,null,null,null,360,"Word of Recall","LEVEL 6",6,"Word of Recall ",{"$f":"\"\"","v":""},"",{"$f":"IF(OR(TK362=Spellcasting!$AC$18,TK362=Spellcasting!$AC$19),\"ᵐ\",\"\")","v":""},{"$f":"IF(OR(TK362=Spellcasting!$AC$20,TK362=Spellcasting!$AC$21),\"ˢ\",\"\")","v":""},{"$f":"\"\"","v":""},"1 act","5 ft","instant","V",{"$f":"\"\"","v":""},"conjuration","conjur","You and up to five willing creatures within 5 feet of you instantly teleport to a previously designated sanctuary. You and any creatures that teleport with you appear in the nearest unoccupied space to the spot you designated when you prepared your sanctuary (see below). If you cast this spell without first preparing a sanctuary, the spell has no effect. \n\nYou must designate a sanctuary by casting this spell within a location, such as a temple, dedicated to or strongly linked to your deity. If you attempt to cast the spell in this manner in an area that isn’t dedicated to your deity, the spell has no effect.","you +5 targets instantly teleport to pre-designated area",null,null,null,null,null,{"$f":"IF(UH$1>=$TM362,1,\"0\")","v":"0"},null,null,null,null,null,null,null,null,null,null,null,null,null,null,null,null,null,null,null,null,null,null,null,null,null,null,null,null,null,null,null,null,null,null,null,null,null,null,null,null,null,null,null,null,null,null,null,{"$f":"IF(SUM($VZ$1:$WC$1)>0,IF(AND(SUM($VZ362:$WC362)>0,$TM362=WE$1),MAX(WD$2:WD361)+1,\"\"),IF(AND(SUM($UC362:$VY362)>0,$TM362=WE$1),MAX(WD$2:WD361)+1,\"\"))","v":""},"",{"$f":"IF(AND(SUM($UB362:$VY362)>0,$TM362=WG$1),MAX(WF$2:WF361)+1,\"\")","v":""},"",{"$f":"IF(AND(SUM($UB362:$VY362)>0,$TM362=WI$1),MAX(WH$2:WH361)+1,\"\")","v":""},"",{"$f":"IF(AND(SUM($UB362:$VY362)>0,$TM362=WK$1),MAX(WJ$2:WJ361)+1,\"\")","v":""},"",{"$f":"IF(AND(SUM($UB362:$VY362)>0,$TM362=WM$1),MAX(WL$2:WL361)+1,\"\")","v":""},"",{"$f":"IF(AND(SUM($UB362:$VY362)>0,$TM362=WO$1),MAX(WN$2:WN361)+1,\"\")","v":""},"",{"$f":"IF(AND(SUM($UB362:$VY362)>0,$TM362=WQ$1),MAX(WP$2:WP361)+1,\"\")","v":""},"",{"$f":"IF(AND(SUM($UB362:$VY362)>0,$TM362=WS$1),MAX(WR$2:WR361)+1,\"\")","v":""},"",{"$f":"IF(AND(SUM($UB362:$VY362)>0,$TM362=WU$1),MAX(WT$2:WT361)+1,\"\")","v":""},"",{"$f":"IF(AND(SUM($UB362:$VY362)>0,$TM362=WW$1),MAX(WV$2:WV361)+1,\"\")","v":""},"",{"$f":"IF(AND(SUM($UB362:$VY362)>0,$TM362=WY$1),MAX(WX$2:WX361)+1,\"\")","v":""},""]
[null,null,null,null,null,null,null,null,null,null,null,null,null,null,null,null,null,null,null,null,null,null,null,null,null,null,null,null,null,null,null,null,null,null,null,null,null,null,null,null,null,null,null,null,null,null,null,null,null,null,null,null,null,null,null,null,null,null,null,null,null,null,null,null,null,null,null,null,null,null,null,null,null,null,null,null,null,null,null,null,null,null,null,null,null,null,null,null,null,null,null,null,null,null,null,null,null,null,null,null,null,null,null,null,null,null,null,null,null,null,null,null,null,null,null,null,null,null,null,null,null,null,null,null,null,null,null,null,null,null,null,null,null,null,null,null,null,null,null,null,null,null,null,null,null,null,null,null,null,null,null,null,null,null,null,null,null,null,null,null,null,null,null,null,null,null,null,null,null,null,null,null,null,null,null,null,null,null,null,null,null,null,null,null,null,null,null,null,null,null,null,null,null,null,null,null,null,null,null,null,null,null,null,null,null,null,null,null,null,null,null,null,null,null,null,null,null,null,null,null,null,null,null,null,null,null,null,null,null,null,null,null,null,null,null,null,null,null,null,null,null,null,null,null,null,null,null,null,null,null,null,null,null,null,null,null,null,null,null,null,null,null,null,null,null,null,null,null,null,null,null,null,null,null,null,null,null,null,null,null,null,null,null,null,null,null,null,null,null,null,null,null,null,null,null,null,null,null,null,null,null,null,null,null,null,null,null,null,null,null,null,null,null,null,null,null,null,null,null,null,null,null,null,null,null,null,null,null,null,null,null,null,null,null,null,null,null,null,null,null,null,null,null,null,null,null,null,null,null,null,null,null,null,null,null,null,null,null,null,null,null,null,null,null,null,null,null,null,null,null,null,null,null,null,null,null,null,null,null,null,null,null,null,null,null,null,null,null,null,null,null,null,null,null,null,null,null,null,null,null,null,null,null,null,null,null,null,null,null,null,null,null,null,null,null,null,null,null,null,null,null,null,null,null,null,null,null,null,null,null,null,null,null,null,null,null,null,null,null,null,null,null,null,null,null,null,null,null,null,null,null,null,null,null,null,null,null,null,null,null,null,null,null,null,null,null,null,null,null,null,null,null,null,null,null,null,null,null,null,null,null,null,null,null,null,null,null,null,null,null,null,null,null,null,null,null,null,null,null,null,null,null,null,null,null,null,null,null,null,null,null,null,null,null,null,null,null,null,null,null,null,null,null,null,null,null,null,null,null,361,"Wrathful Smite","LEVEL 1",1,"Wrathful Smite ",{"$f":"\"\"","v":""},"",{"$f":"IF(OR(TK363=Spellcasting!$AC$18,TK363=Spellcasting!$AC$19),\"ᵐ\",\"\")","v":""},{"$f":"IF(OR(TK363=Spellcasting!$AC$20,TK363=Spellcasting!$AC$21),\"ˢ\",\"\")","v":""},{"$f":"\"\"","v":""},"1 bon","self","1 min ᶜᵒᶰ","V",{"$f":"\"\"","v":""},"evocation","evoc","The next time you hit with a melee weapon attack during this spell’s duration, your attack deals an extra 1d6 psychic damage. Additionally, if the target is a creature, it must make a Wisdom saving throw or be frightened of you until the spell ends. As an action, the creature can make a Wisdom check against your spell save DC to steel its resolve and end this spell.\n","melee, +1d6 psychic, wis save, frightened",null,{"$f":"IF(UD$1>=$TM363,1,\"0\")","v":"0"},null,null,null,null,null,null,null,null,null,null,null,null,null,null,null,null,null,null,null,null,null,null,null,null,null,null,null,null,null,null,null,null,null,null,null,null,null,null,null,null,null,null,null,null,null,null,null,null,null,null,null,{"$f":"IF(SUM($VZ$1:$WC$1)>0,IF(AND(SUM($VZ363:$WC363)>0,$TM363=WE$1),MAX(WD$2:WD362)+1,\"\"),IF(AND(SUM($UC363:$VY363)>0,$TM363=WE$1),MAX(WD$2:WD362)+1,\"\"))","v":""},"",{"$f":"IF(AND(SUM($UB363:$VY363)>0,$TM363=WG$1),MAX(WF$2:WF362)+1,\"\")","v":""},"",{"$f":"IF(AND(SUM($UB363:$VY363)>0,$TM363=WI$1),MAX(WH$2:WH362)+1,\"\")","v":""},"",{"$f":"IF(AND(SUM($UB363:$VY363)>0,$TM363=WK$1),MAX(WJ$2:WJ362)+1,\"\")","v":""},"",{"$f":"IF(AND(SUM($UB363:$VY363)>0,$TM363=WM$1),MAX(WL$2:WL362)+1,\"\")","v":""},"",{"$f":"IF(AND(SUM($UB363:$VY363)>0,$TM363=WO$1),MAX(WN$2:WN362)+1,\"\")","v":""},"",{"$f":"IF(AND(SUM($UB363:$VY363)>0,$TM363=WQ$1),MAX(WP$2:WP362)+1,\"\")","v":""},"",{"$f":"IF(AND(SUM($UB363:$VY363)>0,$TM363=WS$1),MAX(WR$2:WR362)+1,\"\")","v":""},"",{"$f":"IF(AND(SUM($UB363:$VY363)>0,$TM363=WU$1),MAX(WT$2:WT362)+1,\"\")","v":""},"",{"$f":"IF(AND(SUM($UB363:$VY363)>0,$TM363=WW$1),MAX(WV$2:WV362)+1,\"\")","v":""},"",{"$f":"IF(AND(SUM($UB363:$VY363)>0,$TM363=WY$1),MAX(WX$2:WX362)+1,\"\")","v":""},""]
[null,null,null,null,null,null,null,null,null,null,null,null,null,null,null,null,null,null,null,null,null,null,null,null,null,null,null,null,null,null,null,null,null,null,null,null,null,null,null,null,null,null,null,null,null,null,null,null,null,null,null,null,null,null,null,null,null,null,null,null,null,null,null,null,null,null,null,null,null,null,null,null,null,null,null,null,null,null,null,null,null,null,null,null,null,null,null,null,null,null,null,null,null,null,null,null,null,null,null,null,null,null,null,null,null,null,null,null,null,null,null,null,null,null,null,null,null,null,null,null,null,null,null,null,null,null,null,null,null,null,null,null,null,null,null,null,null,null,null,null,null,null,null,null,null,null,null,null,null,null,null,null,null,null,null,null,null,null,null,null,null,null,null,null,null,null,null,null,null,null,null,null,null,null,null,null,null,null,null,null,null,null,null,null,null,null,null,null,null,null,null,null,null,null,null,null,null,null,null,null,null,null,null,null,null,null,null,null,null,null,null,null,null,null,null,null,null,null,null,null,null,null,null,null,null,null,null,null,null,null,null,null,null,null,null,null,null,null,null,null,null,null,null,null,null,null,null,null,null,null,null,null,null,null,null,null,null,null,null,null,null,null,null,null,null,null,null,null,null,null,null,null,null,null,null,null,null,null,null,null,null,null,null,null,null,null,null,null,null,null,null,null,null,null,null,null,null,null,null,null,null,null,null,null,null,null,null,null,null,null,null,null,null,null,null,null,null,null,null,null,null,null,null,null,null,null,null,null,null,null,null,null,null,null,null,null,null,null,null,null,null,null,null,null,null,null,null,null,null,null,null,null,null,null,null,null,null,null,null,null,null,null,null,null,null,null,null,null,null,null,null,null,null,null,null,null,null,null,null,null,null,null,null,null,null,null,null,null,null,null,null,null,null,null,null,null,null,null,null,null,null,null,null,null,null,null,null,null,null,null,null,null,null,null,null,null,null,null,null,null,null,null,null,null,null,null,null,null,null,null,null,null,null,null,null,null,null,null,null,null,null,null,null,null,null,null,null,null,null,null,null,null,null,null,null,null,null,null,null,null,null,null,null,null,null,null,null,null,null,null,null,null,null,null,null,null,null,null,null,null,null,null,null,null,null,null,null,null,null,null,null,null,null,null,null,null,null,null,null,null,null,null,null,null,null,null,null,null,null,null,null,null,null,null,null,null,null,null,null,null,null,null,null,null,null,null,null,null,null,362,"Zone of Truth","LEVEL 2",2,"Zone of Truth ",{"$f":"\"\"","v":""},"",{"$f":"IF(OR(TK364=Spellcasting!$AC$18,TK364=Spellcasting!$AC$19),\"ᵐ\",\"\")","v":""},{"$f":"IF(OR(TK364=Spellcasting!$AC$20,TK364=Spellcasting!$AC$21),\"ˢ\",\"\")","v":""},{"$f":"\"\"","v":""},"1 act","60 ft","10 min","VS",{"$f":"\"\"","v":""},"enchantment","ench","You create a magical zone that guards against deception in a 15-foot-radius sphere centered on a point of your choice within range. Until the spell ends, a creature that enters the spell’s area for the first time on a turn or starts its turn there must make a Charisma saving throw. On a failed save, a creature can’t speak a deliberate lie while in the radius. You know whether each creature succeeds or fails on its saving throw. \n\nAn affected creature is aware of the spell and can thus avoid answering questions to which it would normally respond with a lie. Such a creature can be evasive in its answers as long as it remains within the boundaries of the truth.","15ft rad sphere, cha save, can't speak deliberate lie",{"$f":"IF(UC$1>=$TM364,1,\"0\")","v":"0"},{"$f":"IF(UD$1>=$TM364,1,\"0\")","v":"0"},null,null,null,{"$f":"IF(UH$1>=$TM364,1,\"0\")","v":"0"},null,null,null,null,null,null,{"$f":"IF(UO$1>=$TM364,1,\"0\")","v":"0"},null,null,null,null,null,null,null,null,null,null,null,null,null,null,null,null,null,null,null,null,null,null,null,null,null,null,null,null,null,null,null,null,null,null,null,null,null,null,null,null,{"$f":"IF(SUM($VZ$1:$WC$1)>0,IF(AND(SUM($VZ364:$WC364)>0,$TM364=WE$1),MAX(WD$2:WD363)+1,\"\"),IF(AND(SUM($UC364:$VY364)>0,$TM364=WE$1),MAX(WD$2:WD363)+1,\"\"))","v":""},"",{"$f":"IF(AND(SUM($UB364:$VY364)>0,$TM364=WG$1),MAX(WF$2:WF363)+1,\"\")","v":""},"",{"$f":"IF(AND(SUM($UB364:$VY364)>0,$TM364=WI$1),MAX(WH$2:WH363)+1,\"\")","v":""},"",{"$f":"IF(AND(SUM($UB364:$VY364)>0,$TM364=WK$1),MAX(WJ$2:WJ363)+1,\"\")","v":""},"",{"$f":"IF(AND(SUM($UB364:$VY364)>0,$TM364=WM$1),MAX(WL$2:WL363)+1,\"\")","v":""},"",{"$f":"IF(AND(SUM($UB364:$VY364)>0,$TM364=WO$1),MAX(WN$2:WN363)+1,\"\")","v":""},"",{"$f":"IF(AND(SUM($UB364:$VY364)>0,$TM364=WQ$1),MAX(WP$2:WP363)+1,\"\")","v":""},"",{"$f":"IF(AND(SUM($UB364:$VY364)>0,$TM364=WS$1),MAX(WR$2:WR363)+1,\"\")","v":""},"",{"$f":"IF(AND(SUM($UB364:$VY364)>0,$TM364=WU$1),MAX(WT$2:WT363)+1,\"\")","v":""},"",{"$f":"IF(AND(SUM($UB364:$VY364)>0,$TM364=WW$1),MAX(WV$2:WV363)+1,\"\")","v":""},"",{"$f":"IF(AND(SUM($UB364:$VY364)>0,$TM364=WY$1),MAX(WX$2:WX363)+1,\"\")","v":""},""]

{"sheet":"Character Sheet I","index":3,"n_rows":158,"n_cols":116,"rows_kept":158,"cut":false,"hidden":false,"merged":[[1,1,2,28],[9,54,10,64],[9,66,10,77],[9,79,10,90],[5,70,6,90],[1,73,2,90],[9,5,10,19],[9,28,10,33],[13,56,14,98],[1,30,2,47],[5,25,6,52],[5,54,6,68],[1,49,2,59],[1,61,2,71],[5,1,6,23],[9,41,10,45],[9,35,10,39],[9,1,10,3],[9,47,10,52],[9,21,10,26],[13,1,14,30],[13,32,14,54],[144,1,145,7],[144,8,145,18],[156,1,157,7],[156,8,157,18],[140,9,140,54],[141,9,143,54],[153,9,155,54],[152,9,152,54],[75,41,77,49],[81,1,82,9],[83,1,83,9],[81,26,82,39],[83,26,83,39],[104,9,104,54],[108,1,109,7],[108,8,109,18],[117,9,119,54],[116,9,116,54],[92,9,92,54],[96,1,97,7],[96,8,97,18],[75,20,77,20],[75,21,77,24],[78,16,79,19],[34,50,36,54],[36,76,37,80],[40,81,41,81],[38,76,39,80],[40,72,41,74],[38,68,39,70],[38,81,39,81],[36,68,37,70],[36,72,37,74],[40,76,41,80],[38,56,39,67],[40,56,41,62],[42,93,43,93],[42,94,43,98],[42,87,43,87],[44,87,45,87],[48,88,49,92],[48,93,49,93],[48,94,49,98],[48,87,49,87],[58,42,60,54],[48,36,48,45],[48,48,49,54],[58,37,60,41],[57,37,57,41],[50,87,51,87],[50,88,51,92],[50,93,51,93],[52,56,53,67],[52,82,53,86],[48,68,49,70],[44,72,45,74],[42,76,43,80],[44,76,45,80],[48,76,49,80],[48,72,49,74],[40,1,40,6],[46,94,47,98],[48,82,49,86],[52,88,53,92],[52,93,53,93],[52,87,53,87],[42,68,43,70],[44,56,45,67],[44,68,45,70],[42,56,43,67],[44,82,45,86],[44,88,45,92],[44,93,45,93],[50,81,51,81],[46,56,47,67],[46,81,47,81],[46,76,47,80],[44,81,45,81],[42,81,43,81],[48,56,49,67],[50,56,51,67],[52,68,53,70],[44,94,45,98],[42,88,43,92],[30,8,32,12],[34,8,36,12],[22,44,24,48],[22,32,24,36],[22,38,24,42],[30,44,32,48],[26,44,28,48],[30,38,32,42],[38,20,40,24],[30,32,32,36],[34,32,36,36],[30,26,32,30],[30,20,32,24],[26,32,28,36],[38,8,40,12],[22,26,24,30],[38,14,40,18],[38,38,40,42],[38,26,40,30],[38,32,40,36],[34,44,36,48],[34,38,36,42],[38,44,40,48],[75,11,77,14],[58,27,60,31],[57,32,57,36],[58,32,60,36],[88,27,88,41],[57,21,57,26],[68,32,70,54],[78,20,79,25],[57,42,57,54],[81,45,83,45],[58,1,60,20],[77,1,77,9],[66,1,67,20],[61,1,61,8],[56,1,57,20],[62,1,64,8],[58,21,60,26],[68,1,70,20],[75,16,77,19],[84,11,85,14],[61,9,61,54],[84,15,85,20],[57,27,57,31],[120,47,121,47],[84,45,85,50],[96,39,97,39],[108,50,109,50],[108,45,109,45],[96,47,97,47],[113,27,115,41],[112,42,112,54],[120,34,121,34],[84,41,85,44],[96,33,97,33],[108,33,109,33],[120,52,121,52],[96,29,97,29],[62,56,65,61],[58,70,60,77],[58,79,60,98],[52,76,53,80],[50,76,51,80],[55,56,56,98],[58,65,60,68],[50,94,51,98],[50,82,51,86],[50,72,51,74],[128,78,129,98],[121,78,122,98],[114,78,115,98],[128,56,129,76],[80,67,81,76],[82,67,83,76],[84,67,85,76],[86,67,87,76],[86,89,87,98],[82,89,83,98],[84,89,85,98],[80,89,81,98],[117,56,119,76],[117,78,119,98],[110,56,112,76],[110,78,112,98],[84,78,85,87],[86,78,87,87],[100,56,101,76],[107,78,108,98],[82,78,83,87],[80,78,81,87],[93,78,94,98],[100,78,101,98],[26,72,27,74],[32,68,33,70],[24,72,25,74],[30,68,31,70],[28,72,29,74],[30,72,31,74],[32,72,33,74],[42,72,43,74],[38,72,39,74],[40,68,41,70],[46,68,47,70],[114,56,115,76],[121,56,122,76],[132,28,133,28],[132,29,133,29],[120,39,121,39],[132,44,133,44],[132,45,133,45],[50,68,51,70],[67,32,67,54],[75,26,76,33],[120,53,121,53],[120,54,121,54],[72,62,75,98],[72,56,75,61],[96,56,98,76],[96,46,97,46],[77,56,78,98],[100,42,100,54],[103,78,105,98],[86,56,87,65],[90,56,91,98],[124,78,126,98],[93,56,94,76],[96,78,98,98],[103,56,105,76],[68,27,70,31],[72,1,73,54],[77,26,77,33],[81,41,83,44],[81,46,83,49],[96,32,97,32],[105,9,107,54],[96,41,97,41],[96,38,97,38],[96,34,97,34],[96,40,97,40],[96,42,97,42],[81,51,83,54],[101,1,103,20],[81,16,83,19],[81,20,83,20],[81,21,83,24],[96,22,97,22],[96,23,97,23],[96,24,97,24],[75,1,76,9],[84,51,85,54],[45,36,47,45],[75,35,77,39],[68,21,70,26],[67,21,67,26],[48,13,48,22],[48,31,48,34],[22,56,23,67],[36,56,37,67],[26,38,28,42],[26,20,28,24],[34,26,36,30],[22,20,24,24],[30,50,32,54],[58,56,60,63],[67,62,70,98],[50,22,52,22],[53,28,54,31],[26,26,28,30],[45,24,46,29],[34,14,36,18],[46,72,47,74],[53,18,54,21],[22,50,24,54],[26,87,27,87],[15,38,17,42],[18,38,20,42],[15,44,17,48],[22,14,24,18],[26,14,28,18],[30,14,32,18],[18,32,20,36],[50,13,52,16],[50,17,52,17],[15,32,17,36],[34,20,36,24],[50,28,52,31],[18,20,20,24],[50,34,52,43],[50,45,52,54],[50,23,52,26],[50,27,52,27],[50,18,52,21],[38,50,40,54],[42,1,43,54],[45,31,47,34],[38,1,39,6],[47,1,47,6],[36,1,36,6],[48,8,48,11],[82,56,83,65],[67,56,70,61],[75,15,77,15],[84,1,85,9],[84,56,85,65],[62,9,64,54],[81,50,83,50],[75,51,77,54],[50,8,52,11],[50,12,52,12],[53,45,54,54],[53,34,54,43],[53,22,54,27],[53,8,54,11],[53,13,54,16],[80,56,81,65],[78,1,79,9],[78,26,79,33],[78,11,79,14],[62,62,65,98],[52,94,53,98],[52,72,53,74],[52,81,53,81],[45,1,46,6],[45,8,47,11],[47,24,47,29],[45,13,47,22],[52,1,52,6],[129,1,131,8],[137,1,139,20],[137,21,139,26],[128,1,128,8],[113,1,115,20],[120,27,121,27],[120,28,121,28],[120,29,121,29],[125,1,127,20],[120,1,121,7],[116,1,116,8],[132,1,133,7],[132,8,133,18],[136,21,136,26],[120,8,121,18],[120,26,121,26],[117,1,119,8],[108,20,109,20],[113,21,115,26],[156,45,157,45],[156,46,157,46],[144,51,145,51],[144,40,145,40],[144,41,145,41],[144,48,145,48],[156,23,157,23],[108,34,109,34],[108,35,109,35],[108,51,109,51],[144,24,145,24],[156,44,157,44],[156,38,157,38],[144,47,145,47],[156,30,157,30],[144,34,145,34],[148,27,148,41],[144,38,145,38],[144,39,145,39],[112,27,112,41],[108,24,109,24],[120,32,121,32],[120,33,121,33],[120,51,121,51],[144,52,145,52],[144,46,145,46],[156,52,157,52],[156,53,157,53],[156,34,157,34],[156,35,157,35],[149,27,151,41],[144,33,145,33],[156,24,157,24],[144,35,145,35],[144,36,145,36],[144,30,145,30],[156,32,157,32],[156,36,157,36],[156,26,157,26],[156,27,157,27],[156,28,157,28],[156,40,157,40],[156,41,157,41],[156,42,157,42],[148,21,148,26],[156,39,157,39],[156,33,157,33],[144,23,145,23],[141,1,143,8],[140,1,140,8],[132,24,133,24],[137,27,139,41],[132,26,133,26],[132,30,133,30],[108,40,109,40],[108,41,109,41],[120,35,121,35],[120,36,121,36],[120,38,121,38],[120,23,121,23],[120,24,121,24],[135,1,136,20],[136,27,136,41],[132,23,133,23],[132,20,133,20],[132,21,133,21],[108,22,109,22],[108,23,109,23],[120,20,121,20],[132,32,133,32],[123,1,124,20],[124,21,124,26],[92,1,92,8],[99,1,100,20],[93,1,95,8],[88,21,88,26],[111,1,112,20],[108,27,109,27],[108,28,109,28],[108,29,109,29],[93,9,95,54],[105,1,107,8],[108,32,109,32],[104,1,104,8],[96,26,97,26],[96,27,97,27],[96,28,97,28],[108,21,109,21],[96,21,97,21],[88,42,88,54],[89,42,91,54],[101,21,103,26],[100,21,100,26],[96,20,97,20],[89,1,91,20],[87,1,88,20],[15,56,17,67],[18,44,20,48],[18,1,19,6],[96,52,97,52],[96,53,97,53],[96,54,97,54],[96,44,97,44],[96,45,97,45],[108,38,109,38],[100,27,100,41],[96,30,97,30],[108,30,109,30],[108,39,109,39],[108,53,109,53],[108,54,109,54],[101,27,103,41],[96,48,97,48],[108,52,109,52],[81,11,83,14],[81,15,83,15],[84,21,85,24],[89,21,91,26],[50,1,51,6],[67,27,67,31],[24,1,24,6],[36,81,37,81],[18,14,20,18],[36,82,37,86],[15,8,17,12],[34,81,35,81],[34,76,35,80],[30,81,31,81],[32,81,33,81],[20,76,21,80],[22,76,23,80],[26,56,27,67],[34,72,35,74],[34,56,35,67],[26,50,28,54],[32,76,33,80],[24,76,25,80],[28,76,29,80],[30,76,31,80],[18,76,19,80],[20,1,20,6],[15,26,17,30],[18,26,20,30],[15,14,17,18],[30,1,31,6],[22,8,24,12],[15,20,17,24],[26,1,27,6],[32,1,32,6],[26,8,28,12],[34,1,35,6],[26,81,27,81],[32,56,33,67],[26,76,27,80],[28,56,29,67],[28,68,29,70],[15,50,17,54],[18,50,20,54],[18,8,20,12],[30,56,31,67],[22,1,23,6],[20,56,21,67],[20,68,21,70],[15,1,17,6],[15,68,17,70],[18,68,19,70],[18,56,19,67],[22,72,23,74],[20,81,21,81],[22,94,23,98],[18,72,19,74],[15,71,17,75],[20,93,21,93],[22,93,23,93],[22,88,23,92],[15,76,17,80],[15,82,17,86],[18,81,19,81],[22,81,23,81],[20,72,21,74],[15,88,17,92],[18,82,19,86],[20,87,21,87],[22,87,23,87],[22,82,23,86],[20,82,21,86],[18,93,19,93],[26,82,27,86],[24,82,25,86],[36,94,37,98],[30,94,31,98],[34,94,35,98],[15,94,17,98],[18,88,19,92],[18,87,19,87],[36,93,37,93],[32,82,33,86],[30,82,31,86],[26,88,27,92],[26,93,27,93],[18,94,19,98],[20,88,21,92],[20,94,21,98],[46,82,47,86],[24,87,25,87],[26,68,27,70],[30,88,31,92],[30,93,31,93],[24,94,25,98],[32,94,33,98],[28,94,29,98],[26,94,27,98],[36,87,37,87],[40,94,41,98],[38,94,39,98],[30,87,31,87],[34,68,35,70],[28,93,29,93],[28,87,29,87],[28,88,29,92],[34,87,35,87],[32,87,33,87],[24,81,25,81],[36,88,37,92],[28,82,29,86],[24,88,25,92],[24,93,25,93],[22,68,23,70],[24,56,25,67],[24,68,25,70],[28,81,29,81],[48,81,49,81],[46,87,47,87],[46,88,47,92],[46,93,47,93],[28,1,28,6],[38,88,39,92],[40,88,41,92],[40,93,41,93],[42,82,43,86],[40,82,41,86],[40,87,41,87],[38,87,39,87],[38,82,39,86],[38,93,39,93],[34,88,35,92],[34,93,35,93],[32,88,33,92],[32,93,33,93],[40,63,41,67],[34,82,35,86],[140,78,141,87],[140,89,141,97],[139,56,141,66],[140,67,141,76],[156,20,157,20],[156,21,157,21],[156,22,157,22],[149,1,151,20],[149,21,151,26],[144,32,145,32],[144,42,145,42],[144,44,145,44],[144,45,145,45],[144,29,145,29],[153,1,155,8],[144,20,145,20],[147,1,148,20],[152,1,152,8],[156,29,157,29],[144,21,145,21],[144,22,145,22],[144,26,145,26],[144,27,145,27],[144,28,145,28],[156,89,157,97],[156,78,157,87],[152,89,153,97],[152,78,153,87],[144,89,145,97],[148,89,149,97],[144,78,145,87],[148,78,149,87],[156,54,157,54],[155,67,156,76],[155,56,156,66],[144,54,145,54],[149,42,151,54],[150,56,151,66],[150,67,151,76],[145,67,146,76],[144,53,145,53],[145,56,146,66],[148,42,148,54],[144,50,145,50],[156,51,157,51],[156,47,157,47],[156,50,157,50],[156,48,157,48],[132,33,133,33],[132,50,133,50],[132,41,133,41],[132,46,133,46],[132,47,133,47],[132,40,133,40],[132,42,133,42],[136,42,136,54],[132,51,133,51],[132,52,133,52],[132,48,133,48],[132,54,133,54],[137,42,139,54],[120,48,121,48],[108,36,109,36],[131,78,133,98],[136,78,137,98],[107,56,108,76],[124,56,126,76],[131,56,133,76],[128,9,128,54],[129,9,131,54],[132,22,133,22],[132,27,133,27],[120,40,121,40],[132,38,133,38],[132,39,133,39],[124,27,124,41],[136,56,137,76],[132,53,133,53],[132,34,133,34],[132,35,133,35],[132,36,133,36],[120,30,121,30],[120,44,121,44],[120,45,121,45],[125,21,127,26],[124,42,124,54],[125,27,127,41],[125,42,127,54],[89,27,91,41],[120,21,121,21],[120,22,121,22],[101,42,103,54],[96,51,97,51],[108,44,109,44],[108,46,109,46],[108,48,109,48],[108,42,109,42],[108,47,109,47],[96,35,97,35],[96,36,97,36],[96,50,97,50],[113,42,115,54],[120,42,121,42],[120,50,121,50],[108,26,109,26],[112,21,112,26],[120,41,121,41],[120,46,121,46]]}
[]
[null,{"$f":"IF(OR(CharacterLevel=\"\",CharacterName=\"\"),\"\",CharacterName)","v":""},null,null,null,null,null,null,null,null,null,null,null,null,null,null,null,null,null,null,null,null,null,null,null,null,null,null,null,null,{"$f":"IF(OR(CharacterLevel=\"\",CharacterBackground=\"\",CharacterBackground=SelectText),\"\",CharacterBackground)","v":""},null,null,null,null,null,null,null,null,null,null,null,null,null,null,null,null,null,null,{"$f":"IF(OR(CharacterLevel=\"\",Experience=\"\"),\"\",Experience)","v":0},null,null,null,null,null,null,null,null,null,null,null,{"$f":"IF(OR(CharacterLevel=\"\",Experience=\"\"),\"\",ExperienceNextLvl)","v":300},null,null,null,null,null,null,null,null,null,null,null,{"$f":"IF(OR(CharacterLevel=\"\",PlayerName=\"\"),\"\",PlayerName)","v":""}]
[]
[null,"CHARACTER NAME",null,null,null,null,null,null,null,null,null,null,null,null,null,null,null,null,null,null,null,null,null,null,null,null,null,null,null,null,"BACKGROUND",null,null,null,null,null,null,null,null,null,null,null,null,null,null,null,null,null,null,"EXPERIENCE",null,null,null,null,null,null,null,null,null,null,null,"NEXT LEVEL",null,null,null,null,null,null,null,null,null,null,null,"PLAYER NAME"]
[]
[null,{"$f":"IF(OR(CharacterLevel=\"\",Class=\"\"),\"\",Class)","v":""},null,null,null,null,null,null,null,null,null,null,null,null,null,null,null,null,null,null,null,null,null,null,null,{"$f":"IF(OR(CharacterLevel=\"\",SubClass=\"\"),\"\",SubClass)","v":""},null,null,null,null,null,null,null,null,null,null,null,null,null,null,null,null,null,null,null,null,null,null,null,null,null,null,null,null,{"$f":"IF(OR(CharacterLevel=\"\",Alignment=\"\",Alignment=Tables!IV3),\"\",Alignment)","v":""},null,null,null,null,null,null,null,null,null,null,null,null,null,null,null,{"$f":"IF(OR(CharacterLevel=\"\",Deity=\"\",Deity=Tables!IX3),\"\",Deity)","v":""}]
[]
[null,"CLASS",null,null,null,null,null,null,null,null,null,null,null,null,null,null,null,null,null,null,null,null,null,null,null,"SUBCLASS",null,null,null,null,null,null,null,null,null,null,null,null,null,null,null,null,null,null,null,null,null,null,null,null,null,null,null,null,"ALIGNMENT",null,null,null,null,null,null,null,null,null,null,null,null,null,null,null,"DEITY"]
[]
[null,{"$f":"IF(CharacterLevel=\"\",\"\",CharacterLevel)","v":1},null,null,null,{"$f":"IF(OR(CharacterLevel=\"\",Race=\"\",Race=Tables!A4),\"\",Race&IF(OR(Subrace=\"\",Subrace=SelectText),\"\",\" (\"&Subrace&\")\"))","v":""},null,null,null,null,null,null,null,null,null,null,null,null,null,null,null,{"$f":"IF(OR(CharacterLevel=\"\",Race=\"\",Race=Tables!A4),\"\",Size)","v":""},null,null,null,null,null,null,{"$f":"IF(OR(CharacterLevel=\"\",Gender=\"\",Gender=Tables!AB3),\"\",Gender)","v":""},null,null,null,null,null,null,{"$f":"IF(OR(CharacterLevel=\"\",CharacterAge=\"\"),\"\",CharacterAge)","v":0},null,null,null,null,null,{"$f":"IF(OR(CharacterLevel=\"\",CharacterHeight=\"\"),\"\",CharacterHeight)","v":0},null,null,null,null,null,{"$f":"IF(OR(CharacterLevel=\"\",CharacterWeight=\"\"),\"\",CharacterWeight)","v":""},null,null,null,null,null,null,{"$f":"IF(OR(CharacterLevel=\"\",CharacterSkin=\"\"),\"\",CharacterSkin)","v":""},null,null,null,null,null,null,null,null,null,null,null,{"$f":"IF(OR(CharacterLevel=\"\",CharacterEyes=\"\"),\"\",CharacterEyes)","v":""},null,null,null,null,null,null,null,null,null,null,null,null,{"$f":"IF(OR(CharacterLevel=\"\",CharacterHair=\"\"),\"\",CharacterHair)","v":""}]
[]
[null,"LEVEL",null,null,null,{"$f":"IF(Subrace=Tables!U4,\"RACE\",\"RACE (SUBRACE)\")","v":"RACE"},null,null,null,null,null,null,null,null,null,null,null,null,null,null,null,"SIZE",null,null,null,null,null,null,"GENDER",null,null,null,null,null,null,"AGE",null,null,null,null,null,"HEIGHT",null,null,null,null,null,"WEIGHT",null,null,null,null,null,null,"SKIN",null,null,null,null,null,null,null,null,null,null,null,"EYES",null,null,null,null,null,null,null,null,null,null,null,null,"HAIR"]
[]
[null,"ABILITIES",null,null,null,null,null,null,null,null,null,null,null,null,null,null,null,null,null,null,null,null,null,null,null,null,null,null,null,null,null,null,"SAVING THROWS",null,null,null,null,null,null,null,null,null,null,null,null,null,null,null,null,null,null,null,null,null,null,null,"SKILLS"]
[]
[null,"ABILITY\nNAME",null,null,null,null,null,null,"ABILITY SCORE",null,null,null,null,null,"ABILITY MODIFIER",null,null,null,null,null,"TEMPORARY\nSCORE",null,null,null,null,null,"TEMPORARY\nMODIFIER",null,null,null,null,null,"SAVING\nTHROW",null,null,null,null,null,"ABILITY MODIFIER",null,null,null,null,null,"PROFICIENCY\nBONUS",null,null,null,null,null,"OTHER MODIFIER",null,null,null,null,null,"SKILL NAME",null,null,null,null,null,null,null,null,null,null,null,"KEY ABILITY",null,null,"PROFICIENT",null,null,null,null,"SKILL MODIFIER",null,null,null,null,null,"ABILITY MODIFIER",null,null,null,null,null,"PROFICIENCY\nBONUS",null,null,null,null,null,"OTHER MODIFIER"]
[]
[]
[null,"STR",null,null,null,null,null,null,{"$f":"IF(CharacterLevel=\"\",\"\",IF(U19=\"\",STR,U19))","v":0},null,null,null,null,{"$f":"STR","v":0},{"$f":"IF(I19=\"\",\"\",INT((I19-10)/2))","v":-5},null,null,null,null,null,null,null,null,null,null,null,{"$f":"IF(U19=0,\"\",INT((U19-10)/2))","v":""},null,null,null,null,null,{"$f":"IF(CharacterLevel=\"\",\"\",AM19+AS19+AY19)","v":-4},null,null,null,null,null,{"$f":"IF(AA19=\"\",O19,AA19)","v":-5},null,null,null,null,null,{"$f":"IF(CharacterLevel=\"\",\"\",IF(Tables!BG3=\"\",0,ProfBonus))","v":0},null,null,null,null,null,1,null,null,null,null,null,"ACROBATICS",null,null,null,null,null,null,null,null,null,null,null,"DEX",null,null,null,{"$f":"IF(CharacterLevel=\"\",\"○\",IF(Start!L65=\"\",\"○\",\"●\"))","v":"○"},null,null,null,{"$f":"IF(OR(BE19=\"\",CharacterLevel=\"\"),\"\",CE19+CK19+CQ19)","v":-5},null,null,null,null,"=",{"$f":"IF(OR(BE19=\"\",CharacterLevel=\"\"),\"\",INDIRECT(TEXT(BQ19&\"Mod\",0)))","v":-5},null,null,null,null,"+",{"$f":"IF(OR(BE19=\"\",CharacterLevel=\"\"),\"\",IF(BU19=\"●\",ProfBonus,0)+IF(RogueLevel>=1,IF(COUNTIF(Start!$AJ$63:$AR$66,BE19)>0,ProfBonus,0),0)+IF(AND(BU19=\"○\",FighterChampionLevel>=7),ROUNDUP(ProfBonus/2,0),0))","v":0},null,null,null,null,"+"]
[null,null,null,null,null,null,null,null,null,null,null,null,null,null,null,null,null,null,null,null,null,null,null,null,null,null,null,null,null,null,null,null,null,null,null,null,null,"=",null,null,null,null,null,"+",null,null,null,null,null,"+",null,null,null,null,null,null,null,null,null,null,null,null,null,null,null,null,null,null,null,null,null,null,null,null,null,null,null,null,null,null,null,null,null,null,null,null,null,null,null,null,null,null,null,null,null,null,null,null,null,null,null,null,null,null,null,null,null,null,{"$f":"#REF!","v":{"$error":"#REF!"}},{"$f":"#REF!","v":{"$error":"#REF!"}},{"$f":"#REF!","v":{"$error":"#REF!"}},{"$f":"#REF!","v":{"$error":"#REF!"}},{"$f":"NaturalArmor","v":{"$error":"#NAME?"}},{"$f":"VALUE(#REF!)","v":{"$error":"#REF!"}},{"$f":"VALUE(ACMisc)","v":{"$error":"#NAME?"}}]
[null,"STRENGTH",null,null,null,null,null,null,null,null,null,null,null,null,null,null,null,null,null,null,null,null,null,null,null,null,null,null,null,null,null,null,null,null,null,null,null,null,null,null,null,null,null,null,null,null,null,null,null,null,null,null,null,null,null,null,"ANIMAL HANDLING",null,null,null,null,null,null,null,null,null,null,null,"WIS",null,null,null,{"$f":"IF(CharacterLevel=\"\",\"○\",IF(Start!L66=\"\",\"○\",\"●\"))","v":"○"},null,null,null,{"$f":"IF(OR(BE21=\"\",CharacterLevel=\"\"),\"\",CE21+CK21+CQ21)","v":-5},null,null,null,null,"=",{"$f":"IF(OR(BE21=\"\",CharacterLevel=\"\"),\"\",INDIRECT(TEXT(BQ21&\"Mod\",0)))","v":-5},null,null,null,null,"+",{"$f":"IF(OR(BE21=\"\",CharacterLevel=\"\"),\"\",IF(BU21=\"●\",ProfBonus,0)+IF(RogueLevel>=1,IF(COUNTIF(Start!$AJ$63:$AR$66,BE21)>0,ProfBonus,0),0))","v":0},null,null,null,null,"+",null,null,null,null,null,null,null,null,null,null,null,null,null,null,{"$f":"IF(DE20,TEXT(DE20,\"+0;-0\")&\" armor\",\"\")","v":{"$error":"#REF!"}},{"$f":"IF(DF20,TEXT(DF20,\"+0;-0\")&\" shield\",\"\")","v":{"$error":"#REF!"}},{"$f":"IF(DG20,TEXT(DG20,\"+0;-0\")&\" dex\",\"\")","v":{"$error":"#REF!"}},{"$f":"IF(DH20,TEXT(DH20,\"+0;-0\")&\" size\",\"\")","v":{"$error":"#REF!"}},{"$f":"IF(DI20,TEXT(DI20,\"+0;-0\")&\" natural\",\"\")","v":{"$error":"#NAME?"}},{"$f":"IF(DJ20,TEXT(DJ20,\"+0;-0\")&\" deflection\",\"\")","v":{"$error":"#REF!"}},{"$f":"IF(DK20,TEXT(DK20,\"+0;-0\")&\" misc\",\"\")","v":{"$error":"#NAME?"}}]
[null,null,null,null,null,null,null,null,null,null,null,null,null,null,null,null,null,null,null,null,null,null,null,null,null,null,null,null,null,null,null,null,null,null,null,null,null,null,null,null,null,null,null,null,null,null,null,null,null,null,null,null,null,null,null,null,null,null,null,null,null,null,null,null,null,null,null,null,null,null,null,null,null,null,null,null,null,null,null,null,null,null,null,null,null,null,null,null,null,null,null,null,null,null,null,null,null,null,null,null,null,null,null,null,null,null,null,null,{"$f":"DE21","v":{"$error":"#REF!"}},{"$f":"IF(AND(DE22<>\"\",DF21<>\"\"),DE22&\", \"&DF21,DE22&DF21)","v":{"$error":"#REF!"}},{"$error":"#REF!"},{"$error":"#REF!"},{"$error":"#REF!"},{"$error":"#REF!"},{"$error":"#REF!"},{"$f":"IF(DK22<>\"\",\"(\"&DK22&\"), \",\"\")&\"touch \"&TouchAC&\", flat-footed \"&FlatFootedAC","v":{"$error":"#REF!"}}]
[null,"DEX",null,null,null,null,null,null,{"$f":"IF(CharacterLevel=\"\",\"\",IF(U23=\"\",DEX,U23))","v":0},null,null,null,null,{"$f":"DEX","v":0},{"$f":"IF(I23=\"\",\"\",INT((I23-10)/2))","v":-5},null,null,null,null,null,null,null,null,null,null,null,{"$f":"IF(U23=0,\"\",INT((U23-10)/2))","v":""},null,null,null,null,null,{"$f":"IF(CharacterLevel=\"\",\"\",AM23+AS23+AY23)","v":-4},null,null,null,null,null,{"$f":"IF(AA23=\"\",O23,AA23)","v":-5},null,null,null,null,null,{"$f":"IF(CharacterLevel=\"\",\"\",IF(Tables!BG4=\"\",0,ProfBonus))","v":0},null,null,null,null,null,1,null,null,null,null,null,"ARCANA",null,null,null,null,null,null,null,null,null,null,null,"INT",null,null,null,{"$f":"IF(CharacterLevel=\"\",\"○\",IF(Start!L67=\"\",\"○\",\"●\"))","v":"○"},null,null,null,{"$f":"IF(OR(BE23=\"\",CharacterLevel=\"\"),\"\",CE23+CK23+CQ23)","v":-4},null,null,null,null,"=",{"$f":"IF(OR(BE23=\"\",CharacterLevel=\"\"),\"\",INDIRECT(TEXT(BQ23&\"Mod\",0)))","v":-5},null,null,null,null,"+",{"$f":"IF(OR(BE23=\"\",CharacterLevel=\"\"),\"\",IF(BU23=\"●\",ProfBonus,0)+IF(OR(RogueLevel>=1,ClericKnowledgeLevel>=1),IF(OR(COUNTIF(Start!$AJ$63:$AR$66,BE23)>0,COUNTIF(Start!$AJ$74:$AR$75,'Character Sheet I'!BE23)>0),ProfBonus,0),0))","v":0},null,null,null,null,"+",1]
[null,null,null,null,null,null,null,null,null,null,null,null,null,null,null,null,null,null,null,null,null,null,null,null,null,null,null,null,null,null,null,null,null,null,null,null,null,"=",null,null,null,null,null,"+",null,null,null,null,null,"+"]
[null,"DEXTERITY",null,null,null,null,null,null,null,null,null,null,null,null,null,null,null,null,null,null,null,null,null,null,null,null,null,null,null,null,null,null,null,null,null,null,null,null,null,null,null,null,null,null,null,null,null,null,null,null,null,null,null,null,null,null,"ATHLETICS",null,null,null,null,null,null,null,null,null,null,null,"STR",null,null,null,{"$f":"IF(CharacterLevel=\"\",\"○\",IF(Start!L68=\"\",\"○\",\"●\"))","v":"○"},null,null,null,{"$f":"IF(OR(BE25=\"\",CharacterLevel=\"\"),\"\",CE25+CK25+CQ25)","v":-5},null,null,null,null,"=",{"$f":"IF(OR(BE25=\"\",CharacterLevel=\"\"),\"\",INDIRECT(TEXT(BQ25&\"Mod\",0)))","v":-5},null,null,null,null,"+",{"$f":"IF(OR(BE25=\"\",CharacterLevel=\"\"),\"\",IF(BU25=\"●\",ProfBonus,0)+IF(RogueLevel>=1,IF(COUNTIF(Start!$AJ$63:$AR$66,BE25)>0,ProfBonus,0),0)+IF(AND(BU19=\"○\",FighterChampionLevel>=7),ROUNDUP(ProfBonus/2,0),0))","v":0},null,null,null,null,"+"]
[]
[null,"CON",null,null,null,null,null,null,{"$f":"IF(CharacterLevel=\"\",\"\",IF(U27=\"\",CON,U27))","v":0},null,null,null,null,{"$f":"CON","v":0},{"$f":"IF(I27=\"\",\"\",INT((I27-10)/2))","v":-5},null,null,null,null,null,null,null,null,null,null,null,{"$f":"IF(U27=0,\"\",INT((U27-10)/2))","v":""},null,null,null,null,null,{"$f":"IF(CharacterLevel=\"\",\"\",AM27+AS27+AY27)","v":-4},null,null,null,null,null,{"$f":"IF(AA27=\"\",O27,AA27)","v":-5},null,null,null,null,null,{"$f":"IF(CharacterLevel=\"\",\"\",IF(Tables!BG5=\"\",0,ProfBonus))","v":0},null,null,null,null,null,1,null,null,null,null,null,"DECEPTION",null,null,null,null,null,null,null,null,null,null,null,"CHA",null,null,null,{"$f":"IF(CharacterLevel=\"\",\"○\",IF(Start!L69=\"\",\"○\",\"●\"))","v":"○"},null,null,null,{"$f":"IF(OR(BE27=\"\",CharacterLevel=\"\"),\"\",CE27+CK27+CQ27)","v":-5},null,null,null,null,"=",{"$f":"IF(OR(BE27=\"\",CharacterLevel=\"\"),\"\",INDIRECT(TEXT(BQ27&\"Mod\",0)))","v":-5},null,null,null,null,"+",{"$f":"IF(OR(BE27=\"\",CharacterLevel=\"\"),\"\",IF(BU27=\"●\",ProfBonus,0)+IF(RogueLevel>=1,IF(COUNTIF(Start!$AJ$63:$AR$66,BE27)>0,ProfBonus,0),0))","v":0},null,null,null,null,"+"]
[null,null,null,null,null,null,null,null,null,null,null,null,null,null,null,null,null,null,null,null,null,null,null,null,null,null,null,null,null,null,null,null,null,null,null,null,null,"=",null,null,null,null,null,"+",null,null,null,null,null,"+"]
[null,"CONSTITUTION",null,null,null,null,null,null,null,null,null,null,null,null,null,null,null,null,null,null,null,null,null,null,null,null,null,null,null,null,null,null,null,null,null,null,null,null,null,null,null,null,null,null,null,null,null,null,null,null,null,null,null,null,null,null,"HISTORY",null,null,null,null,null,null,null,null,null,null,null,"INT",null,null,null,{"$f":"IF(CharacterLevel=\"\",\"○\",IF(Start!L70=\"\",\"○\",\"●\"))","v":"○"},null,null,null,{"$f":"IF(OR(BE29=\"\",CharacterLevel=\"\"),\"\",CE29+CK29+CQ29)","v":-4},null,null,null,null,"=",{"$f":"IF(OR(BE29=\"\",CharacterLevel=\"\"),\"\",INDIRECT(TEXT(BQ29&\"Mod\",0)))","v":-5},null,null,null,null,"+",{"$f":"IF(OR(BE29=\"\",CharacterLevel=\"\"),\"\",IF(BU29=\"●\",ProfBonus,0)+IF(OR(RogueLevel>=1,ClericKnowledgeLevel>=1),IF(OR(COUNTIF(Start!$AJ$63:$AR$66,BE29)>0,COUNTIF(Start!$AJ$74:$AR$75,'Character Sheet I'!BE29)>0),ProfBonus,0),0))","v":0},null,null,null,null,"+",1]
[]
[null,"INT",null,null,null,null,null,null,{"$f":"IF(CharacterLevel=\"\",\"\",IF(U31=\"\",INT,U31))","v":0},null,null,null,null,{"$f":"INT","v":0},{"$f":"IF(I31=\"\",\"\",INT((I31-10)/2))","v":-5},null,null,null,null,null,null,null,null,null,null,null,{"$f":"IF(U31=0,\"\",INT((U31-10)/2))","v":""},null,null,null,null,null,{"$f":"IF(CharacterLevel=\"\",\"\",AM31+AS31+AY31)","v":-4},null,null,null,null,null,{"$f":"IF(AA31=\"\",O31,AA31)","v":-5},null,null,null,null,null,{"$f":"IF(CharacterLevel=\"\",\"\",IF(Tables!BG6=\"\",0,ProfBonus))","v":0},null,null,null,null,null,1,null,null,null,null,null,"INSIGHT",null,null,null,null,null,null,null,null,null,null,null,"WIS",null,null,null,{"$f":"IF(CharacterLevel=\"\",\"○\",IF(Start!L71=\"\",\"○\",\"●\"))","v":"○"},null,null,null,{"$f":"IF(OR(BE31=\"\",CharacterLevel=\"\"),\"\",CE31+CK31+CQ31)","v":-5},null,null,null,null,"=",{"$f":"IF(OR(BE31=\"\",CharacterLevel=\"\"),\"\",INDIRECT(TEXT(BQ31&\"Mod\",0)))","v":-5},null,null,null,null,"+",{"$f":"IF(OR(BE31=\"\",CharacterLevel=\"\"),\"\",IF(BU31=\"●\",ProfBonus,0)+IF(RogueLevel>=1,IF(COUNTIF(Start!$AJ$63:$AR$66,BE31)>0,ProfBonus,0),0))","v":0},null,null,null,null,"+"]
[null,null,null,null,null,null,null,null,null,null,null,null,null,null,null,null,null,null,null,null,null,null,null,null,null,null,null,null,null,null,null,null,null,null,null,null,null,"=",null,null,null,null,null,"+",null,null,null,null,null,"+"]
[null,"INTELLIGENCE",null,null,null,null,null,null,null,null,null,null,null,null,null,null,null,null,null,null,null,null,null,null,null,null,null,null,null,null,null,null,null,null,null,null,null,null,null,null,null,null,null,null,null,null,null,null,null,null,null,null,null,null,null,null,"INTIMIDATION",null,null,null,null,null,null,null,null,null,null,null,"CHA",null,null,null,{"$f":"IF(CharacterLevel=\"\",\"○\",IF(Start!L72=\"\",\"○\",\"●\"))","v":"○"},null,null,null,{"$f":"IF(OR(BE33=\"\",CharacterLevel=\"\"),\"\",CE33+CK33+CQ33)","v":-5},null,null,null,null,"=",{"$f":"IF(OR(BE33=\"\",CharacterLevel=\"\"),\"\",INDIRECT(TEXT(BQ33&\"Mod\",0)))","v":-5},null,null,null,null,"+",{"$f":"IF(OR(BE33=\"\",CharacterLevel=\"\"),\"\",IF(BU33=\"●\",ProfBonus,0)+IF(RogueLevel>=1,IF(COUNTIF(Start!$AJ$63:$AR$66,BE33)>0,ProfBonus,0),0))","v":0},null,null,null,null,"+",null,null,null,null,null,null,null,null,{"$f":"1","v":1}]
[]
[null,"WIS",null,null,null,null,null,null,{"$f":"IF(CharacterLevel=\"\",\"\",IF(U35=\"\",WIS,U35))","v":0},null,null,null,null,{"$f":"WIS","v":0},{"$f":"IF(I35=\"\",\"\",INT((I35-10)/2))","v":-5},null,null,null,null,null,null,null,null,null,null,null,{"$f":"IF(U35=0,\"\",INT((U35-10)/2))","v":""},null,null,null,null,null,{"$f":"IF(CharacterLevel=\"\",\"\",AM35+AS35+AY35)","v":-4},null,null,null,null,null,{"$f":"IF(AA35=\"\",O35,AA35)","v":-5},null,null,null,null,null,{"$f":"IF(CharacterLevel=\"\",\"\",IF(Tables!BG7=\"\",0,ProfBonus))","v":0},null,null,null,null,null,1,null,null,null,null,null,"INVESTIGATION",null,null,null,null,null,null,null,null,null,null,null,"INT",null,null,null,{"$f":"IF(CharacterLevel=\"\",\"○\",IF(Start!L73=\"\",\"○\",\"●\"))","v":"○"},null,null,null,{"$f":"IF(OR(BE35=\"\",CharacterLevel=\"\"),\"\",CE35+CK35+CQ35)","v":-5},null,null,null,null,"=",{"$f":"IF(OR(BE35=\"\",CharacterLevel=\"\"),\"\",INDIRECT(TEXT(BQ35&\"Mod\",0)))","v":-5},null,null,null,null,"+",{"$f":"IF(OR(BE35=\"\",CharacterLevel=\"\"),\"\",IF(BU35=\"●\",ProfBonus,0)+IF(RogueLevel>=1,IF(COUNTIF(Start!$AJ$63:$AR$66,BE35)>0,ProfBonus,0),0))","v":0},null,null,null,null,"+",null,null,null,null,null,null,null,null,{"$f":"CY33+1","v":2}]
[null,null,null,null,null,null,null,null,null,null,null,null,null,null,null,null,null,null,null,null,null,null,null,null,null,null,null,null,null,null,null,null,null,null,null,null,null,"=",null,null,null,null,null,"+",null,null,null,null,null,"+"]
[null,"WISDOM",null,null,null,null,null,null,null,null,null,null,null,null,null,null,null,null,null,null,null,null,null,null,null,null,null,null,null,null,null,null,null,null,null,null,null,null,null,null,null,null,null,null,null,null,null,null,null,null,null,null,null,null,null,null,"MEDICINE",null,null,null,null,null,null,null,null,null,null,null,"WIS",null,null,null,{"$f":"IF(CharacterLevel=\"\",\"○\",IF(Start!X65=\"\",\"○\",\"●\"))","v":"○"},null,null,null,{"$f":"IF(OR(BE37=\"\",CharacterLevel=\"\"),\"\",CE37+CK37+CQ37)","v":-5},null,null,null,null,"=",{"$f":"IF(OR(BE37=\"\",CharacterLevel=\"\"),\"\",INDIRECT(TEXT(BQ37&\"Mod\",0)))","v":-5},null,null,null,null,"+",{"$f":"IF(OR(BE37=\"\",CharacterLevel=\"\"),\"\",IF(BU37=\"●\",ProfBonus,0)+IF(RogueLevel>=1,IF(COUNTIF(Start!$AJ$63:$AR$66,BE37)>0,ProfBonus,0),0))","v":0},null,null,null,null,"+",null,null,null,null,null,null,null,null,{"$f":"CY35+1","v":3}]
[]
[null,"CHA",null,null,null,null,null,null,{"$f":"IF(CharacterLevel=\"\",\"\",IF(U39=\"\",CHA,U39))","v":0},null,null,null,null,{"$f":"CHA","v":0},{"$f":"IF(I39=\"\",\"\",INT((I39-10)/2))","v":-5},null,null,null,null,null,null,null,null,null,null,null,{"$f":"IF(U39=0,\"\",INT((U39-10)/2))","v":""},null,null,null,null,null,{"$f":"IF(CharacterLevel=\"\",\"\",AM39+AS39+AY39)","v":-4},null,null,null,null,null,{"$f":"IF(AA39=\"\",O39,AA39)","v":-5},null,null,null,null,null,{"$f":"IF(CharacterLevel=\"\",\"\",IF(Tables!BG8=\"\",0,ProfBonus))","v":0},null,null,null,null,null,1,null,null,null,null,null,"NATURE",null,null,null,null,null,null,null,null,null,null,null,"INT",null,null,null,{"$f":"IF(CharacterLevel=\"\",\"○\",IF(Start!X66=\"\",\"○\",\"●\"))","v":"○"},null,null,null,{"$f":"IF(OR(BE39=\"\",CharacterLevel=\"\"),\"\",CE39+CK39+CQ39)","v":-5},null,null,null,null,"=",{"$f":"IF(OR(BE39=\"\",CharacterLevel=\"\"),\"\",INDIRECT(TEXT(BQ39&\"Mod\",0)))","v":-5},null,null,null,null,"+",{"$f":"IF(OR(BE39=\"\",CharacterLevel=\"\"),\"\",IF(BU39=\"●\",ProfBonus,0)+IF(OR(RogueLevel>=1,ClericKnowledgeLevel>=1),IF(OR(COUNTIF(Start!$AJ$63:$AR$66,BE39)>0,COUNTIF(Start!$AJ$74:$AR$75,'Character Sheet I'!BE39)>0),ProfBonus,0),0))","v":0},null,null,null,null,"+",null,null,null,null,null,null,null,null,{"$f":"CY37+1","v":4}]
[null,null,null,null,null,null,null,null,null,null,null,null,null,null,null,null,null,null,null,null,null,null,null,null,null,null,null,null,null,null,null,null,null,null,null,null,null,"=",null,null,null,null,null,"+",null,null,null,null,null,"+"]
[null,"CHARISMA",null,null,null,null,null,null,null,null,null,null,null,null,null,null,null,null,null,null,null,null,null,null,null,null,null,null,null,null,null,null,null,null,null,null,null,null,null,null,null,null,null,null,null,null,null,null,null,null,null,null,null,null,null,null,"PERCEPTION",null,null,null,null,null,null,{"$f":"IF(CharacterLevel=\"\",\"\",VLOOKUP(Start!K20,Tables!$A$4:$D$5001,4,FALSE))","v":""},null,null,null,null,"WIS",null,null,null,{"$f":"IF(CharacterLevel=\"\",\"○\",IF(Start!X67=\"\",\"○\",\"●\"))","v":"○"},null,null,null,{"$f":"IF(OR(BE41=\"\",CharacterLevel=\"\"),\"\",CE41+CK41+CQ41)","v":-5},null,null,null,null,"=",{"$f":"IF(OR(BE41=\"\",CharacterLevel=\"\"),\"\",INDIRECT(TEXT(BQ41&\"Mod\",0)))","v":-5},null,null,null,null,"+",{"$f":"IF(OR(BE41=\"\",CharacterLevel=\"\"),\"\",IF(BU41=\"●\",ProfBonus,0)+IF(RogueLevel>=1,IF(COUNTIF(Start!$AJ$63:$AR$66,BE41)>0,ProfBonus,0),0))","v":0},null,null,null,null,"+",null,null,null,null,null,null,null,null,{"$f":"CY39+1","v":5}]
[]
[null,"HEALTH & ARMOR",null,null,null,null,null,null,null,null,null,null,null,null,null,null,null,null,null,null,null,null,null,null,null,null,null,null,null,null,null,null,null,null,null,null,null,null,null,null,null,null,null,null,null,null,null,null,null,null,null,null,null,null,null,null,"PERFORMANCE",null,null,null,null,null,null,null,null,null,null,null,"CHA",null,null,null,{"$f":"IF(CharacterLevel=\"\",\"○\",IF(Start!X68=\"\",\"○\",\"●\"))","v":"○"},null,null,null,{"$f":"IF(OR(BE43=\"\",CharacterLevel=\"\"),\"\",CE43+CK43+CQ43)","v":-5},null,null,null,null,"=",{"$f":"IF(OR(BE43=\"\",CharacterLevel=\"\"),\"\",INDIRECT(TEXT(BQ43&\"Mod\",0)))","v":-5},null,null,null,null,"+",{"$f":"IF(OR(BE43=\"\",CharacterLevel=\"\"),\"\",IF(BU43=\"●\",ProfBonus,0)+IF(RogueLevel>=1,IF(COUNTIF(Start!$AJ$63:$AR$66,BE43)>0,ProfBonus,0),0))","v":0},null,null,null,null,"+",null,null,null,null,null,null,null,null,{"$f":"CY41+1","v":6}]
[]
[null,null,null,null,null,null,null,null,null,null,null,null,null,null,null,null,null,null,null,null,null,null,null,null,null,null,null,null,null,null,null,null,null,null,null,null,null,null,null,null,null,null,null,null,null,null,null,null,null,null,null,null,null,null,null,null,"PERSUASION",null,null,null,null,null,null,null,null,null,null,null,"CHA",null,null,null,{"$f":"IF(CharacterLevel=\"\",\"○\",IF(Start!X69=\"\",\"○\",\"●\"))","v":"○"},null,null,null,{"$f":"IF(OR(BE45=\"\",CharacterLevel=\"\"),\"\",CE45+CK45+CQ45)","v":-5},null,null,null,null,"=",{"$f":"IF(OR(BE45=\"\",CharacterLevel=\"\"),\"\",INDIRECT(TEXT(BQ45&\"Mod\",0)))","v":-5},null,null,null,null,"+",{"$f":"IF(OR(BE45=\"\",CharacterLevel=\"\"),\"\",IF(BU45=\"●\",ProfBonus,0)+IF(RogueLevel>=1,IF(COUNTIF(Start!$AJ$63:$AR$66,BE45)>0,ProfBonus,0),0))","v":0},null,null,null,null,"+",null,null,null,null,null,null,null,null,{"$f":"CY43+1","v":7}]
[null,"HP",null,null,null,null,null,null,{"$f":"IF(CharacterLevel=\"\",\"\",HitPoints)","v":""},null,null,null,null,null,null,null,null,null,null,null,null,null,null,null,"HD",null,null,null,null,null,null,{"$f":"IF(CharacterLevel=\"\",\"\",CharacterLevel)","v":1},null,null,null,null,null,null,null,null,null,null,null,null,null,null,null,null,"PASS  "]
[null,null,null,null,null,null,null,null,null,null,null,null,null,null,null,null,null,null,null,null,null,null,null,null,null,null,null,null,null,null,null,null,null,null,null,null,null,null,null,null,null,null,null,null,null,null,null,null,null,null,null,null,null,null,null,null,"RELIGION",null,null,null,null,null,null,null,null,null,null,null,"INT",null,null,null,{"$f":"IF(CharacterLevel=\"\",\"○\",IF(Start!X70=\"\",\"○\",\"●\"))","v":"○"},null,null,null,{"$f":"IF(OR(BE47=\"\",CharacterLevel=\"\"),\"\",CE47+CK47+CQ47)","v":-5},null,null,null,null,"=",{"$f":"IF(OR(BE47=\"\",CharacterLevel=\"\"),\"\",INDIRECT(TEXT(BQ47&\"Mod\",0)))","v":-5},null,null,null,null,"+",{"$f":"IF(OR(BE47=\"\",CharacterLevel=\"\"),\"\",IF(BU47=\"●\",ProfBonus,0)+IF(OR(RogueLevel>=1,ClericKnowledgeLevel>=1),IF(OR(COUNTIF(Start!$AJ$63:$AR$66,BE47)>0,COUNTIF(Start!$AJ$74:$AR$75,'Character Sheet I'!BE47)>0),ProfBonus,0),0))","v":0},null,null,null,null,"+",null,null,null,null,null,null,null,null,{"$f":"CY45+1","v":8}]
[null,"HIT POINTS",null,null,null,null,null,null,null,null,null,null,null,null,null,null,null,null,null,null,null,null,null,null,"HIT DICE",null,null,null,null,null,null,null,null,null,null,null,null,null,null,null,null,null,null,null,null,null,null,null,"FAIL  "]
[null,null,null,null,null,null,null,null,"TOTAL",null,null,null,null,"REMAINING",null,null,null,null,null,null,null,null,null,null,null,null,null,null,null,null,null,"TOTAL",null,null,null,null,"REMAINING",null,null,null,null,null,null,null,null,null,null,null,"DEATH ROLLS",null,null,null,null,null,null,null,"SLEIGHT OF HAND",null,null,null,null,null,null,null,null,null,null,null,"DEX",null,null,null,{"$f":"IF(CharacterLevel=\"\",\"○\",IF(Start!X71=\"\",\"○\",\"●\"))","v":"○"},null,null,null,{"$f":"IF(OR(BE49=\"\",CharacterLevel=\"\"),\"\",CE49+CK49+CQ49)","v":-5},null,null,null,null,"=",{"$f":"IF(OR(BE49=\"\",CharacterLevel=\"\"),\"\",INDIRECT(TEXT(BQ49&\"Mod\",0)))","v":-5},null,null,null,null,"+",{"$f":"IF(OR(BE49=\"\",CharacterLevel=\"\"),\"\",IF(BU49=\"●\",ProfBonus,0)+IF(RogueLevel>=1,IF(COUNTIF(Start!$AJ$63:$AR$66,BE49)>0,ProfBonus,0),0)+IF(AND(BU19=\"○\",FighterChampionLevel>=7),ROUNDUP(ProfBonus/2,0),0))","v":0},null,null,null,null,"+",null,null,null,null,null,null,null,null,{"$f":"CY47+1","v":9}]
[]
[null,"AC",null,null,null,null,null,null,{"$f":"IF(CharacterLevel=\"\",\"\",N51+S51+X51+AC51)","v":-5},null,null,null,"=",{"$f":"IF(CharacterLevel=\"\",\"\",IF(ArmorName=\"\",Tables!BV2,ArmorAC))","v":0},null,null,null,"+",{"$f":"IF(CharacterLevel=\"\",\"\",IF(ShieldName=\"\",0,ShieldAC))","v":0},null,null,null,"+",{"$f":"IF(CharacterLevel=\"\",\"\",IF(ArmorDEXmod=\"\",DEXMod,ArmorDEXmod))","v":-5},null,null,null,"+",{"$f":"IF(CharacterLevel=\"\",\"\",Start!Y168+IF(AND(OR(ArmorGroup=\"light\",ArmorGroup=\"medium\",ArmorGroup=\"heavy\"),COUNTIF(Tables!GA2:GA5,Tables!FX26)>0),1,0)+IF(AND(OR(B69=\"\",B69=\"None\"),Tables!ZT5<>\"\"),1,0))","v":0},null,null,null,null,null,{"$f":"IF(OR(CharacterLevel=\"\",Start!Y170=\"\"),\"\",Start!Y170)","v":""},null,null,null,null,null,null,null,null,null,null,{"$f":"IF(OR(CharacterLevel=\"\",Start!Y169=\"\"),\"\",Start!Y169)","v":""},null,null,null,null,null,null,null,null,null,null,"STEALTH",null,null,null,null,null,null,null,null,null,null,null,"DEX",null,null,null,{"$f":"IF(CharacterLevel=\"\",\"○\",IF(Start!X72=\"\",\"○\",\"●\"))","v":"○"},null,null,null,{"$f":"IF(OR(BE51=\"\",CharacterLevel=\"\"),\"\",CE51+CK51+CQ51)","v":-5},null,null,null,null,"=",{"$f":"IF(OR(BE51=\"\",CharacterLevel=\"\"),\"\",INDIRECT(TEXT(BQ51&\"Mod\",0)))","v":-5},null,null,null,null,"+",{"$f":"IF(OR(BE51=\"\",CharacterLevel=\"\"),\"\",IF(BU51=\"●\",ProfBonus,0)+IF(RogueLevel>=1,IF(COUNTIF(Start!$AJ$63:$AR$66,BE51)>0,ProfBonus,0),0)+IF(AND(BU19=\"○\",FighterChampionLevel>=7),ROUNDUP(ProfBonus/2,0),0))","v":0},null,null,null,null,"+",null,null,null,null,null,null,null,null,{"$f":"CY49+1","v":10}]
[]
[null,"ARMOR CLASS",null,null,null,null,null,null,null,null,null,null,null,null,null,null,null,null,null,null,null,null,null,null,null,null,null,null,null,null,null,null,null,null,null,null,null,null,null,null,null,null,null,null,null,null,null,null,null,null,null,null,null,null,null,null,"SURVIVAL",null,null,null,null,null,null,null,null,null,null,null,"WIS",null,null,null,{"$f":"IF(CharacterLevel=\"\",\"○\",IF(Start!X73=\"\",\"○\",\"●\"))","v":"○"},null,null,null,{"$f":"IF(OR(BE53=\"\",CharacterLevel=\"\"),\"\",CE53+CK53+CQ53)","v":-5},null,null,null,null,"=",{"$f":"IF(OR(BE53=\"\",CharacterLevel=\"\"),\"\",INDIRECT(TEXT(BQ53&\"Mod\",0)))","v":-5},null,null,null,null,"+",{"$f":"IF(OR(BE53=\"\",CharacterLevel=\"\"),\"\",IF(BU53=\"●\",ProfBonus,0)+IF(RogueLevel>=1,IF(COUNTIF(Start!$AJ$63:$AR$66,BE53)>0,ProfBonus,0),0))","v":0},null,null,null,null,"+",null,null,null,null,null,null,null,null,{"$f":"CY51+1","v":11}]
[null,null,null,null,null,null,null,null,"TOTAL",null,null,null,null,"ARMOR",null,null,null,null,"SHIELD",null,null,null,"DEXTERITY MODIFIER",null,null,null,null,null,"OTHER\nARMOR",null,null,null,null,null,"DAMAGE RESISTANCE",null,null,null,null,null,null,null,null,null,null,"DAMAGE REDUCTION"]
[null,null,null,null,null,null,null,null,null,null,null,null,null,null,null,null,null,null,null,null,null,null,null,null,null,null,null,null,null,null,null,null,null,null,null,null,null,null,null,null,null,null,null,null,null,null,null,null,null,null,null,null,null,null,null,null,null,null,null,null,null,null,null,null,null,null,null,null,null,null,null,null,null,null,null,null,null,null,null,null,null,null,null,null,null,null,null,null,null,null,null,null,null,null,null,null,null,null,null,null,null,null,{"$f":"CY53+1","v":12}]
[null,null,null,null,null,null,null,null,null,null,null,null,null,null,null,null,null,null,null,null,null,null,null,null,null,null,null,null,null,null,null,null,null,null,null,null,null,null,null,null,null,null,null,null,null,null,null,null,null,null,null,null,null,null,null,null,"PROFICIENCIES"]
[null,"ARMOR",null,null,null,null,null,null,null,null,null,null,null,null,null,null,null,null,null,null,null,null,null,null,null,null,null,null,null,null,null,null,null,null,null,null,null,null,null,null,null,null,null,null,null,null,null,null,null,null,null,null,null,null,null,null,null,null,null,null,null,null,null,null,null,null,null,null,null,null,null,null,null,null,null,null,null,null,null,null,null,null,null,null,null,null,null,null,null,null,null,null,null,null,null,null,null,null,null,null,null,null,{"$f":"CY55+1","v":13}]
[null,null,null,null,null,null,null,null,null,null,null,null,null,null,null,null,null,null,null,null,null,"ARMOR",null,null,null,null,null,"WEIGHT",null,null,null,null,"DEX MOD",null,null,null,null,"STRENGTH",null,null,null,null,"STEALTH"]
[null,{"$f":"IF(CharacterLevel=\"\",\"\",ArmorName)","v":""},null,null,null,null,null,null,null,null,null,null,null,null,null,null,null,null,null,null,null,{"$f":"IF(CharacterLevel=\"\",\"\",ArmorAC)","v":""},null,null,null,null,null,{"$f":"IF(CharacterLevel=\"\",\"\",ArmorWeight)","v":""},null,null,null,null,{"$f":"IF(CharacterLevel=\"\",\"\",ArmorDEXmod)","v":""},null,null,null,null,{"$f":"IF(CharacterLevel=\"\",\"\",ArmorStrength)","v":""},null,null,null,null,{"$f":"IF(CharacterLevel=\"\",\"\",ArmorStealth)","v":""},null,null,null,null,null,null,null,null,null,null,null,null,null,"PROFICIENCY\nBONUS",null,null,null,null,null,null,null,null,{"$f":"IF(CharacterLevel=\"\",\"\",ProfBonus)","v":2},null,null,null,null,"SAVING THROWS",null,null,null,null,null,null,null,null,{"$f":"IF(CharacterLevel=\"\",\"\",ProfSaves)","v":""},null,null,null,null,null,null,null,null,null,null,null,null,null,null,null,null,null,null,null,null,null,null,{"$f":"CY57+1","v":14}]
[]
[null,null,null,null,null,null,null,null,null,null,null,null,null,null,null,null,null,null,null,null,null,null,null,null,null,null,null,null,null,null,null,null,null,null,null,null,null,null,null,null,null,null,null,null,null,null,null,null,null,null,null,null,null,null,null,null,null,null,null,null,null,null,null,null,null,null,null,null,null,null,null,null,null,null,null,null,null,null,null,null,null,null,null,null,null,null,null,null,null,null,null,null,null,null,null,null,null,null,null,null,null,null,{"$f":"CY59+1","v":15}]
[null,"ARMOR TYPE",null,null,null,null,null,null,null,"PROPERTIES"]
[null,{"$f":"IF(CharacterLevel=\"\",\"\",ArmorGroup)","v":""},null,null,null,null,null,null,null,{"$f":"IF(CharacterLevel=\"\",\"\",ArmorProps)","v":""},null,null,null,null,null,null,null,null,null,null,null,null,null,null,null,null,null,null,null,null,null,null,null,null,null,null,null,null,null,null,null,null,null,null,null,null,null,null,null,null,null,null,null,null,null,null,"WEAPONS",null,null,null,null,null,{"$f":"IF(CharacterLevel=\"\",\"\",ProfWeapons)","v":""},null,null,null,null,null,null,null,null,null,null,null,null,null,null,null,null,null,null,null,null,null,null,null,null,null,null,null,null,null,null,null,null,null,null,null,null,null,null,null,{"$f":"CY61+1","v":16}]
[]
[null,null,null,null,null,null,null,null,null,null,null,null,null,null,null,null,null,null,null,null,null,null,null,null,null,null,null,null,null,null,null,null,null,null,null,null,null,null,null,null,null,null,null,null,null,null,null,null,null,null,null,null,null,null,null,null,null,null,null,null,null,null,null,null,null,null,null,null,null,null,null,null,null,null,null,null,null,null,null,null,null,null,null,null,null,null,null,null,null,null,null,null,null,null,null,null,null,null,null,null,null,null,{"$f":"CY63+1","v":17}]
[]
[null,"SHIELD",null,null,null,null,null,null,null,null,null,null,null,null,null,null,null,null,null,null,null,null,null,null,null,null,null,null,null,null,null,null,null,null,null,null,null,null,null,null,null,null,null,null,null,null,null,null,null,null,null,null,null,null,null,null,null,null,null,null,null,null,null,null,null,null,null,null,null,null,null,null,null,null,null,null,null,null,null,null,null,null,null,null,null,null,null,null,null,null,null,null,null,null,null,null,null,null,null,null,null,null,{"$f":"CY65+1","v":18}]
[null,null,null,null,null,null,null,null,null,null,null,null,null,null,null,null,null,null,null,null,null,"ARMOR",null,null,null,null,null,"WEIGHT",null,null,null,null,"PROPERTIES",null,null,null,null,null,null,null,null,null,null,null,null,null,null,null,null,null,null,null,null,null,null,null,"ARMOR",null,null,null,null,null,{"$f":"IF(CharacterLevel=\"\",\"\",ProfArmor)","v":""}]
[null,{"$f":"IF(CharacterLevel=\"\",\"\",ShieldName)","v":""},null,null,null,null,null,null,null,null,null,null,null,null,null,null,null,null,null,null,null,{"$f":"IF(CharacterLevel=\"\",\"\",ShieldAC)","v":""},null,null,null,null,null,{"$f":"IF(CharacterLevel=\"\",\"\",ShieldWeight)","v":""},null,null,null,null,{"$f":"IF(CharacterLevel=\"\",\"\",ShieldProps)","v":""},null,null,null,null,null,null,null,null,null,null,null,null,null,null,null,null,null,null,null,null,null,null,null,null,null,null,null,null,null,null,null,null,null,null,null,null,null,null,null,null,null,null,null,null,null,null,null,null,null,null,null,null,null,null,null,null,null,null,null,null,null,null,null,null,null,null,null,null,null,{"$f":"CY67+1","v":19}]
[]
[null,null,null,null,null,null,null,null,null,null,null,null,null,null,null,null,null,null,null,null,null,null,null,null,null,null,null,null,null,null,null,null,null,null,null,null,null,null,null,null,null,null,null,null,null,null,null,null,null,null,null,null,null,null,null,null,null,null,null,null,null,null,null,null,null,null,null,null,null,null,null,null,null,null,null,null,null,null,null,null,null,null,null,null,null,null,null,null,null,null,null,null,null,null,null,null,null,null,null,null,null,null,{"$f":"CY69+1","v":20}]
[]
[null,"ACTIONS",null,null,null,null,null,null,null,null,null,null,null,null,null,null,null,null,null,null,null,null,null,null,null,null,null,null,null,null,null,null,null,null,null,null,null,null,null,null,null,null,null,null,null,null,null,null,null,null,null,null,null,null,null,null,"TOOLS",null,null,null,null,null,{"$f":"IF(CharacterLevel=\"\",\"\",ProfTools)","v":""},null,null,null,null,null,null,null,null,null,null,null,null,null,null,null,null,null,null,null,null,null,null,null,null,null,null,null,null,null,null,null,null,null,null,null,null,null,null,null,{"$f":"CY71+1","v":21}]
[]
[null,null,null,null,null,null,null,null,null,null,null,null,null,null,null,null,null,null,null,null,null,null,null,null,null,null,null,null,null,null,null,null,null,null,null,null,null,null,null,null,null,null,null,null,null,null,null,null,null,null,null,null,null,null,null,null,null,null,null,null,null,null,null,null,null,null,null,null,null,null,null,null,null,null,null,null,null,null,null,null,null,null,null,null,null,null,null,null,null,null,null,null,null,null,null,null,null,null,null,null,null,null,{"$f":"CY73+1","v":22}]
[null,"PERCEPTION",null,null,null,null,null,null,null,null,null,{"$f":"IF(CharacterLevel=\"\",\"\",10+Q76+V76)","v":5},null,null,null,"=",{"$f":"IF(CharacterLevel=\"\",\"\",WISMod)","v":-5},null,null,null,"+",{"$f":"IF(CharacterLevel=\"\",\"\",CK41+IF(Tables!PC1>0,5,0))","v":0},null,null,null,null,"SPEED",null,null,null,null,null,null,null,null,{"$f":"IF(OR(CharacterLevel=\"\",Race=\"\",Race=SelectText),\"\",Speed)","v":""},null,null,null,null,null,"INSPIRATION"]
[null,null,null,null,null,null,null,null,null,null,null,null,null,null,null,null,null,null,null,null,null,null,null,null,null,null,null,null,null,null,null,null,null,null,null,null,null,null,null,null,null,null,null,null,null,null,null,null,null,null,null,null,null,null,null,null,null,null,null,null,null,null,null,null,null,null,null,null,null,null,null,null,null,null,null,null,null,null,null,null,null,null,null,null,null,null,null,null,null,null,null,null,null,null,null,null,null,null,null,null,null,null,{"$f":"CY75+1","v":23}]
[null,"PASSIVE",null,null,null,null,null,null,null,null,null,null,null,null,null,null,null,null,null,null,null,null,null,null,null,null,"NORMAL",null,null,null,null,null,null,null,null,null,null,null,null,null,null,null,null,null,null,null,null,null,null,null,null,null,null,null,null,null,"LANGUAGES"]
[null,{"$f":"IF(CharacterLevel=\"\",\"\",IF(Tables!PC1>0,\"OBSERVANT FEAT +5\",\"\"))","v":""},null,null,null,null,null,null,null,null,null,"TOTAL",null,null,null,null,"WISDOM\nMODIFIER",null,null,null,"PECEPTION\nPROFICIENCY\nBONUS",null,null,null,null,null,{"$f":"IF(CharacterLevel=\"\",\"\",IF(Tables!OZ1>0,\"MOBILE FEAT +10\",\"\"))","v":""},null,null,null,null,null,null,null,null,null,null,null,null,null,null,null,null,null,null,null,null,null,null,null,null,null,null,null,null,null,null,null,null,null,null,null,null,null,null,null,null,null,null,null,null,null,null,null,null,null,null,null,null,null,null,null,null,null,null,null,null,null,null,null,null,null,null,null,null,null,null,null,null,null,null,null,{"$f":"CY77+1","v":24}]
[]
[null,null,null,null,null,null,null,null,null,null,null,null,null,null,null,null,null,null,null,null,null,null,null,null,null,null,null,null,null,null,null,null,null,null,null,null,null,null,null,null,null,null,null,null,null,null,null,null,null,null,null,null,null,null,null,null,{"$f":"IF(OR(CharacterLevel=\"\",Start!AX16=Tables!$JG$2),\"\",Start!AX16)","v":""},null,null,null,null,null,null,null,null,null,null,{"$f":"IF(OR(CharacterLevel=\"\",Start!AX20=Tables!$JG$2),\"\",Start!AX20)","v":""},null,null,null,null,null,null,null,null,null,null,{"$f":"IF(OR(CharacterLevel=\"\",Start!AX24=Tables!$JG$2),\"\",Start!AX24)","v":""},null,null,null,null,null,null,null,null,null,null,{"$f":"IF(OR(CharacterLevel=\"\",Start!AX28=Tables!$JG$2),\"\",Start!AX28)","v":""},null,null,null,null,null,null,null,null,null,null,null,null,{"$f":"CY79+1","v":25}]
[null,"INITIATIVE",null,null,null,null,null,null,null,null,null,{"$f":"IF(CharacterLevel=\"\",\"\",Q82+V82)","v":-5},null,null,null,"=",{"$f":"IF(CharacterLevel=\"\",\"\",DEXMod)","v":-5},null,null,null,"+",{"$f":"IF(CharacterLevel=\"\",\"\",IF(Tables!ZT3=\"\",0,5))","v":0},null,null,null,null,"ATTACKS",null,null,null,null,null,null,null,null,null,null,null,null,null,null,{"$f":"IF(CharacterLevel=\"\",\"\",AU82+AZ82)","v":1},null,null,null,"=",{"$f":"IF(CharacterLevel=\"\",\"\",1)","v":1},null,null,null,"+",{"$f":"IF(CharacterLevel=\"\",\"\",IF(FighterLevel>=20,3,IF(FighterLevel>=11,2,IF(OR(FighterLevel>=5,BarbarianLevel>=5,BardValorLevel>=6,PaladinLevel>=5,MonkLevel>=5),1,0))))","v":0}]
[null,null,null,null,null,null,null,null,null,null,null,null,null,null,null,null,null,null,null,null,null,null,null,null,null,null,null,null,null,null,null,null,null,null,null,null,null,null,null,null,null,null,null,null,null,null,null,null,null,null,null,null,null,null,null,null,{"$f":"IF(OR(CharacterLevel=\"\",Start!AX17=Tables!$JG$2),\"\",Start!AX17)","v":""},null,null,null,null,null,null,null,null,null,null,{"$f":"IF(OR(CharacterLevel=\"\",Start!AX21=Tables!$JG$2),\"\",Start!AX21)","v":""},null,null,null,null,null,null,null,null,null,null,{"$f":"IF(OR(CharacterLevel=\"\",Start!AX25=Tables!$JG$2),\"\",Start!AX25)","v":""},null,null,null,null,null,null,null,null,null,null,{"$f":"IF(OR(CharacterLevel=\"\",Start!AX29=Tables!$JG$2),\"\",Start!AX29)","v":""},null,null,null,null,null,null,null,null,null,null,null,null,{"$f":"CY81+1","v":26}]
[null,"MODIFIER",null,null,null,null,null,null,null,null,null,null,null,null,null,null,null,null,null,null,null,null,null,null,null,null,"PER ATTACK ACTION"]
[null,{"$f":"IF(CharacterLevel=\"\",\"\",IF(Tables!OB1>0,\"ALERT FEAT: +5\n\",\"\")&IF(BarbarianLevel>=7,\"FERAL INSTINCT: ADVANTAGE\",\"\"))","v":""},null,null,null,null,null,null,null,null,null,"TOTAL",null,null,null,"DEXTERITY MODIFIER",null,null,null,null,null,"OTHER MODIFIER",null,null,null,null,null,null,null,null,null,null,null,null,null,null,null,null,null,null,null,"TOTAL",null,null,null,"STANDARD",null,null,null,null,null,"EXTRA\nATTACKS",null,null,null,null,{"$f":"IF(OR(CharacterLevel=\"\",Start!AX18=Tables!$JG$2),\"\",Start!AX18)","v":""},null,null,null,null,null,null,null,null,null,null,{"$f":"IF(OR(CharacterLevel=\"\",Start!AX22=Tables!$JG$2),\"\",Start!AX22)","v":""},null,null,null,null,null,null,null,null,null,null,{"$f":"IF(OR(CharacterLevel=\"\",Start!AX26=Tables!$JG$2),\"\",Start!AX26)","v":""},null,null,null,null,null,null,null,null,null,null,{"$f":"IF(OR(CharacterLevel=\"\",Start!AX30=Tables!$JG$2),\"\",Start!AX30)","v":""},null,null,null,null,null,null,null,null,null,null,null,null,{"$f":"CY83+1","v":27}]
[]
[null,null,null,null,null,null,null,null,null,null,null,null,null,null,null,null,null,null,null,null,null,null,null,null,null,null,null,null,null,null,null,null,null,null,null,null,null,null,null,null,null,null,null,null,null,null,null,null,null,null,null,null,null,null,null,null,{"$f":"IF(OR(CharacterLevel=\"\",Start!AX19=Tables!$JG$2),\"\",Start!AX19)","v":""},null,null,null,null,null,null,null,null,null,null,{"$f":"IF(OR(CharacterLevel=\"\",Start!AX23=Tables!$JG$2),\"\",Start!AX23)","v":""},null,null,null,null,null,null,null,null,null,null,{"$f":"IF(OR(CharacterLevel=\"\",Start!AX27=Tables!$JG$2),\"\",Start!AX27)","v":""},null,null,null,null,null,null,null,null,null,null,{"$f":"IF(OR(CharacterLevel=\"\",Start!AX31=Tables!$JG$2),\"\",Start!AX31)","v":""},null,null,null,null,null,null,null,null,null,null,null,null,{"$f":"CY85+1","v":28}]
[null,"ATTACK 1"]
[null,null,null,null,null,null,null,null,null,null,null,null,null,null,null,null,null,null,null,null,null,"ATTACK BONUS",null,null,null,null,null,"DAMAGE",null,null,null,null,null,null,null,null,null,null,null,null,null,null,"TYPE",null,null,null,null,null,null,null,null,null,null,null,null,null,null,null,null,null,null,null,null,null,null,null,null,null,null,null,null,null,null,null,null,null,null,null,null,null,null,null,null,null,null,null,null,null,null,null,null,null,null,null,null,null,null,null,null,null,null,null,{"$f":"CY87+1","v":29}]
[null,{"$f":"IF(CharacterLevel=\"\",\"\",Attack1name)","v":""},null,null,null,null,null,null,null,null,null,null,null,null,null,null,null,null,null,null,null,{"$f":"IF(CharacterLevel=\"\",\"\",Attack1bonus)","v":""},null,null,null,null,null,{"$f":"IF(CharacterLevel=\"\",\"\",Attack1damage)","v":""},null,null,null,null,null,null,null,null,null,null,null,null,null,null,{"$f":"IF(CharacterLevel=\"\",\"\",Attack1type)","v":""}]
[null,null,null,null,null,null,null,null,null,null,null,null,null,null,null,null,null,null,null,null,null,null,null,null,null,null,null,null,null,null,null,null,null,null,null,null,null,null,null,null,null,null,null,null,null,null,null,null,null,null,null,null,null,null,null,null,"EQUIPMENT WORN",null,null,null,null,null,null,null,null,null,null,null,null,null,null,null,null,null,null,null,null,null,null,null,null,null,null,null,null,null,null,null,null,null,null,null,null,null,null,null,null,null,null,null,null,null,{"$f":"CY89+1","v":30}]
[]
[null,"RANGE",null,null,null,null,null,null,null,"PROPERTIES",null,null,null,null,null,null,null,null,null,null,null,null,null,null,null,null,null,null,null,null,null,null,null,null,null,null,null,null,null,null,null,null,null,null,null,null,null,null,null,null,null,null,null,null,null,null,null,null,null,null,null,null,null,null,null,null,null,null,null,null,null,null,null,null,null,null,null,null,null,null,null,null,null,null,null,null,null,null,null,null,null,null,null,null,null,null,null,null,null,null,null,null,{"$f":"CY91+1","v":31}]
[null,{"$f":"IF(CharacterLevel=\"\",\"\",Attack1range)","v":""},null,null,null,null,null,null,null,{"$f":"IF(CharacterLevel=\"\",\"\",Attack1props)","v":""},null,null,null,null,null,null,null,null,null,null,null,null,null,null,null,null,null,null,null,null,null,null,null,null,null,null,null,null,null,null,null,null,null,null,null,null,null,null,null,null,null,null,null,null,null,null,"HEAD",null,null,null,null,null,null,null,null,null,null,null,null,null,null,null,null,null,null,null,null,null,"HANDS"]
[null,null,null,null,null,null,null,null,null,null,null,null,null,null,null,null,null,null,null,null,null,null,null,null,null,null,null,null,null,null,null,null,null,null,null,null,null,null,null,null,null,null,null,null,null,null,null,null,null,null,null,null,null,null,null,null,null,null,null,null,null,null,null,null,null,null,null,null,null,null,null,null,null,null,null,null,null,null,null,null,null,null,null,null,null,null,null,null,null,null,null,null,null,null,null,null,null,null,null,null,null,null,{"$f":"CY93+1","v":32}]
[null,null,null,null,null,null,null,null,null,null,null,null,null,null,null,null,null,null,null,null,null,null,null,null,null,null,null,null,null,null,null,null,null,null,null,null,null,null,null,null,null,null,null,null,null,null,null,null,null,null,null,null,null,null,null,null,"HEADBAND, HAT, HELMET, OR PHYLACTERY",null,null,null,null,null,null,null,null,null,null,null,null,null,null,null,null,null,null,null,null,null,"GLOVES OR GAUNTLETS"]
[null,"AMMUNITION",null,null,null,null,null,null,{"$f":"IF(CharacterLevel=\"\",\"\",Start!AV$139)","v":""},null,null,null,null,null,null,null,null,null,null,null,"£","£","£","£","£",null,"£","£","£","£","£",null,"£","£","£","£","£",null,"£","£","£","£","£",null,"£","£","£","£","£",null,"£","£","£","£","£",null,{"$f":"IF(OR(Start!C139=\"\",CharacterLevel=\"\"),\"\",Start!C139)","v":""},null,null,null,null,null,null,null,null,null,null,null,null,null,null,null,null,null,null,null,null,null,{"$f":"IF(OR(Start!C157=\"\",CharacterLevel=\"\"),\"\",Start!C157)","v":""},null,null,null,null,null,null,null,null,null,null,null,null,null,null,null,null,null,null,null,null,null,null,null,{"$f":"CY95+1","v":33}]
[]
[null,null,null,null,null,null,null,null,null,null,null,null,null,null,null,null,null,null,null,null,null,null,null,null,null,null,null,null,null,null,null,null,null,null,null,null,null,null,null,null,null,null,null,null,null,null,null,null,null,null,null,null,null,null,null,null,null,null,null,null,null,null,null,null,null,null,null,null,null,null,null,null,null,null,null,null,null,null,null,null,null,null,null,null,null,null,null,null,null,null,null,null,null,null,null,null,null,null,null,null,null,null,{"$f":"CY97+1","v":34}]
[null,"ATTACK 2"]
[null,null,null,null,null,null,null,null,null,null,null,null,null,null,null,null,null,null,null,null,null,"ATTACK BONUS",null,null,null,null,null,"DAMAGE",null,null,null,null,null,null,null,null,null,null,null,null,null,null,"TYPE",null,null,null,null,null,null,null,null,null,null,null,null,null,"EYES",null,null,null,null,null,null,null,null,null,null,null,null,null,null,null,null,null,null,null,null,null,"ARMS / WRISTS",null,null,null,null,null,null,null,null,null,null,null,null,null,null,null,null,null,null,null,null,null,null,null,{"$f":"CY99+1","v":35}]
[null,{"$f":"IF(CharacterLevel=\"\",\"\",Attack2name)","v":""},null,null,null,null,null,null,null,null,null,null,null,null,null,null,null,null,null,null,null,{"$f":"IF(CharacterLevel=\"\",\"\",Attack2bonus)","v":""},null,null,null,null,null,{"$f":"IF(CharacterLevel=\"\",\"\",Attack2damage)","v":""},null,null,null,null,null,null,null,null,null,null,null,null,null,null,{"$f":"IF(CharacterLevel=\"\",\"\",Attack2type)","v":""}]
[null,null,null,null,null,null,null,null,null,null,null,null,null,null,null,null,null,null,null,null,null,null,null,null,null,null,null,null,null,null,null,null,null,null,null,null,null,null,null,null,null,null,null,null,null,null,null,null,null,null,null,null,null,null,null,null,"EYE LENSES OR GOGGLES",null,null,null,null,null,null,null,null,null,null,null,null,null,null,null,null,null,null,null,null,null,"BRACERS OR BRACLETS",null,null,null,null,null,null,null,null,null,null,null,null,null,null,null,null,null,null,null,null,null,null,null,{"$f":"CY101+1","v":36}]
[null,null,null,null,null,null,null,null,null,null,null,null,null,null,null,null,null,null,null,null,null,null,null,null,null,null,null,null,null,null,null,null,null,null,null,null,null,null,null,null,null,null,null,null,null,null,null,null,null,null,null,null,null,null,null,null,{"$f":"IF(OR(Start!C142=\"\",CharacterLevel=\"\"),\"\",Start!C142)","v":""},null,null,null,null,null,null,null,null,null,null,null,null,null,null,null,null,null,null,null,null,null,{"$f":"IF(OR(Start!C160=\"\",CharacterLevel=\"\"),\"\",Start!C160)","v":""}]
[null,"RANGE",null,null,null,null,null,null,null,"PROPERTIES",null,null,null,null,null,null,null,null,null,null,null,null,null,null,null,null,null,null,null,null,null,null,null,null,null,null,null,null,null,null,null,null,null,null,null,null,null,null,null,null,null,null,null,null,null,null,null,null,null,null,null,null,null,null,null,null,null,null,null,null,null,null,null,null,null,null,null,null,null,null,null,null,null,null,null,null,null,null,null,null,null,null,null,null,null,null,null,null,null,null,null,null,{"$f":"CY103+1","v":37}]
[null,{"$f":"IF(CharacterLevel=\"\",\"\",Attack2range)","v":""},null,null,null,null,null,null,null,{"$f":"IF(CharacterLevel=\"\",\"\",Attack2props)","v":""}]
[null,null,null,null,null,null,null,null,null,null,null,null,null,null,null,null,null,null,null,null,null,null,null,null,null,null,null,null,null,null,null,null,null,null,null,null,null,null,null,null,null,null,null,null,null,null,null,null,null,null,null,null,null,null,null,null,null,null,null,null,null,null,null,null,null,null,null,null,null,null,null,null,null,null,null,null,null,null,null,null,null,null,null,null,null,null,null,null,null,null,null,null,null,null,null,null,null,null,null,null,null,null,{"$f":"CY105+1","v":38}]
[null,null,null,null,null,null,null,null,null,null,null,null,null,null,null,null,null,null,null,null,null,null,null,null,null,null,null,null,null,null,null,null,null,null,null,null,null,null,null,null,null,null,null,null,null,null,null,null,null,null,null,null,null,null,null,null,"NECK",null,null,null,null,null,null,null,null,null,null,null,null,null,null,null,null,null,null,null,null,null,"BODY"]
[null,"AMMUNITION",null,null,null,null,null,null,{"$f":"IF(CharacterLevel=\"\",\"\",Start!BD$139)","v":""},null,null,null,null,null,null,null,null,null,null,null,"£","£","£","£","£",null,"£","£","£","£","£",null,"£","£","£","£","£",null,"£","£","£","£","£",null,"£","£","£","£","£",null,"£","£","£","£","£",null,null,null,null,null,null,null,null,null,null,null,null,null,null,null,null,null,null,null,null,null,null,null,null,null,null,null,null,null,null,null,null,null,null,null,null,null,null,null,null,null,null,null,null,null,null,null,{"$f":"CY107+1","v":39}]
[null,null,null,null,null,null,null,null,null,null,null,null,null,null,null,null,null,null,null,null,null,null,null,null,null,null,null,null,null,null,null,null,null,null,null,null,null,null,null,null,null,null,null,null,null,null,null,null,null,null,null,null,null,null,null,null,"AMULET, BROOCH, MEDALLION, PERIAPT, OR SCARAB",null,null,null,null,null,null,null,null,null,null,null,null,null,null,null,null,null,null,null,null,null,"ROBE OR SUIT OF ARMOR"]
[null,null,null,null,null,null,null,null,null,null,null,null,null,null,null,null,null,null,null,null,null,null,null,null,null,null,null,null,null,null,null,null,null,null,null,null,null,null,null,null,null,null,null,null,null,null,null,null,null,null,null,null,null,null,null,null,{"$f":"IF(OR(Start!C145=\"\",CharacterLevel=\"\"),\"\",Start!C145)","v":""},null,null,null,null,null,null,null,null,null,null,null,null,null,null,null,null,null,null,null,null,null,{"$f":"IF(OR(Start!C163=\"\",CharacterLevel=\"\"),\"\",Start!C163)","v":""},null,null,null,null,null,null,null,null,null,null,null,null,null,null,null,null,null,null,null,null,null,null,null,{"$f":"CY109+1","v":40}]
[null,"ATTACK 3"]
[null,null,null,null,null,null,null,null,null,null,null,null,null,null,null,null,null,null,null,null,null,"ATTACK BONUS",null,null,null,null,null,"DAMAGE",null,null,null,null,null,null,null,null,null,null,null,null,null,null,"TYPE",null,null,null,null,null,null,null,null,null,null,null,null,null,null,null,null,null,null,null,null,null,null,null,null,null,null,null,null,null,null,null,null,null,null,null,null,null,null,null,null,null,null,null,null,null,null,null,null,null,null,null,null,null,null,null,null,null,null,null,{"$f":"CY111+1","v":41}]
[null,{"$f":"IF(CharacterLevel=\"\",\"\",Attack3name)","v":""},null,null,null,null,null,null,null,null,null,null,null,null,null,null,null,null,null,null,null,{"$f":"IF(CharacterLevel=\"\",\"\",Attack3bonus)","v":""},null,null,null,null,null,{"$f":"IF(CharacterLevel=\"\",\"\",Attack3damage)","v":""},null,null,null,null,null,null,null,null,null,null,null,null,null,null,{"$f":"IF(CharacterLevel=\"\",\"\",Attack3type)","v":""}]
[null,null,null,null,null,null,null,null,null,null,null,null,null,null,null,null,null,null,null,null,null,null,null,null,null,null,null,null,null,null,null,null,null,null,null,null,null,null,null,null,null,null,null,null,null,null,null,null,null,null,null,null,null,null,null,null,"SHOUDLERS",null,null,null,null,null,null,null,null,null,null,null,null,null,null,null,null,null,null,null,null,null,"TORSO",null,null,null,null,null,null,null,null,null,null,null,null,null,null,null,null,null,null,null,null,null,null,null,{"$f":"CY113+1","v":42}]
[]
[null,"RANGE",null,null,null,null,null,null,null,"PROPERTIES",null,null,null,null,null,null,null,null,null,null,null,null,null,null,null,null,null,null,null,null,null,null,null,null,null,null,null,null,null,null,null,null,null,null,null,null,null,null,null,null,null,null,null,null,null,null,"CLOAK, CAPE OR MANTLE",null,null,null,null,null,null,null,null,null,null,null,null,null,null,null,null,null,null,null,null,null,"VEST, VESTMENT, OR SHIRT",null,null,null,null,null,null,null,null,null,null,null,null,null,null,null,null,null,null,null,null,null,null,null,{"$f":"CY115+1","v":43}]
[null,{"$f":"IF(CharacterLevel=\"\",\"\",Attack3range)","v":""},null,null,null,null,null,null,null,{"$f":"IF(CharacterLevel=\"\",\"\",Attack3props)","v":""},null,null,null,null,null,null,null,null,null,null,null,null,null,null,null,null,null,null,null,null,null,null,null,null,null,null,null,null,null,null,null,null,null,null,null,null,null,null,null,null,null,null,null,null,null,null,{"$f":"IF(OR(Start!C148=\"\",CharacterLevel=\"\"),\"\",Start!C148)","v":""},null,null,null,null,null,null,null,null,null,null,null,null,null,null,null,null,null,null,null,null,null,{"$f":"IF(OR(Start!C166=\"\",CharacterLevel=\"\"),\"\",Start!C166)","v":""}]
[null,null,null,null,null,null,null,null,null,null,null,null,null,null,null,null,null,null,null,null,null,null,null,null,null,null,null,null,null,null,null,null,null,null,null,null,null,null,null,null,null,null,null,null,null,null,null,null,null,null,null,null,null,null,null,null,null,null,null,null,null,null,null,null,null,null,null,null,null,null,null,null,null,null,null,null,null,null,null,null,null,null,null,null,null,null,null,null,null,null,null,null,null,null,null,null,null,null,null,null,null,null,{"$f":"CY117+1","v":44}]
[]
[null,"AMMUNITION",null,null,null,null,null,null,{"$f":"IF(CharacterLevel=\"\",\"\",Start!BL$139)","v":""},null,null,null,null,null,null,null,null,null,null,null,"£","£","£","£","£",null,"£","£","£","£","£",null,"£","£","£","£","£",null,"£","£","£","£","£",null,"£","£","£","£","£",null,"£","£","£","£","£",null,null,null,null,null,null,null,null,null,null,null,null,null,null,null,null,null,null,null,null,null,null,null,null,null,null,null,null,null,null,null,null,null,null,null,null,null,null,null,null,null,null,null,null,null,null,null,{"$f":"CY119+1","v":45}]
[null,null,null,null,null,null,null,null,null,null,null,null,null,null,null,null,null,null,null,null,null,null,null,null,null,null,null,null,null,null,null,null,null,null,null,null,null,null,null,null,null,null,null,null,null,null,null,null,null,null,null,null,null,null,null,null,"RINGS",null,null,null,null,null,null,null,null,null,null,null,null,null,null,null,null,null,null,null,null,null,"WAIST"]
[null,null,null,null,null,null,null,null,null,null,null,null,null,null,null,null,null,null,null,null,null,null,null,null,null,null,null,null,null,null,null,null,null,null,null,null,null,null,null,null,null,null,null,null,null,null,null,null,null,null,null,null,null,null,null,null,null,null,null,null,null,null,null,null,null,null,null,null,null,null,null,null,null,null,null,null,null,null,null,null,null,null,null,null,null,null,null,null,null,null,null,null,null,null,null,null,null,null,null,null,null,null,{"$f":"CY121+1","v":46}]
[null,"ATTACK 4",null,null,null,null,null,null,null,null,null,null,null,null,null,null,null,null,null,null,null,null,null,null,null,null,null,null,null,null,null,null,null,null,null,null,null,null,null,null,null,null,null,null,null,null,null,null,null,null,null,null,null,null,null,null,"RIGHT HAND",null,null,null,null,null,null,null,null,null,null,null,null,null,null,null,null,null,null,null,null,null,"BELT OR GIRDLE"]
[null,null,null,null,null,null,null,null,null,null,null,null,null,null,null,null,null,null,null,null,null,"ATTACK BONUS",null,null,null,null,null,"DAMAGE",null,null,null,null,null,null,null,null,null,null,null,null,null,null,"TYPE",null,null,null,null,null,null,null,null,null,null,null,null,null,{"$f":"IF(OR(Start!C151=\"\",CharacterLevel=\"\"),\"\",Start!C151)","v":""},null,null,null,null,null,null,null,null,null,null,null,null,null,null,null,null,null,null,null,null,null,{"$f":"IF(OR(Start!C169=\"\",CharacterLevel=\"\"),\"\",Start!C169)","v":""},null,null,null,null,null,null,null,null,null,null,null,null,null,null,null,null,null,null,null,null,null,null,null,{"$f":"CY123+1","v":47}]
[null,{"$f":"IF(CharacterLevel=\"\",\"\",Attack4name)","v":""},null,null,null,null,null,null,null,null,null,null,null,null,null,null,null,null,null,null,null,{"$f":"IF(CharacterLevel=\"\",\"\",Attack4bonus)","v":""},null,null,null,null,null,{"$f":"IF(CharacterLevel=\"\",\"\",Attack4damage)","v":""},null,null,null,null,null,null,null,null,null,null,null,null,null,null,{"$f":"IF(CharacterLevel=\"\",\"\",Attack4type)","v":""}]
[null,null,null,null,null,null,null,null,null,null,null,null,null,null,null,null,null,null,null,null,null,null,null,null,null,null,null,null,null,null,null,null,null,null,null,null,null,null,null,null,null,null,null,null,null,null,null,null,null,null,null,null,null,null,null,null,null,null,null,null,null,null,null,null,null,null,null,null,null,null,null,null,null,null,null,null,null,null,null,null,null,null,null,null,null,null,null,null,null,null,null,null,null,null,null,null,null,null,null,null,null,null,{"$f":"CY125+1","v":48}]
[]
[null,"RANGE",null,null,null,null,null,null,null,"PROPERTIES",null,null,null,null,null,null,null,null,null,null,null,null,null,null,null,null,null,null,null,null,null,null,null,null,null,null,null,null,null,null,null,null,null,null,null,null,null,null,null,null,null,null,null,null,null,null,"RINGS",null,null,null,null,null,null,null,null,null,null,null,null,null,null,null,null,null,null,null,null,null,"FEET",null,null,null,null,null,null,null,null,null,null,null,null,null,null,null,null,null,null,null,null,null,null,null,{"$f":"CY127+1","v":49}]
[null,{"$f":"IF(CharacterLevel=\"\",\"\",Attack4range)","v":""},null,null,null,null,null,null,null,{"$f":"IF(CharacterLevel=\"\",\"\",Attack4props)","v":""}]
[null,null,null,null,null,null,null,null,null,null,null,null,null,null,null,null,null,null,null,null,null,null,null,null,null,null,null,null,null,null,null,null,null,null,null,null,null,null,null,null,null,null,null,null,null,null,null,null,null,null,null,null,null,null,null,null,"LEFT HAND",null,null,null,null,null,null,null,null,null,null,null,null,null,null,null,null,null,null,null,null,null,"BOOTS, SHOES, OR SLIPPERS",null,null,null,null,null,null,null,null,null,null,null,null,null,null,null,null,null,null,null,null,null,null,null,{"$f":"CY129+1","v":50}]
[null,null,null,null,null,null,null,null,null,null,null,null,null,null,null,null,null,null,null,null,null,null,null,null,null,null,null,null,null,null,null,null,null,null,null,null,null,null,null,null,null,null,null,null,null,null,null,null,null,null,null,null,null,null,null,null,{"$f":"IF(OR(Start!C154=\"\",CharacterLevel=\"\"),\"\",Start!C154)","v":""},null,null,null,null,null,null,null,null,null,null,null,null,null,null,null,null,null,null,null,null,null,{"$f":"IF(OR(Start!C172=\"\",CharacterLevel=\"\"),\"\",Start!C172)","v":""}]
[null,"AMMUNITION",null,null,null,null,null,null,{"$f":"IF(CharacterLevel=\"\",\"\",Start!BT$139)","v":""},null,null,null,null,null,null,null,null,null,null,null,"£","£","£","£","£",null,"£","£","£","£","£",null,"£","£","£","£","£",null,"£","£","£","£","£",null,"£","£","£","£","£",null,"£","£","£","£","£",null,null,null,null,null,null,null,null,null,null,null,null,null,null,null,null,null,null,null,null,null,null,null,null,null,null,null,null,null,null,null,null,null,null,null,null,null,null,null,null,null,null,null,null,null,null,null,{"$f":"CY131+1","v":51}]
[]
[null,null,null,null,null,null,null,null,null,null,null,null,null,null,null,null,null,null,null,null,null,null,null,null,null,null,null,null,null,null,null,null,null,null,null,null,null,null,null,null,null,null,null,null,null,null,null,null,null,null,null,null,null,null,null,null,null,null,null,null,null,null,null,null,null,null,null,null,null,null,null,null,null,null,null,null,null,null,null,null,null,null,null,null,null,null,null,null,null,null,null,null,null,null,null,null,null,null,null,null,null,null,{"$f":"CY133+1","v":52}]
[null,"ATTACK 5"]
[null,null,null,null,null,null,null,null,null,null,null,null,null,null,null,null,null,null,null,null,null,"ATTACK BONUS",null,null,null,null,null,"DAMAGE",null,null,null,null,null,null,null,null,null,null,null,null,null,null,"TYPE",null,null,null,null,null,null,null,null,null,null,null,null,null,"CARRYING CAPACITY",null,null,null,null,null,null,null,null,null,null,null,null,null,null,null,null,null,null,null,null,null,"COINAGE",null,null,null,null,null,null,null,null,null,null,null,null,null,null,null,null,null,null,null,null,null,null,null,{"$f":"CY135+1","v":53}]
[null,{"$f":"IF(CharacterLevel=\"\",\"\",Attack5name)","v":""},null,null,null,null,null,null,null,null,null,null,null,null,null,null,null,null,null,null,null,{"$f":"IF(CharacterLevel=\"\",\"\",Attack5bonus)","v":""},null,null,null,null,null,{"$f":"IF(CharacterLevel=\"\",\"\",Attack5damage)","v":""},null,null,null,null,null,null,null,null,null,null,null,null,null,null,{"$f":"IF(CharacterLevel=\"\",\"\",Attack5type)","v":""}]
[null,null,null,null,null,null,null,null,null,null,null,null,null,null,null,null,null,null,null,null,null,null,null,null,null,null,null,null,null,null,null,null,null,null,null,null,null,null,null,null,null,null,null,null,null,null,null,null,null,null,null,null,null,null,null,null,null,null,null,null,null,null,null,null,null,null,null,null,null,null,null,null,null,null,null,null,null,null,null,null,null,null,null,null,null,null,null,null,null,null,null,null,null,null,null,null,null,null,null,null,null,null,{"$f":"CY137+1","v":54}]
[null,null,null,null,null,null,null,null,null,null,null,null,null,null,null,null,null,null,null,null,null,null,null,null,null,null,null,null,null,null,null,null,null,null,null,null,null,null,null,null,null,null,null,null,null,null,null,null,null,null,null,null,null,null,null,null,"CURRENT"]
[null,"RANGE",null,null,null,null,null,null,null,"PROPERTIES",null,null,null,null,null,null,null,null,null,null,null,null,null,null,null,null,null,null,null,null,null,null,null,null,null,null,null,null,null,null,null,null,null,null,null,null,null,null,null,null,null,null,null,null,null,null,null,null,null,null,null,null,null,null,null,null,null,{"$f":"IF(OR(CharacterLevel=\"\",'Character Sheet II'!AU83=\"\"),\"\",'Character Sheet II'!AU83&\" lbs\")","v":""},null,null,null,null,null,null,null,null,null,null,"PLATINUM (PP)",null,null,null,null,null,null,null,null,null,null,{"$f":"IF(OR(CharacterLevel=\"\",Start!BC115=\"\"),\"\",Start!BC115)","v":923},null,null,null,null,null,null,null,null,null,null,null,null,{"$f":"CY139+1","v":55}]
[null,{"$f":"IF(CharacterLevel=\"\",\"\",Attack5range)","v":""},null,null,null,null,null,null,null,{"$f":"IF(CharacterLevel=\"\",\"\",Attack5props)","v":""}]
[null,null,null,null,null,null,null,null,null,null,null,null,null,null,null,null,null,null,null,null,null,null,null,null,null,null,null,null,null,null,null,null,null,null,null,null,null,null,null,null,null,null,null,null,null,null,null,null,null,null,null,null,null,null,null,null,{"$f":"IF(CharacterLevel=\"\",\"\",IF('Character Sheet II'!AU83=\"\",\"UNENCUMBERED\",IF('Character Sheet II'!AU83>STR*15,\"YOU CANNOT CARRY THIS WEIGHT\",IF('Character Sheet II'!AU83>STR*10,\"YOU ARE ENCUMBERED - SPEED IS NOW \"&Speed-20&\" FEET\",IF('Character Sheet II'!AU83>STR*5,\"YOU ARE ENCUMBERED - SPEED IS NOW \"&Speed-10&\" FEET\",\"UNENCUMBERED\")))))","v":"UNENCUMBERED"},null,null,null,null,null,null,null,null,null,null,null,null,null,null,null,null,null,null,null,null,null,"1 PLATINUM = 10 GOLD",null,null,null,null,null,null,null,null,null,null,null,null,null,null,null,null,null,null,null,null,null,null,null,{"$f":"CY141+1","v":56}]
[]
[null,"AMMUNITION",null,null,null,null,null,null,{"$f":"IF(CharacterLevel=\"\",\"\",Start!CB$139)","v":""},null,null,null,null,null,null,null,null,null,null,null,"£","£","£","£","£",null,"£","£","£","£","£",null,"£","£","£","£","£",null,"£","£","£","£","£",null,"£","£","£","£","£",null,"£","£","£","£","£",null,{"$f":"IF(CharacterLevel=\"\",\"\",IF('Character Sheet II'!AU83=\"\",\"\",IF('Character Sheet II'!AU83>STR*10,BE154,\"\")))","v":""},null,null,null,null,null,null,null,null,null,null,null,null,null,null,null,null,null,null,null,null,null,"GOLD (GP)",null,null,null,null,null,null,null,null,null,null,{"$f":"IF(OR(CharacterLevel=\"\",Start!BC116=\"\"),\"\",Start!BC116)","v":167},null,null,null,null,null,null,null,null,null,null,null,null,{"$f":"CY143+1","v":57}]
[null,null,null,null,null,null,null,null,null,null,null,null,null,null,null,null,null,null,null,null,null,null,null,null,null,null,null,null,null,null,null,null,null,null,null,null,null,null,null,null,null,null,null,null,null,null,null,null,null,null,null,null,null,null,null,null,"ENCUMBERED",null,null,null,null,null,null,null,null,null,null,{"$f":"IF(CharacterLevel=\"\",\"\",STR*5+1&\" - \"&STR*10&\" lbs\")","v":"1 - 0 lbs"}]
[null,null,null,null,null,null,null,null,null,null,null,null,null,null,null,null,null,null,null,null,null,null,null,null,null,null,null,null,null,null,null,null,null,null,null,null,null,null,null,null,null,null,null,null,null,null,null,null,null,null,null,null,null,null,null,null,null,null,null,null,null,null,null,null,null,null,null,null,null,null,null,null,null,null,null,null,null,null,"1 GOLD = 2 ELECTRUM"]
[null,"ATTACK 6",null,null,null,null,null,null,null,null,null,null,null,null,null,null,null,null,null,null,null,null,null,null,null,null,null,null,null,null,null,null,null,null,null,null,null,null,null,null,null,null,null,null,null,null,null,null,null,null,null,null,null,null,null,null,"SPEED -10 FEET"]
[null,null,null,null,null,null,null,null,null,null,null,null,null,null,null,null,null,null,null,null,null,"ATTACK BONUS",null,null,null,null,null,"DAMAGE",null,null,null,null,null,null,null,null,null,null,null,null,null,null,"TYPE",null,null,null,null,null,null,null,null,null,null,null,null,null,null,null,null,null,null,null,null,null,null,null,null,null,null,null,null,null,null,null,null,null,null,null,"ELECTRUM (EP)",null,null,null,null,null,null,null,null,null,null,{"$f":"IF(OR(CharacterLevel=\"\",Start!BC117=\"\"),\"\",Start!BC117)","v":34}]
[null,{"$f":"IF(CharacterLevel=\"\",\"\",Attack6name)","v":""},null,null,null,null,null,null,null,null,null,null,null,null,null,null,null,null,null,null,null,{"$f":"IF(CharacterLevel=\"\",\"\",Attack6bonus)","v":""},null,null,null,null,null,{"$f":"IF(CharacterLevel=\"\",\"\",Attack6damage)","v":""},null,null,null,null,null,null,null,null,null,null,null,null,null,null,{"$f":"IF(CharacterLevel=\"\",\"\",Attack6type)","v":""}]
[null,null,null,null,null,null,null,null,null,null,null,null,null,null,null,null,null,null,null,null,null,null,null,null,null,null,null,null,null,null,null,null,null,null,null,null,null,null,null,null,null,null,null,null,null,null,null,null,null,null,null,null,null,null,null,null,"ENCUMBERED",null,null,null,null,null,null,null,null,null,null,{"$f":"IF(CharacterLevel=\"\",\"\",STR*10+1&\" - \"&STR*15&\" lbs\")","v":"1 - 0 lbs"},null,null,null,null,null,null,null,null,null,null,"1 ELECTRUM = 5 SILVER"]
[]
[null,"RANGE",null,null,null,null,null,null,null,"PROPERTIES",null,null,null,null,null,null,null,null,null,null,null,null,null,null,null,null,null,null,null,null,null,null,null,null,null,null,null,null,null,null,null,null,null,null,null,null,null,null,null,null,null,null,null,null,null,null,"SPEED -20 FEET",null,null,null,null,null,null,null,null,null,null,null,null,null,null,null,null,null,null,null,null,null,"SILVER (SP)",null,null,null,null,null,null,null,null,null,null,{"$f":"IF(OR(CharacterLevel=\"\",Start!BC118=\"\"),\"\",Start!BC118)","v":183}]
[null,{"$f":"IF(CharacterLevel=\"\",\"\",Attack6range)","v":""},null,null,null,null,null,null,null,{"$f":"IF(CharacterLevel=\"\",\"\",Attack6props)","v":""},null,null,null,null,null,null,null,null,null,null,null,null,null,null,null,null,null,null,null,null,null,null,null,null,null,null,null,null,null,null,null,null,null,null,null,null,null,null,null,null,null,null,null,null,null,null,"DISADVANTAGE ON STR, DEX, CON CHECKS, ATTACKS & SAVES"]
[null,null,null,null,null,null,null,null,null,null,null,null,null,null,null,null,null,null,null,null,null,null,null,null,null,null,null,null,null,null,null,null,null,null,null,null,null,null,null,null,null,null,null,null,null,null,null,null,null,null,null,null,null,null,null,null,null,null,null,null,null,null,null,null,null,null,null,null,null,null,null,null,null,null,null,null,null,null,"1 SILVER = 10 COPPER"]
[null,null,null,null,null,null,null,null,null,null,null,null,null,null,null,null,null,null,null,null,null,null,null,null,null,null,null,null,null,null,null,null,null,null,null,null,null,null,null,null,null,null,null,null,null,null,null,null,null,null,null,null,null,null,null,null,"PUSH, DRAG, LIFT",null,null,null,null,null,null,null,null,null,null,{"$f":"IF(CharacterLevel=\"\",\"\",\"0 - \"&STR*30&\" lbs\")","v":"0 - 0 lbs"}]
[null,"AMMUNITION",null,null,null,null,null,null,{"$f":"IF(CharacterLevel=\"\",\"\",Start!CJ$139)","v":""},null,null,null,null,null,null,null,null,null,null,null,"£","£","£","£","£",null,"£","£","£","£","£",null,"£","£","£","£","£",null,"£","£","£","£","£",null,"£","£","£","£","£",null,"£","£","£","£","£",null,null,null,null,null,null,null,null,null,null,null,null,null,null,null,null,null,null,null,null,null,null,null,"COPPER (CP)",null,null,null,null,null,null,null,null,null,null,{"$f":"IF(OR(CharacterLevel=\"\",Start!BC119=\"\"),\"\",Start!BC119)","v":145}]
[null,null,null,null,null,null,null,null,null,null,null,null,null,null,null,null,null,null,null,null,null,null,null,null,null,null,null,null,null,null,null,null,null,null,null,null,null,null,null,null,null,null,null,null,null,null,null,null,null,null,null,null,null,null,null,null,{"$f":"IF(CharacterLevel=\"\",\"IF PUSHING OR DRAGGING ABOVE 15 x STR LBS, SPEED DROPS TO 5 FEET\",\"IF PUSHING OR DRAGGING ABOVE \"&STR*15&\" LBS, SPEED DROPS TO 5 FEET\")","v":"IF PUSHING OR DRAGGING ABOVE 0 LBS, SPEED DROPS TO 5 FEET"}]

{"sheet":"Character Sheet II","index":4,"n_rows":153,"n_cols":116,"rows_kept":153,"cut":false,"hidden":false,"merged":[[88,27,89,27],[90,27,91,27],[92,27,93,27],[94,27,95,27],[96,27,97,27],[98,27,99,27],[100,27,101,27],[102,27,103,27],[104,27,105,27],[100,45,101,45],[102,45,103,45],[104,45,105,45],[106,45,107,45],[88,31,89,31],[90,31,91,31],[92,31,93,31],[94,31,95,31],[96,31,97,31],[98,31,99,31],[100,31,101,31],[102,31,103,31],[104,31,105,31],[106,31,107,31],[75,31,76,31],[77,31,78,31],[79,31,80,31],[75,45,76,45],[77,45,78,45],[79,45,80,45],[88,45,89,45],[90,45,91,45],[92,45,93,45],[29,27,30,27],[31,27,32,27],[33,27,34,27],[35,27,36,27],[37,27,38,27],[39,27,40,27],[41,27,42,27],[43,27,44,27],[45,27,46,27],[7,27,8,27],[9,27,10,27],[11,27,12,27],[13,27,14,27],[15,27,16,27],[17,27,18,27],[19,27,20,27],[21,27,22,27],[23,27,24,27],[29,31,30,31],[31,31,32,31],[33,31,34,31],[35,31,36,31],[37,31,38,31],[39,31,40,31],[41,31,42,31],[43,31,44,31],[45,31,46,31],[7,31,8,31],[9,31,10,31],[11,31,12,31],[13,31,14,31],[15,31,16,31],[17,31,18,31],[19,31,20,31],[21,31,22,31],[23,31,24,31],[27,45,28,45],[29,45,30,45],[31,45,32,45],[33,45,34,45],[35,45,36,45],[37,45,38,45],[39,45,40,45],[43,45,44,45],[45,45,46,45],[9,45,10,45],[11,45,12,45],[13,45,14,45],[15,45,16,45],[17,45,18,45],[19,45,20,45],[21,45,22,45],[23,45,24,45],[25,45,26,45],[152,28,157,53],[152,1,153,26],[131,28,132,53],[124,1,125,26],[126,1,127,26],[128,1,129,26],[130,1,131,26],[132,1,133,26],[134,1,135,26],[149,28,150,53],[142,1,143,26],[144,1,145,26],[140,28,141,53],[138,1,139,26],[140,1,141,26],[136,1,137,26],[115,28,130,53],[134,28,139,53],[143,28,148,53],[122,1,123,26],[150,1,151,26],[154,1,155,26],[146,1,147,26],[102,28,103,30],[104,28,105,30],[106,28,107,30],[109,32,110,44],[109,46,110,53],[106,32,107,44],[106,46,107,53],[116,1,117,26],[120,1,121,26],[118,1,119,26],[112,1,113,26],[106,1,107,26],[114,1,115,26],[102,1,103,26],[102,32,103,44],[106,27,107,27],[1,55,2,98],[9,46,10,53],[5,46,6,53],[5,1,6,27],[5,32,6,45],[15,1,16,26],[15,32,16,44],[15,46,16,53],[9,28,10,30],[11,28,12,30],[13,28,14,30],[15,28,16,30],[9,32,10,44],[11,1,12,26],[11,32,12,44],[11,46,12,53],[13,1,14,26],[1,1,2,53],[5,28,6,30],[3,1,4,26],[9,1,10,26],[13,32,14,44],[7,28,8,30],[7,32,8,44],[98,1,99,26],[98,32,99,44],[98,46,99,53],[96,46,97,53],[90,28,91,30],[98,28,99,30],[90,32,91,44],[90,46,91,53],[94,28,95,30],[96,28,97,30],[92,46,93,53],[92,1,93,26],[92,32,93,44],[90,1,91,26],[96,1,97,26],[96,32,97,44],[92,28,93,30],[94,45,95,45],[96,45,97,45],[98,45,99,45],[17,46,18,53],[35,46,36,53],[39,28,40,30],[94,46,95,53],[72,1,73,26],[39,46,40,53],[43,46,44,53],[51,32,52,44],[51,46,52,53],[53,32,54,44],[53,46,54,53],[51,28,52,30],[53,28,54,30],[37,1,38,26],[37,32,38,44],[37,46,38,53],[29,1,30,26],[29,32,30,44],[37,28,38,30],[63,28,64,30],[94,1,95,26],[94,32,95,44],[41,1,42,26],[25,1,26,26],[7,46,8,53],[7,1,8,26],[23,28,24,30],[25,28,26,30],[35,1,36,26],[35,32,36,44],[29,46,30,53],[31,1,32,26],[31,32,32,44],[31,46,32,53],[33,1,34,26],[33,32,34,44],[33,46,34,53],[29,28,30,30],[31,28,32,30],[33,28,34,30],[35,28,36,30],[25,46,26,53],[13,46,14,53],[27,46,28,53],[19,46,20,53],[21,46,22,53],[17,28,18,30],[23,46,24,53],[25,32,26,44],[27,1,28,26],[27,32,28,44],[19,32,20,44],[21,1,22,26],[21,32,22,44],[23,1,24,26],[23,32,24,44],[19,1,20,26],[27,28,28,30],[19,28,20,30],[21,28,22,30],[25,31,26,31],[27,31,28,31],[25,27,26,27],[27,27,28,27],[17,1,18,26],[17,32,18,44],[49,28,50,30],[55,46,56,53],[69,46,70,53],[77,28,78,30],[55,1,56,26],[59,1,60,26],[51,1,52,26],[53,1,54,26],[69,32,70,44],[77,32,78,44],[77,46,78,53],[75,1,76,26],[69,28,70,30],[65,1,66,26],[55,28,56,30],[55,32,56,44],[72,28,73,30],[72,32,73,44],[72,46,73,53],[65,28,66,30],[45,1,46,26],[45,32,46,44],[88,28,89,30],[88,46,89,53],[57,1,58,26],[57,32,58,44],[57,46,58,53],[63,1,64,26],[63,32,64,44],[63,46,64,53],[79,46,80,53],[82,28,83,44],[59,32,60,44],[57,28,58,30],[59,28,60,30],[61,28,62,30],[69,1,70,26],[75,28,76,30],[82,46,83,53],[75,32,76,44],[75,46,76,53],[79,28,80,30],[86,28,87,30],[84,1,85,26],[75,27,76,27],[77,27,78,27],[39,1,40,26],[39,32,40,44],[41,28,42,30],[43,28,44,30],[45,28,46,30],[49,32,50,44],[84,41,85,53],[79,1,80,26],[79,32,80,44],[45,46,46,53],[47,1,48,26],[47,32,48,44],[47,46,48,53],[49,1,50,26],[41,46,42,53],[43,1,44,26],[43,32,44,44],[49,46,50,53],[47,28,48,30],[41,32,42,44],[41,45,42,45],[47,31,48,31],[47,27,48,27],[79,27,80,27],[100,28,101,30],[112,28,113,53],[102,46,103,53],[100,32,101,44],[100,46,101,53],[77,1,78,26],[104,1,105,26],[100,1,101,26],[3,56,157,98],[65,46,66,53],[104,32,105,44],[104,46,105,53],[86,1,87,27],[86,32,87,45],[86,46,87,53],[88,1,89,26],[88,32,89,44],[59,46,60,53],[61,1,62,26],[61,32,62,44],[61,46,62,53],[65,32,66,44],[156,1,157,26],[148,1,149,26],[67,1,68,26],[67,28,68,30],[67,32,68,44],[67,46,68,53],[49,27,50,27],[51,27,52,27],[53,27,54,27],[55,27,56,27],[57,27,58,27],[59,27,60,27],[61,27,62,27],[63,27,64,27],[65,27,66,27],[67,27,68,27],[65,45,66,45],[67,45,68,45],[69,27,70,27],[49,31,50,31],[51,31,52,31],[53,31,54,31],[55,31,56,31],[57,31,58,31],[59,31,60,31],[61,31,62,31],[63,31,64,31],[65,31,66,31],[67,31,68,31],[69,31,70,31],[69,45,70,45],[47,45,48,45],[49,45,50,45],[51,45,52,45],[53,45,54,45],[55,45,56,45],[57,45,58,45],[59,45,60,45],[61,45,62,45],[63,45,64,45]]}
[]
[null,"GEAR",null,null,null,null,null,null,null,null,null,null,null,null,null,null,null,null,null,null,null,null,null,null,null,null,null,null,null,null,null,null,null,null,null,null,null,null,null,null,null,null,null,null,null,null,null,null,null,null,null,null,null,null,null,"RACE, BACKGROUND, CLASS & FEATS"]
[]
[null,"POSSESIONS ON PERSON",null,null,null,null,null,null,null,null,null,null,null,null,null,null,null,null,null,null,null,null,null,null,null,null,null,null,null,null,null,null,null,null,null,null,null,null,null,null,null,null,null,null,null,null,null,null,null,null,null,null,null,null,null,null,{"$f":"IF(CharacterLevel=\"\",\"\",Start!BK2)","v":"RACE: Select…\n\n\nBACKGROUND: Select…\n• Feature: \n\n• Skills: none\n• Tools: none\n• Languages: none\n\n"}]
[]
[null,"ITEM",null,null,null,null,null,null,null,null,null,null,null,null,null,null,null,null,null,null,null,null,null,null,null,null,null,null,"QTY",null,null,null,"LOCATION",null,null,null,null,null,null,null,null,null,null,null,null,null,"WEIGHT"]
[]
[]
[]
[]
[]
[]
[]
[]
[]
[]
[]
[null,null,null,null,null,null,null,null,null,null,null,null,null,null,null,null,null,null,null,null,null,null,null,null,null,null,null,null,null,null,null,null,null,null,null,null,null,null,null,null,null,null,null,null,null,null,null,null,null,null,null,null,null,null,null,null,null,null,null,null,null,null,null,null,null,null,null,null,null,null,null,null,null,null,null,null,null,null,null,null,null,null,null,null,null,null,null,null,null,null,null,null,null,null,null,null,null,null,null,null,null,null,null,null,null,null,null,null,{"$f":"#REF!","v":{"$error":"#REF!"}},{"$f":"#REF!","v":{"$error":"#REF!"}},{"$f":"#REF!","v":{"$error":"#REF!"}},{"$f":"#REF!","v":{"$error":"#REF!"}},{"$f":"NaturalArmor","v":{"$error":"#NAME?"}},{"$f":"VALUE(#REF!)","v":{"$error":"#REF!"}},{"$f":"VALUE(ACMisc)","v":{"$error":"#NAME?"}}]
[null,null,null,null,null,null,null,null,null,null,null,null,null,null,null,null,null,null,null,null,null,null,null,null,null,null,null,null,null,null,null,null,null,null,null,null,null,null,null,null,null,null,null,null,null,null,null,null,null,null,null,null,null,null,null,null,null,null,null,null,null,null,null,null,null,null,null,null,null,null,null,null,null,null,null,null,null,null,null,null,null,null,null,null,null,null,null,null,null,null,null,null,null,null,null,null,null,null,null,null,null,null,null,null,null,null,null,null,{"$f":"IF(DE18,TEXT(DE18,\"+0;-0\")&\" armor\",\"\")","v":{"$error":"#REF!"}},{"$f":"IF(DF18,TEXT(DF18,\"+0;-0\")&\" shield\",\"\")","v":{"$error":"#REF!"}},{"$f":"IF(DG18,TEXT(DG18,\"+0;-0\")&\" dex\",\"\")","v":{"$error":"#REF!"}},{"$f":"IF(DH18,TEXT(DH18,\"+0;-0\")&\" size\",\"\")","v":{"$error":"#REF!"}},{"$f":"IF(DI18,TEXT(DI18,\"+0;-0\")&\" natural\",\"\")","v":{"$error":"#NAME?"}},{"$f":"IF(DJ18,TEXT(DJ18,\"+0;-0\")&\" deflection\",\"\")","v":{"$error":"#REF!"}},{"$f":"IF(DK18,TEXT(DK18,\"+0;-0\")&\" misc\",\"\")","v":{"$error":"#NAME?"}}]
[null,null,null,null,null,null,null,null,null,null,null,null,null,null,null,null,null,null,null,null,null,null,null,null,null,null,null,null,null,null,null,null,null,null,null,null,null,null,null,null,null,null,null,null,null,null,null,null,null,null,null,null,null,null,null,null,null,null,null,null,null,null,null,null,null,null,null,null,null,null,null,null,null,null,null,null,null,null,null,null,null,null,null,null,null,null,null,null,null,null,null,null,null,null,null,null,null,null,null,null,null,null,null,null,null,null,null,null,{"$f":"DE19","v":{"$error":"#REF!"}},{"$f":"IF(AND(DE20<>\"\",DF19<>\"\"),DE20&\", \"&DF19,DE20&DF19)","v":{"$error":"#REF!"}},{"$error":"#REF!"},{"$error":"#REF!"},{"$error":"#REF!"},{"$error":"#REF!"},{"$error":"#REF!"},{"$f":"IF(DK20<>\"\",\"(\"&DK20&\"), \",\"\")&\"touch \"&TouchAC&\", flat-footed \"&FlatFootedAC","v":{"$error":"#REF!"}}]
[]
[]
[]
[]
[]
[]
[]
[]
[]
[]
[null,null,null,null,null,null,null,null,null,null,null,null,null,null,null,null,null,null,null,null,null,null,null,null,null,null,null,null,null,null,null,null,null,null,null,null,null,null,null,null,null,null,null,null,null,null,null,null,null,null,null,null,null,null,null,null,null,null,null,null,null,null,null,null,null,null,null,null,null,null,null,null,null,null,null,null,null,null,null,null,null,null,null,null,null,null,null,null,null,null,null,null,null,null,null,null,null,null,null,null,null,null,{"$f":"1","v":1}]
[]
[null,null,null,null,null,null,null,null,null,null,null,null,null,null,null,null,null,null,null,null,null,null,null,null,null,null,null,null,null,null,null,null,null,null,null,null,null,null,null,null,null,null,null,null,null,null,null,null,null,null,null,null,null,null,null,null,null,null,null,null,null,null,null,null,null,null,null,null,null,null,null,null,null,null,null,null,null,null,null,null,null,null,null,null,null,null,null,null,null,null,null,null,null,null,null,null,null,null,null,null,null,null,{"$f":"CY31+1","v":2}]
[]
[null,null,null,null,null,null,null,null,null,null,null,null,null,null,null,null,null,null,null,null,null,null,null,null,null,null,null,null,null,null,null,null,null,null,null,null,null,null,null,null,null,null,null,null,null,null,null,null,null,null,null,null,null,null,null,null,null,null,null,null,null,null,null,null,null,null,null,null,null,null,null,null,null,null,null,null,null,null,null,null,null,null,null,null,null,null,null,null,null,null,null,null,null,null,null,null,null,null,null,null,null,null,{"$f":"CY33+1","v":3}]
[]
[null,null,null,null,null,null,null,null,null,null,null,null,null,null,null,null,null,null,null,null,null,null,null,null,null,null,null,null,null,null,null,null,null,null,null,null,null,null,null,null,null,null,null,null,null,null,null,null,null,null,null,null,null,null,null,null,null,null,null,null,null,null,null,null,null,null,null,null,null,null,null,null,null,null,null,null,null,null,null,null,null,null,null,null,null,null,null,null,null,null,null,null,null,null,null,null,null,null,null,null,null,null,{"$f":"CY35+1","v":4}]
[]
[null,null,null,null,null,null,null,null,null,null,null,null,null,null,null,null,null,null,null,null,null,null,null,null,null,null,null,null,null,null,null,null,null,null,null,null,null,null,null,null,null,null,null,null,null,null,null,null,null,null,null,null,null,null,null,null,null,null,null,null,null,null,null,null,null,null,null,null,null,null,null,null,null,null,null,null,null,null,null,null,null,null,null,null,null,null,null,null,null,null,null,null,null,null,null,null,null,null,null,null,null,null,{"$f":"CY37+1","v":5}]
[]
[null,null,null,null,null,null,null,null,null,null,null,null,null,null,null,null,null,null,null,null,null,null,null,null,null,null,null,null,null,null,null,null,null,null,null,null,null,null,null,null,null,null,null,null,null,null,null,null,null,null,null,null,null,null,null,null,null,null,null,null,null,null,null,null,null,null,null,null,null,null,null,null,null,null,null,null,null,null,null,null,null,null,null,null,null,null,null,null,null,null,null,null,null,null,null,null,null,null,null,null,null,null,{"$f":"CY39+1","v":6}]
[]
[null,null,null,null,null,null,null,null,null,null,null,null,null,null,null,null,null,null,null,null,null,null,null,null,null,null,null,null,null,null,null,null,null,null,null,null,null,null,null,null,null,null,null,null,null,null,null,null,null,null,null,null,null,null,null,null,null,null,null,null,null,null,null,null,null,null,null,null,null,null,null,null,null,null,null,null,null,null,null,null,null,null,null,null,null,null,null,null,null,null,null,null,null,null,null,null,null,null,null,null,null,null,{"$f":"CY41+1","v":7}]
[]
[null,null,null,null,null,null,null,null,null,null,null,null,null,null,null,null,null,null,null,null,null,null,null,null,null,null,null,null,null,null,null,null,null,null,null,null,null,null,null,null,null,null,null,null,null,null,null,null,null,null,null,null,null,null,null,null,null,null,null,null,null,null,null,null,null,null,null,null,null,null,null,null,null,null,null,null,null,null,null,null,null,null,null,null,null,null,null,null,null,null,null,null,null,null,null,null,null,null,null,null,null,null,{"$f":"CY43+1","v":8}]
[]
[null,null,null,null,null,null,null,null,null,null,null,null,null,null,null,null,null,null,null,null,null,null,null,null,null,null,null,null,null,null,null,null,null,null,null,null,null,null,null,null,null,null,null,null,null,null,null,null,null,null,null,null,null,null,null,null,null,null,null,null,null,null,null,null,null,null,null,null,null,null,null,null,null,null,null,null,null,null,null,null,null,null,null,null,null,null,null,null,null,null,null,null,null,null,null,null,null,null,null,null,null,null,{"$f":"CY45+1","v":9}]
[]
[null,null,null,null,null,null,null,null,null,null,null,null,null,null,null,null,null,null,null,null,null,null,null,null,null,null,null,null,null,null,null,null,null,null,null,null,null,null,null,null,null,null,null,null,null,null,null,null,null,null,null,null,null,null,null,null,null,null,null,null,null,null,null,null,null,null,null,null,null,null,null,null,null,null,null,null,null,null,null,null,null,null,null,null,null,null,null,null,null,null,null,null,null,null,null,null,null,null,null,null,null,null,{"$f":"CY47+1","v":10}]
[]
[null,null,null,null,null,null,null,null,null,null,null,null,null,null,null,null,null,null,null,null,null,null,null,null,null,null,null,null,null,null,null,null,null,null,null,null,null,null,null,null,null,null,null,null,null,null,null,null,null,null,null,null,null,null,null,null,null,null,null,null,null,null,null,null,null,null,null,null,null,null,null,null,null,null,null,null,null,null,null,null,null,null,null,null,null,null,null,null,null,null,null,null,null,null,null,null,null,null,null,null,null,null,{"$f":"CY49+1","v":11}]
[]
[null,null,null,null,null,null,null,null,null,null,null,null,null,null,null,null,null,null,null,null,null,null,null,null,null,null,null,null,null,null,null,null,null,null,null,null,null,null,null,null,null,null,null,null,null,null,null,null,null,null,null,null,null,null,null,null,null,null,null,null,null,null,null,null,null,null,null,null,null,null,null,null,null,null,null,null,null,null,null,null,null,null,null,null,null,null,null,null,null,null,null,null,null,null,null,null,null,null,null,null,null,null,{"$f":"CY51+1","v":12}]
[]
[null,null,null,null,null,null,null,null,null,null,null,null,null,null,null,null,null,null,null,null,null,null,null,null,null,null,null,null,null,null,null,null,null,null,null,null,null,null,null,null,null,null,null,null,null,null,null,null,null,null,null,null,null,null,null,null,null,null,null,null,null,null,null,null,null,null,null,null,null,null,null,null,null,null,null,null,null,null,null,null,null,null,null,null,null,null,null,null,null,null,null,null,null,null,null,null,null,null,null,null,null,null,{"$f":"CY53+1","v":13}]
[]
[null,null,null,null,null,null,null,null,null,null,null,null,null,null,null,null,null,null,null,null,null,null,null,null,null,null,null,null,null,null,null,null,null,null,null,null,null,null,null,null,null,null,null,null,null,null,null,null,null,null,null,null,null,null,null,null,null,null,null,null,null,null,null,null,null,null,null,null,null,null,null,null,null,null,null,null,null,null,null,null,null,null,null,null,null,null,null,null,null,null,null,null,null,null,null,null,null,null,null,null,null,null,{"$f":"CY55+1","v":14}]
[]
[null,null,null,null,null,null,null,null,null,null,null,null,null,null,null,null,null,null,null,null,null,null,null,null,null,null,null,null,null,null,null,null,null,null,null,null,null,null,null,null,null,null,null,null,null,null,null,null,null,null,null,null,null,null,null,null,null,null,null,null,null,null,null,null,null,null,null,null,null,null,null,null,null,null,null,null,null,null,null,null,null,null,null,null,null,null,null,null,null,null,null,null,null,null,null,null,null,null,null,null,null,null,{"$f":"CY57+1","v":15}]
[]
[null,null,null,null,null,null,null,null,null,null,null,null,null,null,null,null,null,null,null,null,null,null,null,null,null,null,null,null,null,null,null,null,null,null,null,null,null,null,null,null,null,null,null,null,null,null,null,null,null,null,null,null,null,null,null,null,null,null,null,null,null,null,null,null,null,null,null,null,null,null,null,null,null,null,null,null,null,null,null,null,null,null,null,null,null,null,null,null,null,null,null,null,null,null,null,null,null,null,null,null,null,null,{"$f":"CY59+1","v":16}]
[]
[null,null,null,null,null,null,null,null,null,null,null,null,null,null,null,null,null,null,null,null,null,null,null,null,null,null,null,null,null,null,null,null,null,null,null,null,null,null,null,null,null,null,null,null,null,null,null,null,null,null,null,null,null,null,null,null,null,null,null,null,null,null,null,null,null,null,null,null,null,null,null,null,null,null,null,null,null,null,null,null,null,null,null,null,null,null,null,null,null,null,null,null,null,null,null,null,null,null,null,null,null,null,{"$f":"CY61+1","v":17}]
[]
[null,null,null,null,null,null,null,null,null,null,null,null,null,null,null,null,null,null,null,null,null,null,null,null,null,null,null,null,null,null,null,null,null,null,null,null,null,null,null,null,null,null,null,null,null,null,null,null,null,null,null,null,null,null,null,null,null,null,null,null,null,null,null,null,null,null,null,null,null,null,null,null,null,null,null,null,null,null,null,null,null,null,null,null,null,null,null,null,null,null,null,null,null,null,null,null,null,null,null,null,null,null,{"$f":"CY63+1","v":18}]
[]
[null,null,null,null,null,null,null,null,null,null,null,null,null,null,null,null,null,null,null,null,null,null,null,null,null,null,null,null,null,null,null,null,null,null,null,null,null,null,null,null,null,null,null,null,null,null,null,null,null,null,null,null,null,null,null,null,null,null,null,null,null,null,null,null,null,null,null,null,null,null,null,null,null,null,null,null,null,null,null,null,null,null,null,null,null,null,null,null,null,null,null,null,null,null,null,null,null,null,null,null,null,null,{"$f":"CY65+1","v":19}]
[]
[null,null,null,null,null,null,null,null,null,null,null,null,null,null,null,null,null,null,null,null,null,null,null,null,null,null,null,null,null,null,null,null,null,null,null,null,null,null,null,null,null,null,null,null,null,null,null,null,null,null,null,null,null,null,null,null,null,null,null,null,null,null,null,null,null,null,null,null,null,null,null,null,null,null,null,null,null,null,null,null,null,null,null,null,null,null,null,null,null,null,null,null,null,null,null,null,null,null,null,null,null,null,{"$f":"CY67+1","v":20}]
[]
[null,null,null,null,null,null,null,null,null,null,null,null,null,null,null,null,null,null,null,null,null,null,null,null,null,null,null,null,null,null,null,null,null,null,null,null,null,null,null,null,null,null,null,null,null,null,null,null,null,null,null,null,null,null,null,null,null,null,null,null,null,null,null,null,null,null,null,null,null,null,null,null,null,null,null,null,null,null,null,null,null,null,null,null,null,null,null,null,null,null,null,null,null,null,null,null,null,null,null,null,null,null,{"$f":"CY67+1","v":20}]
[]
[null,"ATTUNED MAGICAL ITEMS",null,null,null,null,null,null,null,null,null,null,null,null,null,null,null,null,null,null,null,null,null,null,null,null,null,null,"QTY",null,null,null,"LOCATION",null,null,null,null,null,null,null,null,null,null,null,null,null,"WEIGHT",null,null,null,null,null,null,null,null,null,null,null,null,null,null,null,null,null,null,null,null,null,null,null,null,null,null,null,null,null,null,null,null,null,null,null,null,null,null,null,null,null,null,null,null,null,null,null,null,null,null,null,null,null,null,null,{"$f":"CY71+1","v":21}]
[]
[null,null,null,null,null,null,null,null,null,null,null,null,null,null,null,null,null,null,null,null,null,null,null,null,null,null,null,null,null,null,null,null,null,null,null,null,null,null,null,null,null,null,null,null,null,null,null,null,null,null,null,null,null,null,null,null,null,null,null,null,null,null,null,null,null,null,null,null,null,null,null,null,null,null,null,null,null,null,null,null,null,null,null,null,null,null,null,null,null,null,null,null,null,null,null,null,null,null,null,null,null,null,{"$f":"CY73+1","v":22}]
[]
[null,null,null,null,null,null,null,null,null,null,null,null,null,null,null,null,null,null,null,null,null,null,null,null,null,null,null,null,null,null,null,null,null,null,null,null,null,null,null,null,null,null,null,null,null,null,null,null,null,null,null,null,null,null,null,null,null,null,null,null,null,null,null,null,null,null,null,null,null,null,null,null,null,null,null,null,null,null,null,null,null,null,null,null,null,null,null,null,null,null,null,null,null,null,null,null,null,null,null,null,null,null,{"$f":"CY75+1","v":23}]
[]
[null,null,null,null,null,null,null,null,null,null,null,null,null,null,null,null,null,null,null,null,null,null,null,null,null,null,null,null,null,null,null,null,null,null,null,null,null,null,null,null,null,null,null,null,null,null,null,null,null,null,null,null,null,null,null,null,null,null,null,null,null,null,null,null,null,null,null,null,null,null,null,null,null,null,null,null,null,null,null,null,null,null,null,null,null,null,null,null,null,null,null,null,null,null,null,null,null,null,null,null,null,null,{"$f":"CY77+1","v":24}]
[]
[null,null,null,null,null,null,null,null,null,null,null,null,null,null,null,null,null,null,null,null,null,null,null,null,null,null,null,null,null,null,null,null,null,null,null,null,null,null,null,null,null,null,null,null,null,null,null,null,null,null,null,null,null,null,null,null,null,null,null,null,null,null,null,null,null,null,null,null,null,null,null,null,null,null,null,null,null,null,null,null,null,null,null,null,null,null,null,null,null,null,null,null,null,null,null,null,null,null,null,null,null,null,{"$f":"CY79+1","v":25}]
[]
[null,null,null,null,null,null,null,null,null,null,null,null,null,null,null,null,null,null,null,null,null,null,null,null,null,null,null,null,"TOTAL WEIGHT CARRIED",null,null,null,null,null,null,null,null,null,null,null,null,null,null,null,null,null,{"$f":"IF(SUM(AU8:BB81)=0,\"\",SUM(AU8:BB81)+IF(Start!AV120=\"\",0,ROUND(SUM(Start!AZ115:BB119)/50,1)))","v":""},null,null,null,null,null,null,null,null,null,null,null,null,null,null,null,null,null,null,null,null,null,null,null,null,null,null,null,null,null,null,null,null,null,null,null,null,null,null,null,null,null,null,null,null,null,null,null,null,null,null,null,null,null,null,null,{"$f":"CY81+1","v":26}]
[]
[null,"POSSESIONS NOT ON PERSON",null,null,null,null,null,null,null,null,null,null,null,null,null,null,null,null,null,null,null,null,null,null,null,null,null,null,null,null,null,null,null,null,null,null,null,null,null,null,null,{"$f":"IF(SUM(Start!AZ115:BB119)=0,\"Carrying ______ coins ( ____ lbs)\",Start!AV120)","v":"Carrying ______ coins ( ____ lbs)"},null,null,null,null,null,null,null,null,null,null,null,null,null,null,null,null,null,null,null,null,null,null,null,null,null,null,null,null,null,null,null,null,null,null,null,null,null,null,null,null,null,null,null,null,null,null,null,null,null,null,null,null,null,null,null,null,null,null,null,null,{"$f":"CY83+1","v":27}]
[]
[null,"ITEM",null,null,null,null,null,null,null,null,null,null,null,null,null,null,null,null,null,null,null,null,null,null,null,null,null,null,"QTY",null,null,null,"LOCATION",null,null,null,null,null,null,null,null,null,null,null,null,null,"WEIGHT",null,null,null,null,null,null,null,null,null,null,null,null,null,null,null,null,null,null,null,null,null,null,null,null,null,null,null,null,null,null,null,null,null,null,null,null,null,null,null,null,null,null,null,null,null,null,null,null,null,null,null,null,null,null,null,{"$f":"CY85+1","v":28}]
[]
[null,null,null,null,null,null,null,null,null,null,null,null,null,null,null,null,null,null,null,null,null,null,null,null,null,null,null,null,null,null,null,null,null,null,null,null,null,null,null,null,null,null,null,null,null,null,null,null,null,null,null,null,null,null,null,null,null,null,null,null,null,null,null,null,null,null,null,null,null,null,null,null,null,null,null,null,null,null,null,null,null,null,null,null,null,null,null,null,null,null,null,null,null,null,null,null,null,null,null,null,null,null,{"$f":"CY87+1","v":29}]
[]
[null,null,null,null,null,null,null,null,null,null,null,null,null,null,null,null,null,null,null,null,null,null,null,null,null,null,null,null,null,null,null,null,null,null,null,null,null,null,null,null,null,null,null,null,null,null,null,null,null,null,null,null,null,null,null,null,null,null,null,null,null,null,null,null,null,null,null,null,null,null,null,null,null,null,null,null,null,null,null,null,null,null,null,null,null,null,null,null,null,null,null,null,null,null,null,null,null,null,null,null,null,null,{"$f":"CY89+1","v":30}]
[]
[null,null,null,null,null,null,null,null,null,null,null,null,null,null,null,null,null,null,null,null,null,null,null,null,null,null,null,null,null,null,null,null,null,null,null,null,null,null,null,null,null,null,null,null,null,null,null,null,null,null,null,null,null,null,null,null,null,null,null,null,null,null,null,null,null,null,null,null,null,null,null,null,null,null,null,null,null,null,null,null,null,null,null,null,null,null,null,null,null,null,null,null,null,null,null,null,null,null,null,null,null,null,{"$f":"CY91+1","v":31}]
[]
[null,null,null,null,null,null,null,null,null,null,null,null,null,null,null,null,null,null,null,null,null,null,null,null,null,null,null,null,null,null,null,null,null,null,null,null,null,null,null,null,null,null,null,null,null,null,null,null,null,null,null,null,null,null,null,null,null,null,null,null,null,null,null,null,null,null,null,null,null,null,null,null,null,null,null,null,null,null,null,null,null,null,null,null,null,null,null,null,null,null,null,null,null,null,null,null,null,null,null,null,null,null,{"$f":"CY93+1","v":32}]
[]
[null,null,null,null,null,null,null,null,null,null,null,null,null,null,null,null,null,null,null,null,null,null,null,null,null,null,null,null,null,null,null,null,null,null,null,null,null,null,null,null,null,null,null,null,null,null,null,null,null,null,null,null,null,null,null,null,null,null,null,null,null,null,null,null,null,null,null,null,null,null,null,null,null,null,null,null,null,null,null,null,null,null,null,null,null,null,null,null,null,null,null,null,null,null,null,null,null,null,null,null,null,null,{"$f":"CY95+1","v":33}]
[]
[null,null,null,null,null,null,null,null,null,null,null,null,null,null,null,null,null,null,null,null,null,null,null,null,null,null,null,null,null,null,null,null,null,null,null,null,null,null,null,null,null,null,null,null,null,null,null,null,null,null,null,null,null,null,null,null,null,null,null,null,null,null,null,null,null,null,null,null,null,null,null,null,null,null,null,null,null,null,null,null,null,null,null,null,null,null,null,null,null,null,null,null,null,null,null,null,null,null,null,null,null,null,{"$f":"CY97+1","v":34}]
[]
[null,null,null,null,null,null,null,null,null,null,null,null,null,null,null,null,null,null,null,null,null,null,null,null,null,null,null,null,null,null,null,null,null,null,null,null,null,null,null,null,null,null,null,null,null,null,null,null,null,null,null,null,null,null,null,null,null,null,null,null,null,null,null,null,null,null,null,null,null,null,null,null,null,null,null,null,null,null,null,null,null,null,null,null,null,null,null,null,null,null,null,null,null,null,null,null,null,null,null,null,null,null,{"$f":"CY99+1","v":35}]
[]
[null,null,null,null,null,null,null,null,null,null,null,null,null,null,null,null,null,null,null,null,null,null,null,null,null,null,null,null,null,null,null,null,null,null,null,null,null,null,null,null,null,null,null,null,null,null,null,null,null,null,null,null,null,null,null,null,null,null,null,null,null,null,null,null,null,null,null,null,null,null,null,null,null,null,null,null,null,null,null,null,null,null,null,null,null,null,null,null,null,null,null,null,null,null,null,null,null,null,null,null,null,null,{"$f":"CY101+1","v":36}]
[]
[null,null,null,null,null,null,null,null,null,null,null,null,null,null,null,null,null,null,null,null,null,null,null,null,null,null,null,null,null,null,null,null,null,null,null,null,null,null,null,null,null,null,null,null,null,null,null,null,null,null,null,null,null,null,null,null,null,null,null,null,null,null,null,null,null,null,null,null,null,null,null,null,null,null,null,null,null,null,null,null,null,null,null,null,null,null,null,null,null,null,null,null,null,null,null,null,null,null,null,null,null,null,{"$f":"CY103+1","v":37}]
[]
[null,null,null,null,null,null,null,null,null,null,null,null,null,null,null,null,null,null,null,null,null,null,null,null,null,null,null,null,null,null,null,null,null,null,null,null,null,null,null,null,null,null,null,null,null,null,null,null,null,null,null,null,null,null,null,null,null,null,null,null,null,null,null,null,null,null,null,null,null,null,null,null,null,null,null,null,null,null,null,null,null,null,null,null,null,null,null,null,null,null,null,null,null,null,null,null,null,null,null,null,null,null,{"$f":"CY105+1","v":38}]
[]
[null,null,null,null,null,null,null,null,null,null,null,null,null,null,null,null,null,null,null,null,null,null,null,null,null,null,null,null,null,null,null,null,null,null,null,null,null,null,null,null,null,null,null,null,null,null,null,null,null,null,null,null,null,null,null,null,null,null,null,null,null,null,null,null,null,null,null,null,null,null,null,null,null,null,null,null,null,null,null,null,null,null,null,null,null,null,null,null,null,null,null,null,null,null,null,null,null,null,null,null,null,null,{"$f":"CY107+1","v":39}]
[null,null,null,null,null,null,null,null,null,null,null,null,null,null,null,null,null,null,null,null,null,null,null,null,null,null,null,null,null,null,null,null,"TOTAL WEIGHT",null,null,null,null,null,null,null,null,null,null,null,null,null,{"$f":"IF(SUM(AU89:BB108)=0,\"\",SUM(AU89:BB108))","v":""}]
[null,null,null,null,null,null,null,null,null,null,null,null,null,null,null,null,null,null,null,null,null,null,null,null,null,null,null,null,null,null,null,null,null,null,null,null,null,null,null,null,null,null,null,null,null,null,null,null,null,null,null,null,null,null,null,null,null,null,null,null,null,null,null,null,null,null,null,null,null,null,null,null,null,null,null,null,null,null,null,null,null,null,null,null,null,null,null,null,null,null,null,null,null,null,null,null,null,null,null,null,null,null,{"$f":"CY109+1","v":40}]
[]
[null,"CHARACTER NOTES",null,null,null,null,null,null,null,null,null,null,null,null,null,null,null,null,null,null,null,null,null,null,null,null,null,null,"PERSONALITY TRAITS",null,null,null,null,null,null,null,null,null,null,null,null,null,null,null,null,null,null,null,null,null,null,null,null,null,null,null,null,null,null,null,null,null,null,null,null,null,null,null,null,null,null,null,null,null,null,null,null,null,null,null,null,null,null,null,null,null,null,null,null,null,null,null,null,null,null,null,null,null,null,null,null,null,{"$f":"CY111+1","v":41}]
[]
[null,null,null,null,null,null,null,null,null,null,null,null,null,null,null,null,null,null,null,null,null,null,null,null,null,null,null,null,null,null,null,null,null,null,null,null,null,null,null,null,null,null,null,null,null,null,null,null,null,null,null,null,null,null,null,null,null,null,null,null,null,null,null,null,null,null,null,null,null,null,null,null,null,null,null,null,null,null,null,null,null,null,null,null,null,null,null,null,null,null,null,null,null,null,null,null,null,null,null,null,null,null,{"$f":"CY113+1","v":42}]
[null,null,null,null,null,null,null,null,null,null,null,null,null,null,null,null,null,null,null,null,null,null,null,null,null,null,null,null,{"$f":"IF(CharacterLevel=\"\",\"\",IF(CharacterBackgroundPersonalityTrait1=SelectText,\"\",CharacterBackgroundPersonalityTrait1)&\"\n\n\"&IF(CharacterBackgroundPersonalityTrait2=SelectText,\"\",CharacterBackgroundPersonalityTrait2))","v":"\n\n"}]
[null,null,null,null,null,null,null,null,null,null,null,null,null,null,null,null,null,null,null,null,null,null,null,null,null,null,null,null,null,null,null,null,null,null,null,null,null,null,null,null,null,null,null,null,null,null,null,null,null,null,null,null,null,null,null,null,null,null,null,null,null,null,null,null,null,null,null,null,null,null,null,null,null,null,null,null,null,null,null,null,null,null,null,null,null,null,null,null,null,null,null,null,null,null,null,null,null,null,null,null,null,null,{"$f":"CY115+1","v":43}]
[]
[null,null,null,null,null,null,null,null,null,null,null,null,null,null,null,null,null,null,null,null,null,null,null,null,null,null,null,null,null,null,null,null,null,null,null,null,null,null,null,null,null,null,null,null,null,null,null,null,null,null,null,null,null,null,null,null,null,null,null,null,null,null,null,null,null,null,null,null,null,null,null,null,null,null,null,null,null,null,null,null,null,null,null,null,null,null,null,null,null,null,null,null,null,null,null,null,null,null,null,null,null,null,{"$f":"CY117+1","v":44}]
[]
[null,null,null,null,null,null,null,null,null,null,null,null,null,null,null,null,null,null,null,null,null,null,null,null,null,null,null,null,null,null,null,null,null,null,null,null,null,null,null,null,null,null,null,null,null,null,null,null,null,null,null,null,null,null,null,null,null,null,null,null,null,null,null,null,null,null,null,null,null,null,null,null,null,null,null,null,null,null,null,null,null,null,null,null,null,null,null,null,null,null,null,null,null,null,null,null,null,null,null,null,null,null,{"$f":"CY119+1","v":45}]
[]
[null,null,null,null,null,null,null,null,null,null,null,null,null,null,null,null,null,null,null,null,null,null,null,null,null,null,null,null,null,null,null,null,null,null,null,null,null,null,null,null,null,null,null,null,null,null,null,null,null,null,null,null,null,null,null,null,null,null,null,null,null,null,null,null,null,null,null,null,null,null,null,null,null,null,null,null,null,null,null,null,null,null,null,null,null,null,null,null,null,null,null,null,null,null,null,null,null,null,null,null,null,null,{"$f":"CY121+1","v":46}]
[]
[null,null,null,null,null,null,null,null,null,null,null,null,null,null,null,null,null,null,null,null,null,null,null,null,null,null,null,null,null,null,null,null,null,null,null,null,null,null,null,null,null,null,null,null,null,null,null,null,null,null,null,null,null,null,null,null,null,null,null,null,null,null,null,null,null,null,null,null,null,null,null,null,null,null,null,null,null,null,null,null,null,null,null,null,null,null,null,null,null,null,null,null,null,null,null,null,null,null,null,null,null,null,{"$f":"CY123+1","v":47}]
[]
[null,null,null,null,null,null,null,null,null,null,null,null,null,null,null,null,null,null,null,null,null,null,null,null,null,null,null,null,null,null,null,null,null,null,null,null,null,null,null,null,null,null,null,null,null,null,null,null,null,null,null,null,null,null,null,null,null,null,null,null,null,null,null,null,null,null,null,null,null,null,null,null,null,null,null,null,null,null,null,null,null,null,null,null,null,null,null,null,null,null,null,null,null,null,null,null,null,null,null,null,null,null,{"$f":"CY125+1","v":48}]
[]
[null,null,null,null,null,null,null,null,null,null,null,null,null,null,null,null,null,null,null,null,null,null,null,null,null,null,null,null,null,null,null,null,null,null,null,null,null,null,null,null,null,null,null,null,null,null,null,null,null,null,null,null,null,null,null,null,null,null,null,null,null,null,null,null,null,null,null,null,null,null,null,null,null,null,null,null,null,null,null,null,null,null,null,null,null,null,null,null,null,null,null,null,null,null,null,null,null,null,null,null,null,null,{"$f":"CY127+1","v":49}]
[]
[null,null,null,null,null,null,null,null,null,null,null,null,null,null,null,null,null,null,null,null,null,null,null,null,null,null,null,null,null,null,null,null,null,null,null,null,null,null,null,null,null,null,null,null,null,null,null,null,null,null,null,null,null,null,null,null,null,null,null,null,null,null,null,null,null,null,null,null,null,null,null,null,null,null,null,null,null,null,null,null,null,null,null,null,null,null,null,null,null,null,null,null,null,null,null,null,null,null,null,null,null,null,{"$f":"CY129+1","v":50}]
[null,null,null,null,null,null,null,null,null,null,null,null,null,null,null,null,null,null,null,null,null,null,null,null,null,null,null,null,"IDEAL"]
[null,null,null,null,null,null,null,null,null,null,null,null,null,null,null,null,null,null,null,null,null,null,null,null,null,null,null,null,null,null,null,null,null,null,null,null,null,null,null,null,null,null,null,null,null,null,null,null,null,null,null,null,null,null,null,null,null,null,null,null,null,null,null,null,null,null,null,null,null,null,null,null,null,null,null,null,null,null,null,null,null,null,null,null,null,null,null,null,null,null,null,null,null,null,null,null,null,null,null,null,null,null,{"$f":"CY131+1","v":51}]
[]
[null,null,null,null,null,null,null,null,null,null,null,null,null,null,null,null,null,null,null,null,null,null,null,null,null,null,null,null,{"$f":"IF(CharacterLevel=\"\",\"\",IF(CharacterBackgroundIdeal=SelectText,\"\",CharacterBackgroundIdeal))","v":""},null,null,null,null,null,null,null,null,null,null,null,null,null,null,null,null,null,null,null,null,null,null,null,null,null,null,null,null,null,null,null,null,null,null,null,null,null,null,null,null,null,null,null,null,null,null,null,null,null,null,null,null,null,null,null,null,null,null,null,null,null,null,null,null,null,null,null,null,null,null,null,null,null,{"$f":"CY133+1","v":52}]
[]
[null,null,null,null,null,null,null,null,null,null,null,null,null,null,null,null,null,null,null,null,null,null,null,null,null,null,null,null,null,null,null,null,null,null,null,null,null,null,null,null,null,null,null,null,null,null,null,null,null,null,null,null,null,null,null,null,null,null,null,null,null,null,null,null,null,null,null,null,null,null,null,null,null,null,null,null,null,null,null,null,null,null,null,null,null,null,null,null,null,null,null,null,null,null,null,null,null,null,null,null,null,null,{"$f":"CY135+1","v":53}]
[]
[null,null,null,null,null,null,null,null,null,null,null,null,null,null,null,null,null,null,null,null,null,null,null,null,null,null,null,null,null,null,null,null,null,null,null,null,null,null,null,null,null,null,null,null,null,null,null,null,null,null,null,null,null,null,null,null,null,null,null,null,null,null,null,null,null,null,null,null,null,null,null,null,null,null,null,null,null,null,null,null,null,null,null,null,null,null,null,null,null,null,null,null,null,null,null,null,null,null,null,null,null,null,{"$f":"CY137+1","v":54}]
[]
[null,null,null,null,null,null,null,null,null,null,null,null,null,null,null,null,null,null,null,null,null,null,null,null,null,null,null,null,"BOND",null,null,null,null,null,null,null,null,null,null,null,null,null,null,null,null,null,null,null,null,null,null,null,null,null,null,null,null,null,null,null,null,null,null,null,null,null,null,null,null,null,null,null,null,null,null,null,null,null,null,null,null,null,null,null,null,null,null,null,null,null,null,null,null,null,null,null,null,null,null,null,null,null,{"$f":"CY139+1","v":55}]
[]
[null,null,null,null,null,null,null,null,null,null,null,null,null,null,null,null,null,null,null,null,null,null,null,null,null,null,null,null,null,null,null,null,null,null,null,null,null,null,null,null,null,null,null,null,null,null,null,null,null,null,null,null,null,null,null,null,null,null,null,null,null,null,null,null,null,null,null,null,null,null,null,null,null,null,null,null,null,null,null,null,null,null,null,null,null,null,null,null,null,null,null,null,null,null,null,null,null,null,null,null,null,null,{"$f":"CY141+1","v":56}]
[null,null,null,null,null,null,null,null,null,null,null,null,null,null,null,null,null,null,null,null,null,null,null,null,null,null,null,null,{"$f":"IF(CharacterLevel=\"\",\"\",IF(CharacterBackgroundBond=SelectText,\"\",CharacterBackgroundBond))","v":""}]
[null,null,null,null,null,null,null,null,null,null,null,null,null,null,null,null,null,null,null,null,null,null,null,null,null,null,null,null,null,null,null,null,null,null,null,null,null,null,null,null,null,null,null,null,null,null,null,null,null,null,null,null,null,null,null,null,null,null,null,null,null,null,null,null,null,null,null,null,null,null,null,null,null,null,null,null,null,null,null,null,null,null,null,null,null,null,null,null,null,null,null,null,null,null,null,null,null,null,null,null,null,null,{"$f":"CY143+1","v":57}]
[]
[]
[]
[]
[null,null,null,null,null,null,null,null,null,null,null,null,null,null,null,null,null,null,null,null,null,null,null,null,null,null,null,null,"FLAW"]
[]
[]
[null,null,null,null,null,null,null,null,null,null,null,null,null,null,null,null,null,null,null,null,null,null,null,null,null,null,null,null,{"$f":"IF(CharacterLevel=\"\",\"\",IF(CharacterBackgroundFlaw=SelectText,\"\",CharacterBackgroundFlaw))","v":""}]

{"sheet":"Character Sheet III","index":5,"n_rows":202,"n_cols":165,"rows_kept":202,"cut":false,"hidden":false,"merged":[[201,134,202,134],[21,31,22,48],[21,50,22,57],[191,39,192,42],[193,39,194,42],[195,39,196,42],[197,39,198,42],[199,39,200,42],[201,39,202,42],[161,38,162,43],[49,49,50,73],[51,49,52,73],[53,49,54,73],[55,49,56,73],[57,49,58,73],[59,49,60,73],[201,78,202,82],[191,49,192,73],[193,49,194,73],[63,49,64,73],[65,49,66,73],[67,49,68,73],[69,49,70,73],[173,39,174,42],[175,39,176,42],[177,39,178,42],[101,39,102,42],[103,39,104,42],[105,39,106,42],[107,39,108,42],[109,39,110,42],[111,39,112,42],[19,1,20,29],[19,31,20,48],[19,50,20,57],[19,59,20,73],[16,1,17,73],[45,1,46,73],[35,1,42,73],[43,1,44,73],[201,83,202,84],[201,85,202,91],[201,108,202,113],[201,115,202,120],[201,122,202,126],[201,99,202,105],[201,93,202,95],[149,39,150,42],[151,39,152,42],[153,39,154,42],[155,39,156,42],[73,44,74,47],[87,39,88,42],[89,39,90,42],[91,39,92,42],[93,39,94,42],[95,39,96,42],[97,39,98,42],[99,39,100,42],[85,44,86,47],[127,44,128,47],[101,44,102,47],[61,49,62,73],[113,39,114,42],[201,135,202,138],[201,139,202,139],[201,140,202,144],[199,49,200,73],[201,49,202,73],[73,49,74,73],[117,49,118,73],[161,49,162,73],[113,49,114,73],[119,49,120,73],[121,49,122,73],[123,49,124,73],[125,49,126,73],[127,49,128,73],[129,49,130,73],[131,49,132,73],[133,49,134,73],[135,49,136,73],[149,49,150,73],[169,49,170,73],[171,49,172,73],[173,49,174,73],[175,49,176,73],[177,49,178,73],[179,49,180,73],[181,49,182,73],[183,49,184,73],[75,49,76,73],[77,49,78,73],[79,49,80,73],[81,49,82,73],[141,49,142,73],[117,38,118,43],[119,39,120,42],[121,39,122,42],[123,39,124,42],[125,39,126,42],[127,39,128,42],[129,39,130,42],[131,39,132,42],[133,39,134,42],[135,39,136,42],[137,39,138,42],[139,39,140,42],[157,39,158,42],[163,39,164,42],[165,39,166,42],[167,39,168,42],[169,39,170,42],[195,49,196,73],[197,49,198,73],[151,49,152,73],[153,49,154,73],[155,49,156,73],[157,49,158,73],[163,49,164,73],[165,49,166,73],[167,49,168,73],[83,49,84,73],[85,49,86,73],[87,49,88,73],[89,49,90,73],[91,49,92,73],[93,49,94,73],[95,49,96,73],[97,49,98,73],[99,49,100,73],[101,49,102,73],[103,49,104,73],[105,49,106,73],[107,49,108,73],[109,49,110,73],[111,49,112,73],[137,49,138,73],[139,49,140,73],[143,49,144,73],[145,49,146,73],[147,49,148,73],[185,49,186,73],[187,49,188,73],[85,21,86,25],[63,21,64,25],[63,27,64,30],[65,21,66,25],[65,27,66,30],[83,1,84,3],[55,1,56,19],[57,21,58,25],[57,27,58,30],[67,39,68,42],[69,39,70,42],[73,38,74,43],[75,39,76,42],[77,39,78,42],[79,39,80,42],[55,21,56,25],[55,27,56,30],[75,27,76,30],[73,1,74,3],[57,1,58,19],[59,1,60,19],[61,1,62,19],[63,1,64,19],[81,39,82,42],[83,39,84,42],[85,39,86,42],[77,21,78,25],[69,32,70,37],[73,32,74,37],[73,21,74,25],[73,27,74,30],[79,4,80,19],[63,32,64,37],[49,32,50,37],[49,44,50,47],[59,27,60,30],[55,32,56,37],[57,32,58,37],[51,21,52,25],[51,1,52,19],[51,27,52,30],[67,21,68,25],[67,27,68,30],[49,38,50,43],[51,39,52,42],[53,39,54,42],[55,39,56,42],[57,39,58,42],[59,39,60,42],[61,39,62,42],[63,39,64,42],[65,39,66,42],[53,1,54,19],[59,21,60,25],[53,21,54,25],[53,27,54,30],[33,1,34,4],[33,39,34,43],[23,66,25,69],[26,66,27,73],[23,70,25,73],[23,34,25,37],[26,30,27,37],[23,21,25,24],[26,21,27,28],[23,30,25,33],[23,25,25,28],[23,1,25,7],[26,1,27,7],[26,11,27,17],[23,11,25,17],[33,26,34,30],[33,49,34,53],[28,49,32,73],[23,52,25,55],[23,48,25,51],[26,48,27,55],[23,61,25,64],[26,57,27,64],[23,43,25,46],[23,57,25,60],[23,39,25,42],[28,1,32,24],[26,39,27,46],[28,26,32,47],[52,75,53,77],[52,78,53,93],[52,95,53,99],[52,101,53,104],[60,75,61,77],[64,101,65,104],[42,95,43,99],[42,101,43,104],[56,78,57,93],[56,95,57,99],[56,101,57,104],[61,32,62,37],[47,1,48,9],[66,75,67,77],[67,32,68,37],[67,1,68,19],[59,32,60,37],[59,44,60,47],[61,21,62,25],[61,27,62,30],[67,44,68,47],[63,44,64,47],[65,32,66,37],[49,27,50,30],[53,32,54,37],[51,32,52,37],[46,101,47,104],[54,75,55,77],[54,78,55,93],[54,95,55,99],[54,101,55,104],[46,75,47,77],[46,78,47,93],[46,95,47,99],[84,101,85,104],[90,75,91,77],[90,78,91,93],[90,95,91,99],[90,101,91,104],[98,75,99,77],[98,78,99,93],[72,75,73,77],[42,75,43,77],[42,78,43,93],[84,95,85,99],[108,101,109,104],[102,101,103,104],[80,101,81,104],[92,101,93,104],[64,75,65,77],[64,78,65,93],[64,95,65,99],[68,75,69,77],[68,78,69,93],[68,95,69,99],[66,95,67,99],[68,101,69,104],[70,101,71,104],[102,75,103,77],[102,78,103,93],[108,95,109,99],[56,75,57,77],[70,95,71,99],[72,101,73,104],[78,75,79,77],[154,75,155,77],[154,78,155,93],[154,95,155,99],[108,78,109,93],[40,75,41,77],[104,78,105,93],[40,78,41,93],[40,95,41,99],[40,101,41,104],[44,75,45,77],[170,78,171,93],[170,95,171,99],[140,78,141,93],[140,95,141,99],[140,75,141,77],[74,75,75,77],[74,78,75,93],[74,95,75,99],[94,78,95,93],[94,95,95,99],[128,78,129,93],[106,75,107,77],[128,95,129,99],[136,75,137,77],[168,75,169,77],[168,95,169,99],[100,75,101,77],[100,78,101,93],[110,95,111,99],[168,78,169,93],[142,95,143,99],[122,75,123,77],[44,118,45,121],[42,106,43,111],[36,118,37,121],[72,78,73,93],[72,95,73,99],[94,101,95,104],[100,101,101,104],[110,101,111,104],[102,95,103,99],[112,78,113,93],[112,95,113,99],[178,75,179,77],[178,78,179,93],[178,95,179,99],[180,75,181,77],[180,78,181,93],[180,95,181,99],[106,101,107,104],[126,101,127,104],[126,78,127,93],[106,78,107,93],[106,95,107,99],[122,95,123,99],[122,101,123,104],[142,101,143,104],[160,75,161,77],[150,75,151,77],[150,78,151,93],[146,75,147,77],[160,101,161,104],[158,101,159,104],[98,101,99,104],[96,75,97,83],[66,78,67,93],[70,75,71,77],[78,95,79,99],[126,95,127,99],[114,75,115,77],[114,78,115,93],[114,95,115,99],[110,78,111,93],[26,106,27,111],[26,118,27,121],[36,106,37,111],[62,75,63,83],[60,78,61,93],[60,95,61,99],[60,101,61,104],[58,75,59,77],[48,75,49,77],[48,78,49,93],[48,95,49,99],[48,101,49,104],[34,75,35,77],[34,78,35,93],[34,95,35,99],[34,101,35,104],[32,75,33,77],[50,75,51,77],[50,78,51,93],[50,95,51,99],[50,101,51,104],[36,75,37,77],[134,106,135,111],[106,118,107,121],[122,118,123,121],[144,101,145,104],[142,106,143,111],[126,112,127,117],[108,106,109,111],[116,106,117,111],[116,118,117,121],[48,106,49,111],[44,106,45,111],[54,118,55,121],[32,101,33,104],[30,75,31,77],[38,75,39,77],[38,78,39,93],[38,95,39,99],[38,101,39,104],[98,95,99,99],[88,75,89,77],[88,78,89,93],[88,95,89,99],[88,101,89,104],[86,75,87,77],[86,78,87,93],[86,95,87,99],[86,101,87,104],[84,75,85,77],[82,101,83,104],[80,75,81,77],[80,78,81,93],[80,95,81,99],[122,106,123,111],[120,106,121,111],[130,106,131,111],[138,75,139,77],[122,78,123,93],[118,95,119,99],[82,75,83,77],[82,78,83,93],[82,95,83,99],[84,78,85,93],[92,75,93,77],[134,118,135,121],[156,75,157,77],[120,118,121,121],[132,106,133,111],[132,118,133,121],[120,75,121,77],[120,78,121,93],[120,95,121,99],[120,101,121,104],[134,101,135,104],[142,78,143,93],[108,118,109,121],[130,118,131,121],[136,78,137,93],[136,95,137,99],[142,75,143,77],[134,75,135,77],[134,78,135,93],[134,95,135,99],[114,101,115,104],[118,106,119,111],[142,118,143,121],[128,106,129,111],[128,118,129,121],[118,101,119,104],[116,101,117,104],[118,78,119,93],[196,106,197,111],[196,118,197,121],[188,75,189,77],[188,78,189,93],[188,95,189,99],[188,101,189,104],[190,78,191,93],[190,95,191,99],[190,118,191,121],[190,106,191,111],[188,118,189,121],[184,75,185,77],[184,78,185,93],[150,118,151,121],[156,118,157,121],[144,106,145,111],[144,118,145,121],[172,78,173,93],[172,95,173,99],[174,95,175,99],[154,101,155,104],[148,78,149,93],[132,101,133,104],[130,75,131,77],[130,78,131,93],[130,95,131,99],[198,101,199,104],[168,101,169,104],[166,101,167,104],[138,101,139,104],[184,95,185,99],[184,101,185,104],[190,101,191,104],[178,101,179,104],[174,101,175,104],[162,101,163,104],[138,78,139,93],[192,78,193,93],[192,95,193,99],[192,101,193,104],[110,75,111,77],[118,75,119,77],[136,101,137,104],[138,95,139,99],[130,101,131,104],[144,75,145,77],[144,78,145,93],[144,95,145,99],[116,75,117,77],[116,78,117,93],[116,95,117,99],[128,101,129,104],[132,75,133,77],[132,78,133,93],[132,95,133,99],[112,101,113,104],[124,75,125,83],[126,75,127,77],[190,75,191,77],[186,78,187,93],[186,95,187,99],[186,101,187,104],[196,75,197,77],[196,78,197,93],[196,95,197,99],[196,101,197,104],[176,75,177,83],[162,95,163,99],[140,101,141,104],[148,75,149,77],[146,95,147,99],[162,75,163,77],[162,78,163,93],[158,75,159,77],[164,75,165,77],[194,101,195,104],[192,75,193,77],[148,95,149,99],[148,101,149,104],[160,78,161,93],[160,95,161,99],[158,78,159,93],[158,95,159,99],[150,101,151,104],[156,101,157,104],[164,101,165,104],[146,78,147,93],[32,118,33,121],[34,106,35,111],[34,118,35,121],[46,106,47,111],[46,118,47,121],[42,118,43,121],[48,118,49,121],[40,106,41,111],[40,118,41,121],[38,118,39,121],[184,118,185,121],[186,75,187,77],[182,75,183,77],[182,78,183,93],[182,95,183,99],[182,101,183,104],[182,106,183,111],[186,106,187,111],[140,106,141,111],[140,118,141,121],[146,101,147,104],[156,78,157,93],[156,95,157,99],[152,75,153,83],[126,106,127,111],[126,118,127,121],[112,75,113,77],[104,95,105,99],[104,101,105,104],[106,106,107,111],[68,118,69,121],[50,106,51,111],[50,118,51,121],[66,106,67,111],[66,118,67,121],[56,106,57,111],[56,118,57,121],[52,106,53,111],[54,113,55,116],[56,113,57,116],[38,106,39,111],[52,118,53,121],[54,106,55,111],[36,95,37,99],[36,101,37,104],[78,78,79,93],[78,101,79,104],[58,78,59,93],[58,95,59,99],[58,101,59,104],[66,101,67,104],[74,118,75,121],[76,106,77,111],[76,118,77,121],[44,78,45,93],[44,95,45,99],[44,101,45,104],[58,106,59,111],[70,78,71,93],[76,78,77,93],[76,95,77,99],[76,101,77,104],[36,78,37,93],[74,101,75,104],[104,75,105,77],[114,118,115,121],[86,106,87,111],[86,118,87,121],[88,106,89,111],[98,106,99,111],[98,118,99,121],[100,106,101,111],[100,118,101,121],[92,113,93,116],[94,113,95,116],[92,106,93,111],[102,106,103,111],[102,118,103,121],[58,118,59,121],[60,106,61,111],[60,118,61,121],[70,118,71,121],[64,106,65,111],[64,118,65,121],[72,106,73,111],[72,118,73,121],[84,118,85,121],[78,106,79,111],[78,118,79,121],[82,106,83,111],[82,118,83,121],[74,106,75,111],[70,106,71,111],[88,118,89,121],[68,106,69,111],[94,106,95,111],[94,118,95,121],[80,106,81,111],[138,118,139,121],[136,106,137,111],[172,106,173,111],[172,118,173,121],[174,106,175,111],[174,118,175,121],[168,106,169,111],[168,118,169,121],[170,106,171,111],[170,118,171,121],[158,106,159,111],[158,118,159,121],[160,118,161,121],[154,118,155,121],[136,118,137,121],[138,106,139,111],[110,106,111,111],[110,118,111,121],[112,106,113,111],[112,118,113,121],[90,106,91,111],[90,118,91,121],[104,106,105,111],[104,118,105,121],[84,106,85,111],[118,118,119,121],[114,106,115,111],[80,118,81,121],[92,118,93,121],[100,113,101,116],[180,118,181,121],[188,106,189,111],[192,106,193,111],[182,118,183,121],[184,106,185,111],[160,106,161,111],[146,106,147,111],[146,118,147,121],[154,106,155,111],[162,106,163,111],[162,118,163,121],[148,106,149,111],[148,118,149,121],[150,106,151,111],[166,113,167,116],[168,113,169,116],[170,113,171,116],[172,113,173,116],[174,113,175,116],[180,113,181,116],[182,113,183,116],[184,113,185,116],[186,113,187,116],[188,113,189,116],[164,106,165,111],[164,118,165,121],[156,106,157,111],[91,44,92,47],[199,44,200,47],[87,44,88,47],[53,44,54,47],[149,44,150,47],[175,44,176,47],[189,44,190,47],[193,44,194,47],[187,44,188,47],[65,44,66,47],[51,44,52,47],[61,44,62,47],[57,44,58,47],[79,44,80,47],[201,92,202,92],[201,97,202,98],[133,44,134,47],[55,44,56,47],[76,75,77,77],[194,75,195,77],[194,78,195,93],[194,95,195,99],[198,78,199,93],[198,95,199,99],[100,95,101,99],[92,78,93,93],[92,95,93,99],[94,75,95,77],[164,78,165,93],[164,95,165,99],[128,75,129,77],[108,75,109,77],[197,32,198,37],[181,1,182,3],[198,106,199,111],[201,75,202,77],[197,44,198,47],[166,75,167,77],[198,75,199,77],[170,75,171,77],[189,49,190,73],[201,107,202,107],[166,78,167,93],[166,95,167,99],[172,75,173,77],[150,95,151,99],[170,101,171,104],[172,101,173,104],[198,118,199,121],[192,118,193,121],[194,106,195,111],[194,118,195,121],[178,106,179,111],[201,114,202,114],[201,121,202,121],[154,112,155,117],[178,112,179,117],[192,113,193,116],[201,44,202,47],[178,118,179,121],[180,106,181,111],[166,106,167,111],[166,118,167,121],[186,118,187,121],[87,32,88,37],[89,32,90,37],[89,44,90,47],[89,4,90,19],[199,1,200,3],[199,4,200,19],[199,21,200,25],[199,27,200,30],[199,32,200,37],[201,1,202,3],[201,4,202,19],[201,21,202,25],[201,27,202,30],[201,32,202,37],[187,1,188,3],[187,4,188,19],[187,21,188,25],[187,27,188,30],[179,1,180,3],[179,4,180,19],[179,21,180,25],[179,27,180,30],[195,4,196,19],[185,32,186,37],[181,32,182,37],[189,1,190,3],[189,4,190,19],[189,21,190,25],[195,1,196,3],[185,1,186,3],[185,4,186,19],[185,21,186,25],[79,21,80,25],[69,21,70,25],[69,27,70,30],[71,1,72,9],[75,1,76,3],[75,4,76,19],[73,4,74,19],[81,1,82,3],[81,4,82,19],[77,1,78,3],[77,4,78,19],[79,1,80,3],[77,44,78,47],[79,32,80,37],[81,21,82,25],[81,27,82,30],[81,32,82,37],[81,44,82,47],[69,1,70,19],[99,4,100,19],[95,4,96,19],[103,4,104,19],[103,27,104,30],[105,27,106,30],[109,27,110,30],[79,27,80,30],[87,1,88,3],[87,4,88,19],[87,21,88,25],[87,27,88,30],[83,4,84,19],[83,21,84,25],[83,27,84,30],[91,27,92,30],[97,4,98,19],[97,21,98,25],[97,27,98,30],[103,1,104,3],[95,21,96,25],[95,27,96,30],[97,1,98,3],[89,1,90,3],[93,1,94,3],[93,4,94,19],[93,21,94,25],[91,4,92,19],[89,21,90,25],[89,27,90,30],[91,21,92,25],[85,1,86,3],[85,4,86,19],[125,4,126,19],[125,21,126,25],[125,27,126,30],[137,1,138,3],[129,1,130,3],[129,4,130,19],[127,1,128,3],[133,1,134,3],[117,1,118,3],[117,4,118,19],[127,21,128,25],[127,27,128,30],[123,4,124,19],[123,21,124,25],[127,4,128,19],[105,1,106,3],[113,1,114,3],[113,4,114,19],[113,21,114,25],[111,1,112,3],[105,21,106,25],[109,1,110,3],[109,4,110,19],[109,21,110,25],[137,21,138,25],[137,27,138,30],[113,27,114,30],[115,1,116,9],[133,32,134,37],[117,21,118,25],[117,27,118,30],[119,1,120,3],[119,4,120,19],[133,4,134,19],[105,4,106,19],[91,1,92,3],[145,21,146,25],[145,27,146,30],[133,21,134,25],[133,27,134,30],[139,21,140,25],[139,27,140,30],[119,21,120,25],[143,4,144,19],[143,21,144,25],[143,27,144,30],[145,1,146,3],[145,4,146,19],[131,1,132,3],[131,4,132,19],[131,21,132,25],[121,1,122,3],[121,4,122,19],[121,21,122,25],[121,27,122,30],[123,1,124,3],[129,21,130,25],[129,27,130,30],[137,4,138,19],[125,1,126,3],[135,32,136,37],[119,27,120,30],[129,32,130,37],[123,32,124,37],[131,27,132,30],[135,1,136,3],[135,4,136,19],[135,21,136,25],[135,27,136,30],[127,32,128,37],[197,1,198,3],[197,4,198,19],[197,21,198,25],[197,27,198,30],[193,1,194,3],[193,4,194,19],[193,21,194,25],[193,27,194,30],[155,1,156,3],[155,4,156,19],[155,21,156,25],[191,27,192,30],[175,1,176,3],[175,4,176,19],[175,21,176,25],[175,27,176,30],[153,4,154,19],[153,21,154,25],[151,1,152,3],[151,4,152,19],[151,21,152,25],[123,27,124,30],[139,1,140,3],[139,4,140,19],[141,21,142,25],[141,1,142,3],[141,4,142,19],[141,27,142,30],[149,1,150,3],[149,4,150,19],[149,21,150,25],[149,27,150,30],[157,27,158,30],[147,27,148,30],[143,1,144,3],[153,1,154,3],[147,1,148,3],[147,4,148,19],[147,21,148,25],[155,27,156,30],[191,1,192,3],[191,4,192,19],[173,21,174,25],[173,27,174,30],[161,4,162,19],[161,21,162,25],[161,27,162,30],[165,21,166,25],[165,27,166,30],[163,1,164,3],[169,1,170,3],[181,27,182,30],[177,1,178,3],[171,1,172,3],[171,4,172,19],[171,21,172,25],[171,27,172,30],[183,27,184,30],[181,4,182,19],[181,21,182,25],[185,27,186,30],[189,27,190,30],[159,1,160,9],[173,1,174,3],[163,4,164,19],[163,21,164,25],[163,27,164,30],[157,1,158,3],[157,4,158,19],[157,21,158,25],[167,1,168,3],[167,4,168,19],[167,21,168,25],[167,32,168,37],[165,32,166,37],[171,32,172,37],[191,21,192,25],[177,4,178,19],[177,21,178,25],[177,27,178,30],[161,1,162,3],[183,32,184,37]],"merged_total":1393,"flags":["merged_cut"]}
[]
[null,"SPELLCASTING"]
[]
[]
[null,null,null,null,null,null,null,null,null,null,null,null,null,null,null,null,null,null,null,null,null,null,null,null,null,null,null,null,null,null,null,null,null,null,null,null,null,null,null,null,null,null,null,null,null,null,null,null,null,null,null,null,null,null,null,null,null,null,null,null,null,null,null,null,null,null,null,null,null,null,null,null,null,null,null,null,null,null,null,null,null,null,null,null,null,null,null,null,null,null,null,null,null,null,null,null,null,null,null,null,null,null,null,null,1,null,null,null,null,2,null,null,null,null,3,null,null,null,null,4,null,null,null,null,5,null,null,null,null,6,null,null,null,null,7,null,null,null,null,8,null,null,null,null,9]
[null,{"$f":"IF(OR(CharacterLevel=\"\",Class=\"\"),\"\",Tables!BO2)","v":""},null,null,null,null,null,null,null,null,null,null,null,null,null,null,null,null,null,null,null,null,null,null,null,null,null,null,null,null,null,null,null,null,null,null,null,null,null,{"$f":"IF(OR(CharacterLevel=\"\",SubClass=\"\",B6=\"\"),\"\",SubClass)","v":""}]
[]
[null,null,null,null,null,null,null,null,null,null,null,null,null,null,null,null,null,null,null,null,null,null,null,null,null,null,null,null,null,null,null,null,null,null,null,null,null,null,null,null,null,null,null,null,null,null,null,null,null,null,null,null,null,null,null,null,null,null,null,null,null,null,null,null,null,null,null,null,null,null,null,null,null,null,null,null,null,null,null,null,null,null,null,null,null,null,null,null,null,"SPELLS SLOTS ",null,null,null,null,null,null,null,null,null,null,null,null,null,null,{"$f":"IF(CharacterLevel=\"\",\"\",Spellcasting!C17)","v":"-"},null,null,null,null,{"$f":"IF(CharacterLevel=\"\",\"\",Spellcasting!E17)","v":"-"},null,null,null,null,{"$f":"IF(CharacterLevel=\"\",\"\",Spellcasting!G17)","v":"-"},null,null,null,null,{"$f":"IF(CharacterLevel=\"\",\"\",Spellcasting!I17)","v":"-"},null,null,null,null,{"$f":"IF(CharacterLevel=\"\",\"\",Spellcasting!K17)","v":"-"},null,null,null,null,{"$f":"IF(CharacterLevel=\"\",\"\",Spellcasting!M17)","v":"-"},null,null,null,null,{"$f":"IF(CharacterLevel=\"\",\"\",Spellcasting!O17)","v":"-"},null,null,null,null,{"$f":"IF(CharacterLevel=\"\",\"\",Spellcasting!Q17)","v":"-"},null,null,null,null,{"$f":"IF(CharacterLevel=\"\",\"\",Spellcasting!S17)","v":"-"}]
[null,"SPELLCASTING CLASS",null,null,null,null,null,null,null,null,null,null,null,null,null,null,null,null,null,null,null,null,null,null,null,null,null,null,null,null,null,null,null,null,null,null,null,null,null,"SPELLCASTING SUBCLASS"]
[]
[null,{"$f":"IF(CharacterLevel=\"\",\"\",Spellcasting!J4)","v":"-"},null,null,null,null,null,null,null,null,null,null,null,{"$f":"IF(CharacterLevel=\"\",\"\",Spellcasting!R5)","v":""},null,null,null,null,null,null,null,null,null,null,null,null,null,null,{"$f":"IF(CharacterLevel=\"\",\"\",Spellcasting!R10)","v":""},null,null,null,null,null,null,null,null,null,null,null,null,null,null,{"$f":"IF(CharacterLevel=\"\",\"\",Spellcasting!Q10)","v":""},null,null,null,null,null,null,null,null,null,null,null,null,null,null,{"$f":"IF(OR(CharacterLevel=\"\",B6=\"\"),\"\",ProfBonus)","v":""},null,null,null,null,null,null,null,null,null,null,null,null,null,{"$f":"IF(CharacterLevel=\"\",\"\",Spellcasting!S10)","v":""}]
[]
[]
[null,"SPELLCASTING LEVEL",null,null,null,null,null,null,null,null,null,null,null,"SPELL PREPARED OR KNOWN",null,null,null,null,null,null,null,null,null,null,null,null,null,null,"SPELL ABILITY",null,null,null,null,null,null,null,null,null,null,null,null,null,null,"SPELL ABILITY BONUS",null,null,null,null,null,null,null,null,null,null,null,null,null,null,"PROFICIENCY BONUS",null,null,null,null,null,null,null,null,null,null,null,null,null,"SPELL SAVE DC"]
[null,null,null,null,null,null,null,null,null,null,null,null,null,null,null,null,null,null,null,null,null,null,null,null,null,null,null,null,null,null,null,null,null,null,null,null,null,null,null,null,null,null,null,null,null,null,null,null,null,null,null,null,null,null,null,null,null,null,null,null,null,null,null,null,null,null,null,null,null,null,null,null,null,null,null,null,null,null,null,null,null,null,null,null,null,null,null,null,null,{"$f":"IF(OR(CharacterLevel=\"\",SorcererLevel>0,CasterLevel=\"\"),\"SORCERY POINT COST \",\"\")","v":""},null,null,null,null,null,null,null,null,null,null,null,null,null,null,{"$f":"IF(OR(CharacterLevel=\"\",SorcererLevel>0,CasterLevel=\"\"),2,\"\")","v":""},null,null,null,null,{"$f":"IF(OR(CharacterLevel=\"\",SorcererLevel>0,CasterLevel=\"\"),3,\"\")","v":""},null,null,null,null,{"$f":"IF(OR(CharacterLevel=\"\",SorcererLevel>0,CasterLevel=\"\"),5,\"\")","v":""},null,null,null,null,{"$f":"IF(OR(CharacterLevel=\"\",SorcererLevel>0,CasterLevel=\"\"),6,\"\")","v":""},null,null,null,null,null,null,null,null,null,{"$f":"IF(OR(CharacterLevel=\"\",WarlockLevel>=11),\"└───── MYSTIC ARCANUM ──────┘\",\"\")","v":""}]
[]
[null,"FAMILIAR OR ANIMAL COMPANION"]
[null,null,null,null,null,null,null,null,null,null,null,null,null,null,null,null,null,null,null,null,null,null,null,null,null,null,null,null,null,null,null,null,null,null,null,null,null,null,null,null,null,null,null,null,null,null,null,null,null,null,null,null,null,null,null,null,null,null,null,null,null,null,null,null,null,null,null,null,null,null,null,null,null,null,null,null,null,null,null,null,null,null,null,null,null,null,null,null,null,{"$f":"IF(OR(CharacterLevel=\"\",SorcererLevel>0,CasterLevel=\"\"),Spellcasting!O18,\"\")","v":""},null,null,null,null,null,null,null,null,null,null,null,null,null,null,{"$f":"IF(CharacterLevel=\"\",\"\",Spellcasting!$U$18)","v":""},null,null,null,{"$f":"IF(OR(CharacterLevel=\"\",SorcererLevel>0,CasterLevel=\"\"),\"USED\",\"\")","v":""},null,null,null,null,null,null,null,null,null,null,null,null,null,{"$f":"IF(OR(CharacterLevel=\"\",WizardLevel>0,DruidLandLevel>=2,CasterLevel=\"\"),Spellcasting!C18,\"\")","v":""},null,null,null,null,null,null,null,null,null,null,null,null,null,null,{"$f":"IF(CharacterLevel=\"\",\"\",Spellcasting!$K$18)","v":""},null,null,null,{"$f":"IF(OR(CharacterLevel=\"\",WizardLevel>0,DruidLandLevel>=2,CasterLevel=\"\"),\"USED\",\"\")","v":""},null,null,null,null,null,null,null,null,null,null,null,null,null,null,null,{"$f":"#REF!","v":{"$error":"#REF!"}},{"$f":"#REF!","v":{"$error":"#REF!"}},{"$f":"#REF!","v":{"$error":"#REF!"}},{"$f":"#REF!","v":{"$error":"#REF!"}},{"$f":"NaturalArmor","v":{"$error":"#NAME?"}},{"$f":"VALUE(#REF!)","v":{"$error":"#REF!"}},{"$f":"VALUE(ACMisc)","v":{"$error":"#NAME?"}}]
[null,null,null,null,null,null,null,null,null,null,null,null,null,null,null,null,null,null,null,null,null,null,null,null,null,null,null,null,null,null,null,null,null,null,null,null,null,null,null,null,null,null,null,null,null,null,null,null,null,null,null,null,null,null,null,null,null,null,null,null,null,null,null,null,null,null,null,null,null,null,null,null,null,null,null,"LEVEL 4",null,null,null,null,null,null,null,null,null,null,null,null,null,null,null,null,null,null,null,null,null,null,null,null,null,null,null,null,null,null,null,null,null,null,null,null,null,null,null,null,null,null,null,null,null,null,null,null,null,null,null,null,null,null,null,null,null,null,null,null,null,null,null,null,null,null,null,null,null,null,null,null,null,null,null,null,null,null,null,null,null,{"$f":"IF(FB18,TEXT(FB18,\"+0;-0\")&\" armor\",\"\")","v":{"$error":"#REF!"}},{"$f":"IF(FC18,TEXT(FC18,\"+0;-0\")&\" shield\",\"\")","v":{"$error":"#REF!"}},{"$f":"IF(FD18,TEXT(FD18,\"+0;-0\")&\" dex\",\"\")","v":{"$error":"#REF!"}},{"$f":"IF(FE18,TEXT(FE18,\"+0;-0\")&\" size\",\"\")","v":{"$error":"#REF!"}},{"$f":"IF(FF18,TEXT(FF18,\"+0;-0\")&\" natural\",\"\")","v":{"$error":"#NAME?"}},{"$f":"IF(FG18,TEXT(FG18,\"+0;-0\")&\" deflection\",\"\")","v":{"$error":"#REF!"}},{"$f":"IF(FH18,TEXT(FH18,\"+0;-0\")&\" misc\",\"\")","v":{"$error":"#NAME?"}}]
[null,{"$f":"IF(OR(CharacterLevel=\"\",Spellcasting!N23=\"\"),\"\",Spellcasting!N23)","v":""},null,null,null,null,null,null,null,null,null,null,null,null,null,null,null,null,null,null,null,null,null,null,null,null,null,null,null,null,null,{"$f":"IF(OR(CharacterLevel=\"\",Spellcasting!F23=SelectText),\"\",Spellcasting!F23&\" (\"&Spellcasting!F26&\")\")","v":""},null,null,null,null,null,null,null,null,null,null,null,null,null,null,null,null,null,null,{"$f":"IF(OR(CharacterLevel=\"\",Spellcasting!F27=\"\"),\"\",Spellcasting!F27)","v":""},null,null,null,null,null,null,null,null,{"$f":"IF(CharacterLevel=\"\",\"\",Spellcasting!F28)","v":""},null,null,null,null,null,null,null,null,null,null,null,null,null,null,null,null,null,null,null,null,null,null,null,null,null,null,null,null,null,null,null,null,null,null,null,null,null,null,null,null,null,null,null,null,null,null,null,null,null,null,null,null,null,null,null,null,null,null,null,null,null,null,null,null,null,null,null,null,null,null,null,null,null,null,null,null,null,null,null,null,null,null,null,null,null,null,null,null,null,null,null,null,null,null,null,null,null,{"$f":"FB19","v":{"$error":"#REF!"}},{"$f":"IF(AND(FB20<>\"\",FC19<>\"\"),FB20&\", \"&FC19,FB20&FC19)","v":{"$error":"#REF!"}},{"$error":"#REF!"},{"$error":"#REF!"},{"$error":"#REF!"},{"$error":"#REF!"},{"$error":"#REF!"},{"$f":"IF(FH20<>\"\",\"(\"&FH20&\"), \",\"\")&\"touch \"&TouchAC&\", flat-footed \"&FlatFootedAC","v":{"$error":"#REF!"}}]
[null,null,null,null,null,null,null,null,null,null,null,null,null,null,null,null,null,null,null,null,null,null,null,null,null,null,null,null,null,null,null,null,null,null,null,null,null,null,null,null,null,null,null,null,null,null,null,null,null,null,null,null,null,null,null,null,null,null,null,null,null,null,null,null,null,null,null,null,null,null,null,null,null,null,null,"PREP",null,null,"SPELL NAME",null,null,null,null,null,null,null,null,null,null,null,null,null,null,null,null,"CASTING TIME",null,null,null,null,null,"RANGE",null,null,null,null,"DURATION",null,null,null,null,null,"COMPONENTS",null,null,null,null,null,"TYPE",null,null,null,null,"DETAILS"]
[null,"NAME",null,null,null,null,null,null,null,null,null,null,null,null,null,null,null,null,null,null,null,null,null,null,null,null,null,null,null,null,null,"TYPE",null,null,null,null,null,null,null,null,null,null,null,null,null,null,null,null,null,null,"SIZE",null,null,null,null,null,null,null,null,"SPEED"]
[null,null,null,null,null,null,null,null,null,null,null,null,null,null,null,null,null,null,null,null,null,null,null,null,null,null,null,null,null,null,null,null,null,null,null,null,null,null,null,null,null,null,null,null,null,null,null,null,null,null,null,null,null,null,null,null,null,null,null,null,null,null,null,null,null,null,null,null,null,null,null,null,null,null,null,{"$f":"IF(CharacterLevel=\"\",'Character Sheet III'!$CF$202,IF(Spellcasting!CE6=\"•\",'Character Sheet III'!$BX$202,'Character Sheet III'!$CF$202))","v":"□"},null,null,{"$f":"IF(OR(CharacterLevel=\"\",Spellcasting!CG$6=\"\"),\"\",VLOOKUP(Spellcasting!CG$6,Tables!$TK:$UB,Tables!$TN$1,FALSE))","v":""},null,null,null,null,null,null,null,null,null,null,null,null,null,null,null,null,{"$f":"IF(OR(CharacterLevel=\"\",Spellcasting!CG$6=\"\"),\"\",VLOOKUP(Spellcasting!CG$6,Tables!$TK:$UB,Tables!$TT$1,FALSE))","v":""},null,null,null,null,null,{"$f":"IF(OR(CharacterLevel=\"\",Spellcasting!CG$6=\"\"),\"\",VLOOKUP(Spellcasting!CG$6,Tables!$TK:$UB,Tables!$TU$1,FALSE))","v":""},null,null,null,null,{"$f":"IF(OR(CharacterLevel=\"\",Spellcasting!CG$6=\"\"),\"\",VLOOKUP(Spellcasting!CG$6,Tables!$TK:$UB,Tables!$TV$1,FALSE))","v":""},null,null,null,null,null,null,{"$f":"IF(OR(CharacterLevel=\"\",Spellcasting!CG$6=\"\"),\"\",VLOOKUP(Spellcasting!CG$6,Tables!$TK:$UB,Tables!$TW$1,FALSE))","v":""},null,null,null,null,{"$f":"IF(OR(CharacterLevel=\"\",Spellcasting!CG$6=\"\"),\"\",VLOOKUP(Spellcasting!CG$6,Tables!$TK:$UB,Tables!$TZ$1,FALSE))","v":""},null,null,null,null,{"$f":"IF(OR(CharacterLevel=\"\",Spellcasting!CG$6=\"\"),\"\",VLOOKUP(Spellcasting!CG$6,Tables!$TK:$UB,Tables!$UB$1,FALSE))","v":""}]
[null,{"$f":"IF(CharacterLevel=\"\",\"\",Spellcasting!C25)","v":""},null,null,null,null,null,null,null,null,null,{"$f":"IF(CharacterLevel=\"\",\"\",Spellcasting!F25)","v":""},null,null,null,null,null,null,null,null,null,{"$f":"IF(CharacterLevel=\"\",\"\",Spellcasting!I25)","v":""},null,null,null,{"$f":"IF(V24=\"\",\"\",\"(\"&TEXT(INT((V24-10)/2),\"+0;-0\")&\")\")","v":""},null,null,null,null,{"$f":"IF(CharacterLevel=\"\",\"\",Spellcasting!K25)","v":""},null,null,null,{"$f":"IF(AE24=\"\",\"\",\"(\"&TEXT(INT((AE24-10)/2),\"+0;-0\")&\")\")","v":""},null,null,null,null,{"$f":"IF(CharacterLevel=\"\",\"\",Spellcasting!M25)","v":""},null,null,null,{"$f":"IF(AN24=\"\",\"\",\"(\"&TEXT(INT((AN24-10)/2),\"+0;-0\")&\")\")","v":""},null,null,null,null,{"$f":"IF(CharacterLevel=\"\",\"\",Spellcasting!O25)","v":""},null,null,null,{"$f":"IF(AW24=\"\",\"\",\"(\"&TEXT(INT((AW24-10)/2),\"+0;-0\")&\")\")","v":""},null,null,null,null,{"$f":"IF(CharacterLevel=\"\",\"\",Spellcasting!Q25)","v":""},null,null,null,{"$f":"IF(BF24=\"\",\"\",\"(\"&TEXT(INT((BF24-10)/2),\"+0;-0\")&\")\")","v":""},null,null,null,null,{"$f":"IF(CharacterLevel=\"\",\"\",Spellcasting!S25)","v":""},null,null,null,{"$f":"IF(BO24=\"\",\"\",\"(\"&TEXT(INT((BO24-10)/2),\"+0;-0\")&\")\")","v":""}]
[null,null,null,null,null,null,null,null,null,null,null,null,null,null,null,null,null,null,null,null,null,null,null,null,null,null,null,null,null,null,null,null,null,null,null,null,null,null,null,null,null,null,null,null,null,null,null,null,null,null,null,null,null,null,null,null,null,null,null,null,null,null,null,null,null,null,null,null,null,null,null,null,null,null,null,{"$f":"IF(CharacterLevel=\"\",'Character Sheet III'!$CF$202,IF(Spellcasting!CE7=\"•\",'Character Sheet III'!$BX$202,'Character Sheet III'!$CF$202))","v":"□"},null,null,{"$f":"IF(OR(CharacterLevel=\"\",Spellcasting!CG$7=\"\"),\"\",VLOOKUP(Spellcasting!CG$7,Tables!$TK:$UB,Tables!$TN$1,FALSE))","v":""},null,null,null,null,null,null,null,null,null,null,null,null,null,null,null,null,{"$f":"IF(OR(CharacterLevel=\"\",Spellcasting!CG$7=\"\"),\"\",VLOOKUP(Spellcasting!CG$7,Tables!$TK:$UB,Tables!$TT$1,FALSE))","v":""},null,null,null,null,null,{"$f":"IF(OR(CharacterLevel=\"\",Spellcasting!CG$7=\"\"),\"\",VLOOKUP(Spellcasting!CG$7,Tables!$TK:$UB,Tables!$TU$1,FALSE))","v":""},null,null,null,null,{"$f":"IF(OR(CharacterLevel=\"\",Spellcasting!CG$7=\"\"),\"\",VLOOKUP(Spellcasting!CG$7,Tables!$TK:$UB,Tables!$TV$1,FALSE))","v":""},null,null,null,null,null,null,{"$f":"IF(OR(CharacterLevel=\"\",Spellcasting!CG$7=\"\"),\"\",VLOOKUP(Spellcasting!CG$7,Tables!$TK:$UB,Tables!$TW$1,FALSE))","v":""},null,null,null,null,{"$f":"IF(OR(CharacterLevel=\"\",Spellcasting!CG$7=\"\"),\"\",VLOOKUP(Spellcasting!CG$7,Tables!$TK:$UB,Tables!$TZ$1,FALSE))","v":""},null,null,null,null,{"$f":"IF(OR(CharacterLevel=\"\",Spellcasting!CG$7=\"\"),\"\",VLOOKUP(Spellcasting!CG$7,Tables!$TK:$UB,Tables!$UB$1,FALSE))","v":""}]
[]
[null,"ARMOR CLASS",null,null,null,null,null,null,null,null,null,"HIT POINTS",null,null,null,null,null,null,null,null,null,"STRENGTH",null,null,null,null,null,null,null,null,"DEXTERITY",null,null,null,null,null,null,null,null,"CONSTITUTION",null,null,null,null,null,null,null,null,"INTELLIGENCE",null,null,null,null,null,null,null,null,"WISDOM",null,null,null,null,null,null,null,null,"CHARISMA",null,null,null,null,null,null,null,null,{"$f":"IF(CharacterLevel=\"\",'Character Sheet III'!$CF$202,IF(Spellcasting!CE8=\"•\",'Character Sheet III'!$BX$202,'Character Sheet III'!$CF$202))","v":"□"},null,null,{"$f":"IF(OR(CharacterLevel=\"\",Spellcasting!CG$8=\"\"),\"\",VLOOKUP(Spellcasting!CG$8,Tables!$TK:$UB,Tables!$TN$1,FALSE))","v":""},null,null,null,null,null,null,null,null,null,null,null,null,null,null,null,null,{"$f":"IF(OR(CharacterLevel=\"\",Spellcasting!CG$8=\"\"),\"\",VLOOKUP(Spellcasting!CG$8,Tables!$TK:$UB,Tables!$TT$1,FALSE))","v":""},null,null,null,null,null,{"$f":"IF(OR(CharacterLevel=\"\",Spellcasting!CG$8=\"\"),\"\",VLOOKUP(Spellcasting!CG$8,Tables!$TK:$UB,Tables!$TU$1,FALSE))","v":""},null,null,null,null,{"$f":"IF(OR(CharacterLevel=\"\",Spellcasting!CG$8=\"\"),\"\",VLOOKUP(Spellcasting!CG$8,Tables!$TK:$UB,Tables!$TV$1,FALSE))","v":""},null,null,null,null,null,null,{"$f":"IF(OR(CharacterLevel=\"\",Spellcasting!CG$8=\"\"),\"\",VLOOKUP(Spellcasting!CG$8,Tables!$TK:$UB,Tables!$TW$1,FALSE))","v":""},null,null,null,null,{"$f":"IF(OR(CharacterLevel=\"\",Spellcasting!CG$8=\"\"),\"\",VLOOKUP(Spellcasting!CG$8,Tables!$TK:$UB,Tables!$TZ$1,FALSE))","v":""},null,null,null,null,{"$f":"IF(OR(CharacterLevel=\"\",Spellcasting!CG$8=\"\"),\"\",VLOOKUP(Spellcasting!CG$8,Tables!$TK:$UB,Tables!$UB$1,FALSE))","v":""}]
[]
[null,{"$f":"IF(CharacterLevel=\"\",\"\",Spellcasting!F30)","v":""},null,null,null,null,null,null,null,null,null,null,null,null,null,null,null,null,null,null,null,null,null,null,null,null,{"$f":"IF(CharacterLevel=\"\",\"\",Spellcasting!F29)","v":""},null,null,null,null,null,null,null,null,null,null,null,null,null,null,null,null,null,null,null,null,null,null,{"$f":"IF(CharacterLevel=\"\",\"\",Spellcasting!F31)","v":""},null,null,null,null,null,null,null,null,null,null,null,null,null,null,null,null,null,null,null,null,null,null,null,null,null,{"$f":"IF(CharacterLevel=\"\",'Character Sheet III'!$CF$202,IF(Spellcasting!CE9=\"•\",'Character Sheet III'!$BX$202,'Character Sheet III'!$CF$202))","v":"□"},null,null,{"$f":"IF(OR(CharacterLevel=\"\",Spellcasting!CG$9=\"\"),\"\",VLOOKUP(Spellcasting!CG$9,Tables!$TK:$UB,Tables!$TN$1,FALSE))","v":""},null,null,null,null,null,null,null,null,null,null,null,null,null,null,null,null,{"$f":"IF(OR(CharacterLevel=\"\",Spellcasting!CG$9=\"\"),\"\",VLOOKUP(Spellcasting!CG$9,Tables!$TK:$UB,Tables!$TT$1,FALSE))","v":""},null,null,null,null,null,{"$f":"IF(OR(CharacterLevel=\"\",Spellcasting!CG$9=\"\"),\"\",VLOOKUP(Spellcasting!CG$9,Tables!$TK:$UB,Tables!$TU$1,FALSE))","v":""},null,null,null,null,{"$f":"IF(OR(CharacterLevel=\"\",Spellcasting!CG$9=\"\"),\"\",VLOOKUP(Spellcasting!CG$9,Tables!$TK:$UB,Tables!$TV$1,FALSE))","v":""},null,null,null,null,null,null,{"$f":"IF(OR(CharacterLevel=\"\",Spellcasting!CG$9=\"\"),\"\",VLOOKUP(Spellcasting!CG$9,Tables!$TK:$UB,Tables!$TW$1,FALSE))","v":""},null,null,null,null,{"$f":"IF(OR(CharacterLevel=\"\",Spellcasting!CG$9=\"\"),\"\",VLOOKUP(Spellcasting!CG$9,Tables!$TK:$UB,Tables!$TZ$1,FALSE))","v":""},null,null,null,null,{"$f":"IF(OR(CharacterLevel=\"\",Spellcasting!CG$9=\"\"),\"\",VLOOKUP(Spellcasting!CG$9,Tables!$TK:$UB,Tables!$UB$1,FALSE))","v":""}]
[]
[null,null,null,null,null,null,null,null,null,null,null,null,null,null,null,null,null,null,null,null,null,null,null,null,null,null,null,null,null,null,null,null,null,null,null,null,null,null,null,null,null,null,null,null,null,null,null,null,null,null,null,null,null,null,null,null,null,null,null,null,null,null,null,null,null,null,null,null,null,null,null,null,null,null,null,{"$f":"IF(CharacterLevel=\"\",'Character Sheet III'!$CF$202,IF(Spellcasting!CE10=\"•\",'Character Sheet III'!$BX$202,'Character Sheet III'!$CF$202))","v":"□"},null,null,{"$f":"IF(OR(CharacterLevel=\"\",Spellcasting!CG$10=\"\"),\"\",VLOOKUP(Spellcasting!CG$10,Tables!$TK:$UB,Tables!$TN$1,FALSE))","v":""},null,null,null,null,null,null,null,null,null,null,null,null,null,null,null,null,{"$f":"IF(OR(CharacterLevel=\"\",Spellcasting!CG$10=\"\"),\"\",VLOOKUP(Spellcasting!CG$10,Tables!$TK:$UB,Tables!$TT$1,FALSE))","v":""},null,null,null,null,null,{"$f":"IF(OR(CharacterLevel=\"\",Spellcasting!CG$10=\"\"),\"\",VLOOKUP(Spellcasting!CG$10,Tables!$TK:$UB,Tables!$TU$1,FALSE))","v":""},null,null,null,null,{"$f":"IF(OR(CharacterLevel=\"\",Spellcasting!CG$10=\"\"),\"\",VLOOKUP(Spellcasting!CG$10,Tables!$TK:$UB,Tables!$TV$1,FALSE))","v":""},null,null,null,null,null,null,{"$f":"IF(OR(CharacterLevel=\"\",Spellcasting!CG$10=\"\"),\"\",VLOOKUP(Spellcasting!CG$10,Tables!$TK:$UB,Tables!$TW$1,FALSE))","v":""},null,null,null,null,{"$f":"IF(OR(CharacterLevel=\"\",Spellcasting!CG$10=\"\"),\"\",VLOOKUP(Spellcasting!CG$10,Tables!$TK:$UB,Tables!$TZ$1,FALSE))","v":""},null,null,null,null,{"$f":"IF(OR(CharacterLevel=\"\",Spellcasting!CG$10=\"\"),\"\",VLOOKUP(Spellcasting!CG$10,Tables!$TK:$UB,Tables!$UB$1,FALSE))","v":""},null,null,null,null,null,null,null,null,null,null,null,null,null,null,null,null,null,null,null,null,null,null,null,null,{"$f":"1","v":1}]
[]
[null,null,null,null,null,null,null,null,null,null,null,null,null,null,null,null,null,null,null,null,null,null,null,null,null,null,null,null,null,null,null,null,null,null,null,null,null,null,null,null,null,null,null,null,null,null,null,null,null,null,null,null,null,null,null,null,null,null,null,null,null,null,null,null,null,null,null,null,null,null,null,null,null,null,null,{"$f":"IF(CharacterLevel=\"\",'Character Sheet III'!$CF$202,IF(Spellcasting!CE11=\"•\",'Character Sheet III'!$BX$202,'Character Sheet III'!$CF$202))","v":"□"},null,null,{"$f":"IF(OR(CharacterLevel=\"\",Spellcasting!CG$11=\"\"),\"\",VLOOKUP(Spellcasting!CG$11,Tables!$TK:$UB,Tables!$TN$1,FALSE))","v":""},null,null,null,null,null,null,null,null,null,null,null,null,null,null,null,null,{"$f":"IF(OR(CharacterLevel=\"\",Spellcasting!CG$11=\"\"),\"\",VLOOKUP(Spellcasting!CG$11,Tables!$TK:$UB,Tables!$TT$1,FALSE))","v":""},null,null,null,null,null,{"$f":"IF(OR(CharacterLevel=\"\",Spellcasting!CG$11=\"\"),\"\",VLOOKUP(Spellcasting!CG$11,Tables!$TK:$UB,Tables!$TU$1,FALSE))","v":""},null,null,null,null,{"$f":"IF(OR(CharacterLevel=\"\",Spellcasting!CG$11=\"\"),\"\",VLOOKUP(Spellcasting!CG$11,Tables!$TK:$UB,Tables!$TV$1,FALSE))","v":""},null,null,null,null,null,null,{"$f":"IF(OR(CharacterLevel=\"\",Spellcasting!CG$11=\"\"),\"\",VLOOKUP(Spellcasting!CG$11,Tables!$TK:$UB,Tables!$TW$1,FALSE))","v":""},null,null,null,null,{"$f":"IF(OR(CharacterLevel=\"\",Spellcasting!CG$11=\"\"),\"\",VLOOKUP(Spellcasting!CG$11,Tables!$TK:$UB,Tables!$TZ$1,FALSE))","v":""},null,null,null,null,{"$f":"IF(OR(CharacterLevel=\"\",Spellcasting!CG$11=\"\"),\"\",VLOOKUP(Spellcasting!CG$11,Tables!$TK:$UB,Tables!$UB$1,FALSE))","v":""},null,null,null,null,null,null,null,null,null,null,null,null,null,null,null,null,null,null,null,null,null,null,null,null,{"$f":"ES31+1","v":2}]
[null,"SENSES",null,null,null,null,null,null,null,null,null,null,null,null,null,null,null,null,null,null,null,null,null,null,null,null,"SKILLS",null,null,null,null,null,null,null,null,null,null,null,null,null,null,null,null,null,null,null,null,null,null,"ATTACKS"]
[null,null,null,null,null,null,null,null,null,null,null,null,null,null,null,null,null,null,null,null,null,null,null,null,null,null,null,null,null,null,null,null,null,null,null,null,null,null,null,null,null,null,null,null,null,null,null,null,null,null,null,null,null,null,null,null,null,null,null,null,null,null,null,null,null,null,null,null,null,null,null,null,null,null,null,{"$f":"IF(CharacterLevel=\"\",'Character Sheet III'!$CF$202,IF(Spellcasting!CE12=\"•\",'Character Sheet III'!$BX$202,'Character Sheet III'!$CF$202))","v":"□"},null,null,{"$f":"IF(OR(CharacterLevel=\"\",Spellcasting!CG$12=\"\"),\"\",VLOOKUP(Spellcasting!CG$12,Tables!$TK:$UB,Tables!$TN$1,FALSE))","v":""},null,null,null,null,null,null,null,null,null,null,null,null,null,null,null,null,{"$f":"IF(OR(CharacterLevel=\"\",Spellcasting!CG$12=\"\"),\"\",VLOOKUP(Spellcasting!CG$12,Tables!$TK:$UB,Tables!$TT$1,FALSE))","v":""},null,null,null,null,null,{"$f":"IF(OR(CharacterLevel=\"\",Spellcasting!CG$12=\"\"),\"\",VLOOKUP(Spellcasting!CG$12,Tables!$TK:$UB,Tables!$TU$1,FALSE))","v":""},null,null,null,null,{"$f":"IF(OR(CharacterLevel=\"\",Spellcasting!CG$12=\"\"),\"\",VLOOKUP(Spellcasting!CG$12,Tables!$TK:$UB,Tables!$TV$1,FALSE))","v":""},null,null,null,null,null,null,{"$f":"IF(OR(CharacterLevel=\"\",Spellcasting!CG$12=\"\"),\"\",VLOOKUP(Spellcasting!CG$12,Tables!$TK:$UB,Tables!$TW$1,FALSE))","v":""},null,null,null,null,{"$f":"IF(OR(CharacterLevel=\"\",Spellcasting!CG$12=\"\"),\"\",VLOOKUP(Spellcasting!CG$12,Tables!$TK:$UB,Tables!$TZ$1,FALSE))","v":""},null,null,null,null,{"$f":"IF(OR(CharacterLevel=\"\",Spellcasting!CG$12=\"\"),\"\",VLOOKUP(Spellcasting!CG$12,Tables!$TK:$UB,Tables!$UB$1,FALSE))","v":""},null,null,null,null,null,null,null,null,null,null,null,null,null,null,null,null,null,null,null,null,null,null,null,null,{"$f":"ES33+1","v":3}]
[null,{"$f":"IF(CharacterLevel=\"\",\"\",Spellcasting!C34)","v":""}]
[null,null,null,null,null,null,null,null,null,null,null,null,null,null,null,null,null,null,null,null,null,null,null,null,null,null,null,null,null,null,null,null,null,null,null,null,null,null,null,null,null,null,null,null,null,null,null,null,null,null,null,null,null,null,null,null,null,null,null,null,null,null,null,null,null,null,null,null,null,null,null,null,null,null,null,{"$f":"IF(CharacterLevel=\"\",'Character Sheet III'!$CF$202,IF(Spellcasting!CE13=\"•\",'Character Sheet III'!$BX$202,'Character Sheet III'!$CF$202))","v":"□"},null,null,{"$f":"IF(OR(CharacterLevel=\"\",Spellcasting!CG$13=\"\"),\"\",VLOOKUP(Spellcasting!CG$13,Tables!$TK:$UB,Tables!$TN$1,FALSE))","v":""},null,null,null,null,null,null,null,null,null,null,null,null,null,null,null,null,{"$f":"IF(OR(CharacterLevel=\"\",Spellcasting!CG$13=\"\"),\"\",VLOOKUP(Spellcasting!CG$13,Tables!$TK:$UB,Tables!$TT$1,FALSE))","v":""},null,null,null,null,null,{"$f":"IF(OR(CharacterLevel=\"\",Spellcasting!CG$13=\"\"),\"\",VLOOKUP(Spellcasting!CG$13,Tables!$TK:$UB,Tables!$TU$1,FALSE))","v":""},null,null,null,null,{"$f":"IF(OR(CharacterLevel=\"\",Spellcasting!CG$13=\"\"),\"\",VLOOKUP(Spellcasting!CG$13,Tables!$TK:$UB,Tables!$TV$1,FALSE))","v":""},null,null,null,null,null,null,{"$f":"IF(OR(CharacterLevel=\"\",Spellcasting!CG$13=\"\"),\"\",VLOOKUP(Spellcasting!CG$13,Tables!$TK:$UB,Tables!$TW$1,FALSE))","v":""},null,null,null,null,{"$f":"IF(OR(CharacterLevel=\"\",Spellcasting!CG$13=\"\"),\"\",VLOOKUP(Spellcasting!CG$13,Tables!$TK:$UB,Tables!$TZ$1,FALSE))","v":""},null,null,null,null,{"$f":"IF(OR(CharacterLevel=\"\",Spellcasting!CG$13=\"\"),\"\",VLOOKUP(Spellcasting!CG$13,Tables!$TK:$UB,Tables!$UB$1,FALSE))","v":""},null,null,null,null,null,null,null,null,null,null,null,null,null,null,null,null,null,null,null,null,null,null,null,null,{"$f":"ES35+1","v":4}]
[]
[null,null,null,null,null,null,null,null,null,null,null,null,null,null,null,null,null,null,null,null,null,null,null,null,null,null,null,null,null,null,null,null,null,null,null,null,null,null,null,null,null,null,null,null,null,null,null,null,null,null,null,null,null,null,null,null,null,null,null,null,null,null,null,null,null,null,null,null,null,null,null,null,null,null,null,{"$f":"IF(CharacterLevel=\"\",'Character Sheet III'!$CF$202,IF(Spellcasting!CE14=\"•\",'Character Sheet III'!$BX$202,'Character Sheet III'!$CF$202))","v":"□"},null,null,{"$f":"IF(OR(CharacterLevel=\"\",Spellcasting!CG$14=\"\"),\"\",VLOOKUP(Spellcasting!CG$14,Tables!$TK:$UB,Tables!$TN$1,FALSE))","v":""},null,null,null,null,null,null,null,null,null,null,null,null,null,null,null,null,{"$f":"IF(OR(CharacterLevel=\"\",Spellcasting!CG$14=\"\"),\"\",VLOOKUP(Spellcasting!CG$14,Tables!$TK:$UB,Tables!$TT$1,FALSE))","v":""},null,null,null,null,null,{"$f":"IF(OR(CharacterLevel=\"\",Spellcasting!CG$14=\"\"),\"\",VLOOKUP(Spellcasting!CG$14,Tables!$TK:$UB,Tables!$TU$1,FALSE))","v":""},null,null,null,null,{"$f":"IF(OR(CharacterLevel=\"\",Spellcasting!CG$14=\"\"),\"\",VLOOKUP(Spellcasting!CG$14,Tables!$TK:$UB,Tables!$TV$1,FALSE))","v":""},null,null,null,null,null,null,{"$f":"IF(OR(CharacterLevel=\"\",Spellcasting!CG$14=\"\"),\"\",VLOOKUP(Spellcasting!CG$14,Tables!$TK:$UB,Tables!$TW$1,FALSE))","v":""},null,null,null,null,{"$f":"IF(OR(CharacterLevel=\"\",Spellcasting!CG$14=\"\"),\"\",VLOOKUP(Spellcasting!CG$14,Tables!$TK:$UB,Tables!$TZ$1,FALSE))","v":""},null,null,null,null,{"$f":"IF(OR(CharacterLevel=\"\",Spellcasting!CG$14=\"\"),\"\",VLOOKUP(Spellcasting!CG$14,Tables!$TK:$UB,Tables!$UB$1,FALSE))","v":""},null,null,null,null,null,null,null,null,null,null,null,null,null,null,null,null,null,null,null,null,null,null,null,null,{"$f":"ES37+1","v":5}]
[]
[null,null,null,null,null,null,null,null,null,null,null,null,null,null,null,null,null,null,null,null,null,null,null,null,null,null,null,null,null,null,null,null,null,null,null,null,null,null,null,null,null,null,null,null,null,null,null,null,null,null,null,null,null,null,null,null,null,null,null,null,null,null,null,null,null,null,null,null,null,null,null,null,null,null,null,{"$f":"IF(CharacterLevel=\"\",'Character Sheet III'!$CF$202,IF(Spellcasting!CE15=\"•\",'Character Sheet III'!$BX$202,'Character Sheet III'!$CF$202))","v":"□"},null,null,{"$f":"IF(OR(CharacterLevel=\"\",Spellcasting!CG$15=\"\"),\"\",VLOOKUP(Spellcasting!CG$15,Tables!$TK:$UB,Tables!$TN$1,FALSE))","v":""},null,null,null,null,null,null,null,null,null,null,null,null,null,null,null,null,{"$f":"IF(OR(CharacterLevel=\"\",Spellcasting!CG$15=\"\"),\"\",VLOOKUP(Spellcasting!CG$15,Tables!$TK:$UB,Tables!$TT$1,FALSE))","v":""},null,null,null,null,null,{"$f":"IF(OR(CharacterLevel=\"\",Spellcasting!CG$15=\"\"),\"\",VLOOKUP(Spellcasting!CG$15,Tables!$TK:$UB,Tables!$TU$1,FALSE))","v":""},null,null,null,null,{"$f":"IF(OR(CharacterLevel=\"\",Spellcasting!CG$15=\"\"),\"\",VLOOKUP(Spellcasting!CG$15,Tables!$TK:$UB,Tables!$TV$1,FALSE))","v":""},null,null,null,null,null,null,{"$f":"IF(OR(CharacterLevel=\"\",Spellcasting!CG$15=\"\"),\"\",VLOOKUP(Spellcasting!CG$15,Tables!$TK:$UB,Tables!$TW$1,FALSE))","v":""},null,null,null,null,{"$f":"IF(OR(CharacterLevel=\"\",Spellcasting!CG$15=\"\"),\"\",VLOOKUP(Spellcasting!CG$15,Tables!$TK:$UB,Tables!$TZ$1,FALSE))","v":""},null,null,null,null,{"$f":"IF(OR(CharacterLevel=\"\",Spellcasting!CG$15=\"\"),\"\",VLOOKUP(Spellcasting!CG$15,Tables!$TK:$UB,Tables!$UB$1,FALSE))","v":""},null,null,null,null,null,null,null,null,null,null,null,null,null,null,null,null,null,null,null,null,null,null,null,null,{"$f":"ES39+1","v":6}]
[]
[null,null,null,null,null,null,null,null,null,null,null,null,null,null,null,null,null,null,null,null,null,null,null,null,null,null,null,null,null,null,null,null,null,null,null,null,null,null,null,null,null,null,null,null,null,null,null,null,null,null,null,null,null,null,null,null,null,null,null,null,null,null,null,null,null,null,null,null,null,null,null,null,null,null,null,{"$f":"IF(CharacterLevel=\"\",'Character Sheet III'!$CF$202,IF(Spellcasting!CE16=\"•\",'Character Sheet III'!$BX$202,'Character Sheet III'!$CF$202))","v":"□"},null,null,{"$f":"IF(OR(CharacterLevel=\"\",Spellcasting!CG$16=\"\"),\"\",VLOOKUP(Spellcasting!CG$16,Tables!$TK:$UB,Tables!$TN$1,FALSE))","v":""},null,null,null,null,null,null,null,null,null,null,null,null,null,null,null,null,{"$f":"IF(OR(CharacterLevel=\"\",Spellcasting!CG$16=\"\"),\"\",VLOOKUP(Spellcasting!CG$16,Tables!$TK:$UB,Tables!$TT$1,FALSE))","v":""},null,null,null,null,null,{"$f":"IF(OR(CharacterLevel=\"\",Spellcasting!CG$16=\"\"),\"\",VLOOKUP(Spellcasting!CG$16,Tables!$TK:$UB,Tables!$TU$1,FALSE))","v":""},null,null,null,null,{"$f":"IF(OR(CharacterLevel=\"\",Spellcasting!CG$16=\"\"),\"\",VLOOKUP(Spellcasting!CG$16,Tables!$TK:$UB,Tables!$TV$1,FALSE))","v":""},null,null,null,null,null,null,{"$f":"IF(OR(CharacterLevel=\"\",Spellcasting!CG$16=\"\"),\"\",VLOOKUP(Spellcasting!CG$16,Tables!$TK:$UB,Tables!$TW$1,FALSE))","v":""},null,null,null,null,{"$f":"IF(OR(CharacterLevel=\"\",Spellcasting!CG$16=\"\"),\"\",VLOOKUP(Spellcasting!CG$16,Tables!$TK:$UB,Tables!$TZ$1,FALSE))","v":""},null,null,null,null,{"$f":"IF(OR(CharacterLevel=\"\",Spellcasting!CG$16=\"\"),\"\",VLOOKUP(Spellcasting!CG$16,Tables!$TK:$UB,Tables!$UB$1,FALSE))","v":""},null,null,null,null,null,null,null,null,null,null,null,null,null,null,null,null,null,null,null,null,null,null,null,null,{"$f":"ES41+1","v":7}]
[null,"TRAITS",null,null,null,null,null,null,null,null,null,null,null,null,null,null,null,null,null,null,null,null,null,null,null,null,null,null,null,null,null,null,null,null,null,null,null,null,null,null,null,null,null,null,null,null,null,null,null,null,null,null,null,null,null,null,null,null,null,null,null,null,null,null,null,null,null,null,null,null,null,null,null,null,null,null,null,null,{"$f":"IF(OR(CharacterLevel=\"\",Spellcasting!#REF!=\"\"),\"\",VLOOKUP(Spellcasting!#REF!,Tables!WX:XQ,Tables!$TN$1,FALSE))","v":{"$error":"#REF!"}}]
[null,null,null,null,null,null,null,null,null,null,null,null,null,null,null,null,null,null,null,null,null,null,null,null,null,null,null,null,null,null,null,null,null,null,null,null,null,null,null,null,null,null,null,null,null,null,null,null,null,null,null,null,null,null,null,null,null,null,null,null,null,null,null,null,null,null,null,null,null,null,null,null,null,null,null,{"$f":"IF(CharacterLevel=\"\",'Character Sheet III'!$CF$202,IF(Spellcasting!CE17=\"•\",'Character Sheet III'!$BX$202,'Character Sheet III'!$CF$202))","v":"□"},null,null,{"$f":"IF(OR(CharacterLevel=\"\",Spellcasting!CG$17=\"\"),\"\",VLOOKUP(Spellcasting!CG$17,Tables!$TK:$UB,Tables!$TN$1,FALSE))","v":""},null,null,null,null,null,null,null,null,null,null,null,null,null,null,null,null,{"$f":"IF(OR(CharacterLevel=\"\",Spellcasting!CG$17=\"\"),\"\",VLOOKUP(Spellcasting!CG$17,Tables!$TK:$UB,Tables!$TT$1,FALSE))","v":""},null,null,null,null,null,{"$f":"IF(OR(CharacterLevel=\"\",Spellcasting!CG$17=\"\"),\"\",VLOOKUP(Spellcasting!CG$17,Tables!$TK:$UB,Tables!$TU$1,FALSE))","v":""},null,null,null,null,{"$f":"IF(OR(CharacterLevel=\"\",Spellcasting!CG$17=\"\"),\"\",VLOOKUP(Spellcasting!CG$17,Tables!$TK:$UB,Tables!$TV$1,FALSE))","v":""},null,null,null,null,null,null,{"$f":"IF(OR(CharacterLevel=\"\",Spellcasting!CG$17=\"\"),\"\",VLOOKUP(Spellcasting!CG$17,Tables!$TK:$UB,Tables!$TW$1,FALSE))","v":""},null,null,null,null,{"$f":"IF(OR(CharacterLevel=\"\",Spellcasting!CG$17=\"\"),\"\",VLOOKUP(Spellcasting!CG$17,Tables!$TK:$UB,Tables!$TZ$1,FALSE))","v":""},null,null,null,null,{"$f":"IF(OR(CharacterLevel=\"\",Spellcasting!CG$17=\"\"),\"\",VLOOKUP(Spellcasting!CG$17,Tables!$TK:$UB,Tables!$UB$1,FALSE))","v":""},null,null,null,null,null,null,null,null,null,null,null,null,null,null,null,null,null,null,null,null,null,null,null,null,{"$f":"ES43+1","v":8}]
[null,"SPELL LIST",null,null,null,null,null,null,null,null,null,null,null,null,null,null,null,null,null,null,null,null,null,null,null,null,null,null,null,null,null,null,null,null,null,null,null,null,null,null,null,null,null,null,null,null,null,null,null,null,null,null,null,null,null,null,null,null,null,null,null,null,null,null,null,null,null,null,null,null,null,null,null,null,null,null,null,null,{"$f":"IF(OR(CharacterLevel=\"\",Spellcasting!#REF!=\"\"),\"\",VLOOKUP(Spellcasting!#REF!,Tables!WX:XQ,Tables!$TN$1,FALSE))","v":{"$error":"#REF!"}}]
[null,null,null,null,null,null,null,null,null,null,null,null,null,null,null,null,null,null,null,null,null,null,null,null,null,null,null,null,null,null,null,null,null,null,null,null,null,null,null,null,null,null,null,null,null,null,null,null,null,null,null,null,null,null,null,null,null,null,null,null,null,null,null,null,null,null,null,null,null,null,null,null,null,null,null,{"$f":"IF(CharacterLevel=\"\",'Character Sheet III'!$CF$202,IF(Spellcasting!CE18=\"•\",'Character Sheet III'!$BX$202,'Character Sheet III'!$CF$202))","v":"□"},null,null,{"$f":"IF(OR(CharacterLevel=\"\",Spellcasting!CG$18=\"\"),\"\",VLOOKUP(Spellcasting!CG$18,Tables!$TK:$UB,Tables!$TN$1,FALSE))","v":""},null,null,null,null,null,null,null,null,null,null,null,null,null,null,null,null,{"$f":"IF(OR(CharacterLevel=\"\",Spellcasting!CG$18=\"\"),\"\",VLOOKUP(Spellcasting!CG$18,Tables!$TK:$UB,Tables!$TT$1,FALSE))","v":""},null,null,null,null,null,{"$f":"IF(OR(CharacterLevel=\"\",Spellcasting!CG$18=\"\"),\"\",VLOOKUP(Spellcasting!CG$18,Tables!$TK:$UB,Tables!$TU$1,FALSE))","v":""},null,null,null,null,{"$f":"IF(OR(CharacterLevel=\"\",Spellcasting!CG$18=\"\"),\"\",VLOOKUP(Spellcasting!CG$18,Tables!$TK:$UB,Tables!$TV$1,FALSE))","v":""},null,null,null,null,null,null,{"$f":"IF(OR(CharacterLevel=\"\",Spellcasting!CG$18=\"\"),\"\",VLOOKUP(Spellcasting!CG$18,Tables!$TK:$UB,Tables!$TW$1,FALSE))","v":""},null,null,null,null,{"$f":"IF(OR(CharacterLevel=\"\",Spellcasting!CG$18=\"\"),\"\",VLOOKUP(Spellcasting!CG$18,Tables!$TK:$UB,Tables!$TZ$1,FALSE))","v":""},null,null,null,null,{"$f":"IF(OR(CharacterLevel=\"\",Spellcasting!CG$18=\"\"),\"\",VLOOKUP(Spellcasting!CG$18,Tables!$TK:$UB,Tables!$UB$1,FALSE))","v":""},null,null,null,null,null,null,null,null,null,null,null,null,null,null,null,null,null,null,null,null,null,null,null,null,{"$f":"ES45+1","v":9}]
[null,"CANTRIPS",null,null,null,null,null,null,null,null,null,null,null,null,null,null,null,null,null,null,null,null,null,null,null,null,null,null,null,null,null,null,null,null,null,null,null,null,null,null,null,null,null,null,null,null,null,null,null,null,null,null,null,null,null,null,null,null,null,null,null,null,null,null,null,null,null,null,null,null,null,null,null,null,null,null,null,null,{"$f":"IF(OR(CharacterLevel=\"\",Spellcasting!#REF!=\"\"),\"\",VLOOKUP(Spellcasting!#REF!,Tables!WX:XQ,Tables!$TN$1,FALSE))","v":{"$error":"#REF!"}}]
[null,null,null,null,null,null,null,null,null,null,null,null,null,null,null,null,null,null,null,null,null,null,null,null,null,null,null,null,null,null,null,null,null,null,null,null,null,null,null,null,null,null,null,null,null,null,null,null,null,null,null,null,null,null,null,null,null,null,null,null,null,null,null,null,null,null,null,null,null,null,null,null,null,null,null,{"$f":"IF(CharacterLevel=\"\",'Character Sheet III'!$CF$202,IF(Spellcasting!CE19=\"•\",'Character Sheet III'!$BX$202,'Character Sheet III'!$CF$202))","v":"□"},null,null,{"$f":"IF(OR(CharacterLevel=\"\",Spellcasting!CG$19=\"\"),\"\",VLOOKUP(Spellcasting!CG$19,Tables!$TK:$UB,Tables!$TN$1,FALSE))","v":""},null,null,null,null,null,null,null,null,null,null,null,null,null,null,null,null,{"$f":"IF(OR(CharacterLevel=\"\",Spellcasting!CG$19=\"\"),\"\",VLOOKUP(Spellcasting!CG$19,Tables!$TK:$UB,Tables!$TT$1,FALSE))","v":""},null,null,null,null,null,{"$f":"IF(OR(CharacterLevel=\"\",Spellcasting!CG$19=\"\"),\"\",VLOOKUP(Spellcasting!CG$19,Tables!$TK:$UB,Tables!$TU$1,FALSE))","v":""},null,null,null,null,{"$f":"IF(OR(CharacterLevel=\"\",Spellcasting!CG$19=\"\"),\"\",VLOOKUP(Spellcasting!CG$19,Tables!$TK:$UB,Tables!$TV$1,FALSE))","v":""},null,null,null,null,null,null,{"$f":"IF(OR(CharacterLevel=\"\",Spellcasting!CG$19=\"\"),\"\",VLOOKUP(Spellcasting!CG$19,Tables!$TK:$UB,Tables!$TW$1,FALSE))","v":""},null,null,null,null,{"$f":"IF(OR(CharacterLevel=\"\",Spellcasting!CG$19=\"\"),\"\",VLOOKUP(Spellcasting!CG$19,Tables!$TK:$UB,Tables!$TZ$1,FALSE))","v":""},null,null,null,null,{"$f":"IF(OR(CharacterLevel=\"\",Spellcasting!CG$19=\"\"),\"\",VLOOKUP(Spellcasting!CG$19,Tables!$TK:$UB,Tables!$UB$1,FALSE))","v":""},null,null,null,null,null,null,null,null,null,null,null,null,null,null,null,null,null,null,null,null,null,null,null,null,{"$f":"ES47+1","v":10}]
[null,"SPELL NAME",null,null,null,null,null,null,null,null,null,null,null,null,null,null,null,null,null,null,null,"CASTING TIME",null,null,null,null,null,"RANGE",null,null,null,null,"DURATION",null,null,null,null,null,"COMPONENTS",null,null,null,null,null,"TYPE",null,null,null,null,"DETAILS",null,null,null,null,null,null,null,null,null,null,null,null,null,null,null,null,null,null,null,null,null,null,null,null,null,null,null,null,{"$f":"IF(OR(CharacterLevel=\"\",Spellcasting!#REF!=\"\"),\"\",VLOOKUP(Spellcasting!#REF!,Tables!WX:XQ,Tables!$TN$1,FALSE))","v":{"$error":"#REF!"}}]
[null,null,null,null,null,null,null,null,null,null,null,null,null,null,null,null,null,null,null,null,null,null,null,null,null,null,null,null,null,null,null,null,null,null,null,null,null,null,null,null,null,null,null,null,null,null,null,null,null,null,null,null,null,null,null,null,null,null,null,null,null,null,null,null,null,null,null,null,null,null,null,null,null,null,null,{"$f":"IF(CharacterLevel=\"\",'Character Sheet III'!$CF$202,IF(Spellcasting!CE20=\"•\",'Character Sheet III'!$BX$202,'Character Sheet III'!$CF$202))","v":"□"},null,null,{"$f":"IF(OR(CharacterLevel=\"\",Spellcasting!CG$20=\"\"),\"\",VLOOKUP(Spellcasting!CG$20,Tables!$TK:$UB,Tables!$TN$1,FALSE))","v":""},null,null,null,null,null,null,null,null,null,null,null,null,null,null,null,null,{"$f":"IF(OR(CharacterLevel=\"\",Spellcasting!CG$20=\"\"),\"\",VLOOKUP(Spellcasting!CG$20,Tables!$TK:$UB,Tables!$TT$1,FALSE))","v":""},null,null,null,null,null,{"$f":"IF(OR(CharacterLevel=\"\",Spellcasting!CG$20=\"\"),\"\",VLOOKUP(Spellcasting!CG$20,Tables!$TK:$UB,Tables!$TU$1,FALSE))","v":""},null,null,null,null,{"$f":"IF(OR(CharacterLevel=\"\",Spellcasting!CG$20=\"\"),\"\",VLOOKUP(Spellcasting!CG$20,Tables!$TK:$UB,Tables!$TV$1,FALSE))","v":""},null,null,null,null,null,null,{"$f":"IF(OR(CharacterLevel=\"\",Spellcasting!CG$20=\"\"),\"\",VLOOKUP(Spellcasting!CG$20,Tables!$TK:$UB,Tables!$TW$1,FALSE))","v":""},null,null,null,null,{"$f":"IF(OR(CharacterLevel=\"\",Spellcasting!CG$20=\"\"),\"\",VLOOKUP(Spellcasting!CG$20,Tables!$TK:$UB,Tables!$TZ$1,FALSE))","v":""},null,null,null,null,{"$f":"IF(OR(CharacterLevel=\"\",Spellcasting!CG$20=\"\"),\"\",VLOOKUP(Spellcasting!CG$20,Tables!$TK:$UB,Tables!$UB$1,FALSE))","v":""},null,null,null,null,null,null,null,null,null,null,null,null,null,null,null,null,null,null,null,null,null,null,null,null,{"$f":"ES49+1","v":11}]
[null,{"$f":"IF(OR(CharacterLevel=\"\",Spellcasting!AC$6=\"\"),\"\",VLOOKUP(Spellcasting!AC$6,Tables!$TK:$UB,Tables!$TN$1,FALSE))","v":""},null,null,null,null,null,null,null,null,null,null,null,null,null,null,null,null,null,null,null,{"$f":"IF(OR(CharacterLevel=\"\",Spellcasting!AC$6=\"\"),\"\",VLOOKUP(Spellcasting!AC$6,Tables!$TK:$UB,Tables!$TT$1,FALSE))","v":""},null,null,null,null,null,{"$f":"IF(OR(CharacterLevel=\"\",Spellcasting!AC$6=\"\"),\"\",VLOOKUP(Spellcasting!AC$6,Tables!$TK:$UB,Tables!$TU$1,FALSE))","v":""},null,null,null,null,{"$f":"IF(OR(CharacterLevel=\"\",Spellcasting!AC$6=\"\"),\"\",VLOOKUP(Spellcasting!AC$6,Tables!$TK:$UB,Tables!$TV$1,FALSE))","v":""},null,null,null,null,null,null,{"$f":"IF(OR(CharacterLevel=\"\",Spellcasting!AC$6=\"\"),\"\",VLOOKUP(Spellcasting!AC$6,Tables!$TK:$UB,Tables!$TW$1,FALSE))","v":""},null,null,null,null,{"$f":"IF(OR(CharacterLevel=\"\",Spellcasting!AC$6=\"\"),\"\",VLOOKUP(Spellcasting!AC$6,Tables!$TK:$UB,Tables!$TZ$1,FALSE))","v":""},null,null,null,null,{"$f":"IF(OR(CharacterLevel=\"\",Spellcasting!AC$6=\"\"),\"\",VLOOKUP(Spellcasting!AC$6,Tables!$TK:$UB,Tables!$UB$1,FALSE))","v":""},null,null,null,null,null,null,null,null,null,null,null,null,null,null,null,null,null,null,null,null,null,null,null,null,null,null,null,null,{"$f":"IF(OR(CharacterLevel=\"\",Spellcasting!#REF!=\"\"),\"\",VLOOKUP(Spellcasting!#REF!,Tables!WX:XQ,Tables!$TN$1,FALSE))","v":{"$error":"#REF!"}}]
[null,null,null,null,null,null,null,null,null,null,null,null,null,null,null,null,null,null,null,null,null,null,null,null,null,null,null,null,null,null,null,null,null,null,null,null,null,null,null,null,null,null,null,null,null,null,null,null,null,null,null,null,null,null,null,null,null,null,null,null,null,null,null,null,null,null,null,null,null,null,null,null,null,null,null,{"$f":"IF(CharacterLevel=\"\",'Character Sheet III'!$CF$202,IF(Spellcasting!CE21=\"•\",'Character Sheet III'!$BX$202,'Character Sheet III'!$CF$202))","v":"□"},null,null,{"$f":"IF(OR(CharacterLevel=\"\",Spellcasting!CG$21=\"\"),\"\",VLOOKUP(Spellcasting!CG$21,Tables!$TK:$UB,Tables!$TN$1,FALSE))","v":""},null,null,null,null,null,null,null,null,null,null,null,null,null,null,null,null,{"$f":"IF(OR(CharacterLevel=\"\",Spellcasting!CG$21=\"\"),\"\",VLOOKUP(Spellcasting!CG$21,Tables!$TK:$UB,Tables!$TT$1,FALSE))","v":""},null,null,null,null,null,{"$f":"IF(OR(CharacterLevel=\"\",Spellcasting!CG$21=\"\"),\"\",VLOOKUP(Spellcasting!CG$21,Tables!$TK:$UB,Tables!$TU$1,FALSE))","v":""},null,null,null,null,{"$f":"IF(OR(CharacterLevel=\"\",Spellcasting!CG$21=\"\"),\"\",VLOOKUP(Spellcasting!CG$21,Tables!$TK:$UB,Tables!$TV$1,FALSE))","v":""},null,null,null,null,null,null,{"$f":"IF(OR(CharacterLevel=\"\",Spellcasting!CG$21=\"\"),\"\",VLOOKUP(Spellcasting!CG$21,Tables!$TK:$UB,Tables!$TW$1,FALSE))","v":""},null,null,null,null,{"$f":"IF(OR(CharacterLevel=\"\",Spellcasting!CG$21=\"\"),\"\",VLOOKUP(Spellcasting!CG$21,Tables!$TK:$UB,Tables!$TZ$1,FALSE))","v":""},null,null,null,null,{"$f":"IF(OR(CharacterLevel=\"\",Spellcasting!CG$21=\"\"),\"\",VLOOKUP(Spellcasting!CG$21,Tables!$TK:$UB,Tables!$UB$1,FALSE))","v":""},null,null,null,null,null,null,null,null,null,null,null,null,null,null,null,null,null,null,null,null,null,null,null,null,{"$f":"ES51+1","v":12}]
[null,{"$f":"IF(OR(CharacterLevel=\"\",Spellcasting!AC$7=\"\"),\"\",VLOOKUP(Spellcasting!AC$7,Tables!$TK:$UB,Tables!$TN$1,FALSE))","v":""},null,null,null,null,null,null,null,null,null,null,null,null,null,null,null,null,null,null,null,{"$f":"IF(OR(CharacterLevel=\"\",Spellcasting!AC$7=\"\"),\"\",VLOOKUP(Spellcasting!AC$7,Tables!$TK:$UB,Tables!$TT$1,FALSE))","v":""},null,null,null,null,null,{"$f":"IF(OR(CharacterLevel=\"\",Spellcasting!AC$7=\"\"),\"\",VLOOKUP(Spellcasting!AC$7,Tables!$TK:$UB,Tables!$TU$1,FALSE))","v":""},null,null,null,null,{"$f":"IF(OR(CharacterLevel=\"\",Spellcasting!AC$7=\"\"),\"\",VLOOKUP(Spellcasting!AC$7,Tables!$TK:$UB,Tables!$TV$1,FALSE))","v":""},null,null,null,null,null,null,{"$f":"IF(OR(CharacterLevel=\"\",Spellcasting!AC$7=\"\"),\"\",VLOOKUP(Spellcasting!AC$7,Tables!$TK:$UB,Tables!$TW$1,FALSE))","v":""},null,null,null,null,{"$f":"IF(OR(CharacterLevel=\"\",Spellcasting!AC$7=\"\"),\"\",VLOOKUP(Spellcasting!AC$7,Tables!$TK:$UB,Tables!$TZ$1,FALSE))","v":""},null,null,null,null,{"$f":"IF(OR(CharacterLevel=\"\",Spellcasting!AC$7=\"\"),\"\",VLOOKUP(Spellcasting!AC$7,Tables!$TK:$UB,Tables!$UB$1,FALSE))","v":""},null,null,null,null,null,null,null,null,null,null,null,null,null,null,null,null,null,null,null,null,null,null,null,null,null,null,null,null,{"$f":"IF(OR(CharacterLevel=\"\",Spellcasting!#REF!=\"\"),\"\",VLOOKUP(Spellcasting!#REF!,Tables!WX:XQ,Tables!$TN$1,FALSE))","v":{"$error":"#REF!"}}]
[null,null,null,null,null,null,null,null,null,null,null,null,null,null,null,null,null,null,null,null,null,null,null,null,null,null,null,null,null,null,null,null,null,null,null,null,null,null,null,null,null,null,null,null,null,null,null,null,null,null,null,null,null,null,null,null,null,null,null,null,null,null,null,null,null,null,null,null,null,null,null,null,null,null,null,{"$f":"IF(CharacterLevel=\"\",'Character Sheet III'!$CF$202,IF(Spellcasting!CE22=\"•\",'Character Sheet III'!$BX$202,'Character Sheet III'!$CF$202))","v":"□"},null,null,{"$f":"IF(OR(CharacterLevel=\"\",Spellcasting!CG$22=\"\"),\"\",VLOOKUP(Spellcasting!CG$22,Tables!$TK:$UB,Tables!$TN$1,FALSE))","v":""},null,null,null,null,null,null,null,null,null,null,null,null,null,null,null,null,{"$f":"IF(OR(CharacterLevel=\"\",Spellcasting!CG$22=\"\"),\"\",VLOOKUP(Spellcasting!CG$22,Tables!$TK:$UB,Tables!$TT$1,FALSE))","v":""},null,null,null,null,null,{"$f":"IF(OR(CharacterLevel=\"\",Spellcasting!CG$22=\"\"),\"\",VLOOKUP(Spellcasting!CG$22,Tables!$TK:$UB,Tables!$TU$1,FALSE))","v":""},null,null,null,null,{"$f":"IF(OR(CharacterLevel=\"\",Spellcasting!CG$22=\"\"),\"\",VLOOKUP(Spellcasting!CG$22,Tables!$TK:$UB,Tables!$TV$1,FALSE))","v":""},null,null,null,null,null,null,{"$f":"IF(OR(CharacterLevel=\"\",Spellcasting!CG$22=\"\"),\"\",VLOOKUP(Spellcasting!CG$22,Tables!$TK:$UB,Tables!$TW$1,FALSE))","v":""},null,null,null,null,{"$f":"IF(OR(CharacterLevel=\"\",Spellcasting!CG$22=\"\"),\"\",VLOOKUP(Spellcasting!CG$22,Tables!$TK:$UB,Tables!$TZ$1,FALSE))","v":""},null,null,null,null,{"$f":"IF(OR(CharacterLevel=\"\",Spellcasting!CG$22=\"\"),\"\",VLOOKUP(Spellcasting!CG$22,Tables!$TK:$UB,Tables!$UB$1,FALSE))","v":""},null,null,null,null,null,null,null,null,null,null,null,null,null,null,null,null,null,null,null,null,null,null,null,null,{"$f":"ES53+1","v":13}]
[null,{"$f":"IF(OR(CharacterLevel=\"\",Spellcasting!AC$8=\"\"),\"\",VLOOKUP(Spellcasting!AC$8,Tables!$TK:$UB,Tables!$TN$1,FALSE))","v":""},null,null,null,null,null,null,null,null,null,null,null,null,null,null,null,null,null,null,null,{"$f":"IF(OR(CharacterLevel=\"\",Spellcasting!AC$8=\"\"),\"\",VLOOKUP(Spellcasting!AC$8,Tables!$TK:$UB,Tables!$TT$1,FALSE))","v":""},null,null,null,null,null,{"$f":"IF(OR(CharacterLevel=\"\",Spellcasting!AC$8=\"\"),\"\",VLOOKUP(Spellcasting!AC$8,Tables!$TK:$UB,Tables!$TU$1,FALSE))","v":""},null,null,null,null,{"$f":"IF(OR(CharacterLevel=\"\",Spellcasting!AC$8=\"\"),\"\",VLOOKUP(Spellcasting!AC$8,Tables!$TK:$UB,Tables!$TV$1,FALSE))","v":""},null,null,null,null,null,null,{"$f":"IF(OR(CharacterLevel=\"\",Spellcasting!AC$8=\"\"),\"\",VLOOKUP(Spellcasting!AC$8,Tables!$TK:$UB,Tables!$TW$1,FALSE))","v":""},null,null,null,null,{"$f":"IF(OR(CharacterLevel=\"\",Spellcasting!AC$8=\"\"),\"\",VLOOKUP(Spellcasting!AC$8,Tables!$TK:$UB,Tables!$TZ$1,FALSE))","v":""},null,null,null,null,{"$f":"IF(OR(CharacterLevel=\"\",Spellcasting!AC$8=\"\"),\"\",VLOOKUP(Spellcasting!AC$8,Tables!$TK:$UB,Tables!$UB$1,FALSE))","v":""},null,null,null,null,null,null,null,null,null,null,null,null,null,null,null,null,null,null,null,null,null,null,null,null,null,null,null,null,{"$f":"IF(OR(CharacterLevel=\"\",Spellcasting!#REF!=\"\"),\"\",VLOOKUP(Spellcasting!#REF!,Tables!WX:XQ,Tables!$TN$1,FALSE))","v":{"$error":"#REF!"}}]
[null,null,null,null,null,null,null,null,null,null,null,null,null,null,null,null,null,null,null,null,null,null,null,null,null,null,null,null,null,null,null,null,null,null,null,null,null,null,null,null,null,null,null,null,null,null,null,null,null,null,null,null,null,null,null,null,null,null,null,null,null,null,null,null,null,null,null,null,null,null,null,null,null,null,null,{"$f":"IF(CharacterLevel=\"\",'Character Sheet III'!$CF$202,IF(Spellcasting!CE23=\"•\",'Character Sheet III'!$BX$202,'Character Sheet III'!$CF$202))","v":"□"},null,null,{"$f":"IF(OR(CharacterLevel=\"\",Spellcasting!CG$23=\"\"),\"\",VLOOKUP(Spellcasting!CG$23,Tables!$TK:$UB,Tables!$TN$1,FALSE))","v":""},null,null,null,null,null,null,null,null,null,null,null,null,null,null,null,null,{"$f":"IF(OR(CharacterLevel=\"\",Spellcasting!CG$23=\"\"),\"\",VLOOKUP(Spellcasting!CG$23,Tables!$TK:$UB,Tables!$TT$1,FALSE))","v":""},null,null,null,null,null,{"$f":"IF(OR(CharacterLevel=\"\",Spellcasting!CG$23=\"\"),\"\",VLOOKUP(Spellcasting!CG$23,Tables!$TK:$UB,Tables!$TU$1,FALSE))","v":""},null,null,null,null,{"$f":"IF(OR(CharacterLevel=\"\",Spellcasting!CG$23=\"\"),\"\",VLOOKUP(Spellcasting!CG$23,Tables!$TK:$UB,Tables!$TV$1,FALSE))","v":""},null,null,null,null,null,null,{"$f":"IF(OR(CharacterLevel=\"\",Spellcasting!CG$23=\"\"),\"\",VLOOKUP(Spellcasting!CG$23,Tables!$TK:$UB,Tables!$TW$1,FALSE))","v":""},null,null,null,null,{"$f":"IF(OR(CharacterLevel=\"\",Spellcasting!CG$23=\"\"),\"\",VLOOKUP(Spellcasting!CG$23,Tables!$TK:$UB,Tables!$TZ$1,FALSE))","v":""},null,null,null,null,{"$f":"IF(OR(CharacterLevel=\"\",Spellcasting!CG$23=\"\"),\"\",VLOOKUP(Spellcasting!CG$23,Tables!$TK:$UB,Tables!$UB$1,FALSE))","v":""},null,null,null,null,null,null,null,null,null,null,null,null,null,null,null,null,null,null,null,null,null,null,null,null,{"$f":"ES55+1","v":14}]
[null,{"$f":"IF(OR(CharacterLevel=\"\",Spellcasting!AC$9=\"\"),\"\",VLOOKUP(Spellcasting!AC$9,Tables!$TK:$UB,Tables!$TN$1,FALSE))","v":""},null,null,null,null,null,null,null,null,null,null,null,null,null,null,null,null,null,null,null,{"$f":"IF(OR(CharacterLevel=\"\",Spellcasting!AC$9=\"\"),\"\",VLOOKUP(Spellcasting!AC$9,Tables!$TK:$UB,Tables!$TT$1,FALSE))","v":""},null,null,null,null,null,{"$f":"IF(OR(CharacterLevel=\"\",Spellcasting!AC$9=\"\"),\"\",VLOOKUP(Spellcasting!AC$9,Tables!$TK:$UB,Tables!$TU$1,FALSE))","v":""},null,null,null,null,{"$f":"IF(OR(CharacterLevel=\"\",Spellcasting!AC$9=\"\"),\"\",VLOOKUP(Spellcasting!AC$9,Tables!$TK:$UB,Tables!$TV$1,FALSE))","v":""},null,null,null,null,null,null,{"$f":"IF(OR(CharacterLevel=\"\",Spellcasting!AC$9=\"\"),\"\",VLOOKUP(Spellcasting!AC$9,Tables!$TK:$UB,Tables!$TW$1,FALSE))","v":""},null,null,null,null,{"$f":"IF(OR(CharacterLevel=\"\",Spellcasting!AC$9=\"\"),\"\",VLOOKUP(Spellcasting!AC$9,Tables!$TK:$UB,Tables!$TZ$1,FALSE))","v":""},null,null,null,null,{"$f":"IF(OR(CharacterLevel=\"\",Spellcasting!AC$9=\"\"),\"\",VLOOKUP(Spellcasting!AC$9,Tables!$TK:$UB,Tables!$UB$1,FALSE))","v":""},null,null,null,null,null,null,null,null,null,null,null,null,null,null,null,null,null,null,null,null,null,null,null,null,null,null,null,null,{"$f":"IF(OR(CharacterLevel=\"\",Spellcasting!#REF!=\"\"),\"\",VLOOKUP(Spellcasting!#REF!,Tables!WX:XQ,Tables!$TN$1,FALSE))","v":{"$error":"#REF!"}}]
[null,null,null,null,null,null,null,null,null,null,null,null,null,null,null,null,null,null,null,null,null,null,null,null,null,null,null,null,null,null,null,null,null,null,null,null,null,null,null,null,null,null,null,null,null,null,null,null,null,null,null,null,null,null,null,null,null,null,null,null,null,null,null,null,null,null,null,null,null,null,null,null,null,null,null,{"$f":"IF(CharacterLevel=\"\",'Character Sheet III'!$CF$202,IF(Spellcasting!CE24=\"•\",'Character Sheet III'!$BX$202,'Character Sheet III'!$CF$202))","v":"□"},null,null,{"$f":"IF(OR(CharacterLevel=\"\",Spellcasting!CG$24=\"\"),\"\",VLOOKUP(Spellcasting!CG$24,Tables!$TK:$UB,Tables!$TN$1,FALSE))","v":""},null,null,null,null,null,null,null,null,null,null,null,null,null,null,null,null,{"$f":"IF(OR(CharacterLevel=\"\",Spellcasting!CG$24=\"\"),\"\",VLOOKUP(Spellcasting!CG$24,Tables!$TK:$UB,Tables!$TT$1,FALSE))","v":""},null,null,null,null,null,{"$f":"IF(OR(CharacterLevel=\"\",Spellcasting!CG$24=\"\"),\"\",VLOOKUP(Spellcasting!CG$24,Tables!$TK:$UB,Tables!$TU$1,FALSE))","v":""},null,null,null,null,{"$f":"IF(OR(CharacterLevel=\"\",Spellcasting!CG$24=\"\"),\"\",VLOOKUP(Spellcasting!CG$24,Tables!$TK:$UB,Tables!$TV$1,FALSE))","v":""},null,null,null,null,null,null,{"$f":"IF(OR(CharacterLevel=\"\",Spellcasting!CG$24=\"\"),\"\",VLOOKUP(Spellcasting!CG$24,Tables!$TK:$UB,Tables!$TW$1,FALSE))","v":""},null,null,null,null,{"$f":"IF(OR(CharacterLevel=\"\",Spellcasting!CG$24=\"\"),\"\",VLOOKUP(Spellcasting!CG$24,Tables!$TK:$UB,Tables!$TZ$1,FALSE))","v":""},null,null,null,null,{"$f":"IF(OR(CharacterLevel=\"\",Spellcasting!CG$24=\"\"),\"\",VLOOKUP(Spellcasting!CG$24,Tables!$TK:$UB,Tables!$UB$1,FALSE))","v":""},null,null,null,null,null,null,null,null,null,null,null,null,null,null,null,null,null,null,null,null,null,null,null,null,{"$f":"ES57+1","v":15}]
[null,{"$f":"IF(OR(CharacterLevel=\"\",Spellcasting!AC$10=\"\"),\"\",VLOOKUP(Spellcasting!AC$10,Tables!$TK:$UB,Tables!$TN$1,FALSE))","v":""},null,null,null,null,null,null,null,null,null,null,null,null,null,null,null,null,null,null,null,{"$f":"IF(OR(CharacterLevel=\"\",Spellcasting!AC$10=\"\"),\"\",VLOOKUP(Spellcasting!AC$10,Tables!$TK:$UB,Tables!$TT$1,FALSE))","v":""},null,null,null,null,null,{"$f":"IF(OR(CharacterLevel=\"\",Spellcasting!AC$10=\"\"),\"\",VLOOKUP(Spellcasting!AC$10,Tables!$TK:$UB,Tables!$TU$1,FALSE))","v":""},null,null,null,null,{"$f":"IF(OR(CharacterLevel=\"\",Spellcasting!AC$10=\"\"),\"\",VLOOKUP(Spellcasting!AC$10,Tables!$TK:$UB,Tables!$TV$1,FALSE))","v":""},null,null,null,null,null,null,{"$f":"IF(OR(CharacterLevel=\"\",Spellcasting!AC$10=\"\"),\"\",VLOOKUP(Spellcasting!AC$10,Tables!$TK:$UB,Tables!$TW$1,FALSE))","v":""},null,null,null,null,{"$f":"IF(OR(CharacterLevel=\"\",Spellcasting!AC$10=\"\"),\"\",VLOOKUP(Spellcasting!AC$10,Tables!$TK:$UB,Tables!$TZ$1,FALSE))","v":""},null,null,null,null,{"$f":"IF(OR(CharacterLevel=\"\",Spellcasting!AC$10=\"\"),\"\",VLOOKUP(Spellcasting!AC$10,Tables!$TK:$UB,Tables!$UB$1,FALSE))","v":""},null,null,null,null,null,null,null,null,null,null,null,null,null,null,null,null,null,null,null,null,null,null,null,null,null,null,null,null,{"$f":"IF(OR(CharacterLevel=\"\",Spellcasting!#REF!=\"\"),\"\",VLOOKUP(Spellcasting!#REF!,Tables!WX:XQ,Tables!$TN$1,FALSE))","v":{"$error":"#REF!"}}]
[null,null,null,null,null,null,null,null,null,null,null,null,null,null,null,null,null,null,null,null,null,null,null,null,null,null,null,null,null,null,null,null,null,null,null,null,null,null,null,null,null,null,null,null,null,null,null,null,null,null,null,null,null,null,null,null,null,null,null,null,null,null,null,null,null,null,null,null,null,null,null,null,null,null,null,{"$f":"IF(CharacterLevel=\"\",'Character Sheet III'!$CF$202,IF(Spellcasting!CE25=\"•\",'Character Sheet III'!$BX$202,'Character Sheet III'!$CF$202))","v":"□"},null,null,{"$f":"IF(OR(CharacterLevel=\"\",Spellcasting!CG$25=\"\"),\"\",VLOOKUP(Spellcasting!CG$25,Tables!$TK:$UB,Tables!$TN$1,FALSE))","v":""},null,null,null,null,null,null,null,null,null,null,null,null,null,null,null,null,{"$f":"IF(OR(CharacterLevel=\"\",Spellcasting!CG$25=\"\"),\"\",VLOOKUP(Spellcasting!CG$25,Tables!$TK:$UB,Tables!$TT$1,FALSE))","v":""},null,null,null,null,null,{"$f":"IF(OR(CharacterLevel=\"\",Spellcasting!CG$25=\"\"),\"\",VLOOKUP(Spellcasting!CG$25,Tables!$TK:$UB,Tables!$TU$1,FALSE))","v":""},null,null,null,null,{"$f":"IF(OR(CharacterLevel=\"\",Spellcasting!CG$25=\"\"),\"\",VLOOKUP(Spellcasting!CG$25,Tables!$TK:$UB,Tables!$TV$1,FALSE))","v":""},null,null,null,null,null,null,{"$f":"IF(OR(CharacterLevel=\"\",Spellcasting!CG$25=\"\"),\"\",VLOOKUP(Spellcasting!CG$25,Tables!$TK:$UB,Tables!$TW$1,FALSE))","v":""},null,null,null,null,{"$f":"IF(OR(CharacterLevel=\"\",Spellcasting!CG$25=\"\"),\"\",VLOOKUP(Spellcasting!CG$25,Tables!$TK:$UB,Tables!$TZ$1,FALSE))","v":""},null,null,null,null,{"$f":"IF(OR(CharacterLevel=\"\",Spellcasting!CG$25=\"\"),\"\",VLOOKUP(Spellcasting!CG$25,Tables!$TK:$UB,Tables!$UB$1,FALSE))","v":""},null,null,null,null,null,null,null,null,null,null,null,null,null,null,null,null,null,null,null,null,null,null,null,null,{"$f":"ES59+1","v":16}]
[null,{"$f":"IF(OR(CharacterLevel=\"\",Spellcasting!AC$11=\"\"),\"\",VLOOKUP(Spellcasting!AC$11,Tables!$TK:$UB,Tables!$TN$1,FALSE))","v":""},null,null,null,null,null,null,null,null,null,null,null,null,null,null,null,null,null,null,null,{"$f":"IF(OR(CharacterLevel=\"\",Spellcasting!AC$11=\"\"),\"\",VLOOKUP(Spellcasting!AC$11,Tables!$TK:$UB,Tables!$TT$1,FALSE))","v":""},null,null,null,null,null,{"$f":"IF(OR(CharacterLevel=\"\",Spellcasting!AC$11=\"\"),\"\",VLOOKUP(Spellcasting!AC$11,Tables!$TK:$UB,Tables!$TU$1,FALSE))","v":""},null,null,null,null,{"$f":"IF(OR(CharacterLevel=\"\",Spellcasting!AC$11=\"\"),\"\",VLOOKUP(Spellcasting!AC$11,Tables!$TK:$UB,Tables!$TV$1,FALSE))","v":""},null,null,null,null,null,null,{"$f":"IF(OR(CharacterLevel=\"\",Spellcasting!AC$11=\"\"),\"\",VLOOKUP(Spellcasting!AC$11,Tables!$TK:$UB,Tables!$TW$1,FALSE))","v":""},null,null,null,null,{"$f":"IF(OR(CharacterLevel=\"\",Spellcasting!AC$11=\"\"),\"\",VLOOKUP(Spellcasting!AC$11,Tables!$TK:$UB,Tables!$TZ$1,FALSE))","v":""},null,null,null,null,{"$f":"IF(OR(CharacterLevel=\"\",Spellcasting!AC$11=\"\"),\"\",VLOOKUP(Spellcasting!AC$11,Tables!$TK:$UB,Tables!$UB$1,FALSE))","v":""}]
[null,null,null,null,null,null,null,null,null,null,null,null,null,null,null,null,null,null,null,null,null,null,null,null,null,null,null,null,null,null,null,null,null,null,null,null,null,null,null,null,null,null,null,null,null,null,null,null,null,null,null,null,null,null,null,null,null,null,null,null,null,null,null,null,null,null,null,null,null,null,null,null,null,null,null,"LEVEL 5",null,null,null,null,null,null,null,null,null,null,null,null,null,null,null,null,null,null,null,null,null,null,null,null,null,null,null,null,null,null,null,null,null,null,null,null,null,null,null,null,null,null,null,null,null,null,null,null,null,null,null,null,null,null,null,null,null,null,null,null,null,null,null,null,null,null,null,null,null,null,null,null,{"$f":"ES61+1","v":17}]
[null,{"$f":"IF(OR(CharacterLevel=\"\",Spellcasting!AC$12=\"\"),\"\",VLOOKUP(Spellcasting!AC$12,Tables!$TK:$UB,Tables!$TN$1,FALSE))","v":""},null,null,null,null,null,null,null,null,null,null,null,null,null,null,null,null,null,null,null,{"$f":"IF(OR(CharacterLevel=\"\",Spellcasting!AC$12=\"\"),\"\",VLOOKUP(Spellcasting!AC$12,Tables!$TK:$UB,Tables!$TT$1,FALSE))","v":""},null,null,null,null,null,{"$f":"IF(OR(CharacterLevel=\"\",Spellcasting!AC$12=\"\"),\"\",VLOOKUP(Spellcasting!AC$12,Tables!$TK:$UB,Tables!$TU$1,FALSE))","v":""},null,null,null,null,{"$f":"IF(OR(CharacterLevel=\"\",Spellcasting!AC$12=\"\"),\"\",VLOOKUP(Spellcasting!AC$12,Tables!$TK:$UB,Tables!$TV$1,FALSE))","v":""},null,null,null,null,null,null,{"$f":"IF(OR(CharacterLevel=\"\",Spellcasting!AC$12=\"\"),\"\",VLOOKUP(Spellcasting!AC$12,Tables!$TK:$UB,Tables!$TW$1,FALSE))","v":""},null,null,null,null,{"$f":"IF(OR(CharacterLevel=\"\",Spellcasting!AC$12=\"\"),\"\",VLOOKUP(Spellcasting!AC$12,Tables!$TK:$UB,Tables!$TZ$1,FALSE))","v":""},null,null,null,null,{"$f":"IF(OR(CharacterLevel=\"\",Spellcasting!AC$12=\"\"),\"\",VLOOKUP(Spellcasting!AC$12,Tables!$TK:$UB,Tables!$UB$1,FALSE))","v":""}]
[null,null,null,null,null,null,null,null,null,null,null,null,null,null,null,null,null,null,null,null,null,null,null,null,null,null,null,null,null,null,null,null,null,null,null,null,null,null,null,null,null,null,null,null,null,null,null,null,null,null,null,null,null,null,null,null,null,null,null,null,null,null,null,null,null,null,null,null,null,null,null,null,null,null,null,"PREP",null,null,"SPELL NAME",null,null,null,null,null,null,null,null,null,null,null,null,null,null,null,null,"CASTING TIME",null,null,null,null,null,"RANGE",null,null,null,null,"DURATION",null,null,null,null,null,"COMPONENTS",null,null,null,null,null,"TYPE",null,null,null,null,"DETAILS",null,null,null,null,null,null,null,null,null,null,null,null,null,null,null,null,null,null,null,null,null,null,null,null,{"$f":"ES63+1","v":18}]
[null,{"$f":"IF(OR(CharacterLevel=\"\",Spellcasting!AC$13=\"\"),\"\",VLOOKUP(Spellcasting!AC$13,Tables!$TK:$UB,Tables!$TN$1,FALSE))","v":""},null,null,null,null,null,null,null,null,null,null,null,null,null,null,null,null,null,null,null,{"$f":"IF(OR(CharacterLevel=\"\",Spellcasting!AC$13=\"\"),\"\",VLOOKUP(Spellcasting!AC$13,Tables!$TK:$UB,Tables!$TT$1,FALSE))","v":""},null,null,null,null,null,{"$f":"IF(OR(CharacterLevel=\"\",Spellcasting!AC$13=\"\"),\"\",VLOOKUP(Spellcasting!AC$13,Tables!$TK:$UB,Tables!$TU$1,FALSE))","v":""},null,null,null,null,{"$f":"IF(OR(CharacterLevel=\"\",Spellcasting!AC$13=\"\"),\"\",VLOOKUP(Spellcasting!AC$13,Tables!$TK:$UB,Tables!$TV$1,FALSE))","v":""},null,null,null,null,null,null,{"$f":"IF(OR(CharacterLevel=\"\",Spellcasting!AC$13=\"\"),\"\",VLOOKUP(Spellcasting!AC$13,Tables!$TK:$UB,Tables!$TW$1,FALSE))","v":""},null,null,null,null,{"$f":"IF(OR(CharacterLevel=\"\",Spellcasting!AC$13=\"\"),\"\",VLOOKUP(Spellcasting!AC$13,Tables!$TK:$UB,Tables!$TZ$1,FALSE))","v":""},null,null,null,null,{"$f":"IF(OR(CharacterLevel=\"\",Spellcasting!AC$13=\"\"),\"\",VLOOKUP(Spellcasting!AC$13,Tables!$TK:$UB,Tables!$UB$1,FALSE))","v":""}]
[null,null,null,null,null,null,null,null,null,null,null,null,null,null,null,null,null,null,null,null,null,null,null,null,null,null,null,null,null,null,null,null,null,null,null,null,null,null,null,null,null,null,null,null,null,null,null,null,null,null,null,null,null,null,null,null,null,null,null,null,null,null,null,null,null,null,null,null,null,null,null,null,null,null,null,{"$f":"IF(CharacterLevel=\"\",'Character Sheet III'!$CF$202,IF(Spellcasting!AA33=\"•\",'Character Sheet III'!$BX$202,'Character Sheet III'!$CF$202))","v":"□"},null,null,{"$f":"IF(OR(CharacterLevel=\"\",Spellcasting!AC$33=\"\"),\"\",VLOOKUP(Spellcasting!AC$33,Tables!$TK:$UB,Tables!$TN$1,FALSE))","v":""},null,null,null,null,null,null,null,null,null,null,null,null,null,null,null,null,{"$f":"IF(OR(CharacterLevel=\"\",Spellcasting!AC$33=\"\"),\"\",VLOOKUP(Spellcasting!AC$33,Tables!$TK:$UB,Tables!$TT$1,FALSE))","v":""},null,null,null,null,null,{"$f":"IF(OR(CharacterLevel=\"\",Spellcasting!AC$33=\"\"),\"\",VLOOKUP(Spellcasting!AC$33,Tables!$TK:$UB,Tables!$TU$1,FALSE))","v":""},null,null,null,null,{"$f":"IF(OR(CharacterLevel=\"\",Spellcasting!AC$33=\"\"),\"\",VLOOKUP(Spellcasting!AC$33,Tables!$TK:$UB,Tables!$TV$1,FALSE))","v":""},null,null,null,null,null,null,{"$f":"IF(OR(CharacterLevel=\"\",Spellcasting!AC$33=\"\"),\"\",VLOOKUP(Spellcasting!AC$33,Tables!$TK:$UB,Tables!$TW$1,FALSE))","v":""},null,null,null,null,{"$f":"IF(OR(CharacterLevel=\"\",Spellcasting!AC$33=\"\"),\"\",VLOOKUP(Spellcasting!AC$33,Tables!$TK:$UB,Tables!$TZ$1,FALSE))","v":""},null,null,null,null,{"$f":"IF(OR(CharacterLevel=\"\",Spellcasting!AC$33=\"\"),\"\",VLOOKUP(Spellcasting!AC$33,Tables!$TK:$UB,Tables!$UB$1,FALSE))","v":""},null,null,null,null,null,null,null,null,null,null,null,null,null,null,null,null,null,null,null,null,null,null,null,null,{"$f":"ES65+1","v":19}]
[null,{"$f":"IF(OR(CharacterLevel=\"\",Spellcasting!AC$14=\"\"),\"\",VLOOKUP(Spellcasting!AC$14,Tables!$TK:$UB,Tables!$TN$1,FALSE))","v":""},null,null,null,null,null,null,null,null,null,null,null,null,null,null,null,null,null,null,null,{"$f":"IF(OR(CharacterLevel=\"\",Spellcasting!AC$14=\"\"),\"\",VLOOKUP(Spellcasting!AC$14,Tables!$TK:$UB,Tables!$TT$1,FALSE))","v":""},null,null,null,null,null,{"$f":"IF(OR(CharacterLevel=\"\",Spellcasting!AC$14=\"\"),\"\",VLOOKUP(Spellcasting!AC$14,Tables!$TK:$UB,Tables!$TU$1,FALSE))","v":""},null,null,null,null,{"$f":"IF(OR(CharacterLevel=\"\",Spellcasting!AC$14=\"\"),\"\",VLOOKUP(Spellcasting!AC$14,Tables!$TK:$UB,Tables!$TV$1,FALSE))","v":""},null,null,null,null,null,null,{"$f":"IF(OR(CharacterLevel=\"\",Spellcasting!AC$14=\"\"),\"\",VLOOKUP(Spellcasting!AC$14,Tables!$TK:$UB,Tables!$TW$1,FALSE))","v":""},null,null,null,null,{"$f":"IF(OR(CharacterLevel=\"\",Spellcasting!AC$14=\"\"),\"\",VLOOKUP(Spellcasting!AC$14,Tables!$TK:$UB,Tables!$TZ$1,FALSE))","v":""},null,null,null,null,{"$f":"IF(OR(CharacterLevel=\"\",Spellcasting!AC$14=\"\"),\"\",VLOOKUP(Spellcasting!AC$14,Tables!$TK:$UB,Tables!$UB$1,FALSE))","v":""}]
[null,null,null,null,null,null,null,null,null,null,null,null,null,null,null,null,null,null,null,null,null,null,null,null,null,null,null,null,null,null,null,null,null,null,null,null,null,null,null,null,null,null,null,null,null,null,null,null,null,null,null,null,null,null,null,null,null,null,null,null,null,null,null,null,null,null,null,null,null,null,null,null,null,null,null,{"$f":"IF(CharacterLevel=\"\",'Character Sheet III'!$CF$202,IF(Spellcasting!AA34=\"•\",'Character Sheet III'!$BX$202,'Character Sheet III'!$CF$202))","v":"□"},null,null,{"$f":"IF(OR(CharacterLevel=\"\",Spellcasting!AC$34=\"\"),\"\",VLOOKUP(Spellcasting!AC$34,Tables!$TK:$UB,Tables!$TN$1,FALSE))","v":""},null,null,null,null,null,null,null,null,null,null,null,null,null,null,null,null,{"$f":"IF(OR(CharacterLevel=\"\",Spellcasting!AC$34=\"\"),\"\",VLOOKUP(Spellcasting!AC$34,Tables!$TK:$UB,Tables!$TT$1,FALSE))","v":""},null,null,null,null,null,{"$f":"IF(OR(CharacterLevel=\"\",Spellcasting!AC$34=\"\"),\"\",VLOOKUP(Spellcasting!AC$34,Tables!$TK:$UB,Tables!$TU$1,FALSE))","v":""},null,null,null,null,{"$f":"IF(OR(CharacterLevel=\"\",Spellcasting!AC$34=\"\"),\"\",VLOOKUP(Spellcasting!AC$34,Tables!$TK:$UB,Tables!$TV$1,FALSE))","v":""},null,null,null,null,null,null,{"$f":"IF(OR(CharacterLevel=\"\",Spellcasting!AC$34=\"\"),\"\",VLOOKUP(Spellcasting!AC$34,Tables!$TK:$UB,Tables!$TW$1,FALSE))","v":""},null,null,null,null,{"$f":"IF(OR(CharacterLevel=\"\",Spellcasting!AC$34=\"\"),\"\",VLOOKUP(Spellcasting!AC$34,Tables!$TK:$UB,Tables!$TZ$1,FALSE))","v":""},null,null,null,null,{"$f":"IF(OR(CharacterLevel=\"\",Spellcasting!AC$34=\"\"),\"\",VLOOKUP(Spellcasting!AC$34,Tables!$TK:$UB,Tables!$UB$1,FALSE))","v":""},null,null,null,null,null,null,null,null,null,null,null,null,null,null,null,null,null,null,null,null,null,null,null,null,{"$f":"ES67+1","v":20}]
[null,{"$f":"IF(OR(CharacterLevel=\"\",Spellcasting!AC$15=\"\"),\"\",VLOOKUP(Spellcasting!AC$15,Tables!$TK:$UB,Tables!$TN$1,FALSE))","v":""},null,null,null,null,null,null,null,null,null,null,null,null,null,null,null,null,null,null,null,{"$f":"IF(OR(CharacterLevel=\"\",Spellcasting!AC$15=\"\"),\"\",VLOOKUP(Spellcasting!AC$15,Tables!$TK:$UB,Tables!$TT$1,FALSE))","v":""},null,null,null,null,null,{"$f":"IF(OR(CharacterLevel=\"\",Spellcasting!AC$15=\"\"),\"\",VLOOKUP(Spellcasting!AC$15,Tables!$TK:$UB,Tables!$TU$1,FALSE))","v":""},null,null,null,null,{"$f":"IF(OR(CharacterLevel=\"\",Spellcasting!AC$15=\"\"),\"\",VLOOKUP(Spellcasting!AC$15,Tables!$TK:$UB,Tables!$TV$1,FALSE))","v":""},null,null,null,null,null,null,{"$f":"IF(OR(CharacterLevel=\"\",Spellcasting!AC$15=\"\"),\"\",VLOOKUP(Spellcasting!AC$15,Tables!$TK:$UB,Tables!$TW$1,FALSE))","v":""},null,null,null,null,{"$f":"IF(OR(CharacterLevel=\"\",Spellcasting!AC$15=\"\"),\"\",VLOOKUP(Spellcasting!AC$15,Tables!$TK:$UB,Tables!$TZ$1,FALSE))","v":""},null,null,null,null,{"$f":"IF(OR(CharacterLevel=\"\",Spellcasting!AC$15=\"\"),\"\",VLOOKUP(Spellcasting!AC$15,Tables!$TK:$UB,Tables!$UB$1,FALSE))","v":""}]
[null,null,null,null,null,null,null,null,null,null,null,null,null,null,null,null,null,null,null,null,null,null,null,null,null,null,null,null,null,null,null,null,null,null,null,null,null,null,null,null,null,null,null,null,null,null,null,null,null,null,null,null,null,null,null,null,null,null,null,null,null,null,null,null,null,null,null,null,null,null,null,null,null,null,null,{"$f":"IF(CharacterLevel=\"\",'Character Sheet III'!$CF$202,IF(Spellcasting!AA35=\"•\",'Character Sheet III'!$BX$202,'Character Sheet III'!$CF$202))","v":"□"},null,null,{"$f":"IF(OR(CharacterLevel=\"\",Spellcasting!AC$35=\"\"),\"\",VLOOKUP(Spellcasting!AC$35,Tables!$TK:$UB,Tables!$TN$1,FALSE))","v":""},null,null,null,null,null,null,null,null,null,null,null,null,null,null,null,null,{"$f":"IF(OR(CharacterLevel=\"\",Spellcasting!AC$35=\"\"),\"\",VLOOKUP(Spellcasting!AC$35,Tables!$TK:$UB,Tables!$TT$1,FALSE))","v":""},null,null,null,null,null,{"$f":"IF(OR(CharacterLevel=\"\",Spellcasting!AC$35=\"\"),\"\",VLOOKUP(Spellcasting!AC$35,Tables!$TK:$UB,Tables!$TU$1,FALSE))","v":""},null,null,null,null,{"$f":"IF(OR(CharacterLevel=\"\",Spellcasting!AC$35=\"\"),\"\",VLOOKUP(Spellcasting!AC$35,Tables!$TK:$UB,Tables!$TV$1,FALSE))","v":""},null,null,null,null,null,null,{"$f":"IF(OR(CharacterLevel=\"\",Spellcasting!AC$35=\"\"),\"\",VLOOKUP(Spellcasting!AC$35,Tables!$TK:$UB,Tables!$TW$1,FALSE))","v":""},null,null,null,null,{"$f":"IF(OR(CharacterLevel=\"\",Spellcasting!AC$35=\"\"),\"\",VLOOKUP(Spellcasting!AC$35,Tables!$TK:$UB,Tables!$TZ$1,FALSE))","v":""},null,null,null,null,{"$f":"IF(OR(CharacterLevel=\"\",Spellcasting!AC$35=\"\"),\"\",VLOOKUP(Spellcasting!AC$35,Tables!$TK:$UB,Tables!$UB$1,FALSE))","v":""},null,null,null,null,null,null,null,null,null,null,null,null,null,null,null,null,null,null,null,null,null,null,null,null,{"$f":"ES69+1","v":21}]
[null,"LEVEL 1"]
[null,null,null,null,null,null,null,null,null,null,null,null,null,null,null,null,null,null,null,null,null,null,null,null,null,null,null,null,null,null,null,null,null,null,null,null,null,null,null,null,null,null,null,null,null,null,null,null,null,null,null,null,null,null,null,null,null,null,null,null,null,null,null,null,null,null,null,null,null,null,null,null,null,null,null,{"$f":"IF(CharacterLevel=\"\",'Character Sheet III'!$CF$202,IF(Spellcasting!AA36=\"•\",'Character Sheet III'!$BX$202,'Character Sheet III'!$CF$202))","v":"□"},null,null,{"$f":"IF(OR(CharacterLevel=\"\",Spellcasting!AC$36=\"\"),\"\",VLOOKUP(Spellcasting!AC$36,Tables!$TK:$UB,Tables!$TN$1,FALSE))","v":""},null,null,null,null,null,null,null,null,null,null,null,null,null,null,null,null,{"$f":"IF(OR(CharacterLevel=\"\",Spellcasting!AC$36=\"\"),\"\",VLOOKUP(Spellcasting!AC$36,Tables!$TK:$UB,Tables!$TT$1,FALSE))","v":""},null,null,null,null,null,{"$f":"IF(OR(CharacterLevel=\"\",Spellcasting!AC$36=\"\"),\"\",VLOOKUP(Spellcasting!AC$36,Tables!$TK:$UB,Tables!$TU$1,FALSE))","v":""},null,null,null,null,{"$f":"IF(OR(CharacterLevel=\"\",Spellcasting!AC$36=\"\"),\"\",VLOOKUP(Spellcasting!AC$36,Tables!$TK:$UB,Tables!$TV$1,FALSE))","v":""},null,null,null,null,null,null,{"$f":"IF(OR(CharacterLevel=\"\",Spellcasting!AC$36=\"\"),\"\",VLOOKUP(Spellcasting!AC$36,Tables!$TK:$UB,Tables!$TW$1,FALSE))","v":""},null,null,null,null,{"$f":"IF(OR(CharacterLevel=\"\",Spellcasting!AC$36=\"\"),\"\",VLOOKUP(Spellcasting!AC$36,Tables!$TK:$UB,Tables!$TZ$1,FALSE))","v":""},null,null,null,null,{"$f":"IF(OR(CharacterLevel=\"\",Spellcasting!AC$36=\"\"),\"\",VLOOKUP(Spellcasting!AC$36,Tables!$TK:$UB,Tables!$UB$1,FALSE))","v":""},null,null,null,null,null,null,null,null,null,null,null,null,null,null,null,null,null,null,null,null,null,null,null,null,{"$f":"ES71+1","v":22}]
[null,"PREP",null,null,"SPELL NAME",null,null,null,null,null,null,null,null,null,null,null,null,null,null,null,null,"CASTING TIME",null,null,null,null,null,"RANGE",null,null,null,null,"DURATION",null,null,null,null,null,"COMPONENTS",null,null,null,null,null,"TYPE",null,null,null,null,"DETAILS"]
[null,null,null,null,null,null,null,null,null,null,null,null,null,null,null,null,null,null,null,null,null,null,null,null,null,null,null,null,null,null,null,null,null,null,null,null,null,null,null,null,null,null,null,null,null,null,null,null,null,null,null,null,null,null,null,null,null,null,null,null,null,null,null,null,null,null,null,null,null,null,null,null,null,null,null,{"$f":"IF(CharacterLevel=\"\",'Character Sheet III'!$CF$202,IF(Spellcasting!AA37=\"•\",'Character Sheet III'!$BX$202,'Character Sheet III'!$CF$202))","v":"□"},null,null,{"$f":"IF(OR(CharacterLevel=\"\",Spellcasting!AC$37=\"\"),\"\",VLOOKUP(Spellcasting!AC$37,Tables!$TK:$UB,Tables!$TN$1,FALSE))","v":""},null,null,null,null,null,null,null,null,null,null,null,null,null,null,null,null,{"$f":"IF(OR(CharacterLevel=\"\",Spellcasting!AC$37=\"\"),\"\",VLOOKUP(Spellcasting!AC$37,Tables!$TK:$UB,Tables!$TT$1,FALSE))","v":""},null,null,null,null,null,{"$f":"IF(OR(CharacterLevel=\"\",Spellcasting!AC$37=\"\"),\"\",VLOOKUP(Spellcasting!AC$37,Tables!$TK:$UB,Tables!$TU$1,FALSE))","v":""},null,null,null,null,{"$f":"IF(OR(CharacterLevel=\"\",Spellcasting!AC$37=\"\"),\"\",VLOOKUP(Spellcasting!AC$37,Tables!$TK:$UB,Tables!$TV$1,FALSE))","v":""},null,null,null,null,null,null,{"$f":"IF(OR(CharacterLevel=\"\",Spellcasting!AC$37=\"\"),\"\",VLOOKUP(Spellcasting!AC$37,Tables!$TK:$UB,Tables!$TW$1,FALSE))","v":""},null,null,null,null,{"$f":"IF(OR(CharacterLevel=\"\",Spellcasting!AC$37=\"\"),\"\",VLOOKUP(Spellcasting!AC$37,Tables!$TK:$UB,Tables!$TZ$1,FALSE))","v":""},null,null,null,null,{"$f":"IF(OR(CharacterLevel=\"\",Spellcasting!AC$37=\"\"),\"\",VLOOKUP(Spellcasting!AC$37,Tables!$TK:$UB,Tables!$UB$1,FALSE))","v":""},null,null,null,null,null,null,null,null,null,null,null,null,null,null,null,null,null,null,null,null,null,null,null,null,{"$f":"ES73+1","v":23}]
[null,{"$f":"IF(CharacterLevel=\"\",'Character Sheet III'!$CF$202,IF(Spellcasting!AO6=\"•\",'Character Sheet III'!$BX$202,'Character Sheet III'!$CF$202))","v":"□"},null,null,{"$f":"IF(OR(CharacterLevel=\"\",Spellcasting!AQ$6=\"\"),\"\",VLOOKUP(Spellcasting!AQ$6,Tables!$TK:$UB,Tables!$TN$1,FALSE))","v":""},null,null,null,null,null,null,null,null,null,null,null,null,null,null,null,null,{"$f":"IF(OR(CharacterLevel=\"\",Spellcasting!AQ$6=\"\"),\"\",VLOOKUP(Spellcasting!AQ$6,Tables!$TK:$UB,Tables!$TT$1,FALSE))","v":""},null,null,null,null,null,{"$f":"IF(OR(CharacterLevel=\"\",Spellcasting!AQ$6=\"\"),\"\",VLOOKUP(Spellcasting!AQ$6,Tables!$TK:$UB,Tables!$TU$1,FALSE))","v":""},null,null,null,null,{"$f":"IF(OR(CharacterLevel=\"\",Spellcasting!AQ$6=\"\"),\"\",VLOOKUP(Spellcasting!AQ$6,Tables!$TK:$UB,Tables!$TV$1,FALSE))","v":""},null,null,null,null,null,null,{"$f":"IF(OR(CharacterLevel=\"\",Spellcasting!AQ$6=\"\"),\"\",VLOOKUP(Spellcasting!AQ$6,Tables!$TK:$UB,Tables!$TW$1,FALSE))","v":""},null,null,null,null,{"$f":"IF(OR(CharacterLevel=\"\",Spellcasting!AQ$6=\"\"),\"\",VLOOKUP(Spellcasting!AQ$6,Tables!$TK:$UB,Tables!$TZ$1,FALSE))","v":""},null,null,null,null,{"$f":"IF(OR(CharacterLevel=\"\",Spellcasting!AQ$6=\"\"),\"\",VLOOKUP(Spellcasting!AQ$6,Tables!$TK:$UB,Tables!$UB$1,FALSE))","v":""}]
[null,null,null,null,null,null,null,null,null,null,null,null,null,null,null,null,null,null,null,null,null,null,null,null,null,null,null,null,null,null,null,null,null,null,null,null,null,null,null,null,null,null,null,null,null,null,null,null,null,null,null,null,null,null,null,null,null,null,null,null,null,null,null,null,null,null,null,null,null,null,null,null,null,null,null,{"$f":"IF(CharacterLevel=\"\",'Character Sheet III'!$CF$202,IF(Spellcasting!AA38=\"•\",'Character Sheet III'!$BX$202,'Character Sheet III'!$CF$202))","v":"□"},null,null,{"$f":"IF(OR(CharacterLevel=\"\",Spellcasting!AC$38=\"\"),\"\",VLOOKUP(Spellcasting!AC$38,Tables!$TK:$UB,Tables!$TN$1,FALSE))","v":""},null,null,null,null,null,null,null,null,null,null,null,null,null,null,null,null,{"$f":"IF(OR(CharacterLevel=\"\",Spellcasting!AC$38=\"\"),\"\",VLOOKUP(Spellcasting!AC$38,Tables!$TK:$UB,Tables!$TT$1,FALSE))","v":""},null,null,null,null,null,{"$f":"IF(OR(CharacterLevel=\"\",Spellcasting!AC$38=\"\"),\"\",VLOOKUP(Spellcasting!AC$38,Tables!$TK:$UB,Tables!$TU$1,FALSE))","v":""},null,null,null,null,{"$f":"IF(OR(CharacterLevel=\"\",Spellcasting!AC$38=\"\"),\"\",VLOOKUP(Spellcasting!AC$38,Tables!$TK:$UB,Tables!$TV$1,FALSE))","v":""},null,null,null,null,null,null,{"$f":"IF(OR(CharacterLevel=\"\",Spellcasting!AC$38=\"\"),\"\",VLOOKUP(Spellcasting!AC$38,Tables!$TK:$UB,Tables!$TW$1,FALSE))","v":""},null,null,null,null,{"$f":"IF(OR(CharacterLevel=\"\",Spellcasting!AC$38=\"\"),\"\",VLOOKUP(Spellcasting!AC$38,Tables!$TK:$UB,Tables!$TZ$1,FALSE))","v":""},null,null,null,null,{"$f":"IF(OR(CharacterLevel=\"\",Spellcasting!AC$38=\"\"),\"\",VLOOKUP(Spellcasting!AC$38,Tables!$TK:$UB,Tables!$UB$1,FALSE))","v":""},null,null,null,null,null,null,null,null,null,null,null,null,null,null,null,null,null,null,null,null,null,null,null,null,{"$f":"ES75+1","v":24}]
[null,{"$f":"IF(CharacterLevel=\"\",'Character Sheet III'!$CF$202,IF(Spellcasting!AO7=\"•\",'Character Sheet III'!$BX$202,'Character Sheet III'!$CF$202))","v":"□"},null,null,{"$f":"IF(OR(CharacterLevel=\"\",Spellcasting!AQ$7=\"\"),\"\",VLOOKUP(Spellcasting!AQ$7,Tables!$TK:$UB,Tables!$TN$1,FALSE))","v":""},null,null,null,null,null,null,null,null,null,null,null,null,null,null,null,null,{"$f":"IF(OR(CharacterLevel=\"\",Spellcasting!AQ$7=\"\"),\"\",VLOOKUP(Spellcasting!AQ$7,Tables!$TK:$UB,Tables!$TT$1,FALSE))","v":""},null,null,null,null,null,{"$f":"IF(OR(CharacterLevel=\"\",Spellcasting!AQ$7=\"\"),\"\",VLOOKUP(Spellcasting!AQ$7,Tables!$TK:$UB,Tables!$TU$1,FALSE))","v":""},null,null,null,null,{"$f":"IF(OR(CharacterLevel=\"\",Spellcasting!AQ$7=\"\"),\"\",VLOOKUP(Spellcasting!AQ$7,Tables!$TK:$UB,Tables!$TV$1,FALSE))","v":""},null,null,null,null,null,null,{"$f":"IF(OR(CharacterLevel=\"\",Spellcasting!AQ$7=\"\"),\"\",VLOOKUP(Spellcasting!AQ$7,Tables!$TK:$UB,Tables!$TW$1,FALSE))","v":""},null,null,null,null,{"$f":"IF(OR(CharacterLevel=\"\",Spellcasting!AQ$7=\"\"),\"\",VLOOKUP(Spellcasting!AQ$7,Tables!$TK:$UB,Tables!$TZ$1,FALSE))","v":""},null,null,null,null,{"$f":"IF(OR(CharacterLevel=\"\",Spellcasting!AQ$7=\"\"),\"\",VLOOKUP(Spellcasting!AQ$7,Tables!$TK:$UB,Tables!$UB$1,FALSE))","v":""}]
[null,null,null,null,null,null,null,null,null,null,null,null,null,null,null,null,null,null,null,null,null,null,null,null,null,null,null,null,null,null,null,null,null,null,null,null,null,null,null,null,null,null,null,null,null,null,null,null,null,null,null,null,null,null,null,null,null,null,null,null,null,null,null,null,null,null,null,null,null,null,null,null,null,null,null,{"$f":"IF(CharacterLevel=\"\",'Character Sheet III'!$CF$202,IF(Spellcasting!AA39=\"•\",'Character Sheet III'!$BX$202,'Character Sheet III'!$CF$202))","v":"□"},null,null,{"$f":"IF(OR(CharacterLevel=\"\",Spellcasting!AC$39=\"\"),\"\",VLOOKUP(Spellcasting!AC$39,Tables!$TK:$UB,Tables!$TN$1,FALSE))","v":""},null,null,null,null,null,null,null,null,null,null,null,null,null,null,null,null,{"$f":"IF(OR(CharacterLevel=\"\",Spellcasting!AC$39=\"\"),\"\",VLOOKUP(Spellcasting!AC$39,Tables!$TK:$UB,Tables!$TT$1,FALSE))","v":""},null,null,null,null,null,{"$f":"IF(OR(CharacterLevel=\"\",Spellcasting!AC$39=\"\"),\"\",VLOOKUP(Spellcasting!AC$39,Tables!$TK:$UB,Tables!$TU$1,FALSE))","v":""},null,null,null,null,{"$f":"IF(OR(CharacterLevel=\"\",Spellcasting!AC$39=\"\"),\"\",VLOOKUP(Spellcasting!AC$39,Tables!$TK:$UB,Tables!$TV$1,FALSE))","v":""},null,null,null,null,null,null,{"$f":"IF(OR(CharacterLevel=\"\",Spellcasting!AC$39=\"\"),\"\",VLOOKUP(Spellcasting!AC$39,Tables!$TK:$UB,Tables!$TW$1,FALSE))","v":""},null,null,null,null,{"$f":"IF(OR(CharacterLevel=\"\",Spellcasting!AC$39=\"\"),\"\",VLOOKUP(Spellcasting!AC$39,Tables!$TK:$UB,Tables!$TZ$1,FALSE))","v":""},null,null,null,null,{"$f":"IF(OR(CharacterLevel=\"\",Spellcasting!AC$39=\"\"),\"\",VLOOKUP(Spellcasting!AC$39,Tables!$TK:$UB,Tables!$UB$1,FALSE))","v":""},null,null,null,null,null,null,null,null,null,null,null,null,null,null,null,null,null,null,null,null,null,null,null,null,{"$f":"ES77+1","v":25}]
[null,{"$f":"IF(CharacterLevel=\"\",'Character Sheet III'!$CF$202,IF(Spellcasting!AO8=\"•\",'Character Sheet III'!$BX$202,'Character Sheet III'!$CF$202))","v":"□"},null,null,{"$f":"IF(OR(CharacterLevel=\"\",Spellcasting!AQ$8=\"\"),\"\",VLOOKUP(Spellcasting!AQ$8,Tables!$TK:$UB,Tables!$TN$1,FALSE))","v":""},null,null,null,null,null,null,null,null,null,null,null,null,null,null,null,null,{"$f":"IF(OR(CharacterLevel=\"\",Spellcasting!AQ$8=\"\"),\"\",VLOOKUP(Spellcasting!AQ$8,Tables!$TK:$UB,Tables!$TT$1,FALSE))","v":""},null,null,null,null,null,{"$f":"IF(OR(CharacterLevel=\"\",Spellcasting!AQ$8=\"\"),\"\",VLOOKUP(Spellcasting!AQ$8,Tables!$TK:$UB,Tables!$TU$1,FALSE))","v":""},null,null,null,null,{"$f":"IF(OR(CharacterLevel=\"\",Spellcasting!AQ$8=\"\"),\"\",VLOOKUP(Spellcasting!AQ$8,Tables!$TK:$UB,Tables!$TV$1,FALSE))","v":""},null,null,null,null,null,null,{"$f":"IF(OR(CharacterLevel=\"\",Spellcasting!AQ$8=\"\"),\"\",VLOOKUP(Spellcasting!AQ$8,Tables!$TK:$UB,Tables!$TW$1,FALSE))","v":""},null,null,null,null,{"$f":"IF(OR(CharacterLevel=\"\",Spellcasting!AQ$8=\"\"),\"\",VLOOKUP(Spellcasting!AQ$8,Tables!$TK:$UB,Tables!$TZ$1,FALSE))","v":""},null,null,null,null,{"$f":"IF(OR(CharacterLevel=\"\",Spellcasting!AQ$8=\"\"),\"\",VLOOKUP(Spellcasting!AQ$8,Tables!$TK:$UB,Tables!$UB$1,FALSE))","v":""}]
[null,null,null,null,null,null,null,null,null,null,null,null,null,null,null,null,null,null,null,null,null,null,null,null,null,null,null,null,null,null,null,null,null,null,null,null,null,null,null,null,null,null,null,null,null,null,null,null,null,null,null,null,null,null,null,null,null,null,null,null,null,null,null,null,null,null,null,null,null,null,null,null,null,null,null,{"$f":"IF(CharacterLevel=\"\",'Character Sheet III'!$CF$202,IF(Spellcasting!AA40=\"•\",'Character Sheet III'!$BX$202,'Character Sheet III'!$CF$202))","v":"□"},null,null,{"$f":"IF(OR(CharacterLevel=\"\",Spellcasting!AC$40=\"\"),\"\",VLOOKUP(Spellcasting!AC$40,Tables!$TK:$UB,Tables!$TN$1,FALSE))","v":""},null,null,null,null,null,null,null,null,null,null,null,null,null,null,null,null,{"$f":"IF(OR(CharacterLevel=\"\",Spellcasting!AC$40=\"\"),\"\",VLOOKUP(Spellcasting!AC$40,Tables!$TK:$UB,Tables!$TT$1,FALSE))","v":""},null,null,null,null,null,{"$f":"IF(OR(CharacterLevel=\"\",Spellcasting!AC$40=\"\"),\"\",VLOOKUP(Spellcasting!AC$40,Tables!$TK:$UB,Tables!$TU$1,FALSE))","v":""},null,null,null,null,{"$f":"IF(OR(CharacterLevel=\"\",Spellcasting!AC$40=\"\"),\"\",VLOOKUP(Spellcasting!AC$40,Tables!$TK:$UB,Tables!$TV$1,FALSE))","v":""},null,null,null,null,null,null,{"$f":"IF(OR(CharacterLevel=\"\",Spellcasting!AC$40=\"\"),\"\",VLOOKUP(Spellcasting!AC$40,Tables!$TK:$UB,Tables!$TW$1,FALSE))","v":""},null,null,null,null,{"$f":"IF(OR(CharacterLevel=\"\",Spellcasting!AC$40=\"\"),\"\",VLOOKUP(Spellcasting!AC$40,Tables!$TK:$UB,Tables!$TZ$1,FALSE))","v":""},null,null,null,null,{"$f":"IF(OR(CharacterLevel=\"\",Spellcasting!AC$40=\"\"),\"\",VLOOKUP(Spellcasting!AC$40,Tables!$TK:$UB,Tables!$UB$1,FALSE))","v":""},null,null,null,null,null,null,null,null,null,null,null,null,null,null,null,null,null,null,null,null,null,null,null,null,{"$f":"ES79+1","v":26}]
[null,{"$f":"IF(CharacterLevel=\"\",'Character Sheet III'!$CF$202,IF(Spellcasting!AO9=\"•\",'Character Sheet III'!$BX$202,'Character Sheet III'!$CF$202))","v":"□"},null,null,{"$f":"IF(OR(CharacterLevel=\"\",Spellcasting!AQ$9=\"\"),\"\",VLOOKUP(Spellcasting!AQ$9,Tables!$TK:$UB,Tables!$TN$1,FALSE))","v":""},null,null,null,null,null,null,null,null,null,null,null,null,null,null,null,null,{"$f":"IF(OR(CharacterLevel=\"\",Spellcasting!AQ$9=\"\"),\"\",VLOOKUP(Spellcasting!AQ$9,Tables!$TK:$UB,Tables!$TT$1,FALSE))","v":""},null,null,null,null,null,{"$f":"IF(OR(CharacterLevel=\"\",Spellcasting!AQ$9=\"\"),\"\",VLOOKUP(Spellcasting!AQ$9,Tables!$TK:$UB,Tables!$TU$1,FALSE))","v":""},null,null,null,null,{"$f":"IF(OR(CharacterLevel=\"\",Spellcasting!AQ$9=\"\"),\"\",VLOOKUP(Spellcasting!AQ$9,Tables!$TK:$UB,Tables!$TV$1,FALSE))","v":""},null,null,null,null,null,null,{"$f":"IF(OR(CharacterLevel=\"\",Spellcasting!AQ$9=\"\"),\"\",VLOOKUP(Spellcasting!AQ$9,Tables!$TK:$UB,Tables!$TW$1,FALSE))","v":""},null,null,null,null,{"$f":"IF(OR(CharacterLevel=\"\",Spellcasting!AQ$9=\"\"),\"\",VLOOKUP(Spellcasting!AQ$9,Tables!$TK:$UB,Tables!$TZ$1,FALSE))","v":""},null,null,null,null,{"$f":"IF(OR(CharacterLevel=\"\",Spellcasting!AQ$9=\"\"),\"\",VLOOKUP(Spellcasting!AQ$9,Tables!$TK:$UB,Tables!$UB$1,FALSE))","v":""}]
[null,null,null,null,null,null,null,null,null,null,null,null,null,null,null,null,null,null,null,null,null,null,null,null,null,null,null,null,null,null,null,null,null,null,null,null,null,null,null,null,null,null,null,null,null,null,null,null,null,null,null,null,null,null,null,null,null,null,null,null,null,null,null,null,null,null,null,null,null,null,null,null,null,null,null,{"$f":"IF(CharacterLevel=\"\",'Character Sheet III'!$CF$202,IF(Spellcasting!AA41=\"•\",'Character Sheet III'!$BX$202,'Character Sheet III'!$CF$202))","v":"□"},null,null,{"$f":"IF(OR(CharacterLevel=\"\",Spellcasting!AC$41=\"\"),\"\",VLOOKUP(Spellcasting!AC$41,Tables!$TK:$UB,Tables!$TN$1,FALSE))","v":""},null,null,null,null,null,null,null,null,null,null,null,null,null,null,null,null,{"$f":"IF(OR(CharacterLevel=\"\",Spellcasting!AC$41=\"\"),\"\",VLOOKUP(Spellcasting!AC$41,Tables!$TK:$UB,Tables!$TT$1,FALSE))","v":""},null,null,null,null,null,{"$f":"IF(OR(CharacterLevel=\"\",Spellcasting!AC$41=\"\"),\"\",VLOOKUP(Spellcasting!AC$41,Tables!$TK:$UB,Tables!$TU$1,FALSE))","v":""},null,null,null,null,{"$f":"IF(OR(CharacterLevel=\"\",Spellcasting!AC$41=\"\"),\"\",VLOOKUP(Spellcasting!AC$41,Tables!$TK:$UB,Tables!$TV$1,FALSE))","v":""},null,null,null,null,null,null,{"$f":"IF(OR(CharacterLevel=\"\",Spellcasting!AC$41=\"\"),\"\",VLOOKUP(Spellcasting!AC$41,Tables!$TK:$UB,Tables!$TW$1,FALSE))","v":""},null,null,null,null,{"$f":"IF(OR(CharacterLevel=\"\",Spellcasting!AC$41=\"\"),\"\",VLOOKUP(Spellcasting!AC$41,Tables!$TK:$UB,Tables!$TZ$1,FALSE))","v":""},null,null,null,null,{"$f":"IF(OR(CharacterLevel=\"\",Spellcasting!AC$41=\"\"),\"\",VLOOKUP(Spellcasting!AC$41,Tables!$TK:$UB,Tables!$UB$1,FALSE))","v":""},null,null,null,null,null,null,null,null,null,null,null,null,null,null,null,null,null,null,null,null,null,null,null,null,{"$f":"ES81+1","v":27}]
[null,{"$f":"IF(CharacterLevel=\"\",'Character Sheet III'!$CF$202,IF(Spellcasting!AO10=\"•\",'Character Sheet III'!$BX$202,'Character Sheet III'!$CF$202))","v":"□"},null,null,{"$f":"IF(OR(CharacterLevel=\"\",Spellcasting!AQ$10=\"\"),\"\",VLOOKUP(Spellcasting!AQ$10,Tables!$TK:$UB,Tables!$TN$1,FALSE))","v":""},null,null,null,null,null,null,null,null,null,null,null,null,null,null,null,null,{"$f":"IF(OR(CharacterLevel=\"\",Spellcasting!AQ$10=\"\"),\"\",VLOOKUP(Spellcasting!AQ$10,Tables!$TK:$UB,Tables!$TT$1,FALSE))","v":""},null,null,null,null,null,{"$f":"IF(OR(CharacterLevel=\"\",Spellcasting!AQ$10=\"\"),\"\",VLOOKUP(Spellcasting!AQ$10,Tables!$TK:$UB,Tables!$TU$1,FALSE))","v":""},null,null,null,null,{"$f":"IF(OR(CharacterLevel=\"\",Spellcasting!AQ$10=\"\"),\"\",VLOOKUP(Spellcasting!AQ$10,Tables!$TK:$UB,Tables!$TV$1,FALSE))","v":""},null,null,null,null,null,null,{"$f":"IF(OR(CharacterLevel=\"\",Spellcasting!AQ$10=\"\"),\"\",VLOOKUP(Spellcasting!AQ$10,Tables!$TK:$UB,Tables!$TW$1,FALSE))","v":""},null,null,null,null,{"$f":"IF(OR(CharacterLevel=\"\",Spellcasting!AQ$10=\"\"),\"\",VLOOKUP(Spellcasting!AQ$10,Tables!$TK:$UB,Tables!$TZ$1,FALSE))","v":""},null,null,null,null,{"$f":"IF(OR(CharacterLevel=\"\",Spellcasting!AQ$10=\"\"),\"\",VLOOKUP(Spellcasting!AQ$10,Tables!$TK:$UB,Tables!$UB$1,FALSE))","v":""}]
[null,null,null,null,null,null,null,null,null,null,null,null,null,null,null,null,null,null,null,null,null,null,null,null,null,null,null,null,null,null,null,null,null,null,null,null,null,null,null,null,null,null,null,null,null,null,null,null,null,null,null,null,null,null,null,null,null,null,null,null,null,null,null,null,null,null,null,null,null,null,null,null,null,null,null,{"$f":"IF(CharacterLevel=\"\",'Character Sheet III'!$CF$202,IF(Spellcasting!AA42=\"•\",'Character Sheet III'!$BX$202,'Character Sheet III'!$CF$202))","v":"□"},null,null,{"$f":"IF(OR(CharacterLevel=\"\",Spellcasting!AC$42=\"\"),\"\",VLOOKUP(Spellcasting!AC$42,Tables!$TK:$UB,Tables!$TN$1,FALSE))","v":""},null,null,null,null,null,null,null,null,null,null,null,null,null,null,null,null,{"$f":"IF(OR(CharacterLevel=\"\",Spellcasting!AC$42=\"\"),\"\",VLOOKUP(Spellcasting!AC$42,Tables!$TK:$UB,Tables!$TT$1,FALSE))","v":""},null,null,null,null,null,{"$f":"IF(OR(CharacterLevel=\"\",Spellcasting!AC$42=\"\"),\"\",VLOOKUP(Spellcasting!AC$42,Tables!$TK:$UB,Tables!$TU$1,FALSE))","v":""},null,null,null,null,{"$f":"IF(OR(CharacterLevel=\"\",Spellcasting!AC$42=\"\"),\"\",VLOOKUP(Spellcasting!AC$42,Tables!$TK:$UB,Tables!$TV$1,FALSE))","v":""},null,null,null,null,null,null,{"$f":"IF(OR(CharacterLevel=\"\",Spellcasting!AC$42=\"\"),\"\",VLOOKUP(Spellcasting!AC$42,Tables!$TK:$UB,Tables!$TW$1,FALSE))","v":""},null,null,null,null,{"$f":"IF(OR(CharacterLevel=\"\",Spellcasting!AC$42=\"\"),\"\",VLOOKUP(Spellcasting!AC$42,Tables!$TK:$UB,Tables!$TZ$1,FALSE))","v":""},null,null,null,null,{"$f":"IF(OR(CharacterLevel=\"\",Spellcasting!AC$42=\"\"),\"\",VLOOKUP(Spellcasting!AC$42,Tables!$TK:$UB,Tables!$UB$1,FALSE))","v":""},null,null,null,null,null,null,null,null,null,null,null,null,null,null,null,null,null,null,null,null,null,null,null,null,{"$f":"ES83+1","v":28}]
[null,{"$f":"IF(CharacterLevel=\"\",'Character Sheet III'!$CF$202,IF(Spellcasting!AO11=\"•\",'Character Sheet III'!$BX$202,'Character Sheet III'!$CF$202))","v":"□"},null,null,{"$f":"IF(OR(CharacterLevel=\"\",Spellcasting!AQ$11=\"\"),\"\",VLOOKUP(Spellcasting!AQ$11,Tables!$TK:$UB,Tables!$TN$1,FALSE))","v":""},null,null,null,null,null,null,null,null,null,null,null,null,null,null,null,null,{"$f":"IF(OR(CharacterLevel=\"\",Spellcasting!AQ$11=\"\"),\"\",VLOOKUP(Spellcasting!AQ$11,Tables!$TK:$UB,Tables!$TT$1,FALSE))","v":""},null,null,null,null,null,{"$f":"IF(OR(CharacterLevel=\"\",Spellcasting!AQ$11=\"\"),\"\",VLOOKUP(Spellcasting!AQ$11,Tables!$TK:$UB,Tables!$TU$1,FALSE))","v":""},null,null,null,null,{"$f":"IF(OR(CharacterLevel=\"\",Spellcasting!AQ$11=\"\"),\"\",VLOOKUP(Spellcasting!AQ$11,Tables!$TK:$UB,Tables!$TV$1,FALSE))","v":""},null,null,null,null,null,null,{"$f":"IF(OR(CharacterLevel=\"\",Spellcasting!AQ$11=\"\"),\"\",VLOOKUP(Spellcasting!AQ$11,Tables!$TK:$UB,Tables!$TW$1,FALSE))","v":""},null,null,null,null,{"$f":"IF(OR(CharacterLevel=\"\",Spellcasting!AQ$11=\"\"),\"\",VLOOKUP(Spellcasting!AQ$11,Tables!$TK:$UB,Tables!$TZ$1,FALSE))","v":""},null,null,null,null,{"$f":"IF(OR(CharacterLevel=\"\",Spellcasting!AQ$11=\"\"),\"\",VLOOKUP(Spellcasting!AQ$11,Tables!$TK:$UB,Tables!$UB$1,FALSE))","v":""}]
[null,null,null,null,null,null,null,null,null,null,null,null,null,null,null,null,null,null,null,null,null,null,null,null,null,null,null,null,null,null,null,null,null,null,null,null,null,null,null,null,null,null,null,null,null,null,null,null,null,null,null,null,null,null,null,null,null,null,null,null,null,null,null,null,null,null,null,null,null,null,null,null,null,null,null,{"$f":"IF(CharacterLevel=\"\",'Character Sheet III'!$CF$202,IF(Spellcasting!AA43=\"•\",'Character Sheet III'!$BX$202,'Character Sheet III'!$CF$202))","v":"□"},null,null,{"$f":"IF(OR(CharacterLevel=\"\",Spellcasting!AC$43=\"\"),\"\",VLOOKUP(Spellcasting!AC$43,Tables!$TK:$UB,Tables!$TN$1,FALSE))","v":""},null,null,null,null,null,null,null,null,null,null,null,null,null,null,null,null,{"$f":"IF(OR(CharacterLevel=\"\",Spellcasting!AC$43=\"\"),\"\",VLOOKUP(Spellcasting!AC$43,Tables!$TK:$UB,Tables!$TT$1,FALSE))","v":""},null,null,null,null,null,{"$f":"IF(OR(CharacterLevel=\"\",Spellcasting!AC$43=\"\"),\"\",VLOOKUP(Spellcasting!AC$43,Tables!$TK:$UB,Tables!$TU$1,FALSE))","v":""},null,null,null,null,{"$f":"IF(OR(CharacterLevel=\"\",Spellcasting!AC$43=\"\"),\"\",VLOOKUP(Spellcasting!AC$43,Tables!$TK:$UB,Tables!$TV$1,FALSE))","v":""},null,null,null,null,null,null,{"$f":"IF(OR(CharacterLevel=\"\",Spellcasting!AC$43=\"\"),\"\",VLOOKUP(Spellcasting!AC$43,Tables!$TK:$UB,Tables!$TW$1,FALSE))","v":""},null,null,null,null,{"$f":"IF(OR(CharacterLevel=\"\",Spellcasting!AC$43=\"\"),\"\",VLOOKUP(Spellcasting!AC$43,Tables!$TK:$UB,Tables!$TZ$1,FALSE))","v":""},null,null,null,null,{"$f":"IF(OR(CharacterLevel=\"\",Spellcasting!AC$43=\"\"),\"\",VLOOKUP(Spellcasting!AC$43,Tables!$TK:$UB,Tables!$UB$1,FALSE))","v":""},null,null,null,null,null,null,null,null,null,null,null,null,null,null,null,null,null,null,null,null,null,null,null,null,{"$f":"ES85+1","v":29}]
[null,{"$f":"IF(CharacterLevel=\"\",'Character Sheet III'!$CF$202,IF(Spellcasting!AO12=\"•\",'Character Sheet III'!$BX$202,'Character Sheet III'!$CF$202))","v":"□"},null,null,{"$f":"IF(OR(CharacterLevel=\"\",Spellcasting!AQ$12=\"\"),\"\",VLOOKUP(Spellcasting!AQ$12,Tables!$TK:$UB,Tables!$TN$1,FALSE))","v":""},null,null,null,null,null,null,null,null,null,null,null,null,null,null,null,null,{"$f":"IF(OR(CharacterLevel=\"\",Spellcasting!AQ$12=\"\"),\"\",VLOOKUP(Spellcasting!AQ$12,Tables!$TK:$UB,Tables!$TT$1,FALSE))","v":""},null,null,null,null,null,{"$f":"IF(OR(CharacterLevel=\"\",Spellcasting!AQ$12=\"\"),\"\",VLOOKUP(Spellcasting!AQ$12,Tables!$TK:$UB,Tables!$TU$1,FALSE))","v":""},null,null,null,null,{"$f":"IF(OR(CharacterLevel=\"\",Spellcasting!AQ$12=\"\"),\"\",VLOOKUP(Spellcasting!AQ$12,Tables!$TK:$UB,Tables!$TV$1,FALSE))","v":""},null,null,null,null,null,null,{"$f":"IF(OR(CharacterLevel=\"\",Spellcasting!AQ$12=\"\"),\"\",VLOOKUP(Spellcasting!AQ$12,Tables!$TK:$UB,Tables!$TW$1,FALSE))","v":""},null,null,null,null,{"$f":"IF(OR(CharacterLevel=\"\",Spellcasting!AQ$12=\"\"),\"\",VLOOKUP(Spellcasting!AQ$12,Tables!$TK:$UB,Tables!$TZ$1,FALSE))","v":""},null,null,null,null,{"$f":"IF(OR(CharacterLevel=\"\",Spellcasting!AQ$12=\"\"),\"\",VLOOKUP(Spellcasting!AQ$12,Tables!$TK:$UB,Tables!$UB$1,FALSE))","v":""},null,null,null,null,null,null,null,null,null,null,null,null,null,null,null,null,null,null,null,null,null,null,null,null,null,null,null,null,{"$f":"IF(OR(CharacterLevel=\"\",Spellcasting!#REF!=\"\"),\"\",VLOOKUP(Spellcasting!#REF!,Tables!WX:XQ,Tables!$TN$1,FALSE))","v":{"$error":"#REF!"}}]
[null,null,null,null,null,null,null,null,null,null,null,null,null,null,null,null,null,null,null,null,null,null,null,null,null,null,null,null,null,null,null,null,null,null,null,null,null,null,null,null,null,null,null,null,null,null,null,null,null,null,null,null,null,null,null,null,null,null,null,null,null,null,null,null,null,null,null,null,null,null,null,null,null,null,null,{"$f":"IF(CharacterLevel=\"\",'Character Sheet III'!$CF$202,IF(Spellcasting!AA44=\"•\",'Character Sheet III'!$BX$202,'Character Sheet III'!$CF$202))","v":"□"},null,null,{"$f":"IF(OR(CharacterLevel=\"\",Spellcasting!AC$44=\"\"),\"\",VLOOKUP(Spellcasting!AC$44,Tables!$TK:$UB,Tables!$TN$1,FALSE))","v":""},null,null,null,null,null,null,null,null,null,null,null,null,null,null,null,null,{"$f":"IF(OR(CharacterLevel=\"\",Spellcasting!AC$44=\"\"),\"\",VLOOKUP(Spellcasting!AC$44,Tables!$TK:$UB,Tables!$TT$1,FALSE))","v":""},null,null,null,null,null,{"$f":"IF(OR(CharacterLevel=\"\",Spellcasting!AC$44=\"\"),\"\",VLOOKUP(Spellcasting!AC$44,Tables!$TK:$UB,Tables!$TU$1,FALSE))","v":""},null,null,null,null,{"$f":"IF(OR(CharacterLevel=\"\",Spellcasting!AC$44=\"\"),\"\",VLOOKUP(Spellcasting!AC$44,Tables!$TK:$UB,Tables!$TV$1,FALSE))","v":""},null,null,null,null,null,null,{"$f":"IF(OR(CharacterLevel=\"\",Spellcasting!AC$44=\"\"),\"\",VLOOKUP(Spellcasting!AC$44,Tables!$TK:$UB,Tables!$TW$1,FALSE))","v":""},null,null,null,null,{"$f":"IF(OR(CharacterLevel=\"\",Spellcasting!AC$44=\"\"),\"\",VLOOKUP(Spellcasting!AC$44,Tables!$TK:$UB,Tables!$TZ$1,FALSE))","v":""},null,null,null,null,{"$f":"IF(OR(CharacterLevel=\"\",Spellcasting!AC$44=\"\"),\"\",VLOOKUP(Spellcasting!AC$44,Tables!$TK:$UB,Tables!$UB$1,FALSE))","v":""},null,null,null,null,null,null,null,null,null,null,null,null,null,null,null,null,null,null,null,null,null,null,null,null,{"$f":"ES87+1","v":30}]
[null,{"$f":"IF(CharacterLevel=\"\",'Character Sheet III'!$CF$202,IF(Spellcasting!AO13=\"•\",'Character Sheet III'!$BX$202,'Character Sheet III'!$CF$202))","v":"□"},null,null,{"$f":"IF(OR(CharacterLevel=\"\",Spellcasting!AQ$13=\"\"),\"\",VLOOKUP(Spellcasting!AQ$13,Tables!$TK:$UB,Tables!$TN$1,FALSE))","v":""},null,null,null,null,null,null,null,null,null,null,null,null,null,null,null,null,{"$f":"IF(OR(CharacterLevel=\"\",Spellcasting!AQ$13=\"\"),\"\",VLOOKUP(Spellcasting!AQ$13,Tables!$TK:$UB,Tables!$TT$1,FALSE))","v":""},null,null,null,null,null,{"$f":"IF(OR(CharacterLevel=\"\",Spellcasting!AQ$13=\"\"),\"\",VLOOKUP(Spellcasting!AQ$13,Tables!$TK:$UB,Tables!$TU$1,FALSE))","v":""},null,null,null,null,{"$f":"IF(OR(CharacterLevel=\"\",Spellcasting!AQ$13=\"\"),\"\",VLOOKUP(Spellcasting!AQ$13,Tables!$TK:$UB,Tables!$TV$1,FALSE))","v":""},null,null,null,null,null,null,{"$f":"IF(OR(CharacterLevel=\"\",Spellcasting!AQ$13=\"\"),\"\",VLOOKUP(Spellcasting!AQ$13,Tables!$TK:$UB,Tables!$TW$1,FALSE))","v":""},null,null,null,null,{"$f":"IF(OR(CharacterLevel=\"\",Spellcasting!AQ$13=\"\"),\"\",VLOOKUP(Spellcasting!AQ$13,Tables!$TK:$UB,Tables!$TZ$1,FALSE))","v":""},null,null,null,null,{"$f":"IF(OR(CharacterLevel=\"\",Spellcasting!AQ$13=\"\"),\"\",VLOOKUP(Spellcasting!AQ$13,Tables!$TK:$UB,Tables!$UB$1,FALSE))","v":""},null,null,null,null,null,null,null,null,null,null,null,null,null,null,null,null,null,null,null,null,null,null,null,null,null,null,null,null,{"$f":"IF(OR(CharacterLevel=\"\",Spellcasting!#REF!=\"\"),\"\",VLOOKUP(Spellcasting!#REF!,Tables!WX:XQ,Tables!$TN$1,FALSE))","v":{"$error":"#REF!"}}]
[null,null,null,null,null,null,null,null,null,null,null,null,null,null,null,null,null,null,null,null,null,null,null,null,null,null,null,null,null,null,null,null,null,null,null,null,null,null,null,null,null,null,null,null,null,null,null,null,null,null,null,null,null,null,null,null,null,null,null,null,null,null,null,null,null,null,null,null,null,null,null,null,null,null,null,{"$f":"IF(CharacterLevel=\"\",'Character Sheet III'!$CF$202,IF(Spellcasting!AA45=\"•\",'Character Sheet III'!$BX$202,'Character Sheet III'!$CF$202))","v":"□"},null,null,{"$f":"IF(OR(CharacterLevel=\"\",Spellcasting!AC$45=\"\"),\"\",VLOOKUP(Spellcasting!AC$45,Tables!$TK:$UB,Tables!$TN$1,FALSE))","v":""},null,null,null,null,null,null,null,null,null,null,null,null,null,null,null,null,{"$f":"IF(OR(CharacterLevel=\"\",Spellcasting!AC$45=\"\"),\"\",VLOOKUP(Spellcasting!AC$45,Tables!$TK:$UB,Tables!$TT$1,FALSE))","v":""},null,null,null,null,null,{"$f":"IF(OR(CharacterLevel=\"\",Spellcasting!AC$45=\"\"),\"\",VLOOKUP(Spellcasting!AC$45,Tables!$TK:$UB,Tables!$TU$1,FALSE))","v":""},null,null,null,null,{"$f":"IF(OR(CharacterLevel=\"\",Spellcasting!AC$45=\"\"),\"\",VLOOKUP(Spellcasting!AC$45,Tables!$TK:$UB,Tables!$TV$1,FALSE))","v":""},null,null,null,null,null,null,{"$f":"IF(OR(CharacterLevel=\"\",Spellcasting!AC$45=\"\"),\"\",VLOOKUP(Spellcasting!AC$45,Tables!$TK:$UB,Tables!$TW$1,FALSE))","v":""},null,null,null,null,{"$f":"IF(OR(CharacterLevel=\"\",Spellcasting!AC$45=\"\"),\"\",VLOOKUP(Spellcasting!AC$45,Tables!$TK:$UB,Tables!$TZ$1,FALSE))","v":""},null,null,null,null,{"$f":"IF(OR(CharacterLevel=\"\",Spellcasting!AC$45=\"\"),\"\",VLOOKUP(Spellcasting!AC$45,Tables!$TK:$UB,Tables!$UB$1,FALSE))","v":""},null,null,null,null,null,null,null,null,null,null,null,null,null,null,null,null,null,null,null,null,null,null,null,null,{"$f":"ES89+1","v":31}]
[null,{"$f":"IF(CharacterLevel=\"\",'Character Sheet III'!$CF$202,IF(Spellcasting!AO14=\"•\",'Character Sheet III'!$BX$202,'Character Sheet III'!$CF$202))","v":"□"},null,null,{"$f":"IF(OR(CharacterLevel=\"\",Spellcasting!AQ$14=\"\"),\"\",VLOOKUP(Spellcasting!AQ$14,Tables!$TK:$UB,Tables!$TN$1,FALSE))","v":""},null,null,null,null,null,null,null,null,null,null,null,null,null,null,null,null,{"$f":"IF(OR(CharacterLevel=\"\",Spellcasting!AQ$14=\"\"),\"\",VLOOKUP(Spellcasting!AQ$14,Tables!$TK:$UB,Tables!$TT$1,FALSE))","v":""},null,null,null,null,null,{"$f":"IF(OR(CharacterLevel=\"\",Spellcasting!AQ$14=\"\"),\"\",VLOOKUP(Spellcasting!AQ$14,Tables!$TK:$UB,Tables!$TU$1,FALSE))","v":""},null,null,null,null,{"$f":"IF(OR(CharacterLevel=\"\",Spellcasting!AQ$14=\"\"),\"\",VLOOKUP(Spellcasting!AQ$14,Tables!$TK:$UB,Tables!$TV$1,FALSE))","v":""},null,null,null,null,null,null,{"$f":"IF(OR(CharacterLevel=\"\",Spellcasting!AQ$14=\"\"),\"\",VLOOKUP(Spellcasting!AQ$14,Tables!$TK:$UB,Tables!$TW$1,FALSE))","v":""},null,null,null,null,{"$f":"IF(OR(CharacterLevel=\"\",Spellcasting!AQ$14=\"\"),\"\",VLOOKUP(Spellcasting!AQ$14,Tables!$TK:$UB,Tables!$TZ$1,FALSE))","v":""},null,null,null,null,{"$f":"IF(OR(CharacterLevel=\"\",Spellcasting!AQ$14=\"\"),\"\",VLOOKUP(Spellcasting!AQ$14,Tables!$TK:$UB,Tables!$UB$1,FALSE))","v":""},null,null,null,null,null,null,null,null,null,null,null,null,null,null,null,null,null,null,null,null,null,null,null,null,null,null,null,null,{"$f":"IF(OR(CharacterLevel=\"\",Spellcasting!#REF!=\"\"),\"\",VLOOKUP(Spellcasting!#REF!,Tables!WX:XQ,Tables!$TN$1,FALSE))","v":{"$error":"#REF!"}}]
[null,null,null,null,null,null,null,null,null,null,null,null,null,null,null,null,null,null,null,null,null,null,null,null,null,null,null,null,null,null,null,null,null,null,null,null,null,null,null,null,null,null,null,null,null,null,null,null,null,null,null,null,null,null,null,null,null,null,null,null,null,null,null,null,null,null,null,null,null,null,null,null,null,null,null,{"$f":"IF(CharacterLevel=\"\",'Character Sheet III'!$CF$202,IF(Spellcasting!AA46=\"•\",'Character Sheet III'!$BX$202,'Character Sheet III'!$CF$202))","v":"□"},null,null,{"$f":"IF(OR(CharacterLevel=\"\",Spellcasting!AC$46=\"\"),\"\",VLOOKUP(Spellcasting!AC$46,Tables!$TK:$UB,Tables!$TN$1,FALSE))","v":""},null,null,null,null,null,null,null,null,null,null,null,null,null,null,null,null,{"$f":"IF(OR(CharacterLevel=\"\",Spellcasting!AC$46=\"\"),\"\",VLOOKUP(Spellcasting!AC$46,Tables!$TK:$UB,Tables!$TT$1,FALSE))","v":""},null,null,null,null,null,{"$f":"IF(OR(CharacterLevel=\"\",Spellcasting!AC$46=\"\"),\"\",VLOOKUP(Spellcasting!AC$46,Tables!$TK:$UB,Tables!$TU$1,FALSE))","v":""},null,null,null,null,{"$f":"IF(OR(CharacterLevel=\"\",Spellcasting!AC$46=\"\"),\"\",VLOOKUP(Spellcasting!AC$46,Tables!$TK:$UB,Tables!$TV$1,FALSE))","v":""},null,null,null,null,null,null,{"$f":"IF(OR(CharacterLevel=\"\",Spellcasting!AC$46=\"\"),\"\",VLOOKUP(Spellcasting!AC$46,Tables!$TK:$UB,Tables!$TW$1,FALSE))","v":""},null,null,null,null,{"$f":"IF(OR(CharacterLevel=\"\",Spellcasting!AC$46=\"\"),\"\",VLOOKUP(Spellcasting!AC$46,Tables!$TK:$UB,Tables!$TZ$1,FALSE))","v":""},null,null,null,null,{"$f":"IF(OR(CharacterLevel=\"\",Spellcasting!AC$46=\"\"),\"\",VLOOKUP(Spellcasting!AC$46,Tables!$TK:$UB,Tables!$UB$1,FALSE))","v":""},null,null,null,null,null,null,null,null,null,null,null,null,null,null,null,null,null,null,null,null,null,null,null,null,{"$f":"ES91+1","v":32}]
[null,{"$f":"IF(CharacterLevel=\"\",'Character Sheet III'!$CF$202,IF(Spellcasting!AO15=\"•\",'Character Sheet III'!$BX$202,'Character Sheet III'!$CF$202))","v":"□"},null,null,{"$f":"IF(OR(CharacterLevel=\"\",Spellcasting!AQ$15=\"\"),\"\",VLOOKUP(Spellcasting!AQ$15,Tables!$TK:$UB,Tables!$TN$1,FALSE))","v":""},null,null,null,null,null,null,null,null,null,null,null,null,null,null,null,null,{"$f":"IF(OR(CharacterLevel=\"\",Spellcasting!AQ$15=\"\"),\"\",VLOOKUP(Spellcasting!AQ$15,Tables!$TK:$UB,Tables!$TT$1,FALSE))","v":""},null,null,null,null,null,{"$f":"IF(OR(CharacterLevel=\"\",Spellcasting!AQ$15=\"\"),\"\",VLOOKUP(Spellcasting!AQ$15,Tables!$TK:$UB,Tables!$TU$1,FALSE))","v":""},null,null,null,null,{"$f":"IF(OR(CharacterLevel=\"\",Spellcasting!AQ$15=\"\"),\"\",VLOOKUP(Spellcasting!AQ$15,Tables!$TK:$UB,Tables!$TV$1,FALSE))","v":""},null,null,null,null,null,null,{"$f":"IF(OR(CharacterLevel=\"\",Spellcasting!AQ$15=\"\"),\"\",VLOOKUP(Spellcasting!AQ$15,Tables!$TK:$UB,Tables!$TW$1,FALSE))","v":""},null,null,null,null,{"$f":"IF(OR(CharacterLevel=\"\",Spellcasting!AQ$15=\"\"),\"\",VLOOKUP(Spellcasting!AQ$15,Tables!$TK:$UB,Tables!$TZ$1,FALSE))","v":""},null,null,null,null,{"$f":"IF(OR(CharacterLevel=\"\",Spellcasting!AQ$15=\"\"),\"\",VLOOKUP(Spellcasting!AQ$15,Tables!$TK:$UB,Tables!$UB$1,FALSE))","v":""},null,null,null,null,null,null,null,null,null,null,null,null,null,null,null,null,null,null,null,null,null,null,null,null,null,null,null,null,{"$f":"IF(OR(CharacterLevel=\"\",Spellcasting!#REF!=\"\"),\"\",VLOOKUP(Spellcasting!#REF!,Tables!WX:XQ,Tables!$TN$1,FALSE))","v":{"$error":"#REF!"}}]
[null,null,null,null,null,null,null,null,null,null,null,null,null,null,null,null,null,null,null,null,null,null,null,null,null,null,null,null,null,null,null,null,null,null,null,null,null,null,null,null,null,null,null,null,null,null,null,null,null,null,null,null,null,null,null,null,null,null,null,null,null,null,null,null,null,null,null,null,null,null,null,null,null,null,null,{"$f":"IF(CharacterLevel=\"\",'Character Sheet III'!$CF$202,IF(Spellcasting!AA47=\"•\",'Character Sheet III'!$BX$202,'Character Sheet III'!$CF$202))","v":"□"},null,null,{"$f":"IF(OR(CharacterLevel=\"\",Spellcasting!AC$47=\"\"),\"\",VLOOKUP(Spellcasting!AC$47,Tables!$TK:$UB,Tables!$TN$1,FALSE))","v":""},null,null,null,null,null,null,null,null,null,null,null,null,null,null,null,null,{"$f":"IF(OR(CharacterLevel=\"\",Spellcasting!AC$47=\"\"),\"\",VLOOKUP(Spellcasting!AC$47,Tables!$TK:$UB,Tables!$TT$1,FALSE))","v":""},null,null,null,null,null,{"$f":"IF(OR(CharacterLevel=\"\",Spellcasting!AC$47=\"\"),\"\",VLOOKUP(Spellcasting!AC$47,Tables!$TK:$UB,Tables!$TU$1,FALSE))","v":""},null,null,null,null,{"$f":"IF(OR(CharacterLevel=\"\",Spellcasting!AC$47=\"\"),\"\",VLOOKUP(Spellcasting!AC$47,Tables!$TK:$UB,Tables!$TV$1,FALSE))","v":""},null,null,null,null,null,null,{"$f":"IF(OR(CharacterLevel=\"\",Spellcasting!AC$47=\"\"),\"\",VLOOKUP(Spellcasting!AC$47,Tables!$TK:$UB,Tables!$TW$1,FALSE))","v":""},null,null,null,null,{"$f":"IF(OR(CharacterLevel=\"\",Spellcasting!AC$47=\"\"),\"\",VLOOKUP(Spellcasting!AC$47,Tables!$TK:$UB,Tables!$TZ$1,FALSE))","v":""},null,null,null,null,{"$f":"IF(OR(CharacterLevel=\"\",Spellcasting!AC$47=\"\"),\"\",VLOOKUP(Spellcasting!AC$47,Tables!$TK:$UB,Tables!$UB$1,FALSE))","v":""},null,null,null,null,null,null,null,null,null,null,null,null,null,null,null,null,null,null,null,null,null,null,null,null,{"$f":"ES93+1","v":33}]
[null,{"$f":"IF(CharacterLevel=\"\",'Character Sheet III'!$CF$202,IF(Spellcasting!AO16=\"•\",'Character Sheet III'!$BX$202,'Character Sheet III'!$CF$202))","v":"□"},null,null,{"$f":"IF(OR(CharacterLevel=\"\",Spellcasting!AQ$16=\"\"),\"\",VLOOKUP(Spellcasting!AQ$16,Tables!$TK:$UB,Tables!$TN$1,FALSE))","v":""},null,null,null,null,null,null,null,null,null,null,null,null,null,null,null,null,{"$f":"IF(OR(CharacterLevel=\"\",Spellcasting!AQ$16=\"\"),\"\",VLOOKUP(Spellcasting!AQ$16,Tables!$TK:$UB,Tables!$TT$1,FALSE))","v":""},null,null,null,null,null,{"$f":"IF(OR(CharacterLevel=\"\",Spellcasting!AQ$16=\"\"),\"\",VLOOKUP(Spellcasting!AQ$16,Tables!$TK:$UB,Tables!$TU$1,FALSE))","v":""},null,null,null,null,{"$f":"IF(OR(CharacterLevel=\"\",Spellcasting!AQ$16=\"\"),\"\",VLOOKUP(Spellcasting!AQ$16,Tables!$TK:$UB,Tables!$TV$1,FALSE))","v":""},null,null,null,null,null,null,{"$f":"IF(OR(CharacterLevel=\"\",Spellcasting!AQ$16=\"\"),\"\",VLOOKUP(Spellcasting!AQ$16,Tables!$TK:$UB,Tables!$TW$1,FALSE))","v":""},null,null,null,null,{"$f":"IF(OR(CharacterLevel=\"\",Spellcasting!AQ$16=\"\"),\"\",VLOOKUP(Spellcasting!AQ$16,Tables!$TK:$UB,Tables!$TZ$1,FALSE))","v":""},null,null,null,null,{"$f":"IF(OR(CharacterLevel=\"\",Spellcasting!AQ$16=\"\"),\"\",VLOOKUP(Spellcasting!AQ$16,Tables!$TK:$UB,Tables!$UB$1,FALSE))","v":""},null,null,null,null,null,null,null,null,null,null,null,null,null,null,null,null,null,null,null,null,null,null,null,null,null,null,null,null,{"$f":"IF(OR(CharacterLevel=\"\",Spellcasting!#REF!=\"\"),\"\",VLOOKUP(Spellcasting!#REF!,Tables!WX:XQ,Tables!$TN$1,FALSE))","v":{"$error":"#REF!"}}]
[null,null,null,null,{"$f":"IF(OR(CharacterLevel=\"\",Spellcasting!#REF!=\"\"),\"\",VLOOKUP(Spellcasting!#REF!,Tables!TK:UB,Tables!$TN$1,FALSE))","v":{"$error":"#REF!"}},null,null,null,null,null,null,null,null,null,null,null,null,null,null,null,null,null,null,null,null,null,null,null,null,null,null,null,null,null,null,null,null,null,null,null,null,null,null,null,null,null,null,null,null,null,null,null,null,null,null,null,null,null,null,null,null,null,null,null,null,null,null,null,null,null,null,null,null,null,null,"LEVEL 6",null,null,null,null,null,null,null,null,null,null,null,null,null,null,null,null,null,null,null,null,null,null,null,null,null,null,null,null,null,null,null,null,null,null,null,null,null,null,null,null,null,null,null,null,null,null,null,null,null,null,null,null,null,null,null,null,null,null,null,null,null,null,null,null,null,null,null,null,null,null,null,null,{"$f":"ES95+1","v":34}]
[null,{"$f":"IF(CharacterLevel=\"\",'Character Sheet III'!$CF$202,IF(Spellcasting!AO17=\"•\",'Character Sheet III'!$BX$202,'Character Sheet III'!$CF$202))","v":"□"},null,null,{"$f":"IF(OR(CharacterLevel=\"\",Spellcasting!AQ$17=\"\"),\"\",VLOOKUP(Spellcasting!AQ$17,Tables!$TK:$UB,Tables!$TN$1,FALSE))","v":""},null,null,null,null,null,null,null,null,null,null,null,null,null,null,null,null,{"$f":"IF(OR(CharacterLevel=\"\",Spellcasting!AQ$17=\"\"),\"\",VLOOKUP(Spellcasting!AQ$17,Tables!$TK:$UB,Tables!$TT$1,FALSE))","v":""},null,null,null,null,null,{"$f":"IF(OR(CharacterLevel=\"\",Spellcasting!AQ$17=\"\"),\"\",VLOOKUP(Spellcasting!AQ$17,Tables!$TK:$UB,Tables!$TU$1,FALSE))","v":""},null,null,null,null,{"$f":"IF(OR(CharacterLevel=\"\",Spellcasting!AQ$17=\"\"),\"\",VLOOKUP(Spellcasting!AQ$17,Tables!$TK:$UB,Tables!$TV$1,FALSE))","v":""},null,null,null,null,null,null,{"$f":"IF(OR(CharacterLevel=\"\",Spellcasting!AQ$17=\"\"),\"\",VLOOKUP(Spellcasting!AQ$17,Tables!$TK:$UB,Tables!$TW$1,FALSE))","v":""},null,null,null,null,{"$f":"IF(OR(CharacterLevel=\"\",Spellcasting!AQ$17=\"\"),\"\",VLOOKUP(Spellcasting!AQ$17,Tables!$TK:$UB,Tables!$TZ$1,FALSE))","v":""},null,null,null,null,{"$f":"IF(OR(CharacterLevel=\"\",Spellcasting!AQ$17=\"\"),\"\",VLOOKUP(Spellcasting!AQ$17,Tables!$TK:$UB,Tables!$UB$1,FALSE))","v":""}]
[null,null,null,null,{"$f":"IF(OR(CharacterLevel=\"\",Spellcasting!AQ33=\"\"),\"\",VLOOKUP(Spellcasting!AQ33,Tables!TK:UB,Tables!$TN$1,FALSE))","v":""},null,null,null,null,null,null,null,null,null,null,null,null,null,null,null,null,null,null,null,null,null,null,null,null,null,null,null,null,null,null,null,null,null,null,null,null,null,null,null,null,null,null,null,null,null,null,null,null,null,null,null,null,null,null,null,null,null,null,null,null,null,null,null,null,null,null,null,null,null,null,"PREP",null,null,"SPELL NAME",null,null,null,null,null,null,null,null,null,null,null,null,null,null,null,null,"CASTING TIME",null,null,null,null,null,"RANGE",null,null,null,null,"DURATION",null,null,null,null,null,"COMPONENTS",null,null,null,null,null,"TYPE",null,null,null,null,"DETAILS",null,null,null,null,null,null,null,null,null,null,null,null,null,null,null,null,null,null,null,null,null,null,null,null,{"$f":"ES97+1","v":35}]
[null,{"$f":"IF(CharacterLevel=\"\",'Character Sheet III'!$CF$202,IF(Spellcasting!AO18=\"•\",'Character Sheet III'!$BX$202,'Character Sheet III'!$CF$202))","v":"□"},null,null,{"$f":"IF(OR(CharacterLevel=\"\",Spellcasting!AQ$18=\"\"),\"\",VLOOKUP(Spellcasting!AQ$18,Tables!$TK:$UB,Tables!$TN$1,FALSE))","v":""},null,null,null,null,null,null,null,null,null,null,null,null,null,null,null,null,{"$f":"IF(OR(CharacterLevel=\"\",Spellcasting!AQ$18=\"\"),\"\",VLOOKUP(Spellcasting!AQ$18,Tables!$TK:$UB,Tables!$TT$1,FALSE))","v":""},null,null,null,null,null,{"$f":"IF(OR(CharacterLevel=\"\",Spellcasting!AQ$18=\"\"),\"\",VLOOKUP(Spellcasting!AQ$18,Tables!$TK:$UB,Tables!$TU$1,FALSE))","v":""},null,null,null,null,{"$f":"IF(OR(CharacterLevel=\"\",Spellcasting!AQ$18=\"\"),\"\",VLOOKUP(Spellcasting!AQ$18,Tables!$TK:$UB,Tables!$TV$1,FALSE))","v":""},null,null,null,null,null,null,{"$f":"IF(OR(CharacterLevel=\"\",Spellcasting!AQ$18=\"\"),\"\",VLOOKUP(Spellcasting!AQ$18,Tables!$TK:$UB,Tables!$TW$1,FALSE))","v":""},null,null,null,null,{"$f":"IF(OR(CharacterLevel=\"\",Spellcasting!AQ$18=\"\"),\"\",VLOOKUP(Spellcasting!AQ$18,Tables!$TK:$UB,Tables!$TZ$1,FALSE))","v":""},null,null,null,null,{"$f":"IF(OR(CharacterLevel=\"\",Spellcasting!AQ$18=\"\"),\"\",VLOOKUP(Spellcasting!AQ$18,Tables!$TK:$UB,Tables!$UB$1,FALSE))","v":""}]
[null,null,null,null,{"$f":"IF(OR(CharacterLevel=\"\",Spellcasting!AQ35=\"\"),\"\",VLOOKUP(Spellcasting!AQ35,Tables!TK:UB,Tables!$TN$1,FALSE))","v":""},null,null,null,null,null,null,null,null,null,null,null,null,null,null,null,null,null,null,null,null,null,null,null,null,null,null,null,null,null,null,null,null,null,null,null,null,null,null,null,null,null,null,null,null,null,null,null,null,null,null,null,null,null,null,null,null,null,null,null,null,null,null,null,null,null,null,null,null,null,null,{"$f":"IF(CharacterLevel=\"\",'Character Sheet III'!$CF$202,IF(Spellcasting!AO33=\"•\",'Character Sheet III'!$BX$202,'Character Sheet III'!$CF$202))","v":"□"},null,null,{"$f":"IF(OR(CharacterLevel=\"\",Spellcasting!AQ$33=\"\"),\"\",VLOOKUP(Spellcasting!AQ$33,Tables!$TK:$UB,Tables!$TN$1,FALSE))","v":""},null,null,null,null,null,null,null,null,null,null,null,null,null,null,null,null,{"$f":"IF(OR(CharacterLevel=\"\",Spellcasting!AQ$33=\"\"),\"\",VLOOKUP(Spellcasting!AQ$33,Tables!$TK:$UB,Tables!$TT$1,FALSE))","v":""},null,null,null,null,null,{"$f":"IF(OR(CharacterLevel=\"\",Spellcasting!AQ$33=\"\"),\"\",VLOOKUP(Spellcasting!AQ$33,Tables!$TK:$UB,Tables!$TU$1,FALSE))","v":""},null,null,null,null,{"$f":"IF(OR(CharacterLevel=\"\",Spellcasting!AQ$33=\"\"),\"\",VLOOKUP(Spellcasting!AQ$33,Tables!$TK:$UB,Tables!$TV$1,FALSE))","v":""},null,null,null,null,null,null,{"$f":"IF(OR(CharacterLevel=\"\",Spellcasting!AQ$33=\"\"),\"\",VLOOKUP(Spellcasting!AQ$33,Tables!$TK:$UB,Tables!$TW$1,FALSE))","v":""},null,null,null,null,{"$f":"IF(OR(CharacterLevel=\"\",Spellcasting!AQ$33=\"\"),\"\",VLOOKUP(Spellcasting!AQ$33,Tables!$TK:$UB,Tables!$TZ$1,FALSE))","v":""},null,null,null,null,{"$f":"IF(OR(CharacterLevel=\"\",Spellcasting!AQ$33=\"\"),\"\",VLOOKUP(Spellcasting!AQ$33,Tables!$TK:$UB,Tables!$UB$1,FALSE))","v":""},null,null,null,null,null,null,null,null,null,null,null,null,null,null,null,null,null,null,null,null,null,null,null,null,{"$f":"ES99+1","v":36}]
[null,{"$f":"IF(CharacterLevel=\"\",'Character Sheet III'!$CF$202,IF(Spellcasting!AO19=\"•\",'Character Sheet III'!$BX$202,'Character Sheet III'!$CF$202))","v":"□"},null,null,{"$f":"IF(OR(CharacterLevel=\"\",Spellcasting!AQ$19=\"\"),\"\",VLOOKUP(Spellcasting!AQ$19,Tables!$TK:$UB,Tables!$TN$1,FALSE))","v":""},null,null,null,null,null,null,null,null,null,null,null,null,null,null,null,null,{"$f":"IF(OR(CharacterLevel=\"\",Spellcasting!AQ$19=\"\"),\"\",VLOOKUP(Spellcasting!AQ$19,Tables!$TK:$UB,Tables!$TT$1,FALSE))","v":""},null,null,null,null,null,{"$f":"IF(OR(CharacterLevel=\"\",Spellcasting!AQ$19=\"\"),\"\",VLOOKUP(Spellcasting!AQ$19,Tables!$TK:$UB,Tables!$TU$1,FALSE))","v":""},null,null,null,null,{"$f":"IF(OR(CharacterLevel=\"\",Spellcasting!AQ$19=\"\"),\"\",VLOOKUP(Spellcasting!AQ$19,Tables!$TK:$UB,Tables!$TV$1,FALSE))","v":""},null,null,null,null,null,null,{"$f":"IF(OR(CharacterLevel=\"\",Spellcasting!AQ$19=\"\"),\"\",VLOOKUP(Spellcasting!AQ$19,Tables!$TK:$UB,Tables!$TW$1,FALSE))","v":""},null,null,null,null,{"$f":"IF(OR(CharacterLevel=\"\",Spellcasting!AQ$19=\"\"),\"\",VLOOKUP(Spellcasting!AQ$19,Tables!$TK:$UB,Tables!$TZ$1,FALSE))","v":""},null,null,null,null,{"$f":"IF(OR(CharacterLevel=\"\",Spellcasting!AQ$19=\"\"),\"\",VLOOKUP(Spellcasting!AQ$19,Tables!$TK:$UB,Tables!$UB$1,FALSE))","v":""}]
[null,null,null,null,{"$f":"IF(OR(CharacterLevel=\"\",Spellcasting!AQ37=\"\"),\"\",VLOOKUP(Spellcasting!AQ37,Tables!TK:UB,Tables!$TN$1,FALSE))","v":""},null,null,null,null,null,null,null,null,null,null,null,null,null,null,null,null,null,null,null,null,null,null,null,null,null,null,null,null,null,null,null,null,null,null,null,null,null,null,null,null,null,null,null,null,null,null,null,null,null,null,null,null,null,null,null,null,null,null,null,null,null,null,null,null,null,null,null,null,null,null,{"$f":"IF(CharacterLevel=\"\",'Character Sheet III'!$CF$202,IF(Spellcasting!AO34=\"•\",'Character Sheet III'!$BX$202,'Character Sheet III'!$CF$202))","v":"□"},null,null,{"$f":"IF(OR(CharacterLevel=\"\",Spellcasting!AQ$34=\"\"),\"\",VLOOKUP(Spellcasting!AQ$34,Tables!$TK:$UB,Tables!$TN$1,FALSE))","v":""},null,null,null,null,null,null,null,null,null,null,null,null,null,null,null,null,{"$f":"IF(OR(CharacterLevel=\"\",Spellcasting!AQ$34=\"\"),\"\",VLOOKUP(Spellcasting!AQ$34,Tables!$TK:$UB,Tables!$TT$1,FALSE))","v":""},null,null,null,null,null,{"$f":"IF(OR(CharacterLevel=\"\",Spellcasting!AQ$34=\"\"),\"\",VLOOKUP(Spellcasting!AQ$34,Tables!$TK:$UB,Tables!$TU$1,FALSE))","v":""},null,null,null,null,{"$f":"IF(OR(CharacterLevel=\"\",Spellcasting!AQ$34=\"\"),\"\",VLOOKUP(Spellcasting!AQ$34,Tables!$TK:$UB,Tables!$TV$1,FALSE))","v":""},null,null,null,null,null,null,{"$f":"IF(OR(CharacterLevel=\"\",Spellcasting!AQ$34=\"\"),\"\",VLOOKUP(Spellcasting!AQ$34,Tables!$TK:$UB,Tables!$TW$1,FALSE))","v":""},null,null,null,null,{"$f":"IF(OR(CharacterLevel=\"\",Spellcasting!AQ$34=\"\"),\"\",VLOOKUP(Spellcasting!AQ$34,Tables!$TK:$UB,Tables!$TZ$1,FALSE))","v":""},null,null,null,null,{"$f":"IF(OR(CharacterLevel=\"\",Spellcasting!AQ$34=\"\"),\"\",VLOOKUP(Spellcasting!AQ$34,Tables!$TK:$UB,Tables!$UB$1,FALSE))","v":""},null,null,null,null,null,null,null,null,null,null,null,null,null,null,null,null,null,null,null,null,null,null,null,null,{"$f":"ES101+1","v":37}]
[null,{"$f":"IF(CharacterLevel=\"\",'Character Sheet III'!$CF$202,IF(Spellcasting!AO20=\"•\",'Character Sheet III'!$BX$202,'Character Sheet III'!$CF$202))","v":"□"},null,null,{"$f":"IF(OR(CharacterLevel=\"\",Spellcasting!AQ$20=\"\"),\"\",VLOOKUP(Spellcasting!AQ$20,Tables!$TK:$UB,Tables!$TN$1,FALSE))","v":""},null,null,null,null,null,null,null,null,null,null,null,null,null,null,null,null,{"$f":"IF(OR(CharacterLevel=\"\",Spellcasting!AQ$20=\"\"),\"\",VLOOKUP(Spellcasting!AQ$20,Tables!$TK:$UB,Tables!$TT$1,FALSE))","v":""},null,null,null,null,null,{"$f":"IF(OR(CharacterLevel=\"\",Spellcasting!AQ$20=\"\"),\"\",VLOOKUP(Spellcasting!AQ$20,Tables!$TK:$UB,Tables!$TU$1,FALSE))","v":""},null,null,null,null,{"$f":"IF(OR(CharacterLevel=\"\",Spellcasting!AQ$20=\"\"),\"\",VLOOKUP(Spellcasting!AQ$20,Tables!$TK:$UB,Tables!$TV$1,FALSE))","v":""},null,null,null,null,null,null,{"$f":"IF(OR(CharacterLevel=\"\",Spellcasting!AQ$20=\"\"),\"\",VLOOKUP(Spellcasting!AQ$20,Tables!$TK:$UB,Tables!$TW$1,FALSE))","v":""},null,null,null,null,{"$f":"IF(OR(CharacterLevel=\"\",Spellcasting!AQ$20=\"\"),\"\",VLOOKUP(Spellcasting!AQ$20,Tables!$TK:$UB,Tables!$TZ$1,FALSE))","v":""},null,null,null,null,{"$f":"IF(OR(CharacterLevel=\"\",Spellcasting!AQ$20=\"\"),\"\",VLOOKUP(Spellcasting!AQ$20,Tables!$TK:$UB,Tables!$UB$1,FALSE))","v":""}]
[null,null,null,null,{"$f":"IF(OR(CharacterLevel=\"\",Spellcasting!AQ39=\"\"),\"\",VLOOKUP(Spellcasting!AQ39,Tables!TK:UB,Tables!$TN$1,FALSE))","v":""},null,null,null,null,null,null,null,null,null,null,null,null,null,null,null,null,null,null,null,null,null,null,null,null,null,null,null,null,null,null,null,null,null,null,null,null,null,null,null,null,null,null,null,null,null,null,null,null,null,null,null,null,null,null,null,null,null,null,null,null,null,null,null,null,null,null,null,null,null,null,{"$f":"IF(CharacterLevel=\"\",'Character Sheet III'!$CF$202,IF(Spellcasting!AO35=\"•\",'Character Sheet III'!$BX$202,'Character Sheet III'!$CF$202))","v":"□"},null,null,{"$f":"IF(OR(CharacterLevel=\"\",Spellcasting!AQ$35=\"\"),\"\",VLOOKUP(Spellcasting!AQ$35,Tables!$TK:$UB,Tables!$TN$1,FALSE))","v":""},null,null,null,null,null,null,null,null,null,null,null,null,null,null,null,null,{"$f":"IF(OR(CharacterLevel=\"\",Spellcasting!AQ$35=\"\"),\"\",VLOOKUP(Spellcasting!AQ$35,Tables!$TK:$UB,Tables!$TT$1,FALSE))","v":""},null,null,null,null,null,{"$f":"IF(OR(CharacterLevel=\"\",Spellcasting!AQ$35=\"\"),\"\",VLOOKUP(Spellcasting!AQ$35,Tables!$TK:$UB,Tables!$TU$1,FALSE))","v":""},null,null,null,null,{"$f":"IF(OR(CharacterLevel=\"\",Spellcasting!AQ$35=\"\"),\"\",VLOOKUP(Spellcasting!AQ$35,Tables!$TK:$UB,Tables!$TV$1,FALSE))","v":""},null,null,null,null,null,null,{"$f":"IF(OR(CharacterLevel=\"\",Spellcasting!AQ$35=\"\"),\"\",VLOOKUP(Spellcasting!AQ$35,Tables!$TK:$UB,Tables!$TW$1,FALSE))","v":""},null,null,null,null,{"$f":"IF(OR(CharacterLevel=\"\",Spellcasting!AQ$35=\"\"),\"\",VLOOKUP(Spellcasting!AQ$35,Tables!$TK:$UB,Tables!$TZ$1,FALSE))","v":""},null,null,null,null,{"$f":"IF(OR(CharacterLevel=\"\",Spellcasting!AQ$35=\"\"),\"\",VLOOKUP(Spellcasting!AQ$35,Tables!$TK:$UB,Tables!$UB$1,FALSE))","v":""},null,null,null,null,null,null,null,null,null,null,null,null,null,null,null,null,null,null,null,null,null,null,null,null,{"$f":"ES103+1","v":38}]
[null,{"$f":"IF(CharacterLevel=\"\",'Character Sheet III'!$CF$202,IF(Spellcasting!AO21=\"•\",'Character Sheet III'!$BX$202,'Character Sheet III'!$CF$202))","v":"□"},null,null,{"$f":"IF(OR(CharacterLevel=\"\",Spellcasting!AQ$21=\"\"),\"\",VLOOKUP(Spellcasting!AQ$21,Tables!$TK:$UB,Tables!$TN$1,FALSE))","v":""},null,null,null,null,null,null,null,null,null,null,null,null,null,null,null,null,{"$f":"IF(OR(CharacterLevel=\"\",Spellcasting!AQ$21=\"\"),\"\",VLOOKUP(Spellcasting!AQ$21,Tables!$TK:$UB,Tables!$TT$1,FALSE))","v":""},null,null,null,null,null,{"$f":"IF(OR(CharacterLevel=\"\",Spellcasting!AQ$21=\"\"),\"\",VLOOKUP(Spellcasting!AQ$21,Tables!$TK:$UB,Tables!$TU$1,FALSE))","v":""},null,null,null,null,{"$f":"IF(OR(CharacterLevel=\"\",Spellcasting!AQ$21=\"\"),\"\",VLOOKUP(Spellcasting!AQ$21,Tables!$TK:$UB,Tables!$TV$1,FALSE))","v":""},null,null,null,null,null,null,{"$f":"IF(OR(CharacterLevel=\"\",Spellcasting!AQ$21=\"\"),\"\",VLOOKUP(Spellcasting!AQ$21,Tables!$TK:$UB,Tables!$TW$1,FALSE))","v":""},null,null,null,null,{"$f":"IF(OR(CharacterLevel=\"\",Spellcasting!AQ$21=\"\"),\"\",VLOOKUP(Spellcasting!AQ$21,Tables!$TK:$UB,Tables!$TZ$1,FALSE))","v":""},null,null,null,null,{"$f":"IF(OR(CharacterLevel=\"\",Spellcasting!AQ$21=\"\"),\"\",VLOOKUP(Spellcasting!AQ$21,Tables!$TK:$UB,Tables!$UB$1,FALSE))","v":""}]
[null,null,null,null,{"$f":"IF(OR(CharacterLevel=\"\",Spellcasting!AQ41=\"\"),\"\",VLOOKUP(Spellcasting!AQ41,Tables!TK:UB,Tables!$TN$1,FALSE))","v":""},null,null,null,null,null,null,null,null,null,null,null,null,null,null,null,null,null,null,null,null,null,null,null,null,null,null,null,null,null,null,null,null,null,null,null,null,null,null,null,null,null,null,null,null,null,null,null,null,null,null,null,null,null,null,null,null,null,null,null,null,null,null,null,null,null,null,null,null,null,null,{"$f":"IF(CharacterLevel=\"\",'Character Sheet III'!$CF$202,IF(Spellcasting!AO36=\"•\",'Character Sheet III'!$BX$202,'Character Sheet III'!$CF$202))","v":"□"},null,null,{"$f":"IF(OR(CharacterLevel=\"\",Spellcasting!AQ$36=\"\"),\"\",VLOOKUP(Spellcasting!AQ$36,Tables!$TK:$UB,Tables!$TN$1,FALSE))","v":""},null,null,null,null,null,null,null,null,null,null,null,null,null,null,null,null,{"$f":"IF(OR(CharacterLevel=\"\",Spellcasting!AQ$36=\"\"),\"\",VLOOKUP(Spellcasting!AQ$36,Tables!$TK:$UB,Tables!$TT$1,FALSE))","v":""},null,null,null,null,null,{"$f":"IF(OR(CharacterLevel=\"\",Spellcasting!AQ$36=\"\"),\"\",VLOOKUP(Spellcasting!AQ$36,Tables!$TK:$UB,Tables!$TU$1,FALSE))","v":""},null,null,null,null,{"$f":"IF(OR(CharacterLevel=\"\",Spellcasting!AQ$36=\"\"),\"\",VLOOKUP(Spellcasting!AQ$36,Tables!$TK:$UB,Tables!$TV$1,FALSE))","v":""},null,null,null,null,null,null,{"$f":"IF(OR(CharacterLevel=\"\",Spellcasting!AQ$36=\"\"),\"\",VLOOKUP(Spellcasting!AQ$36,Tables!$TK:$UB,Tables!$TW$1,FALSE))","v":""},null,null,null,null,{"$f":"IF(OR(CharacterLevel=\"\",Spellcasting!AQ$36=\"\"),\"\",VLOOKUP(Spellcasting!AQ$36,Tables!$TK:$UB,Tables!$TZ$1,FALSE))","v":""},null,null,null,null,{"$f":"IF(OR(CharacterLevel=\"\",Spellcasting!AQ$36=\"\"),\"\",VLOOKUP(Spellcasting!AQ$36,Tables!$TK:$UB,Tables!$UB$1,FALSE))","v":""},null,null,null,null,null,null,null,null,null,null,null,null,null,null,null,null,null,null,null,null,null,null,null,null,{"$f":"ES105+1","v":39}]
[null,{"$f":"IF(CharacterLevel=\"\",'Character Sheet III'!$CF$202,IF(Spellcasting!AO22=\"•\",'Character Sheet III'!$BX$202,'Character Sheet III'!$CF$202))","v":"□"},null,null,{"$f":"IF(OR(CharacterLevel=\"\",Spellcasting!AQ$22=\"\"),\"\",VLOOKUP(Spellcasting!AQ$22,Tables!$TK:$UB,Tables!$TN$1,FALSE))","v":""},null,null,null,null,null,null,null,null,null,null,null,null,null,null,null,null,{"$f":"IF(OR(CharacterLevel=\"\",Spellcasting!AQ$22=\"\"),\"\",VLOOKUP(Spellcasting!AQ$22,Tables!$TK:$UB,Tables!$TT$1,FALSE))","v":""},null,null,null,null,null,{"$f":"IF(OR(CharacterLevel=\"\",Spellcasting!AQ$22=\"\"),\"\",VLOOKUP(Spellcasting!AQ$22,Tables!$TK:$UB,Tables!$TU$1,FALSE))","v":""},null,null,null,null,{"$f":"IF(OR(CharacterLevel=\"\",Spellcasting!AQ$22=\"\"),\"\",VLOOKUP(Spellcasting!AQ$22,Tables!$TK:$UB,Tables!$TV$1,FALSE))","v":""},null,null,null,null,null,null,{"$f":"IF(OR(CharacterLevel=\"\",Spellcasting!AQ$22=\"\"),\"\",VLOOKUP(Spellcasting!AQ$22,Tables!$TK:$UB,Tables!$TW$1,FALSE))","v":""},null,null,null,null,{"$f":"IF(OR(CharacterLevel=\"\",Spellcasting!AQ$22=\"\"),\"\",VLOOKUP(Spellcasting!AQ$22,Tables!$TK:$UB,Tables!$TZ$1,FALSE))","v":""},null,null,null,null,{"$f":"IF(OR(CharacterLevel=\"\",Spellcasting!AQ$22=\"\"),\"\",VLOOKUP(Spellcasting!AQ$22,Tables!$TK:$UB,Tables!$UB$1,FALSE))","v":""}]
[null,null,null,null,{"$f":"IF(OR(CharacterLevel=\"\",Spellcasting!AQ43=\"\"),\"\",VLOOKUP(Spellcasting!AQ43,Tables!TK:UB,Tables!$TN$1,FALSE))","v":""},null,null,null,null,null,null,null,null,null,null,null,null,null,null,null,null,null,null,null,null,null,null,null,null,null,null,null,null,null,null,null,null,null,null,null,null,null,null,null,null,null,null,null,null,null,null,null,null,null,null,null,null,null,null,null,null,null,null,null,null,null,null,null,null,null,null,null,null,null,null,{"$f":"IF(CharacterLevel=\"\",'Character Sheet III'!$CF$202,IF(Spellcasting!AO37=\"•\",'Character Sheet III'!$BX$202,'Character Sheet III'!$CF$202))","v":"□"},null,null,{"$f":"IF(OR(CharacterLevel=\"\",Spellcasting!AQ$37=\"\"),\"\",VLOOKUP(Spellcasting!AQ$37,Tables!$TK:$UB,Tables!$TN$1,FALSE))","v":""},null,null,null,null,null,null,null,null,null,null,null,null,null,null,null,null,{"$f":"IF(OR(CharacterLevel=\"\",Spellcasting!AQ$37=\"\"),\"\",VLOOKUP(Spellcasting!AQ$37,Tables!$TK:$UB,Tables!$TT$1,FALSE))","v":""},null,null,null,null,null,{"$f":"IF(OR(CharacterLevel=\"\",Spellcasting!AQ$37=\"\"),\"\",VLOOKUP(Spellcasting!AQ$37,Tables!$TK:$UB,Tables!$TU$1,FALSE))","v":""},null,null,null,null,{"$f":"IF(OR(CharacterLevel=\"\",Spellcasting!AQ$37=\"\"),\"\",VLOOKUP(Spellcasting!AQ$37,Tables!$TK:$UB,Tables!$TV$1,FALSE))","v":""},null,null,null,null,null,null,{"$f":"IF(OR(CharacterLevel=\"\",Spellcasting!AQ$37=\"\"),\"\",VLOOKUP(Spellcasting!AQ$37,Tables!$TK:$UB,Tables!$TW$1,FALSE))","v":""},null,null,null,null,{"$f":"IF(OR(CharacterLevel=\"\",Spellcasting!AQ$37=\"\"),\"\",VLOOKUP(Spellcasting!AQ$37,Tables!$TK:$UB,Tables!$TZ$1,FALSE))","v":""},null,null,null,null,{"$f":"IF(OR(CharacterLevel=\"\",Spellcasting!AQ$37=\"\"),\"\",VLOOKUP(Spellcasting!AQ$37,Tables!$TK:$UB,Tables!$UB$1,FALSE))","v":""},null,null,null,null,null,null,null,null,null,null,null,null,null,null,null,null,null,null,null,null,null,null,null,null,{"$f":"ES107+1","v":40}]
[null,{"$f":"IF(CharacterLevel=\"\",'Character Sheet III'!$CF$202,IF(Spellcasting!AO23=\"•\",'Character Sheet III'!$BX$202,'Character Sheet III'!$CF$202))","v":"□"},null,null,{"$f":"IF(OR(CharacterLevel=\"\",Spellcasting!AQ$23=\"\"),\"\",VLOOKUP(Spellcasting!AQ$23,Tables!$TK:$UB,Tables!$TN$1,FALSE))","v":""},null,null,null,null,null,null,null,null,null,null,null,null,null,null,null,null,{"$f":"IF(OR(CharacterLevel=\"\",Spellcasting!AQ$23=\"\"),\"\",VLOOKUP(Spellcasting!AQ$23,Tables!$TK:$UB,Tables!$TT$1,FALSE))","v":""},null,null,null,null,null,{"$f":"IF(OR(CharacterLevel=\"\",Spellcasting!AQ$23=\"\"),\"\",VLOOKUP(Spellcasting!AQ$23,Tables!$TK:$UB,Tables!$TU$1,FALSE))","v":""},null,null,null,null,{"$f":"IF(OR(CharacterLevel=\"\",Spellcasting!AQ$23=\"\"),\"\",VLOOKUP(Spellcasting!AQ$23,Tables!$TK:$UB,Tables!$TV$1,FALSE))","v":""},null,null,null,null,null,null,{"$f":"IF(OR(CharacterLevel=\"\",Spellcasting!AQ$23=\"\"),\"\",VLOOKUP(Spellcasting!AQ$23,Tables!$TK:$UB,Tables!$TW$1,FALSE))","v":""},null,null,null,null,{"$f":"IF(OR(CharacterLevel=\"\",Spellcasting!AQ$23=\"\"),\"\",VLOOKUP(Spellcasting!AQ$23,Tables!$TK:$UB,Tables!$TZ$1,FALSE))","v":""},null,null,null,null,{"$f":"IF(OR(CharacterLevel=\"\",Spellcasting!AQ$23=\"\"),\"\",VLOOKUP(Spellcasting!AQ$23,Tables!$TK:$UB,Tables!$UB$1,FALSE))","v":""}]
[null,null,null,null,{"$f":"IF(OR(CharacterLevel=\"\",Spellcasting!AQ45=\"\"),\"\",VLOOKUP(Spellcasting!AQ45,Tables!TK:UB,Tables!$TN$1,FALSE))","v":""},null,null,null,null,null,null,null,null,null,null,null,null,null,null,null,null,null,null,null,null,null,null,null,null,null,null,null,null,null,null,null,null,null,null,null,null,null,null,null,null,null,null,null,null,null,null,null,null,null,null,null,null,null,null,null,null,null,null,null,null,null,null,null,null,null,null,null,null,null,null,{"$f":"IF(CharacterLevel=\"\",'Character Sheet III'!$CF$202,IF(Spellcasting!AO38=\"•\",'Character Sheet III'!$BX$202,'Character Sheet III'!$CF$202))","v":"□"},null,null,{"$f":"IF(OR(CharacterLevel=\"\",Spellcasting!AQ$38=\"\"),\"\",VLOOKUP(Spellcasting!AQ$38,Tables!$TK:$UB,Tables!$TN$1,FALSE))","v":""},null,null,null,null,null,null,null,null,null,null,null,null,null,null,null,null,{"$f":"IF(OR(CharacterLevel=\"\",Spellcasting!AQ$38=\"\"),\"\",VLOOKUP(Spellcasting!AQ$38,Tables!$TK:$UB,Tables!$TT$1,FALSE))","v":""},null,null,null,null,null,{"$f":"IF(OR(CharacterLevel=\"\",Spellcasting!AQ$38=\"\"),\"\",VLOOKUP(Spellcasting!AQ$38,Tables!$TK:$UB,Tables!$TU$1,FALSE))","v":""},null,null,null,null,{"$f":"IF(OR(CharacterLevel=\"\",Spellcasting!AQ$38=\"\"),\"\",VLOOKUP(Spellcasting!AQ$38,Tables!$TK:$UB,Tables!$TV$1,FALSE))","v":""},null,null,null,null,null,null,{"$f":"IF(OR(CharacterLevel=\"\",Spellcasting!AQ$38=\"\"),\"\",VLOOKUP(Spellcasting!AQ$38,Tables!$TK:$UB,Tables!$TW$1,FALSE))","v":""},null,null,null,null,{"$f":"IF(OR(CharacterLevel=\"\",Spellcasting!AQ$38=\"\"),\"\",VLOOKUP(Spellcasting!AQ$38,Tables!$TK:$UB,Tables!$TZ$1,FALSE))","v":""},null,null,null,null,{"$f":"IF(OR(CharacterLevel=\"\",Spellcasting!AQ$38=\"\"),\"\",VLOOKUP(Spellcasting!AQ$38,Tables!$TK:$UB,Tables!$UB$1,FALSE))","v":""},null,null,null,null,null,null,null,null,null,null,null,null,null,null,null,null,null,null,null,null,null,null,null,null,{"$f":"ES109+1","v":41}]
[null,{"$f":"IF(CharacterLevel=\"\",'Character Sheet III'!$CF$202,IF(Spellcasting!AO24=\"•\",'Character Sheet III'!$BX$202,'Character Sheet III'!$CF$202))","v":"□"},null,null,{"$f":"IF(OR(CharacterLevel=\"\",Spellcasting!AQ$24=\"\"),\"\",VLOOKUP(Spellcasting!AQ$24,Tables!$TK:$UB,Tables!$TN$1,FALSE))","v":""},null,null,null,null,null,null,null,null,null,null,null,null,null,null,null,null,{"$f":"IF(OR(CharacterLevel=\"\",Spellcasting!AQ$24=\"\"),\"\",VLOOKUP(Spellcasting!AQ$24,Tables!$TK:$UB,Tables!$TT$1,FALSE))","v":""},null,null,null,null,null,{"$f":"IF(OR(CharacterLevel=\"\",Spellcasting!AQ$24=\"\"),\"\",VLOOKUP(Spellcasting!AQ$24,Tables!$TK:$UB,Tables!$TU$1,FALSE))","v":""},null,null,null,null,{"$f":"IF(OR(CharacterLevel=\"\",Spellcasting!AQ$24=\"\"),\"\",VLOOKUP(Spellcasting!AQ$24,Tables!$TK:$UB,Tables!$TV$1,FALSE))","v":""},null,null,null,null,null,null,{"$f":"IF(OR(CharacterLevel=\"\",Spellcasting!AQ$24=\"\"),\"\",VLOOKUP(Spellcasting!AQ$24,Tables!$TK:$UB,Tables!$TW$1,FALSE))","v":""},null,null,null,null,{"$f":"IF(OR(CharacterLevel=\"\",Spellcasting!AQ$24=\"\"),\"\",VLOOKUP(Spellcasting!AQ$24,Tables!$TK:$UB,Tables!$TZ$1,FALSE))","v":""},null,null,null,null,{"$f":"IF(OR(CharacterLevel=\"\",Spellcasting!AQ$24=\"\"),\"\",VLOOKUP(Spellcasting!AQ$24,Tables!$TK:$UB,Tables!$UB$1,FALSE))","v":""}]
[null,null,null,null,{"$f":"IF(OR(CharacterLevel=\"\",Spellcasting!#REF!=\"\"),\"\",VLOOKUP(Spellcasting!#REF!,Tables!TK:UB,Tables!$TN$1,FALSE))","v":{"$error":"#REF!"}},null,null,null,null,null,null,null,null,null,null,null,null,null,null,null,null,null,null,null,null,null,null,null,null,null,null,null,null,null,null,null,null,null,null,null,null,null,null,null,null,null,null,null,null,null,null,null,null,null,null,null,null,null,null,null,null,null,null,null,null,null,null,null,null,null,null,null,null,null,null,{"$f":"IF(CharacterLevel=\"\",'Character Sheet III'!$CF$202,IF(Spellcasting!AO39=\"•\",'Character Sheet III'!$BX$202,'Character Sheet III'!$CF$202))","v":"□"},null,null,{"$f":"IF(OR(CharacterLevel=\"\",Spellcasting!AQ$39=\"\"),\"\",VLOOKUP(Spellcasting!AQ$39,Tables!$TK:$UB,Tables!$TN$1,FALSE))","v":""},null,null,null,null,null,null,null,null,null,null,null,null,null,null,null,null,{"$f":"IF(OR(CharacterLevel=\"\",Spellcasting!AQ$39=\"\"),\"\",VLOOKUP(Spellcasting!AQ$39,Tables!$TK:$UB,Tables!$TT$1,FALSE))","v":""},null,null,null,null,null,{"$f":"IF(OR(CharacterLevel=\"\",Spellcasting!AQ$39=\"\"),\"\",VLOOKUP(Spellcasting!AQ$39,Tables!$TK:$UB,Tables!$TU$1,FALSE))","v":""},null,null,null,null,{"$f":"IF(OR(CharacterLevel=\"\",Spellcasting!AQ$39=\"\"),\"\",VLOOKUP(Spellcasting!AQ$39,Tables!$TK:$UB,Tables!$TV$1,FALSE))","v":""},null,null,null,null,null,null,{"$f":"IF(OR(CharacterLevel=\"\",Spellcasting!AQ$39=\"\"),\"\",VLOOKUP(Spellcasting!AQ$39,Tables!$TK:$UB,Tables!$TW$1,FALSE))","v":""},null,null,null,null,{"$f":"IF(OR(CharacterLevel=\"\",Spellcasting!AQ$39=\"\"),\"\",VLOOKUP(Spellcasting!AQ$39,Tables!$TK:$UB,Tables!$TZ$1,FALSE))","v":""},null,null,null,null,{"$f":"IF(OR(CharacterLevel=\"\",Spellcasting!AQ$39=\"\"),\"\",VLOOKUP(Spellcasting!AQ$39,Tables!$TK:$UB,Tables!$UB$1,FALSE))","v":""},null,null,null,null,null,null,null,null,null,null,null,null,null,null,null,null,null,null,null,null,null,null,null,null,{"$f":"ES111+1","v":42}]
[null,{"$f":"IF(CharacterLevel=\"\",'Character Sheet III'!$CF$202,IF(Spellcasting!AO25=\"•\",'Character Sheet III'!$BX$202,'Character Sheet III'!$CF$202))","v":"□"},null,null,{"$f":"IF(OR(CharacterLevel=\"\",Spellcasting!AQ$25=\"\"),\"\",VLOOKUP(Spellcasting!AQ$25,Tables!$TK:$UB,Tables!$TN$1,FALSE))","v":""},null,null,null,null,null,null,null,null,null,null,null,null,null,null,null,null,{"$f":"IF(OR(CharacterLevel=\"\",Spellcasting!AQ$25=\"\"),\"\",VLOOKUP(Spellcasting!AQ$25,Tables!$TK:$UB,Tables!$TT$1,FALSE))","v":""},null,null,null,null,null,{"$f":"IF(OR(CharacterLevel=\"\",Spellcasting!AQ$25=\"\"),\"\",VLOOKUP(Spellcasting!AQ$25,Tables!$TK:$UB,Tables!$TU$1,FALSE))","v":""},null,null,null,null,{"$f":"IF(OR(CharacterLevel=\"\",Spellcasting!AQ$25=\"\"),\"\",VLOOKUP(Spellcasting!AQ$25,Tables!$TK:$UB,Tables!$TV$1,FALSE))","v":""},null,null,null,null,null,null,{"$f":"IF(OR(CharacterLevel=\"\",Spellcasting!AQ$25=\"\"),\"\",VLOOKUP(Spellcasting!AQ$25,Tables!$TK:$UB,Tables!$TW$1,FALSE))","v":""},null,null,null,null,{"$f":"IF(OR(CharacterLevel=\"\",Spellcasting!AQ$25=\"\"),\"\",VLOOKUP(Spellcasting!AQ$25,Tables!$TK:$UB,Tables!$TZ$1,FALSE))","v":""},null,null,null,null,{"$f":"IF(OR(CharacterLevel=\"\",Spellcasting!AQ$25=\"\"),\"\",VLOOKUP(Spellcasting!AQ$25,Tables!$TK:$UB,Tables!$UB$1,FALSE))","v":""}]
[null,null,null,null,null,null,null,null,null,null,null,null,null,null,null,null,null,null,null,null,null,null,null,null,null,null,null,null,null,null,null,null,null,null,null,null,null,null,null,null,null,null,null,null,null,null,null,null,null,null,null,null,null,null,null,null,null,null,null,null,null,null,null,null,null,null,null,null,null,null,null,null,null,null,null,{"$f":"IF(CharacterLevel=\"\",'Character Sheet III'!$CF$202,IF(Spellcasting!AO40=\"•\",'Character Sheet III'!$BX$202,'Character Sheet III'!$CF$202))","v":"□"},null,null,{"$f":"IF(OR(CharacterLevel=\"\",Spellcasting!AQ$40=\"\"),\"\",VLOOKUP(Spellcasting!AQ$40,Tables!$TK:$UB,Tables!$TN$1,FALSE))","v":""},null,null,null,null,null,null,null,null,null,null,null,null,null,null,null,null,{"$f":"IF(OR(CharacterLevel=\"\",Spellcasting!AQ$40=\"\"),\"\",VLOOKUP(Spellcasting!AQ$40,Tables!$TK:$UB,Tables!$TT$1,FALSE))","v":""},null,null,null,null,null,{"$f":"IF(OR(CharacterLevel=\"\",Spellcasting!AQ$40=\"\"),\"\",VLOOKUP(Spellcasting!AQ$40,Tables!$TK:$UB,Tables!$TU$1,FALSE))","v":""},null,null,null,null,{"$f":"IF(OR(CharacterLevel=\"\",Spellcasting!AQ$40=\"\"),\"\",VLOOKUP(Spellcasting!AQ$40,Tables!$TK:$UB,Tables!$TV$1,FALSE))","v":""},null,null,null,null,null,null,{"$f":"IF(OR(CharacterLevel=\"\",Spellcasting!AQ$40=\"\"),\"\",VLOOKUP(Spellcasting!AQ$40,Tables!$TK:$UB,Tables!$TW$1,FALSE))","v":""},null,null,null,null,{"$f":"IF(OR(CharacterLevel=\"\",Spellcasting!AQ$40=\"\"),\"\",VLOOKUP(Spellcasting!AQ$40,Tables!$TK:$UB,Tables!$TZ$1,FALSE))","v":""},null,null,null,null,{"$f":"IF(OR(CharacterLevel=\"\",Spellcasting!AQ$40=\"\"),\"\",VLOOKUP(Spellcasting!AQ$40,Tables!$TK:$UB,Tables!$UB$1,FALSE))","v":""},null,null,null,null,null,null,null,null,null,null,null,null,null,null,null,null,null,null,null,null,null,null,null,null,{"$f":"ES113+1","v":43}]
[null,"LEVEL 2"]
[null,null,null,null,null,null,null,null,null,null,null,null,null,null,null,null,null,null,null,null,null,null,null,null,null,null,null,null,null,null,null,null,null,null,null,null,null,null,null,null,null,null,null,null,null,null,null,null,null,null,null,null,null,null,null,null,null,null,null,null,null,null,null,null,null,null,null,null,null,null,null,null,null,null,null,{"$f":"IF(CharacterLevel=\"\",'Character Sheet III'!$CF$202,IF(Spellcasting!AO41=\"•\",'Character Sheet III'!$BX$202,'Character Sheet III'!$CF$202))","v":"□"},null,null,{"$f":"IF(OR(CharacterLevel=\"\",Spellcasting!AQ$41=\"\"),\"\",VLOOKUP(Spellcasting!AQ$41,Tables!$TK:$UB,Tables!$TN$1,FALSE))","v":""},null,null,null,null,null,null,null,null,null,null,null,null,null,null,null,null,{"$f":"IF(OR(CharacterLevel=\"\",Spellcasting!AQ$41=\"\"),\"\",VLOOKUP(Spellcasting!AQ$41,Tables!$TK:$UB,Tables!$TT$1,FALSE))","v":""},null,null,null,null,null,{"$f":"IF(OR(CharacterLevel=\"\",Spellcasting!AQ$41=\"\"),\"\",VLOOKUP(Spellcasting!AQ$41,Tables!$TK:$UB,Tables!$TU$1,FALSE))","v":""},null,null,null,null,{"$f":"IF(OR(CharacterLevel=\"\",Spellcasting!AQ$41=\"\"),\"\",VLOOKUP(Spellcasting!AQ$41,Tables!$TK:$UB,Tables!$TV$1,FALSE))","v":""},null,null,null,null,null,null,{"$f":"IF(OR(CharacterLevel=\"\",Spellcasting!AQ$41=\"\"),\"\",VLOOKUP(Spellcasting!AQ$41,Tables!$TK:$UB,Tables!$TW$1,FALSE))","v":""},null,null,null,null,{"$f":"IF(OR(CharacterLevel=\"\",Spellcasting!AQ$41=\"\"),\"\",VLOOKUP(Spellcasting!AQ$41,Tables!$TK:$UB,Tables!$TZ$1,FALSE))","v":""},null,null,null,null,{"$f":"IF(OR(CharacterLevel=\"\",Spellcasting!AQ$41=\"\"),\"\",VLOOKUP(Spellcasting!AQ$41,Tables!$TK:$UB,Tables!$UB$1,FALSE))","v":""},null,null,null,null,null,null,null,null,null,null,null,null,null,null,null,null,null,null,null,null,null,null,null,null,{"$f":"ES115+1","v":44}]
[null,"PREP",null,null,"SPELL NAME",null,null,null,null,null,null,null,null,null,null,null,null,null,null,null,null,"CASTING TIME",null,null,null,null,null,"RANGE",null,null,null,null,"DURATION",null,null,null,null,null,"COMPONENTS",null,null,null,null,null,"TYPE",null,null,null,null,"DETAILS"]
[null,null,null,null,null,null,null,null,null,null,null,null,null,null,null,null,null,null,null,null,null,null,null,null,null,null,null,null,null,null,null,null,null,null,null,null,null,null,null,null,null,null,null,null,null,null,null,null,null,null,null,null,null,null,null,null,null,null,null,null,null,null,null,null,null,null,null,null,null,null,null,null,null,null,null,{"$f":"IF(CharacterLevel=\"\",'Character Sheet III'!$CF$202,IF(Spellcasting!AO42=\"•\",'Character Sheet III'!$BX$202,'Character Sheet III'!$CF$202))","v":"□"},null,null,{"$f":"IF(OR(CharacterLevel=\"\",Spellcasting!AQ$42=\"\"),\"\",VLOOKUP(Spellcasting!AQ$42,Tables!$TK:$UB,Tables!$TN$1,FALSE))","v":""},null,null,null,null,null,null,null,null,null,null,null,null,null,null,null,null,{"$f":"IF(OR(CharacterLevel=\"\",Spellcasting!AQ$42=\"\"),\"\",VLOOKUP(Spellcasting!AQ$42,Tables!$TK:$UB,Tables!$TT$1,FALSE))","v":""},null,null,null,null,null,{"$f":"IF(OR(CharacterLevel=\"\",Spellcasting!AQ$42=\"\"),\"\",VLOOKUP(Spellcasting!AQ$42,Tables!$TK:$UB,Tables!$TU$1,FALSE))","v":""},null,null,null,null,{"$f":"IF(OR(CharacterLevel=\"\",Spellcasting!AQ$42=\"\"),\"\",VLOOKUP(Spellcasting!AQ$42,Tables!$TK:$UB,Tables!$TV$1,FALSE))","v":""},null,null,null,null,null,null,{"$f":"IF(OR(CharacterLevel=\"\",Spellcasting!AQ$42=\"\"),\"\",VLOOKUP(Spellcasting!AQ$42,Tables!$TK:$UB,Tables!$TW$1,FALSE))","v":""},null,null,null,null,{"$f":"IF(OR(CharacterLevel=\"\",Spellcasting!AQ$42=\"\"),\"\",VLOOKUP(Spellcasting!AQ$42,Tables!$TK:$UB,Tables!$TZ$1,FALSE))","v":""},null,null,null,null,{"$f":"IF(OR(CharacterLevel=\"\",Spellcasting!AQ$42=\"\"),\"\",VLOOKUP(Spellcasting!AQ$42,Tables!$TK:$UB,Tables!$UB$1,FALSE))","v":""},null,null,null,null,null,null,null,null,null,null,null,null,null,null,null,null,null,null,null,null,null,null,null,null,{"$f":"ES117+1","v":45}]
[null,{"$f":"IF(CharacterLevel=\"\",'Character Sheet III'!$CF$202,IF(Spellcasting!BC6=\"•\",'Character Sheet III'!$BX$202,'Character Sheet III'!$CF$202))","v":"□"},null,null,{"$f":"IF(OR(CharacterLevel=\"\",Spellcasting!BE$6=\"\"),\"\",VLOOKUP(Spellcasting!BE$6,Tables!$TK:$UB,Tables!$TN$1,FALSE))","v":""},null,null,null,null,null,null,null,null,null,null,null,null,null,null,null,null,{"$f":"IF(OR(CharacterLevel=\"\",Spellcasting!BE$6=\"\"),\"\",VLOOKUP(Spellcasting!BE$6,Tables!$TK:$UB,Tables!$TT$1,FALSE))","v":""},null,null,null,null,null,{"$f":"IF(OR(CharacterLevel=\"\",Spellcasting!BE$6=\"\"),\"\",VLOOKUP(Spellcasting!BE$6,Tables!$TK:$UB,Tables!$TU$1,FALSE))","v":""},null,null,null,null,{"$f":"IF(OR(CharacterLevel=\"\",Spellcasting!BE$6=\"\"),\"\",VLOOKUP(Spellcasting!BE$6,Tables!$TK:$UB,Tables!$TV$1,FALSE))","v":""},null,null,null,null,null,null,{"$f":"IF(OR(CharacterLevel=\"\",Spellcasting!BE$6=\"\"),\"\",VLOOKUP(Spellcasting!BE$6,Tables!$TK:$UB,Tables!$TW$1,FALSE))","v":""},null,null,null,null,{"$f":"IF(OR(CharacterLevel=\"\",Spellcasting!BE$6=\"\"),\"\",VLOOKUP(Spellcasting!BE$6,Tables!$TK:$UB,Tables!$TZ$1,FALSE))","v":""},null,null,null,null,{"$f":"IF(OR(CharacterLevel=\"\",Spellcasting!BE$6=\"\"),\"\",VLOOKUP(Spellcasting!BE$6,Tables!$TK:$UB,Tables!$UB$1,FALSE))","v":""}]
[null,null,null,null,null,null,null,null,null,null,null,null,null,null,null,null,null,null,null,null,null,null,null,null,null,null,null,null,null,null,null,null,null,null,null,null,null,null,null,null,null,null,null,null,null,null,null,null,null,null,null,null,null,null,null,null,null,null,null,null,null,null,null,null,null,null,null,null,null,null,null,null,null,null,null,{"$f":"IF(CharacterLevel=\"\",'Character Sheet III'!$CF$202,IF(Spellcasting!AO43=\"•\",'Character Sheet III'!$BX$202,'Character Sheet III'!$CF$202))","v":"□"},null,null,{"$f":"IF(OR(CharacterLevel=\"\",Spellcasting!AQ$43=\"\"),\"\",VLOOKUP(Spellcasting!AQ$43,Tables!$TK:$UB,Tables!$TN$1,FALSE))","v":""},null,null,null,null,null,null,null,null,null,null,null,null,null,null,null,null,{"$f":"IF(OR(CharacterLevel=\"\",Spellcasting!AQ$43=\"\"),\"\",VLOOKUP(Spellcasting!AQ$43,Tables!$TK:$UB,Tables!$TT$1,FALSE))","v":""},null,null,null,null,null,{"$f":"IF(OR(CharacterLevel=\"\",Spellcasting!AQ$43=\"\"),\"\",VLOOKUP(Spellcasting!AQ$43,Tables!$TK:$UB,Tables!$TU$1,FALSE))","v":""},null,null,null,null,{"$f":"IF(OR(CharacterLevel=\"\",Spellcasting!AQ$43=\"\"),\"\",VLOOKUP(Spellcasting!AQ$43,Tables!$TK:$UB,Tables!$TV$1,FALSE))","v":""},null,null,null,null,null,null,{"$f":"IF(OR(CharacterLevel=\"\",Spellcasting!AQ$43=\"\"),\"\",VLOOKUP(Spellcasting!AQ$43,Tables!$TK:$UB,Tables!$TW$1,FALSE))","v":""},null,null,null,null,{"$f":"IF(OR(CharacterLevel=\"\",Spellcasting!AQ$43=\"\"),\"\",VLOOKUP(Spellcasting!AQ$43,Tables!$TK:$UB,Tables!$TZ$1,FALSE))","v":""},null,null,null,null,{"$f":"IF(OR(CharacterLevel=\"\",Spellcasting!AQ$43=\"\"),\"\",VLOOKUP(Spellcasting!AQ$43,Tables!$TK:$UB,Tables!$UB$1,FALSE))","v":""},null,null,null,null,null,null,null,null,null,null,null,null,null,null,null,null,null,null,null,null,null,null,null,null,{"$f":"ES119+1","v":46}]
[null,{"$f":"IF(CharacterLevel=\"\",'Character Sheet III'!$CF$202,IF(Spellcasting!BC7=\"•\",'Character Sheet III'!$BX$202,'Character Sheet III'!$CF$202))","v":"□"},null,null,{"$f":"IF(OR(CharacterLevel=\"\",Spellcasting!BE$7=\"\"),\"\",VLOOKUP(Spellcasting!BE$7,Tables!$TK:$UB,Tables!$TN$1,FALSE))","v":""},null,null,null,null,null,null,null,null,null,null,null,null,null,null,null,null,{"$f":"IF(OR(CharacterLevel=\"\",Spellcasting!BE$7=\"\"),\"\",VLOOKUP(Spellcasting!BE$7,Tables!$TK:$UB,Tables!$TT$1,FALSE))","v":""},null,null,null,null,null,{"$f":"IF(OR(CharacterLevel=\"\",Spellcasting!BE$7=\"\"),\"\",VLOOKUP(Spellcasting!BE$7,Tables!$TK:$UB,Tables!$TU$1,FALSE))","v":""},null,null,null,null,{"$f":"IF(OR(CharacterLevel=\"\",Spellcasting!BE$7=\"\"),\"\",VLOOKUP(Spellcasting!BE$7,Tables!$TK:$UB,Tables!$TV$1,FALSE))","v":""},null,null,null,null,null,null,{"$f":"IF(OR(CharacterLevel=\"\",Spellcasting!BE$7=\"\"),\"\",VLOOKUP(Spellcasting!BE$7,Tables!$TK:$UB,Tables!$TW$1,FALSE))","v":""},null,null,null,null,{"$f":"IF(OR(CharacterLevel=\"\",Spellcasting!BE$7=\"\"),\"\",VLOOKUP(Spellcasting!BE$7,Tables!$TK:$UB,Tables!$TZ$1,FALSE))","v":""},null,null,null,null,{"$f":"IF(OR(CharacterLevel=\"\",Spellcasting!BE$7=\"\"),\"\",VLOOKUP(Spellcasting!BE$7,Tables!$TK:$UB,Tables!$UB$1,FALSE))","v":""},null,null,null,null,null,null,null,null,null,null,null,null,null,null,null,null,null,null,null,null,null,null,null,null,null,null,null,null,{"$f":"IF(OR(CharacterLevel=\"\",Spellcasting!#REF!=\"\"),\"\",VLOOKUP(Spellcasting!#REF!,Tables!WX:XQ,Tables!$TN$1,FALSE))","v":{"$error":"#REF!"}}]
[null,null,null,null,null,null,null,null,null,null,null,null,null,null,null,null,null,null,null,null,null,null,null,null,null,null,null,null,null,null,null,null,null,null,null,null,null,null,null,null,null,null,null,null,null,null,null,null,null,null,null,null,null,null,null,null,null,null,null,null,null,null,null,null,null,null,null,null,null,null,null,null,null,null,null,{"$f":"IF(CharacterLevel=\"\",'Character Sheet III'!$CF$202,IF(Spellcasting!AO44=\"•\",'Character Sheet III'!$BX$202,'Character Sheet III'!$CF$202))","v":"□"},null,null,{"$f":"IF(OR(CharacterLevel=\"\",Spellcasting!AQ$44=\"\"),\"\",VLOOKUP(Spellcasting!AQ$44,Tables!$TK:$UB,Tables!$TN$1,FALSE))","v":""},null,null,null,null,null,null,null,null,null,null,null,null,null,null,null,null,{"$f":"IF(OR(CharacterLevel=\"\",Spellcasting!AQ$44=\"\"),\"\",VLOOKUP(Spellcasting!AQ$44,Tables!$TK:$UB,Tables!$TT$1,FALSE))","v":""},null,null,null,null,null,{"$f":"IF(OR(CharacterLevel=\"\",Spellcasting!AQ$44=\"\"),\"\",VLOOKUP(Spellcasting!AQ$44,Tables!$TK:$UB,Tables!$TU$1,FALSE))","v":""},null,null,null,null,{"$f":"IF(OR(CharacterLevel=\"\",Spellcasting!AQ$44=\"\"),\"\",VLOOKUP(Spellcasting!AQ$44,Tables!$TK:$UB,Tables!$TV$1,FALSE))","v":""},null,null,null,null,null,null,{"$f":"IF(OR(CharacterLevel=\"\",Spellcasting!AQ$44=\"\"),\"\",VLOOKUP(Spellcasting!AQ$44,Tables!$TK:$UB,Tables!$TW$1,FALSE))","v":""},null,null,null,null,{"$f":"IF(OR(CharacterLevel=\"\",Spellcasting!AQ$44=\"\"),\"\",VLOOKUP(Spellcasting!AQ$44,Tables!$TK:$UB,Tables!$TZ$1,FALSE))","v":""},null,null,null,null,{"$f":"IF(OR(CharacterLevel=\"\",Spellcasting!AQ$44=\"\"),\"\",VLOOKUP(Spellcasting!AQ$44,Tables!$TK:$UB,Tables!$UB$1,FALSE))","v":""},null,null,null,null,null,null,null,null,null,null,null,null,null,null,null,null,null,null,null,null,null,null,null,null,{"$f":"ES121+1","v":47}]
[null,{"$f":"IF(CharacterLevel=\"\",'Character Sheet III'!$CF$202,IF(Spellcasting!BC8=\"•\",'Character Sheet III'!$BX$202,'Character Sheet III'!$CF$202))","v":"□"},null,null,{"$f":"IF(OR(CharacterLevel=\"\",Spellcasting!BE$8=\"\"),\"\",VLOOKUP(Spellcasting!BE$8,Tables!$TK:$UB,Tables!$TN$1,FALSE))","v":""},null,null,null,null,null,null,null,null,null,null,null,null,null,null,null,null,{"$f":"IF(OR(CharacterLevel=\"\",Spellcasting!BE$8=\"\"),\"\",VLOOKUP(Spellcasting!BE$8,Tables!$TK:$UB,Tables!$TT$1,FALSE))","v":""},null,null,null,null,null,{"$f":"IF(OR(CharacterLevel=\"\",Spellcasting!BE$8=\"\"),\"\",VLOOKUP(Spellcasting!BE$8,Tables!$TK:$UB,Tables!$TU$1,FALSE))","v":""},null,null,null,null,{"$f":"IF(OR(CharacterLevel=\"\",Spellcasting!BE$8=\"\"),\"\",VLOOKUP(Spellcasting!BE$8,Tables!$TK:$UB,Tables!$TV$1,FALSE))","v":""},null,null,null,null,null,null,{"$f":"IF(OR(CharacterLevel=\"\",Spellcasting!BE$8=\"\"),\"\",VLOOKUP(Spellcasting!BE$8,Tables!$TK:$UB,Tables!$TW$1,FALSE))","v":""},null,null,null,null,{"$f":"IF(OR(CharacterLevel=\"\",Spellcasting!BE$8=\"\"),\"\",VLOOKUP(Spellcasting!BE$8,Tables!$TK:$UB,Tables!$TZ$1,FALSE))","v":""},null,null,null,null,{"$f":"IF(OR(CharacterLevel=\"\",Spellcasting!BE$8=\"\"),\"\",VLOOKUP(Spellcasting!BE$8,Tables!$TK:$UB,Tables!$UB$1,FALSE))","v":""},null,null,null,null,null,null,null,null,null,null,null,null,null,null,null,null,null,null,null,null,null,null,null,null,null,null,null,null,{"$f":"IF(OR(CharacterLevel=\"\",Spellcasting!#REF!=\"\"),\"\",VLOOKUP(Spellcasting!#REF!,Tables!WX:XQ,Tables!$TN$1,FALSE))","v":{"$error":"#REF!"}}]
[null,null,null,null,null,null,null,null,null,null,null,null,null,null,null,null,null,null,null,null,null,null,null,null,null,null,null,null,null,null,null,null,null,null,null,null,null,null,null,null,null,null,null,null,null,null,null,null,null,null,null,null,null,null,null,null,null,null,null,null,null,null,null,null,null,null,null,null,null,null,null,null,null,null,null,"LEVEL 7",null,null,null,null,null,null,null,null,null,null,null,null,null,null,null,null,null,null,null,null,null,null,null,null,null,null,null,null,null,null,null,null,null,null,null,null,null,null,null,null,null,null,null,null,null,null,null,null,null,null,null,null,null,null,null,null,null,null,null,null,null,null,null,null,null,null,null,null,null,null,null,null,{"$f":"ES123+1","v":48}]
[null,{"$f":"IF(CharacterLevel=\"\",'Character Sheet III'!$CF$202,IF(Spellcasting!BC9=\"•\",'Character Sheet III'!$BX$202,'Character Sheet III'!$CF$202))","v":"□"},null,null,{"$f":"IF(OR(CharacterLevel=\"\",Spellcasting!BE$9=\"\"),\"\",VLOOKUP(Spellcasting!BE$9,Tables!$TK:$UB,Tables!$TN$1,FALSE))","v":""},null,null,null,null,null,null,null,null,null,null,null,null,null,null,null,null,{"$f":"IF(OR(CharacterLevel=\"\",Spellcasting!BE$9=\"\"),\"\",VLOOKUP(Spellcasting!BE$9,Tables!$TK:$UB,Tables!$TT$1,FALSE))","v":""},null,null,null,null,null,{"$f":"IF(OR(CharacterLevel=\"\",Spellcasting!BE$9=\"\"),\"\",VLOOKUP(Spellcasting!BE$9,Tables!$TK:$UB,Tables!$TU$1,FALSE))","v":""},null,null,null,null,{"$f":"IF(OR(CharacterLevel=\"\",Spellcasting!BE$9=\"\"),\"\",VLOOKUP(Spellcasting!BE$9,Tables!$TK:$UB,Tables!$TV$1,FALSE))","v":""},null,null,null,null,null,null,{"$f":"IF(OR(CharacterLevel=\"\",Spellcasting!BE$9=\"\"),\"\",VLOOKUP(Spellcasting!BE$9,Tables!$TK:$UB,Tables!$TW$1,FALSE))","v":""},null,null,null,null,{"$f":"IF(OR(CharacterLevel=\"\",Spellcasting!BE$9=\"\"),\"\",VLOOKUP(Spellcasting!BE$9,Tables!$TK:$UB,Tables!$TZ$1,FALSE))","v":""},null,null,null,null,{"$f":"IF(OR(CharacterLevel=\"\",Spellcasting!BE$9=\"\"),\"\",VLOOKUP(Spellcasting!BE$9,Tables!$TK:$UB,Tables!$UB$1,FALSE))","v":""}]
[null,null,null,null,null,null,null,null,null,null,null,null,null,null,null,null,null,null,null,null,null,null,null,null,null,null,null,null,null,null,null,null,null,null,null,null,null,null,null,null,null,null,null,null,null,null,null,null,null,null,null,null,null,null,null,null,null,null,null,null,null,null,null,null,null,null,null,null,null,null,null,null,null,null,null,"PREP",null,null,"SPELL NAME",null,null,null,null,null,null,null,null,null,null,null,null,null,null,null,null,"CASTING TIME",null,null,null,null,null,"RANGE",null,null,null,null,"DURATION",null,null,null,null,null,"COMPONENTS",null,null,null,null,null,"TYPE",null,null,null,null,"DETAILS",null,null,null,null,null,null,null,null,null,null,null,null,null,null,null,null,null,null,null,null,null,null,null,null,{"$f":"ES125+1","v":49}]
[null,{"$f":"IF(CharacterLevel=\"\",'Character Sheet III'!$CF$202,IF(Spellcasting!BC10=\"•\",'Character Sheet III'!$BX$202,'Character Sheet III'!$CF$202))","v":"□"},null,null,{"$f":"IF(OR(CharacterLevel=\"\",Spellcasting!BE$10=\"\"),\"\",VLOOKUP(Spellcasting!BE$10,Tables!$TK:$UB,Tables!$TN$1,FALSE))","v":""},null,null,null,null,null,null,null,null,null,null,null,null,null,null,null,null,{"$f":"IF(OR(CharacterLevel=\"\",Spellcasting!BE$10=\"\"),\"\",VLOOKUP(Spellcasting!BE$10,Tables!$TK:$UB,Tables!$TT$1,FALSE))","v":""},null,null,null,null,null,{"$f":"IF(OR(CharacterLevel=\"\",Spellcasting!BE$10=\"\"),\"\",VLOOKUP(Spellcasting!BE$10,Tables!$TK:$UB,Tables!$TU$1,FALSE))","v":""},null,null,null,null,{"$f":"IF(OR(CharacterLevel=\"\",Spellcasting!BE$10=\"\"),\"\",VLOOKUP(Spellcasting!BE$10,Tables!$TK:$UB,Tables!$TV$1,FALSE))","v":""},null,null,null,null,null,null,{"$f":"IF(OR(CharacterLevel=\"\",Spellcasting!BE$10=\"\"),\"\",VLOOKUP(Spellcasting!BE$10,Tables!$TK:$UB,Tables!$TW$1,FALSE))","v":""},null,null,null,null,{"$f":"IF(OR(CharacterLevel=\"\",Spellcasting!BE$10=\"\"),\"\",VLOOKUP(Spellcasting!BE$10,Tables!$TK:$UB,Tables!$TZ$1,FALSE))","v":""},null,null,null,null,{"$f":"IF(OR(CharacterLevel=\"\",Spellcasting!BE$10=\"\"),\"\",VLOOKUP(Spellcasting!BE$10,Tables!$TK:$UB,Tables!$UB$1,FALSE))","v":""}]
[null,null,null,null,null,null,null,null,null,null,null,null,null,null,null,null,null,null,null,null,null,null,null,null,null,null,null,null,null,null,null,null,null,null,null,null,null,null,null,null,null,null,null,null,null,null,null,null,null,null,null,null,null,null,null,null,null,null,null,null,null,null,null,null,null,null,null,null,null,null,null,null,null,null,null,{"$f":"IF(CharacterLevel=\"\",'Character Sheet III'!$CF$202,IF(Spellcasting!BC33=\"•\",'Character Sheet III'!$BX$202,'Character Sheet III'!$CF$202))","v":"□"},null,null,{"$f":"IF(OR(CharacterLevel=\"\",Spellcasting!BE$33=\"\"),\"\",VLOOKUP(Spellcasting!BE$33,Tables!$TK:$UB,Tables!$TN$1,FALSE))","v":""},null,null,null,null,null,null,null,null,null,null,null,null,null,null,null,null,{"$f":"IF(OR(CharacterLevel=\"\",Spellcasting!BE$33=\"\"),\"\",VLOOKUP(Spellcasting!BE$33,Tables!$TK:$UB,Tables!$TT$1,FALSE))","v":""},null,null,null,null,null,{"$f":"IF(OR(CharacterLevel=\"\",Spellcasting!BE$33=\"\"),\"\",VLOOKUP(Spellcasting!BE$33,Tables!$TK:$UB,Tables!$TU$1,FALSE))","v":""},null,null,null,null,{"$f":"IF(OR(CharacterLevel=\"\",Spellcasting!BE$33=\"\"),\"\",VLOOKUP(Spellcasting!BE$33,Tables!$TK:$UB,Tables!$TV$1,FALSE))","v":""},null,null,null,null,null,null,{"$f":"IF(OR(CharacterLevel=\"\",Spellcasting!BE$33=\"\"),\"\",VLOOKUP(Spellcasting!BE$33,Tables!$TK:$UB,Tables!$TW$1,FALSE))","v":""},null,null,null,null,{"$f":"IF(OR(CharacterLevel=\"\",Spellcasting!BE$33=\"\"),\"\",VLOOKUP(Spellcasting!BE$33,Tables!$TK:$UB,Tables!$TZ$1,FALSE))","v":""},null,null,null,null,{"$f":"IF(OR(CharacterLevel=\"\",Spellcasting!BE$33=\"\"),\"\",VLOOKUP(Spellcasting!BE$33,Tables!$TK:$UB,Tables!$UB$1,FALSE))","v":""},null,null,null,null,null,null,null,null,null,null,null,null,null,null,null,null,null,null,null,null,null,null,null,null,{"$f":"ES127+1","v":50}]
[null,{"$f":"IF(CharacterLevel=\"\",'Character Sheet III'!$CF$202,IF(Spellcasting!BC11=\"•\",'Character Sheet III'!$BX$202,'Character Sheet III'!$CF$202))","v":"□"},null,null,{"$f":"IF(OR(CharacterLevel=\"\",Spellcasting!BE$11=\"\"),\"\",VLOOKUP(Spellcasting!BE$11,Tables!$TK:$UB,Tables!$TN$1,FALSE))","v":""},null,null,null,null,null,null,null,null,null,null,null,null,null,null,null,null,{"$f":"IF(OR(CharacterLevel=\"\",Spellcasting!BE$11=\"\"),\"\",VLOOKUP(Spellcasting!BE$11,Tables!$TK:$UB,Tables!$TT$1,FALSE))","v":""},null,null,null,null,null,{"$f":"IF(OR(CharacterLevel=\"\",Spellcasting!BE$11=\"\"),\"\",VLOOKUP(Spellcasting!BE$11,Tables!$TK:$UB,Tables!$TU$1,FALSE))","v":""},null,null,null,null,{"$f":"IF(OR(CharacterLevel=\"\",Spellcasting!BE$11=\"\"),\"\",VLOOKUP(Spellcasting!BE$11,Tables!$TK:$UB,Tables!$TV$1,FALSE))","v":""},null,null,null,null,null,null,{"$f":"IF(OR(CharacterLevel=\"\",Spellcasting!BE$11=\"\"),\"\",VLOOKUP(Spellcasting!BE$11,Tables!$TK:$UB,Tables!$TW$1,FALSE))","v":""},null,null,null,null,{"$f":"IF(OR(CharacterLevel=\"\",Spellcasting!BE$11=\"\"),\"\",VLOOKUP(Spellcasting!BE$11,Tables!$TK:$UB,Tables!$TZ$1,FALSE))","v":""},null,null,null,null,{"$f":"IF(OR(CharacterLevel=\"\",Spellcasting!BE$11=\"\"),\"\",VLOOKUP(Spellcasting!BE$11,Tables!$TK:$UB,Tables!$UB$1,FALSE))","v":""}]
[null,null,null,null,null,null,null,null,null,null,null,null,null,null,null,null,null,null,null,null,null,null,null,null,null,null,null,null,null,null,null,null,null,null,null,null,null,null,null,null,null,null,null,null,null,null,null,null,null,null,null,null,null,null,null,null,null,null,null,null,null,null,null,null,null,null,null,null,null,null,null,null,null,null,null,{"$f":"IF(CharacterLevel=\"\",'Character Sheet III'!$CF$202,IF(Spellcasting!BC34=\"•\",'Character Sheet III'!$BX$202,'Character Sheet III'!$CF$202))","v":"□"},null,null,{"$f":"IF(OR(CharacterLevel=\"\",Spellcasting!BE$34=\"\"),\"\",VLOOKUP(Spellcasting!BE$34,Tables!$TK:$UB,Tables!$TN$1,FALSE))","v":""},null,null,null,null,null,null,null,null,null,null,null,null,null,null,null,null,{"$f":"IF(OR(CharacterLevel=\"\",Spellcasting!BE$34=\"\"),\"\",VLOOKUP(Spellcasting!BE$34,Tables!$TK:$UB,Tables!$TT$1,FALSE))","v":""},null,null,null,null,null,{"$f":"IF(OR(CharacterLevel=\"\",Spellcasting!BE$34=\"\"),\"\",VLOOKUP(Spellcasting!BE$34,Tables!$TK:$UB,Tables!$TU$1,FALSE))","v":""},null,null,null,null,{"$f":"IF(OR(CharacterLevel=\"\",Spellcasting!BE$34=\"\"),\"\",VLOOKUP(Spellcasting!BE$34,Tables!$TK:$UB,Tables!$TV$1,FALSE))","v":""},null,null,null,null,null,null,{"$f":"IF(OR(CharacterLevel=\"\",Spellcasting!BE$34=\"\"),\"\",VLOOKUP(Spellcasting!BE$34,Tables!$TK:$UB,Tables!$TW$1,FALSE))","v":""},null,null,null,null,{"$f":"IF(OR(CharacterLevel=\"\",Spellcasting!BE$34=\"\"),\"\",VLOOKUP(Spellcasting!BE$34,Tables!$TK:$UB,Tables!$TZ$1,FALSE))","v":""},null,null,null,null,{"$f":"IF(OR(CharacterLevel=\"\",Spellcasting!BE$34=\"\"),\"\",VLOOKUP(Spellcasting!BE$34,Tables!$TK:$UB,Tables!$UB$1,FALSE))","v":""},null,null,null,null,null,null,null,null,null,null,null,null,null,null,null,null,null,null,null,null,null,null,null,null,{"$f":"ES129+1","v":51}]
[null,{"$f":"IF(CharacterLevel=\"\",'Character Sheet III'!$CF$202,IF(Spellcasting!BC12=\"•\",'Character Sheet III'!$BX$202,'Character Sheet III'!$CF$202))","v":"□"},null,null,{"$f":"IF(OR(CharacterLevel=\"\",Spellcasting!BE$12=\"\"),\"\",VLOOKUP(Spellcasting!BE$12,Tables!$TK:$UB,Tables!$TN$1,FALSE))","v":""},null,null,null,null,null,null,null,null,null,null,null,null,null,null,null,null,{"$f":"IF(OR(CharacterLevel=\"\",Spellcasting!BE$12=\"\"),\"\",VLOOKUP(Spellcasting!BE$12,Tables!$TK:$UB,Tables!$TT$1,FALSE))","v":""},null,null,null,null,null,{"$f":"IF(OR(CharacterLevel=\"\",Spellcasting!BE$12=\"\"),\"\",VLOOKUP(Spellcasting!BE$12,Tables!$TK:$UB,Tables!$TU$1,FALSE))","v":""},null,null,null,null,{"$f":"IF(OR(CharacterLevel=\"\",Spellcasting!BE$12=\"\"),\"\",VLOOKUP(Spellcasting!BE$12,Tables!$TK:$UB,Tables!$TV$1,FALSE))","v":""},null,null,null,null,null,null,{"$f":"IF(OR(CharacterLevel=\"\",Spellcasting!BE$12=\"\"),\"\",VLOOKUP(Spellcasting!BE$12,Tables!$TK:$UB,Tables!$TW$1,FALSE))","v":""},null,null,null,null,{"$f":"IF(OR(CharacterLevel=\"\",Spellcasting!BE$12=\"\"),\"\",VLOOKUP(Spellcasting!BE$12,Tables!$TK:$UB,Tables!$TZ$1,FALSE))","v":""},null,null,null,null,{"$f":"IF(OR(CharacterLevel=\"\",Spellcasting!BE$12=\"\"),\"\",VLOOKUP(Spellcasting!BE$12,Tables!$TK:$UB,Tables!$UB$1,FALSE))","v":""}]
[null,null,null,null,null,null,null,null,null,null,null,null,null,null,null,null,null,null,null,null,null,null,null,null,null,null,null,null,null,null,null,null,null,null,null,null,null,null,null,null,null,null,null,null,null,null,null,null,null,null,null,null,null,null,null,null,null,null,null,null,null,null,null,null,null,null,null,null,null,null,null,null,null,null,null,{"$f":"IF(CharacterLevel=\"\",'Character Sheet III'!$CF$202,IF(Spellcasting!BC35=\"•\",'Character Sheet III'!$BX$202,'Character Sheet III'!$CF$202))","v":"□"},null,null,{"$f":"IF(OR(CharacterLevel=\"\",Spellcasting!BE$35=\"\"),\"\",VLOOKUP(Spellcasting!BE$35,Tables!$TK:$UB,Tables!$TN$1,FALSE))","v":""},null,null,null,null,null,null,null,null,null,null,null,null,null,null,null,null,{"$f":"IF(OR(CharacterLevel=\"\",Spellcasting!BE$35=\"\"),\"\",VLOOKUP(Spellcasting!BE$35,Tables!$TK:$UB,Tables!$TT$1,FALSE))","v":""},null,null,null,null,null,{"$f":"IF(OR(CharacterLevel=\"\",Spellcasting!BE$35=\"\"),\"\",VLOOKUP(Spellcasting!BE$35,Tables!$TK:$UB,Tables!$TU$1,FALSE))","v":""},null,null,null,null,{"$f":"IF(OR(CharacterLevel=\"\",Spellcasting!BE$35=\"\"),\"\",VLOOKUP(Spellcasting!BE$35,Tables!$TK:$UB,Tables!$TV$1,FALSE))","v":""},null,null,null,null,null,null,{"$f":"IF(OR(CharacterLevel=\"\",Spellcasting!BE$35=\"\"),\"\",VLOOKUP(Spellcasting!BE$35,Tables!$TK:$UB,Tables!$TW$1,FALSE))","v":""},null,null,null,null,{"$f":"IF(OR(CharacterLevel=\"\",Spellcasting!BE$35=\"\"),\"\",VLOOKUP(Spellcasting!BE$35,Tables!$TK:$UB,Tables!$TZ$1,FALSE))","v":""},null,null,null,null,{"$f":"IF(OR(CharacterLevel=\"\",Spellcasting!BE$35=\"\"),\"\",VLOOKUP(Spellcasting!BE$35,Tables!$TK:$UB,Tables!$UB$1,FALSE))","v":""},null,null,null,null,null,null,null,null,null,null,null,null,null,null,null,null,null,null,null,null,null,null,null,null,{"$f":"ES131+1","v":52}]
[null,{"$f":"IF(CharacterLevel=\"\",'Character Sheet III'!$CF$202,IF(Spellcasting!BC13=\"•\",'Character Sheet III'!$BX$202,'Character Sheet III'!$CF$202))","v":"□"},null,null,{"$f":"IF(OR(CharacterLevel=\"\",Spellcasting!BE$13=\"\"),\"\",VLOOKUP(Spellcasting!BE$13,Tables!$TK:$UB,Tables!$TN$1,FALSE))","v":""},null,null,null,null,null,null,null,null,null,null,null,null,null,null,null,null,{"$f":"IF(OR(CharacterLevel=\"\",Spellcasting!BE$13=\"\"),\"\",VLOOKUP(Spellcasting!BE$13,Tables!$TK:$UB,Tables!$TT$1,FALSE))","v":""},null,null,null,null,null,{"$f":"IF(OR(CharacterLevel=\"\",Spellcasting!BE$13=\"\"),\"\",VLOOKUP(Spellcasting!BE$13,Tables!$TK:$UB,Tables!$TU$1,FALSE))","v":""},null,null,null,null,{"$f":"IF(OR(CharacterLevel=\"\",Spellcasting!BE$13=\"\"),\"\",VLOOKUP(Spellcasting!BE$13,Tables!$TK:$UB,Tables!$TV$1,FALSE))","v":""},null,null,null,null,null,null,{"$f":"IF(OR(CharacterLevel=\"\",Spellcasting!BE$13=\"\"),\"\",VLOOKUP(Spellcasting!BE$13,Tables!$TK:$UB,Tables!$TW$1,FALSE))","v":""},null,null,null,null,{"$f":"IF(OR(CharacterLevel=\"\",Spellcasting!BE$13=\"\"),\"\",VLOOKUP(Spellcasting!BE$13,Tables!$TK:$UB,Tables!$TZ$1,FALSE))","v":""},null,null,null,null,{"$f":"IF(OR(CharacterLevel=\"\",Spellcasting!BE$13=\"\"),\"\",VLOOKUP(Spellcasting!BE$13,Tables!$TK:$UB,Tables!$UB$1,FALSE))","v":""}]
[null,null,null,null,null,null,null,null,null,null,null,null,null,null,null,null,null,null,null,null,null,null,null,null,null,null,null,null,null,null,null,null,null,null,null,null,null,null,null,null,null,null,null,null,null,null,null,null,null,null,null,null,null,null,null,null,null,null,null,null,null,null,null,null,null,null,null,null,null,null,null,null,null,null,null,{"$f":"IF(CharacterLevel=\"\",'Character Sheet III'!$CF$202,IF(Spellcasting!BC36=\"•\",'Character Sheet III'!$BX$202,'Character Sheet III'!$CF$202))","v":"□"},null,null,{"$f":"IF(OR(CharacterLevel=\"\",Spellcasting!BE$36=\"\"),\"\",VLOOKUP(Spellcasting!BE$36,Tables!$TK:$UB,Tables!$TN$1,FALSE))","v":""},null,null,null,null,null,null,null,null,null,null,null,null,null,null,null,null,{"$f":"IF(OR(CharacterLevel=\"\",Spellcasting!BE$36=\"\"),\"\",VLOOKUP(Spellcasting!BE$36,Tables!$TK:$UB,Tables!$TT$1,FALSE))","v":""},null,null,null,null,null,{"$f":"IF(OR(CharacterLevel=\"\",Spellcasting!BE$36=\"\"),\"\",VLOOKUP(Spellcasting!BE$36,Tables!$TK:$UB,Tables!$TU$1,FALSE))","v":""},null,null,null,null,{"$f":"IF(OR(CharacterLevel=\"\",Spellcasting!BE$36=\"\"),\"\",VLOOKUP(Spellcasting!BE$36,Tables!$TK:$UB,Tables!$TV$1,FALSE))","v":""},null,null,null,null,null,null,{"$f":"IF(OR(CharacterLevel=\"\",Spellcasting!BE$36=\"\"),\"\",VLOOKUP(Spellcasting!BE$36,Tables!$TK:$UB,Tables!$TW$1,FALSE))","v":""},null,null,null,null,{"$f":"IF(OR(CharacterLevel=\"\",Spellcasting!BE$36=\"\"),\"\",VLOOKUP(Spellcasting!BE$36,Tables!$TK:$UB,Tables!$TZ$1,FALSE))","v":""},null,null,null,null,{"$f":"IF(OR(CharacterLevel=\"\",Spellcasting!BE$36=\"\"),\"\",VLOOKUP(Spellcasting!BE$36,Tables!$TK:$UB,Tables!$UB$1,FALSE))","v":""},null,null,null,null,null,null,null,null,null,null,null,null,null,null,null,null,null,null,null,null,null,null,null,null,{"$f":"ES133+1","v":53}]
[null,{"$f":"IF(CharacterLevel=\"\",'Character Sheet III'!$CF$202,IF(Spellcasting!BC14=\"•\",'Character Sheet III'!$BX$202,'Character Sheet III'!$CF$202))","v":"□"},null,null,{"$f":"IF(OR(CharacterLevel=\"\",Spellcasting!BE$14=\"\"),\"\",VLOOKUP(Spellcasting!BE$14,Tables!$TK:$UB,Tables!$TN$1,FALSE))","v":""},null,null,null,null,null,null,null,null,null,null,null,null,null,null,null,null,{"$f":"IF(OR(CharacterLevel=\"\",Spellcasting!BE$14=\"\"),\"\",VLOOKUP(Spellcasting!BE$14,Tables!$TK:$UB,Tables!$TT$1,FALSE))","v":""},null,null,null,null,null,{"$f":"IF(OR(CharacterLevel=\"\",Spellcasting!BE$14=\"\"),\"\",VLOOKUP(Spellcasting!BE$14,Tables!$TK:$UB,Tables!$TU$1,FALSE))","v":""},null,null,null,null,{"$f":"IF(OR(CharacterLevel=\"\",Spellcasting!BE$14=\"\"),\"\",VLOOKUP(Spellcasting!BE$14,Tables!$TK:$UB,Tables!$TV$1,FALSE))","v":""},null,null,null,null,null,null,{"$f":"IF(OR(CharacterLevel=\"\",Spellcasting!BE$14=\"\"),\"\",VLOOKUP(Spellcasting!BE$14,Tables!$TK:$UB,Tables!$TW$1,FALSE))","v":""},null,null,null,null,{"$f":"IF(OR(CharacterLevel=\"\",Spellcasting!BE$14=\"\"),\"\",VLOOKUP(Spellcasting!BE$14,Tables!$TK:$UB,Tables!$TZ$1,FALSE))","v":""},null,null,null,null,{"$f":"IF(OR(CharacterLevel=\"\",Spellcasting!BE$14=\"\"),\"\",VLOOKUP(Spellcasting!BE$14,Tables!$TK:$UB,Tables!$UB$1,FALSE))","v":""}]
[null,null,null,null,null,null,null,null,null,null,null,null,null,null,null,null,null,null,null,null,null,null,null,null,null,null,null,null,null,null,null,null,null,null,null,null,null,null,null,null,null,null,null,null,null,null,null,null,null,null,null,null,null,null,null,null,null,null,null,null,null,null,null,null,null,null,null,null,null,null,null,null,null,null,null,{"$f":"IF(CharacterLevel=\"\",'Character Sheet III'!$CF$202,IF(Spellcasting!BC37=\"•\",'Character Sheet III'!$BX$202,'Character Sheet III'!$CF$202))","v":"□"},null,null,{"$f":"IF(OR(CharacterLevel=\"\",Spellcasting!BE$37=\"\"),\"\",VLOOKUP(Spellcasting!BE$37,Tables!$TK:$UB,Tables!$TN$1,FALSE))","v":""},null,null,null,null,null,null,null,null,null,null,null,null,null,null,null,null,{"$f":"IF(OR(CharacterLevel=\"\",Spellcasting!BE$37=\"\"),\"\",VLOOKUP(Spellcasting!BE$37,Tables!$TK:$UB,Tables!$TT$1,FALSE))","v":""},null,null,null,null,null,{"$f":"IF(OR(CharacterLevel=\"\",Spellcasting!BE$37=\"\"),\"\",VLOOKUP(Spellcasting!BE$37,Tables!$TK:$UB,Tables!$TU$1,FALSE))","v":""},null,null,null,null,{"$f":"IF(OR(CharacterLevel=\"\",Spellcasting!BE$37=\"\"),\"\",VLOOKUP(Spellcasting!BE$37,Tables!$TK:$UB,Tables!$TV$1,FALSE))","v":""},null,null,null,null,null,null,{"$f":"IF(OR(CharacterLevel=\"\",Spellcasting!BE$37=\"\"),\"\",VLOOKUP(Spellcasting!BE$37,Tables!$TK:$UB,Tables!$TW$1,FALSE))","v":""},null,null,null,null,{"$f":"IF(OR(CharacterLevel=\"\",Spellcasting!BE$37=\"\"),\"\",VLOOKUP(Spellcasting!BE$37,Tables!$TK:$UB,Tables!$TZ$1,FALSE))","v":""},null,null,null,null,{"$f":"IF(OR(CharacterLevel=\"\",Spellcasting!BE$37=\"\"),\"\",VLOOKUP(Spellcasting!BE$37,Tables!$TK:$UB,Tables!$UB$1,FALSE))","v":""},null,null,null,null,null,null,null,null,null,null,null,null,null,null,null,null,null,null,null,null,null,null,null,null,{"$f":"ES135+1","v":54}]
[null,{"$f":"IF(CharacterLevel=\"\",'Character Sheet III'!$CF$202,IF(Spellcasting!BC15=\"•\",'Character Sheet III'!$BX$202,'Character Sheet III'!$CF$202))","v":"□"},null,null,{"$f":"IF(OR(CharacterLevel=\"\",Spellcasting!BE$15=\"\"),\"\",VLOOKUP(Spellcasting!BE$15,Tables!$TK:$UB,Tables!$TN$1,FALSE))","v":""},null,null,null,null,null,null,null,null,null,null,null,null,null,null,null,null,{"$f":"IF(OR(CharacterLevel=\"\",Spellcasting!BE$15=\"\"),\"\",VLOOKUP(Spellcasting!BE$15,Tables!$TK:$UB,Tables!$TT$1,FALSE))","v":""},null,null,null,null,null,{"$f":"IF(OR(CharacterLevel=\"\",Spellcasting!BE$15=\"\"),\"\",VLOOKUP(Spellcasting!BE$15,Tables!$TK:$UB,Tables!$TU$1,FALSE))","v":""},null,null,null,null,{"$f":"IF(OR(CharacterLevel=\"\",Spellcasting!BE$15=\"\"),\"\",VLOOKUP(Spellcasting!BE$15,Tables!$TK:$UB,Tables!$TV$1,FALSE))","v":""},null,null,null,null,null,null,{"$f":"IF(OR(CharacterLevel=\"\",Spellcasting!BE$15=\"\"),\"\",VLOOKUP(Spellcasting!BE$15,Tables!$TK:$UB,Tables!$TW$1,FALSE))","v":""},null,null,null,null,{"$f":"IF(OR(CharacterLevel=\"\",Spellcasting!BE$15=\"\"),\"\",VLOOKUP(Spellcasting!BE$15,Tables!$TK:$UB,Tables!$TZ$1,FALSE))","v":""},null,null,null,null,{"$f":"IF(OR(CharacterLevel=\"\",Spellcasting!BE$15=\"\"),\"\",VLOOKUP(Spellcasting!BE$15,Tables!$TK:$UB,Tables!$UB$1,FALSE))","v":""}]
[null,null,null,null,null,null,null,null,null,null,null,null,null,null,null,null,null,null,null,null,null,null,null,null,null,null,null,null,null,null,null,null,null,null,null,null,null,null,null,null,null,null,null,null,null,null,null,null,null,null,null,null,null,null,null,null,null,null,null,null,null,null,null,null,null,null,null,null,null,null,null,null,null,null,null,{"$f":"IF(CharacterLevel=\"\",'Character Sheet III'!$CF$202,IF(Spellcasting!BC38=\"•\",'Character Sheet III'!$BX$202,'Character Sheet III'!$CF$202))","v":"□"},null,null,{"$f":"IF(OR(CharacterLevel=\"\",Spellcasting!BE$38=\"\"),\"\",VLOOKUP(Spellcasting!BE$38,Tables!$TK:$UB,Tables!$TN$1,FALSE))","v":""},null,null,null,null,null,null,null,null,null,null,null,null,null,null,null,null,{"$f":"IF(OR(CharacterLevel=\"\",Spellcasting!BE$38=\"\"),\"\",VLOOKUP(Spellcasting!BE$38,Tables!$TK:$UB,Tables!$TT$1,FALSE))","v":""},null,null,null,null,null,{"$f":"IF(OR(CharacterLevel=\"\",Spellcasting!BE$38=\"\"),\"\",VLOOKUP(Spellcasting!BE$38,Tables!$TK:$UB,Tables!$TU$1,FALSE))","v":""},null,null,null,null,{"$f":"IF(OR(CharacterLevel=\"\",Spellcasting!BE$38=\"\"),\"\",VLOOKUP(Spellcasting!BE$38,Tables!$TK:$UB,Tables!$TV$1,FALSE))","v":""},null,null,null,null,null,null,{"$f":"IF(OR(CharacterLevel=\"\",Spellcasting!BE$38=\"\"),\"\",VLOOKUP(Spellcasting!BE$38,Tables!$TK:$UB,Tables!$TW$1,FALSE))","v":""},null,null,null,null,{"$f":"IF(OR(CharacterLevel=\"\",Spellcasting!BE$38=\"\"),\"\",VLOOKUP(Spellcasting!BE$38,Tables!$TK:$UB,Tables!$TZ$1,FALSE))","v":""},null,null,null,null,{"$f":"IF(OR(CharacterLevel=\"\",Spellcasting!BE$38=\"\"),\"\",VLOOKUP(Spellcasting!BE$38,Tables!$TK:$UB,Tables!$UB$1,FALSE))","v":""},null,null,null,null,null,null,null,null,null,null,null,null,null,null,null,null,null,null,null,null,null,null,null,null,{"$f":"ES137+1","v":55}]
[null,{"$f":"IF(CharacterLevel=\"\",'Character Sheet III'!$CF$202,IF(Spellcasting!BC16=\"•\",'Character Sheet III'!$BX$202,'Character Sheet III'!$CF$202))","v":"□"},null,null,{"$f":"IF(OR(CharacterLevel=\"\",Spellcasting!BE$16=\"\"),\"\",VLOOKUP(Spellcasting!BE$16,Tables!$TK:$UB,Tables!$TN$1,FALSE))","v":""},null,null,null,null,null,null,null,null,null,null,null,null,null,null,null,null,{"$f":"IF(OR(CharacterLevel=\"\",Spellcasting!BE$16=\"\"),\"\",VLOOKUP(Spellcasting!BE$16,Tables!$TK:$UB,Tables!$TT$1,FALSE))","v":""},null,null,null,null,null,{"$f":"IF(OR(CharacterLevel=\"\",Spellcasting!BE$16=\"\"),\"\",VLOOKUP(Spellcasting!BE$16,Tables!$TK:$UB,Tables!$TU$1,FALSE))","v":""},null,null,null,null,{"$f":"IF(OR(CharacterLevel=\"\",Spellcasting!BE$16=\"\"),\"\",VLOOKUP(Spellcasting!BE$16,Tables!$TK:$UB,Tables!$TV$1,FALSE))","v":""},null,null,null,null,null,null,{"$f":"IF(OR(CharacterLevel=\"\",Spellcasting!BE$16=\"\"),\"\",VLOOKUP(Spellcasting!BE$16,Tables!$TK:$UB,Tables!$TW$1,FALSE))","v":""},null,null,null,null,{"$f":"IF(OR(CharacterLevel=\"\",Spellcasting!BE$16=\"\"),\"\",VLOOKUP(Spellcasting!BE$16,Tables!$TK:$UB,Tables!$TZ$1,FALSE))","v":""},null,null,null,null,{"$f":"IF(OR(CharacterLevel=\"\",Spellcasting!BE$16=\"\"),\"\",VLOOKUP(Spellcasting!BE$16,Tables!$TK:$UB,Tables!$UB$1,FALSE))","v":""}]
[null,null,null,null,{"$f":"IF(OR(CharacterLevel=\"\",Spellcasting!AQ72=\"\"),\"\",VLOOKUP(Spellcasting!AQ72,Tables!TK:UB,Tables!$TN$1,FALSE))","v":""},null,null,null,null,null,null,null,null,null,null,null,null,null,null,null,null,null,null,null,null,null,null,null,null,null,null,null,null,null,null,null,null,null,null,null,null,null,null,null,null,null,null,null,null,null,null,null,null,null,null,null,null,null,null,null,null,null,null,null,null,null,null,null,null,null,null,null,null,null,null,{"$f":"IF(CharacterLevel=\"\",'Character Sheet III'!$CF$202,IF(Spellcasting!BC39=\"•\",'Character Sheet III'!$BX$202,'Character Sheet III'!$CF$202))","v":"□"},null,null,{"$f":"IF(OR(CharacterLevel=\"\",Spellcasting!BE$39=\"\"),\"\",VLOOKUP(Spellcasting!BE$39,Tables!$TK:$UB,Tables!$TN$1,FALSE))","v":""},null,null,null,null,null,null,null,null,null,null,null,null,null,null,null,null,{"$f":"IF(OR(CharacterLevel=\"\",Spellcasting!BE$39=\"\"),\"\",VLOOKUP(Spellcasting!BE$39,Tables!$TK:$UB,Tables!$TT$1,FALSE))","v":""},null,null,null,null,null,{"$f":"IF(OR(CharacterLevel=\"\",Spellcasting!BE$39=\"\"),\"\",VLOOKUP(Spellcasting!BE$39,Tables!$TK:$UB,Tables!$TU$1,FALSE))","v":""},null,null,null,null,{"$f":"IF(OR(CharacterLevel=\"\",Spellcasting!BE$39=\"\"),\"\",VLOOKUP(Spellcasting!BE$39,Tables!$TK:$UB,Tables!$TV$1,FALSE))","v":""},null,null,null,null,null,null,{"$f":"IF(OR(CharacterLevel=\"\",Spellcasting!BE$39=\"\"),\"\",VLOOKUP(Spellcasting!BE$39,Tables!$TK:$UB,Tables!$TW$1,FALSE))","v":""},null,null,null,null,{"$f":"IF(OR(CharacterLevel=\"\",Spellcasting!BE$39=\"\"),\"\",VLOOKUP(Spellcasting!BE$39,Tables!$TK:$UB,Tables!$TZ$1,FALSE))","v":""},null,null,null,null,{"$f":"IF(OR(CharacterLevel=\"\",Spellcasting!BE$39=\"\"),\"\",VLOOKUP(Spellcasting!BE$39,Tables!$TK:$UB,Tables!$UB$1,FALSE))","v":""},null,null,null,null,null,null,null,null,null,null,null,null,null,null,null,null,null,null,null,null,null,null,null,null,{"$f":"ES139+1","v":56}]
[null,{"$f":"IF(CharacterLevel=\"\",'Character Sheet III'!$CF$202,IF(Spellcasting!BC17=\"•\",'Character Sheet III'!$BX$202,'Character Sheet III'!$CF$202))","v":"□"},null,null,{"$f":"IF(OR(CharacterLevel=\"\",Spellcasting!BE$17=\"\"),\"\",VLOOKUP(Spellcasting!BE$17,Tables!$TK:$UB,Tables!$TN$1,FALSE))","v":""},null,null,null,null,null,null,null,null,null,null,null,null,null,null,null,null,{"$f":"IF(OR(CharacterLevel=\"\",Spellcasting!BE$17=\"\"),\"\",VLOOKUP(Spellcasting!BE$17,Tables!$TK:$UB,Tables!$TT$1,FALSE))","v":""},null,null,null,null,null,{"$f":"IF(OR(CharacterLevel=\"\",Spellcasting!BE$17=\"\"),\"\",VLOOKUP(Spellcasting!BE$17,Tables!$TK:$UB,Tables!$TU$1,FALSE))","v":""},null,null,null,null,{"$f":"IF(OR(CharacterLevel=\"\",Spellcasting!BE$17=\"\"),\"\",VLOOKUP(Spellcasting!BE$17,Tables!$TK:$UB,Tables!$TV$1,FALSE))","v":""},null,null,null,null,null,null,{"$f":"IF(OR(CharacterLevel=\"\",Spellcasting!BE$17=\"\"),\"\",VLOOKUP(Spellcasting!BE$17,Tables!$TK:$UB,Tables!$TW$1,FALSE))","v":""},null,null,null,null,{"$f":"IF(OR(CharacterLevel=\"\",Spellcasting!BE$17=\"\"),\"\",VLOOKUP(Spellcasting!BE$17,Tables!$TK:$UB,Tables!$TZ$1,FALSE))","v":""},null,null,null,null,{"$f":"IF(OR(CharacterLevel=\"\",Spellcasting!BE$17=\"\"),\"\",VLOOKUP(Spellcasting!BE$17,Tables!$TK:$UB,Tables!$UB$1,FALSE))","v":""}]
[null,null,null,null,{"$f":"IF(OR(CharacterLevel=\"\",Spellcasting!AQ74=\"\"),\"\",VLOOKUP(Spellcasting!AQ74,Tables!TK:UB,Tables!$TN$1,FALSE))","v":""},null,null,null,null,null,null,null,null,null,null,null,null,null,null,null,null,null,null,null,null,null,null,null,null,null,null,null,null,null,null,null,null,null,null,null,null,null,null,null,null,null,null,null,null,null,null,null,null,null,null,null,null,null,null,null,null,null,null,null,null,null,null,null,null,null,null,null,null,null,null,{"$f":"IF(CharacterLevel=\"\",'Character Sheet III'!$CF$202,IF(Spellcasting!BC40=\"•\",'Character Sheet III'!$BX$202,'Character Sheet III'!$CF$202))","v":"□"},null,null,{"$f":"IF(OR(CharacterLevel=\"\",Spellcasting!BE$40=\"\"),\"\",VLOOKUP(Spellcasting!BE$40,Tables!$TK:$UB,Tables!$TN$1,FALSE))","v":""},null,null,null,null,null,null,null,null,null,null,null,null,null,null,null,null,{"$f":"IF(OR(CharacterLevel=\"\",Spellcasting!BE$40=\"\"),\"\",VLOOKUP(Spellcasting!BE$40,Tables!$TK:$UB,Tables!$TT$1,FALSE))","v":""},null,null,null,null,null,{"$f":"IF(OR(CharacterLevel=\"\",Spellcasting!BE$40=\"\"),\"\",VLOOKUP(Spellcasting!BE$40,Tables!$TK:$UB,Tables!$TU$1,FALSE))","v":""},null,null,null,null,{"$f":"IF(OR(CharacterLevel=\"\",Spellcasting!BE$40=\"\"),\"\",VLOOKUP(Spellcasting!BE$40,Tables!$TK:$UB,Tables!$TV$1,FALSE))","v":""},null,null,null,null,null,null,{"$f":"IF(OR(CharacterLevel=\"\",Spellcasting!BE$40=\"\"),\"\",VLOOKUP(Spellcasting!BE$40,Tables!$TK:$UB,Tables!$TW$1,FALSE))","v":""},null,null,null,null,{"$f":"IF(OR(CharacterLevel=\"\",Spellcasting!BE$40=\"\"),\"\",VLOOKUP(Spellcasting!BE$40,Tables!$TK:$UB,Tables!$TZ$1,FALSE))","v":""},null,null,null,null,{"$f":"IF(OR(CharacterLevel=\"\",Spellcasting!BE$40=\"\"),\"\",VLOOKUP(Spellcasting!BE$40,Tables!$TK:$UB,Tables!$UB$1,FALSE))","v":""},null,null,null,null,null,null,null,null,null,null,null,null,null,null,null,null,null,null,null,null,null,null,null,null,{"$f":"ES141+1","v":57}]
[null,{"$f":"IF(CharacterLevel=\"\",'Character Sheet III'!$CF$202,IF(Spellcasting!BC18=\"•\",'Character Sheet III'!$BX$202,'Character Sheet III'!$CF$202))","v":"□"},null,null,{"$f":"IF(OR(CharacterLevel=\"\",Spellcasting!BE$18=\"\"),\"\",VLOOKUP(Spellcasting!BE$18,Tables!$TK:$UB,Tables!$TN$1,FALSE))","v":""},null,null,null,null,null,null,null,null,null,null,null,null,null,null,null,null,{"$f":"IF(OR(CharacterLevel=\"\",Spellcasting!BE$18=\"\"),\"\",VLOOKUP(Spellcasting!BE$18,Tables!$TK:$UB,Tables!$TT$1,FALSE))","v":""},null,null,null,null,null,{"$f":"IF(OR(CharacterLevel=\"\",Spellcasting!BE$18=\"\"),\"\",VLOOKUP(Spellcasting!BE$18,Tables!$TK:$UB,Tables!$TU$1,FALSE))","v":""},null,null,null,null,{"$f":"IF(OR(CharacterLevel=\"\",Spellcasting!BE$18=\"\"),\"\",VLOOKUP(Spellcasting!BE$18,Tables!$TK:$UB,Tables!$TV$1,FALSE))","v":""},null,null,null,null,null,null,{"$f":"IF(OR(CharacterLevel=\"\",Spellcasting!BE$18=\"\"),\"\",VLOOKUP(Spellcasting!BE$18,Tables!$TK:$UB,Tables!$TW$1,FALSE))","v":""},null,null,null,null,{"$f":"IF(OR(CharacterLevel=\"\",Spellcasting!BE$18=\"\"),\"\",VLOOKUP(Spellcasting!BE$18,Tables!$TK:$UB,Tables!$TZ$1,FALSE))","v":""},null,null,null,null,{"$f":"IF(OR(CharacterLevel=\"\",Spellcasting!BE$18=\"\"),\"\",VLOOKUP(Spellcasting!BE$18,Tables!$TK:$UB,Tables!$UB$1,FALSE))","v":""}]
[null,null,null,null,{"$f":"IF(OR(CharacterLevel=\"\",Spellcasting!AQ76=\"\"),\"\",VLOOKUP(Spellcasting!AQ76,Tables!TK:UB,Tables!$TN$1,FALSE))","v":""},null,null,null,null,null,null,null,null,null,null,null,null,null,null,null,null,null,null,null,null,null,null,null,null,null,null,null,null,null,null,null,null,null,null,null,null,null,null,null,null,null,null,null,null,null,null,null,null,null,null,null,null,null,null,null,null,null,null,null,null,null,null,null,null,null,null,null,null,null,null,{"$f":"IF(CharacterLevel=\"\",'Character Sheet III'!$CF$202,IF(Spellcasting!BC41=\"•\",'Character Sheet III'!$BX$202,'Character Sheet III'!$CF$202))","v":"□"},null,null,{"$f":"IF(OR(CharacterLevel=\"\",Spellcasting!BE$41=\"\"),\"\",VLOOKUP(Spellcasting!BE$41,Tables!$TK:$UB,Tables!$TN$1,FALSE))","v":""},null,null,null,null,null,null,null,null,null,null,null,null,null,null,null,null,{"$f":"IF(OR(CharacterLevel=\"\",Spellcasting!BE$41=\"\"),\"\",VLOOKUP(Spellcasting!BE$41,Tables!$TK:$UB,Tables!$TT$1,FALSE))","v":""},null,null,null,null,null,{"$f":"IF(OR(CharacterLevel=\"\",Spellcasting!BE$41=\"\"),\"\",VLOOKUP(Spellcasting!BE$41,Tables!$TK:$UB,Tables!$TU$1,FALSE))","v":""},null,null,null,null,{"$f":"IF(OR(CharacterLevel=\"\",Spellcasting!BE$41=\"\"),\"\",VLOOKUP(Spellcasting!BE$41,Tables!$TK:$UB,Tables!$TV$1,FALSE))","v":""},null,null,null,null,null,null,{"$f":"IF(OR(CharacterLevel=\"\",Spellcasting!BE$41=\"\"),\"\",VLOOKUP(Spellcasting!BE$41,Tables!$TK:$UB,Tables!$TW$1,FALSE))","v":""},null,null,null,null,{"$f":"IF(OR(CharacterLevel=\"\",Spellcasting!BE$41=\"\"),\"\",VLOOKUP(Spellcasting!BE$41,Tables!$TK:$UB,Tables!$TZ$1,FALSE))","v":""},null,null,null,null,{"$f":"IF(OR(CharacterLevel=\"\",Spellcasting!BE$41=\"\"),\"\",VLOOKUP(Spellcasting!BE$41,Tables!$TK:$UB,Tables!$UB$1,FALSE))","v":""}]
[null,{"$f":"IF(CharacterLevel=\"\",'Character Sheet III'!$CF$202,IF(Spellcasting!BC19=\"•\",'Character Sheet III'!$BX$202,'Character Sheet III'!$CF$202))","v":"□"},null,null,{"$f":"IF(OR(CharacterLevel=\"\",Spellcasting!BE$19=\"\"),\"\",VLOOKUP(Spellcasting!BE$19,Tables!$TK:$UB,Tables!$TN$1,FALSE))","v":""},null,null,null,null,null,null,null,null,null,null,null,null,null,null,null,null,{"$f":"IF(OR(CharacterLevel=\"\",Spellcasting!BE$19=\"\"),\"\",VLOOKUP(Spellcasting!BE$19,Tables!$TK:$UB,Tables!$TT$1,FALSE))","v":""},null,null,null,null,null,{"$f":"IF(OR(CharacterLevel=\"\",Spellcasting!BE$19=\"\"),\"\",VLOOKUP(Spellcasting!BE$19,Tables!$TK:$UB,Tables!$TU$1,FALSE))","v":""},null,null,null,null,{"$f":"IF(OR(CharacterLevel=\"\",Spellcasting!BE$19=\"\"),\"\",VLOOKUP(Spellcasting!BE$19,Tables!$TK:$UB,Tables!$TV$1,FALSE))","v":""},null,null,null,null,null,null,{"$f":"IF(OR(CharacterLevel=\"\",Spellcasting!BE$19=\"\"),\"\",VLOOKUP(Spellcasting!BE$19,Tables!$TK:$UB,Tables!$TW$1,FALSE))","v":""},null,null,null,null,{"$f":"IF(OR(CharacterLevel=\"\",Spellcasting!BE$19=\"\"),\"\",VLOOKUP(Spellcasting!BE$19,Tables!$TK:$UB,Tables!$TZ$1,FALSE))","v":""},null,null,null,null,{"$f":"IF(OR(CharacterLevel=\"\",Spellcasting!BE$19=\"\"),\"\",VLOOKUP(Spellcasting!BE$19,Tables!$TK:$UB,Tables!$UB$1,FALSE))","v":""}]
[null,null,null,null,{"$f":"IF(OR(CharacterLevel=\"\",Spellcasting!AQ78=\"\"),\"\",VLOOKUP(Spellcasting!AQ78,Tables!TK:UB,Tables!$TN$1,FALSE))","v":""},null,null,null,null,null,null,null,null,null,null,null,null,null,null,null,null,null,null,null,null,null,null,null,null,null,null,null,null,null,null,null,null,null,null,null,null,null,null,null,null,null,null,null,null,null,null,null,null,null,null,null,null,null,null,null,null,null,null,null,null,null,null,null,null,null,null,null,null,null,null,{"$f":"IF(CharacterLevel=\"\",'Character Sheet III'!$CF$202,IF(Spellcasting!BC42=\"•\",'Character Sheet III'!$BX$202,'Character Sheet III'!$CF$202))","v":"□"},null,null,{"$f":"IF(OR(CharacterLevel=\"\",Spellcasting!BE$42=\"\"),\"\",VLOOKUP(Spellcasting!BE$42,Tables!$TK:$UB,Tables!$TN$1,FALSE))","v":""},null,null,null,null,null,null,null,null,null,null,null,null,null,null,null,null,{"$f":"IF(OR(CharacterLevel=\"\",Spellcasting!BE$42=\"\"),\"\",VLOOKUP(Spellcasting!BE$42,Tables!$TK:$UB,Tables!$TT$1,FALSE))","v":""},null,null,null,null,null,{"$f":"IF(OR(CharacterLevel=\"\",Spellcasting!BE$42=\"\"),\"\",VLOOKUP(Spellcasting!BE$42,Tables!$TK:$UB,Tables!$TU$1,FALSE))","v":""},null,null,null,null,{"$f":"IF(OR(CharacterLevel=\"\",Spellcasting!BE$42=\"\"),\"\",VLOOKUP(Spellcasting!BE$42,Tables!$TK:$UB,Tables!$TV$1,FALSE))","v":""},null,null,null,null,null,null,{"$f":"IF(OR(CharacterLevel=\"\",Spellcasting!BE$42=\"\"),\"\",VLOOKUP(Spellcasting!BE$42,Tables!$TK:$UB,Tables!$TW$1,FALSE))","v":""},null,null,null,null,{"$f":"IF(OR(CharacterLevel=\"\",Spellcasting!BE$42=\"\"),\"\",VLOOKUP(Spellcasting!BE$42,Tables!$TK:$UB,Tables!$TZ$1,FALSE))","v":""},null,null,null,null,{"$f":"IF(OR(CharacterLevel=\"\",Spellcasting!BE$42=\"\"),\"\",VLOOKUP(Spellcasting!BE$42,Tables!$TK:$UB,Tables!$UB$1,FALSE))","v":""}]
[null,{"$f":"IF(CharacterLevel=\"\",'Character Sheet III'!$CF$202,IF(Spellcasting!BC20=\"•\",'Character Sheet III'!$BX$202,'Character Sheet III'!$CF$202))","v":"□"},null,null,{"$f":"IF(OR(CharacterLevel=\"\",Spellcasting!BE$20=\"\"),\"\",VLOOKUP(Spellcasting!BE$20,Tables!$TK:$UB,Tables!$TN$1,FALSE))","v":""},null,null,null,null,null,null,null,null,null,null,null,null,null,null,null,null,{"$f":"IF(OR(CharacterLevel=\"\",Spellcasting!BE$20=\"\"),\"\",VLOOKUP(Spellcasting!BE$20,Tables!$TK:$UB,Tables!$TT$1,FALSE))","v":""},null,null,null,null,null,{"$f":"IF(OR(CharacterLevel=\"\",Spellcasting!BE$20=\"\"),\"\",VLOOKUP(Spellcasting!BE$20,Tables!$TK:$UB,Tables!$TU$1,FALSE))","v":""},null,null,null,null,{"$f":"IF(OR(CharacterLevel=\"\",Spellcasting!BE$20=\"\"),\"\",VLOOKUP(Spellcasting!BE$20,Tables!$TK:$UB,Tables!$TV$1,FALSE))","v":""},null,null,null,null,null,null,{"$f":"IF(OR(CharacterLevel=\"\",Spellcasting!BE$20=\"\"),\"\",VLOOKUP(Spellcasting!BE$20,Tables!$TK:$UB,Tables!$TW$1,FALSE))","v":""},null,null,null,null,{"$f":"IF(OR(CharacterLevel=\"\",Spellcasting!BE$20=\"\"),\"\",VLOOKUP(Spellcasting!BE$20,Tables!$TK:$UB,Tables!$TZ$1,FALSE))","v":""},null,null,null,null,{"$f":"IF(OR(CharacterLevel=\"\",Spellcasting!BE$20=\"\"),\"\",VLOOKUP(Spellcasting!BE$20,Tables!$TK:$UB,Tables!$UB$1,FALSE))","v":""}]
[null,null,null,null,{"$f":"IF(OR(CharacterLevel=\"\",Spellcasting!AQ80=\"\"),\"\",VLOOKUP(Spellcasting!AQ80,Tables!TK:UB,Tables!$TN$1,FALSE))","v":""},null,null,null,null,null,null,null,null,null,null,null,null,null,null,null,null,null,null,null,null,null,null,null,null,null,null,null,null,null,null,null,null,null,null,null,null,null,null,null,null,null,null,null,null,null,null,null,null,null,null,null,null,null,null,null,null,null,null,null,null,null,null,null,null,null,null,null,null,null,null,{"$f":"IF(CharacterLevel=\"\",'Character Sheet III'!$CF$202,IF(Spellcasting!BC43=\"•\",'Character Sheet III'!$BX$202,'Character Sheet III'!$CF$202))","v":"□"},null,null,{"$f":"IF(OR(CharacterLevel=\"\",Spellcasting!BE$43=\"\"),\"\",VLOOKUP(Spellcasting!BE$43,Tables!$TK:$UB,Tables!$TN$1,FALSE))","v":""},null,null,null,null,null,null,null,null,null,null,null,null,null,null,null,null,{"$f":"IF(OR(CharacterLevel=\"\",Spellcasting!BE$43=\"\"),\"\",VLOOKUP(Spellcasting!BE$43,Tables!$TK:$UB,Tables!$TT$1,FALSE))","v":""},null,null,null,null,null,{"$f":"IF(OR(CharacterLevel=\"\",Spellcasting!BE$43=\"\"),\"\",VLOOKUP(Spellcasting!BE$43,Tables!$TK:$UB,Tables!$TU$1,FALSE))","v":""},null,null,null,null,{"$f":"IF(OR(CharacterLevel=\"\",Spellcasting!BE$43=\"\"),\"\",VLOOKUP(Spellcasting!BE$43,Tables!$TK:$UB,Tables!$TV$1,FALSE))","v":""},null,null,null,null,null,null,{"$f":"IF(OR(CharacterLevel=\"\",Spellcasting!BE$43=\"\"),\"\",VLOOKUP(Spellcasting!BE$43,Tables!$TK:$UB,Tables!$TW$1,FALSE))","v":""},null,null,null,null,{"$f":"IF(OR(CharacterLevel=\"\",Spellcasting!BE$43=\"\"),\"\",VLOOKUP(Spellcasting!BE$43,Tables!$TK:$UB,Tables!$TZ$1,FALSE))","v":""},null,null,null,null,{"$f":"IF(OR(CharacterLevel=\"\",Spellcasting!BE$43=\"\"),\"\",VLOOKUP(Spellcasting!BE$43,Tables!$TK:$UB,Tables!$UB$1,FALSE))","v":""}]
[null,{"$f":"IF(CharacterLevel=\"\",'Character Sheet III'!$CF$202,IF(Spellcasting!BC21=\"•\",'Character Sheet III'!$BX$202,'Character Sheet III'!$CF$202))","v":"□"},null,null,{"$f":"IF(OR(CharacterLevel=\"\",Spellcasting!BE$21=\"\"),\"\",VLOOKUP(Spellcasting!BE$21,Tables!$TK:$UB,Tables!$TN$1,FALSE))","v":""},null,null,null,null,null,null,null,null,null,null,null,null,null,null,null,null,{"$f":"IF(OR(CharacterLevel=\"\",Spellcasting!BE$21=\"\"),\"\",VLOOKUP(Spellcasting!BE$21,Tables!$TK:$UB,Tables!$TT$1,FALSE))","v":""},null,null,null,null,null,{"$f":"IF(OR(CharacterLevel=\"\",Spellcasting!BE$21=\"\"),\"\",VLOOKUP(Spellcasting!BE$21,Tables!$TK:$UB,Tables!$TU$1,FALSE))","v":""},null,null,null,null,{"$f":"IF(OR(CharacterLevel=\"\",Spellcasting!BE$21=\"\"),\"\",VLOOKUP(Spellcasting!BE$21,Tables!$TK:$UB,Tables!$TV$1,FALSE))","v":""},null,null,null,null,null,null,{"$f":"IF(OR(CharacterLevel=\"\",Spellcasting!BE$21=\"\"),\"\",VLOOKUP(Spellcasting!BE$21,Tables!$TK:$UB,Tables!$TW$1,FALSE))","v":""},null,null,null,null,{"$f":"IF(OR(CharacterLevel=\"\",Spellcasting!BE$21=\"\"),\"\",VLOOKUP(Spellcasting!BE$21,Tables!$TK:$UB,Tables!$TZ$1,FALSE))","v":""},null,null,null,null,{"$f":"IF(OR(CharacterLevel=\"\",Spellcasting!BE$21=\"\"),\"\",VLOOKUP(Spellcasting!BE$21,Tables!$TK:$UB,Tables!$UB$1,FALSE))","v":""},null,null,null,null,null,null,null,null,null,null,null,null,null,null,null,null,null,null,null,null,null,null,null,null,null,null,null,null,{"$f":"IF(OR(CharacterLevel=\"\",Spellcasting!#REF!=\"\"),\"\",VLOOKUP(Spellcasting!#REF!,Tables!WX:XQ,Tables!$TN$1,FALSE))","v":{"$error":"#REF!"}}]
[null,null,null,null,{"$f":"IF(OR(CharacterLevel=\"\",Spellcasting!AQ82=\"\"),\"\",VLOOKUP(Spellcasting!AQ82,Tables!TK:UB,Tables!$TN$1,FALSE))","v":""},null,null,null,null,null,null,null,null,null,null,null,null,null,null,null,null,null,null,null,null,null,null,null,null,null,null,null,null,null,null,null,null,null,null,null,null,null,null,null,null,null,null,null,null,null,null,null,null,null,null,null,null,null,null,null,null,null,null,null,null,null,null,null,null,null,null,null,null,null,null,{"$f":"IF(CharacterLevel=\"\",'Character Sheet III'!$CF$202,IF(Spellcasting!BC44=\"•\",'Character Sheet III'!$BX$202,'Character Sheet III'!$CF$202))","v":"□"},null,null,{"$f":"IF(OR(CharacterLevel=\"\",Spellcasting!BE$44=\"\"),\"\",VLOOKUP(Spellcasting!BE$44,Tables!$TK:$UB,Tables!$TN$1,FALSE))","v":""},null,null,null,null,null,null,null,null,null,null,null,null,null,null,null,null,{"$f":"IF(OR(CharacterLevel=\"\",Spellcasting!BE$44=\"\"),\"\",VLOOKUP(Spellcasting!BE$44,Tables!$TK:$UB,Tables!$TT$1,FALSE))","v":""},null,null,null,null,null,{"$f":"IF(OR(CharacterLevel=\"\",Spellcasting!BE$44=\"\"),\"\",VLOOKUP(Spellcasting!BE$44,Tables!$TK:$UB,Tables!$TU$1,FALSE))","v":""},null,null,null,null,{"$f":"IF(OR(CharacterLevel=\"\",Spellcasting!BE$44=\"\"),\"\",VLOOKUP(Spellcasting!BE$44,Tables!$TK:$UB,Tables!$TV$1,FALSE))","v":""},null,null,null,null,null,null,{"$f":"IF(OR(CharacterLevel=\"\",Spellcasting!BE$44=\"\"),\"\",VLOOKUP(Spellcasting!BE$44,Tables!$TK:$UB,Tables!$TW$1,FALSE))","v":""},null,null,null,null,{"$f":"IF(OR(CharacterLevel=\"\",Spellcasting!BE$44=\"\"),\"\",VLOOKUP(Spellcasting!BE$44,Tables!$TK:$UB,Tables!$TZ$1,FALSE))","v":""},null,null,null,null,{"$f":"IF(OR(CharacterLevel=\"\",Spellcasting!BE$44=\"\"),\"\",VLOOKUP(Spellcasting!BE$44,Tables!$TK:$UB,Tables!$UB$1,FALSE))","v":""}]
[null,{"$f":"IF(CharacterLevel=\"\",'Character Sheet III'!$CF$202,IF(Spellcasting!BC22=\"•\",'Character Sheet III'!$BX$202,'Character Sheet III'!$CF$202))","v":"□"},null,null,{"$f":"IF(OR(CharacterLevel=\"\",Spellcasting!BE$22=\"\"),\"\",VLOOKUP(Spellcasting!BE$22,Tables!$TK:$UB,Tables!$TN$1,FALSE))","v":""},null,null,null,null,null,null,null,null,null,null,null,null,null,null,null,null,{"$f":"IF(OR(CharacterLevel=\"\",Spellcasting!BE$22=\"\"),\"\",VLOOKUP(Spellcasting!BE$22,Tables!$TK:$UB,Tables!$TT$1,FALSE))","v":""},null,null,null,null,null,{"$f":"IF(OR(CharacterLevel=\"\",Spellcasting!BE$22=\"\"),\"\",VLOOKUP(Spellcasting!BE$22,Tables!$TK:$UB,Tables!$TU$1,FALSE))","v":""},null,null,null,null,{"$f":"IF(OR(CharacterLevel=\"\",Spellcasting!BE$22=\"\"),\"\",VLOOKUP(Spellcasting!BE$22,Tables!$TK:$UB,Tables!$TV$1,FALSE))","v":""},null,null,null,null,null,null,{"$f":"IF(OR(CharacterLevel=\"\",Spellcasting!BE$22=\"\"),\"\",VLOOKUP(Spellcasting!BE$22,Tables!$TK:$UB,Tables!$TW$1,FALSE))","v":""},null,null,null,null,{"$f":"IF(OR(CharacterLevel=\"\",Spellcasting!BE$22=\"\"),\"\",VLOOKUP(Spellcasting!BE$22,Tables!$TK:$UB,Tables!$TZ$1,FALSE))","v":""},null,null,null,null,{"$f":"IF(OR(CharacterLevel=\"\",Spellcasting!BE$22=\"\"),\"\",VLOOKUP(Spellcasting!BE$22,Tables!$TK:$UB,Tables!$UB$1,FALSE))","v":""},null,null,null,null,null,null,null,null,null,null,null,null,null,null,null,null,null,null,null,null,null,null,null,null,null,null,null,null,{"$f":"IF(OR(CharacterLevel=\"\",Spellcasting!#REF!=\"\"),\"\",VLOOKUP(Spellcasting!#REF!,Tables!WX:XQ,Tables!$TN$1,FALSE))","v":{"$error":"#REF!"}}]
[null,null,null,null,{"$f":"IF(OR(CharacterLevel=\"\",Spellcasting!AQ84=\"\"),\"\",VLOOKUP(Spellcasting!AQ84,Tables!TK:UB,Tables!$TN$1,FALSE))","v":""},null,null,null,null,null,null,null,null,null,null,null,null,null,null,null,null,null,null,null,null,null,null,null,null,null,null,null,null,null,null,null,null,null,null,null,null,null,null,null,null,null,null,null,null,null,null,null,null,null,null,null,null,null,null,null,null,null,null,null,null,null,null,null,null,null,null,null,null,null,null,"LEVEL 8"]
[null,{"$f":"IF(CharacterLevel=\"\",'Character Sheet III'!$CF$202,IF(Spellcasting!BC23=\"•\",'Character Sheet III'!$BX$202,'Character Sheet III'!$CF$202))","v":"□"},null,null,{"$f":"IF(OR(CharacterLevel=\"\",Spellcasting!BE$23=\"\"),\"\",VLOOKUP(Spellcasting!BE$23,Tables!$TK:$UB,Tables!$TN$1,FALSE))","v":""},null,null,null,null,null,null,null,null,null,null,null,null,null,null,null,null,{"$f":"IF(OR(CharacterLevel=\"\",Spellcasting!BE$23=\"\"),\"\",VLOOKUP(Spellcasting!BE$23,Tables!$TK:$UB,Tables!$TT$1,FALSE))","v":""},null,null,null,null,null,{"$f":"IF(OR(CharacterLevel=\"\",Spellcasting!BE$23=\"\"),\"\",VLOOKUP(Spellcasting!BE$23,Tables!$TK:$UB,Tables!$TU$1,FALSE))","v":""},null,null,null,null,{"$f":"IF(OR(CharacterLevel=\"\",Spellcasting!BE$23=\"\"),\"\",VLOOKUP(Spellcasting!BE$23,Tables!$TK:$UB,Tables!$TV$1,FALSE))","v":""},null,null,null,null,null,null,{"$f":"IF(OR(CharacterLevel=\"\",Spellcasting!BE$23=\"\"),\"\",VLOOKUP(Spellcasting!BE$23,Tables!$TK:$UB,Tables!$TW$1,FALSE))","v":""},null,null,null,null,{"$f":"IF(OR(CharacterLevel=\"\",Spellcasting!BE$23=\"\"),\"\",VLOOKUP(Spellcasting!BE$23,Tables!$TK:$UB,Tables!$TZ$1,FALSE))","v":""},null,null,null,null,{"$f":"IF(OR(CharacterLevel=\"\",Spellcasting!BE$23=\"\"),\"\",VLOOKUP(Spellcasting!BE$23,Tables!$TK:$UB,Tables!$UB$1,FALSE))","v":""}]
[null,null,null,null,{"$f":"IF(OR(CharacterLevel=\"\",Spellcasting!AQ87=\"\"),\"\",VLOOKUP(Spellcasting!AQ87,Tables!TK:UB,Tables!$TN$1,FALSE))","v":""},null,null,null,null,null,null,null,null,null,null,null,null,null,null,null,null,null,null,null,null,null,null,null,null,null,null,null,null,null,null,null,null,null,null,null,null,null,null,null,null,null,null,null,null,null,null,null,null,null,null,null,null,null,null,null,null,null,null,null,null,null,null,null,null,null,null,null,null,null,null,"PREP",null,null,"SPELL NAME",null,null,null,null,null,null,null,null,null,null,null,null,null,null,null,null,"CASTING TIME",null,null,null,null,null,"RANGE",null,null,null,null,"DURATION",null,null,null,null,null,"COMPONENTS",null,null,null,null,null,"TYPE",null,null,null,null,"DETAILS"]
[null,{"$f":"IF(CharacterLevel=\"\",'Character Sheet III'!$CF$202,IF(Spellcasting!BC24=\"•\",'Character Sheet III'!$BX$202,'Character Sheet III'!$CF$202))","v":"□"},null,null,{"$f":"IF(OR(CharacterLevel=\"\",Spellcasting!BE$24=\"\"),\"\",VLOOKUP(Spellcasting!BE$24,Tables!$TK:$UB,Tables!$TN$1,FALSE))","v":""},null,null,null,null,null,null,null,null,null,null,null,null,null,null,null,null,{"$f":"IF(OR(CharacterLevel=\"\",Spellcasting!BE$24=\"\"),\"\",VLOOKUP(Spellcasting!BE$24,Tables!$TK:$UB,Tables!$TT$1,FALSE))","v":""},null,null,null,null,null,{"$f":"IF(OR(CharacterLevel=\"\",Spellcasting!BE$24=\"\"),\"\",VLOOKUP(Spellcasting!BE$24,Tables!$TK:$UB,Tables!$TU$1,FALSE))","v":""},null,null,null,null,{"$f":"IF(OR(CharacterLevel=\"\",Spellcasting!BE$24=\"\"),\"\",VLOOKUP(Spellcasting!BE$24,Tables!$TK:$UB,Tables!$TV$1,FALSE))","v":""},null,null,null,null,null,null,{"$f":"IF(OR(CharacterLevel=\"\",Spellcasting!BE$24=\"\"),\"\",VLOOKUP(Spellcasting!BE$24,Tables!$TK:$UB,Tables!$TW$1,FALSE))","v":""},null,null,null,null,{"$f":"IF(OR(CharacterLevel=\"\",Spellcasting!BE$24=\"\"),\"\",VLOOKUP(Spellcasting!BE$24,Tables!$TK:$UB,Tables!$TZ$1,FALSE))","v":""},null,null,null,null,{"$f":"IF(OR(CharacterLevel=\"\",Spellcasting!BE$24=\"\"),\"\",VLOOKUP(Spellcasting!BE$24,Tables!$TK:$UB,Tables!$UB$1,FALSE))","v":""}]
[null,null,null,null,{"$f":"IF(OR(CharacterLevel=\"\",Spellcasting!AQ89=\"\"),\"\",VLOOKUP(Spellcasting!AQ89,Tables!TK:UB,Tables!$TN$1,FALSE))","v":""},null,null,null,null,null,null,null,null,null,null,null,null,null,null,null,null,null,null,null,null,null,null,null,null,null,null,null,null,null,null,null,null,null,null,null,null,null,null,null,null,null,null,null,null,null,null,null,null,null,null,null,null,null,null,null,null,null,null,null,null,null,null,null,null,null,null,null,null,null,null,{"$f":"IF(CharacterLevel=\"\",'Character Sheet III'!$CF$202,IF(Spellcasting!BQ33=\"•\",'Character Sheet III'!$BX$202,'Character Sheet III'!$CF$202))","v":"□"},null,null,{"$f":"IF(OR(CharacterLevel=\"\",Spellcasting!BS$33=\"\"),\"\",VLOOKUP(Spellcasting!BS$33,Tables!$TK:$UB,Tables!$TN$1,FALSE))","v":""},null,null,null,null,null,null,null,null,null,null,null,null,null,null,null,null,{"$f":"IF(OR(CharacterLevel=\"\",Spellcasting!BS$33=\"\"),\"\",VLOOKUP(Spellcasting!BS$33,Tables!$TK:$UB,Tables!$TT$1,FALSE))","v":""},null,null,null,null,null,{"$f":"IF(OR(CharacterLevel=\"\",Spellcasting!BS$33=\"\"),\"\",VLOOKUP(Spellcasting!BS$33,Tables!$TK:$UB,Tables!$TU$1,FALSE))","v":""},null,null,null,null,{"$f":"IF(OR(CharacterLevel=\"\",Spellcasting!BS$33=\"\"),\"\",VLOOKUP(Spellcasting!BS$33,Tables!$TK:$UB,Tables!$TV$1,FALSE))","v":""},null,null,null,null,null,null,{"$f":"IF(OR(CharacterLevel=\"\",Spellcasting!BS$33=\"\"),\"\",VLOOKUP(Spellcasting!BS$33,Tables!$TK:$UB,Tables!$TW$1,FALSE))","v":""},null,null,null,null,{"$f":"IF(OR(CharacterLevel=\"\",Spellcasting!BS$33=\"\"),\"\",VLOOKUP(Spellcasting!BS$33,Tables!$TK:$UB,Tables!$TZ$1,FALSE))","v":""},null,null,null,null,{"$f":"IF(OR(CharacterLevel=\"\",Spellcasting!BS$33=\"\"),\"\",VLOOKUP(Spellcasting!BS$33,Tables!$TK:$UB,Tables!$UB$1,FALSE))","v":""}]
[null,{"$f":"IF(CharacterLevel=\"\",'Character Sheet III'!$CF$202,IF(Spellcasting!BC25=\"•\",'Character Sheet III'!$BX$202,'Character Sheet III'!$CF$202))","v":"□"},null,null,{"$f":"IF(OR(CharacterLevel=\"\",Spellcasting!BE$25=\"\"),\"\",VLOOKUP(Spellcasting!BE$25,Tables!$TK:$UB,Tables!$TN$1,FALSE))","v":""},null,null,null,null,null,null,null,null,null,null,null,null,null,null,null,null,{"$f":"IF(OR(CharacterLevel=\"\",Spellcasting!BE$25=\"\"),\"\",VLOOKUP(Spellcasting!BE$25,Tables!$TK:$UB,Tables!$TT$1,FALSE))","v":""},null,null,null,null,null,{"$f":"IF(OR(CharacterLevel=\"\",Spellcasting!BE$25=\"\"),\"\",VLOOKUP(Spellcasting!BE$25,Tables!$TK:$UB,Tables!$TU$1,FALSE))","v":""},null,null,null,null,{"$f":"IF(OR(CharacterLevel=\"\",Spellcasting!BE$25=\"\"),\"\",VLOOKUP(Spellcasting!BE$25,Tables!$TK:$UB,Tables!$TV$1,FALSE))","v":""},null,null,null,null,null,null,{"$f":"IF(OR(CharacterLevel=\"\",Spellcasting!BE$25=\"\"),\"\",VLOOKUP(Spellcasting!BE$25,Tables!$TK:$UB,Tables!$TW$1,FALSE))","v":""},null,null,null,null,{"$f":"IF(OR(CharacterLevel=\"\",Spellcasting!BE$25=\"\"),\"\",VLOOKUP(Spellcasting!BE$25,Tables!$TK:$UB,Tables!$TZ$1,FALSE))","v":""},null,null,null,null,{"$f":"IF(OR(CharacterLevel=\"\",Spellcasting!BE$25=\"\"),\"\",VLOOKUP(Spellcasting!BE$25,Tables!$TK:$UB,Tables!$UB$1,FALSE))","v":""}]
[null,null,null,null,null,null,null,null,null,null,null,null,null,null,null,null,null,null,null,null,null,null,null,null,null,null,null,null,null,null,null,null,null,null,null,null,null,null,null,null,null,null,null,null,null,null,null,null,null,null,null,null,null,null,null,null,null,null,null,null,null,null,null,null,null,null,null,null,null,null,null,null,null,null,null,{"$f":"IF(CharacterLevel=\"\",'Character Sheet III'!$CF$202,IF(Spellcasting!BQ34=\"•\",'Character Sheet III'!$BX$202,'Character Sheet III'!$CF$202))","v":"□"},null,null,{"$f":"IF(OR(CharacterLevel=\"\",Spellcasting!BS$34=\"\"),\"\",VLOOKUP(Spellcasting!BS$34,Tables!$TK:$UB,Tables!$TN$1,FALSE))","v":""},null,null,null,null,null,null,null,null,null,null,null,null,null,null,null,null,{"$f":"IF(OR(CharacterLevel=\"\",Spellcasting!BS$34=\"\"),\"\",VLOOKUP(Spellcasting!BS$34,Tables!$TK:$UB,Tables!$TT$1,FALSE))","v":""},null,null,null,null,null,{"$f":"IF(OR(CharacterLevel=\"\",Spellcasting!BS$34=\"\"),\"\",VLOOKUP(Spellcasting!BS$34,Tables!$TK:$UB,Tables!$TU$1,FALSE))","v":""},null,null,null,null,{"$f":"IF(OR(CharacterLevel=\"\",Spellcasting!BS$34=\"\"),\"\",VLOOKUP(Spellcasting!BS$34,Tables!$TK:$UB,Tables!$TV$1,FALSE))","v":""},null,null,null,null,null,null,{"$f":"IF(OR(CharacterLevel=\"\",Spellcasting!BS$34=\"\"),\"\",VLOOKUP(Spellcasting!BS$34,Tables!$TK:$UB,Tables!$TW$1,FALSE))","v":""},null,null,null,null,{"$f":"IF(OR(CharacterLevel=\"\",Spellcasting!BS$34=\"\"),\"\",VLOOKUP(Spellcasting!BS$34,Tables!$TK:$UB,Tables!$TZ$1,FALSE))","v":""},null,null,null,null,{"$f":"IF(OR(CharacterLevel=\"\",Spellcasting!BS$34=\"\"),\"\",VLOOKUP(Spellcasting!BS$34,Tables!$TK:$UB,Tables!$UB$1,FALSE))","v":""}]
[null,"LEVEL 3"]
[null,null,null,null,null,null,null,null,null,null,null,null,null,null,null,null,null,null,null,null,null,null,null,null,null,null,null,null,null,null,null,null,null,null,null,null,null,null,null,null,null,null,null,null,null,null,null,null,null,null,null,null,null,null,null,null,null,null,null,null,null,null,null,null,null,null,null,null,null,null,null,null,null,null,null,{"$f":"IF(CharacterLevel=\"\",'Character Sheet III'!$CF$202,IF(Spellcasting!BQ35=\"•\",'Character Sheet III'!$BX$202,'Character Sheet III'!$CF$202))","v":"□"},null,null,{"$f":"IF(OR(CharacterLevel=\"\",Spellcasting!BS$35=\"\"),\"\",VLOOKUP(Spellcasting!BS$35,Tables!$TK:$UB,Tables!$TN$1,FALSE))","v":""},null,null,null,null,null,null,null,null,null,null,null,null,null,null,null,null,{"$f":"IF(OR(CharacterLevel=\"\",Spellcasting!BS$35=\"\"),\"\",VLOOKUP(Spellcasting!BS$35,Tables!$TK:$UB,Tables!$TT$1,FALSE))","v":""},null,null,null,null,null,{"$f":"IF(OR(CharacterLevel=\"\",Spellcasting!BS$35=\"\"),\"\",VLOOKUP(Spellcasting!BS$35,Tables!$TK:$UB,Tables!$TU$1,FALSE))","v":""},null,null,null,null,{"$f":"IF(OR(CharacterLevel=\"\",Spellcasting!BS$35=\"\"),\"\",VLOOKUP(Spellcasting!BS$35,Tables!$TK:$UB,Tables!$TV$1,FALSE))","v":""},null,null,null,null,null,null,{"$f":"IF(OR(CharacterLevel=\"\",Spellcasting!BS$35=\"\"),\"\",VLOOKUP(Spellcasting!BS$35,Tables!$TK:$UB,Tables!$TW$1,FALSE))","v":""},null,null,null,null,{"$f":"IF(OR(CharacterLevel=\"\",Spellcasting!BS$35=\"\"),\"\",VLOOKUP(Spellcasting!BS$35,Tables!$TK:$UB,Tables!$TZ$1,FALSE))","v":""},null,null,null,null,{"$f":"IF(OR(CharacterLevel=\"\",Spellcasting!BS$35=\"\"),\"\",VLOOKUP(Spellcasting!BS$35,Tables!$TK:$UB,Tables!$UB$1,FALSE))","v":""}]
[null,"PREP",null,null,"SPELL NAME",null,null,null,null,null,null,null,null,null,null,null,null,null,null,null,null,"CASTING TIME",null,null,null,null,null,"RANGE",null,null,null,null,"DURATION",null,null,null,null,null,"COMPONENTS",null,null,null,null,null,"TYPE",null,null,null,null,"DETAILS"]
[null,null,null,null,null,null,null,null,null,null,null,null,null,null,null,null,null,null,null,null,null,null,null,null,null,null,null,null,null,null,null,null,null,null,null,null,null,null,null,null,null,null,null,null,null,null,null,null,null,null,null,null,null,null,null,null,null,null,null,null,null,null,null,null,null,null,null,null,null,null,null,null,null,null,null,{"$f":"IF(CharacterLevel=\"\",'Character Sheet III'!$CF$202,IF(Spellcasting!BQ36=\"•\",'Character Sheet III'!$BX$202,'Character Sheet III'!$CF$202))","v":"□"},null,null,{"$f":"IF(OR(CharacterLevel=\"\",Spellcasting!BS$36=\"\"),\"\",VLOOKUP(Spellcasting!BS$36,Tables!$TK:$UB,Tables!$TN$1,FALSE))","v":""},null,null,null,null,null,null,null,null,null,null,null,null,null,null,null,null,{"$f":"IF(OR(CharacterLevel=\"\",Spellcasting!BS$36=\"\"),\"\",VLOOKUP(Spellcasting!BS$36,Tables!$TK:$UB,Tables!$TT$1,FALSE))","v":""},null,null,null,null,null,{"$f":"IF(OR(CharacterLevel=\"\",Spellcasting!BS$36=\"\"),\"\",VLOOKUP(Spellcasting!BS$36,Tables!$TK:$UB,Tables!$TU$1,FALSE))","v":""},null,null,null,null,{"$f":"IF(OR(CharacterLevel=\"\",Spellcasting!BS$36=\"\"),\"\",VLOOKUP(Spellcasting!BS$36,Tables!$TK:$UB,Tables!$TV$1,FALSE))","v":""},null,null,null,null,null,null,{"$f":"IF(OR(CharacterLevel=\"\",Spellcasting!BS$36=\"\"),\"\",VLOOKUP(Spellcasting!BS$36,Tables!$TK:$UB,Tables!$TW$1,FALSE))","v":""},null,null,null,null,{"$f":"IF(OR(CharacterLevel=\"\",Spellcasting!BS$36=\"\"),\"\",VLOOKUP(Spellcasting!BS$36,Tables!$TK:$UB,Tables!$TZ$1,FALSE))","v":""},null,null,null,null,{"$f":"IF(OR(CharacterLevel=\"\",Spellcasting!BS$36=\"\"),\"\",VLOOKUP(Spellcasting!BS$36,Tables!$TK:$UB,Tables!$UB$1,FALSE))","v":""}]
[null,{"$f":"IF(CharacterLevel=\"\",'Character Sheet III'!$CF$202,IF(Spellcasting!BQ6=\"•\",'Character Sheet III'!$BX$202,'Character Sheet III'!$CF$202))","v":"□"},null,null,{"$f":"IF(OR(CharacterLevel=\"\",Spellcasting!BS$6=\"\"),\"\",VLOOKUP(Spellcasting!BS$6,Tables!$TK:$UB,Tables!$TN$1,FALSE))","v":""},null,null,null,null,null,null,null,null,null,null,null,null,null,null,null,null,{"$f":"IF(OR(CharacterLevel=\"\",Spellcasting!BS$6=\"\"),\"\",VLOOKUP(Spellcasting!BS$6,Tables!$TK:$UB,Tables!$TT$1,FALSE))","v":""},null,null,null,null,null,{"$f":"IF(OR(CharacterLevel=\"\",Spellcasting!BS$6=\"\"),\"\",VLOOKUP(Spellcasting!BS$6,Tables!$TK:$UB,Tables!$TU$1,FALSE))","v":""},null,null,null,null,{"$f":"IF(OR(CharacterLevel=\"\",Spellcasting!BS$6=\"\"),\"\",VLOOKUP(Spellcasting!BS$6,Tables!$TK:$UB,Tables!$TV$1,FALSE))","v":""},null,null,null,null,null,null,{"$f":"IF(OR(CharacterLevel=\"\",Spellcasting!BS$6=\"\"),\"\",VLOOKUP(Spellcasting!BS$6,Tables!$TK:$UB,Tables!$TW$1,FALSE))","v":""},null,null,null,null,{"$f":"IF(OR(CharacterLevel=\"\",Spellcasting!BS$6=\"\"),\"\",VLOOKUP(Spellcasting!BS$6,Tables!$TK:$UB,Tables!$TZ$1,FALSE))","v":""},null,null,null,null,{"$f":"IF(OR(CharacterLevel=\"\",Spellcasting!BS$6=\"\"),\"\",VLOOKUP(Spellcasting!BS$6,Tables!$TK:$UB,Tables!$UB$1,FALSE))","v":""}]
[null,null,null,null,null,null,null,null,null,null,null,null,null,null,null,null,null,null,null,null,null,null,null,null,null,null,null,null,null,null,null,null,null,null,null,null,null,null,null,null,null,null,null,null,null,null,null,null,null,null,null,null,null,null,null,null,null,null,null,null,null,null,null,null,null,null,null,null,null,null,null,null,null,null,null,{"$f":"IF(CharacterLevel=\"\",'Character Sheet III'!$CF$202,IF(Spellcasting!BQ37=\"•\",'Character Sheet III'!$BX$202,'Character Sheet III'!$CF$202))","v":"□"},null,null,{"$f":"IF(OR(CharacterLevel=\"\",Spellcasting!BS$37=\"\"),\"\",VLOOKUP(Spellcasting!BS$37,Tables!$TK:$UB,Tables!$TN$1,FALSE))","v":""},null,null,null,null,null,null,null,null,null,null,null,null,null,null,null,null,{"$f":"IF(OR(CharacterLevel=\"\",Spellcasting!BS$37=\"\"),\"\",VLOOKUP(Spellcasting!BS$37,Tables!$TK:$UB,Tables!$TT$1,FALSE))","v":""},null,null,null,null,null,{"$f":"IF(OR(CharacterLevel=\"\",Spellcasting!BS$37=\"\"),\"\",VLOOKUP(Spellcasting!BS$37,Tables!$TK:$UB,Tables!$TU$1,FALSE))","v":""},null,null,null,null,{"$f":"IF(OR(CharacterLevel=\"\",Spellcasting!BS$37=\"\"),\"\",VLOOKUP(Spellcasting!BS$37,Tables!$TK:$UB,Tables!$TV$1,FALSE))","v":""},null,null,null,null,null,null,{"$f":"IF(OR(CharacterLevel=\"\",Spellcasting!BS$37=\"\"),\"\",VLOOKUP(Spellcasting!BS$37,Tables!$TK:$UB,Tables!$TW$1,FALSE))","v":""},null,null,null,null,{"$f":"IF(OR(CharacterLevel=\"\",Spellcasting!BS$37=\"\"),\"\",VLOOKUP(Spellcasting!BS$37,Tables!$TK:$UB,Tables!$TZ$1,FALSE))","v":""},null,null,null,null,{"$f":"IF(OR(CharacterLevel=\"\",Spellcasting!BS$37=\"\"),\"\",VLOOKUP(Spellcasting!BS$37,Tables!$TK:$UB,Tables!$UB$1,FALSE))","v":""}]
[null,{"$f":"IF(CharacterLevel=\"\",'Character Sheet III'!$CF$202,IF(Spellcasting!BQ7=\"•\",'Character Sheet III'!$BX$202,'Character Sheet III'!$CF$202))","v":"□"},null,null,{"$f":"IF(OR(CharacterLevel=\"\",Spellcasting!BS$7=\"\"),\"\",VLOOKUP(Spellcasting!BS$7,Tables!$TK:$UB,Tables!$TN$1,FALSE))","v":""},null,null,null,null,null,null,null,null,null,null,null,null,null,null,null,null,{"$f":"IF(OR(CharacterLevel=\"\",Spellcasting!BS$7=\"\"),\"\",VLOOKUP(Spellcasting!BS$7,Tables!$TK:$UB,Tables!$TT$1,FALSE))","v":""},null,null,null,null,null,{"$f":"IF(OR(CharacterLevel=\"\",Spellcasting!BS$7=\"\"),\"\",VLOOKUP(Spellcasting!BS$7,Tables!$TK:$UB,Tables!$TU$1,FALSE))","v":""},null,null,null,null,{"$f":"IF(OR(CharacterLevel=\"\",Spellcasting!BS$7=\"\"),\"\",VLOOKUP(Spellcasting!BS$7,Tables!$TK:$UB,Tables!$TV$1,FALSE))","v":""},null,null,null,null,null,null,{"$f":"IF(OR(CharacterLevel=\"\",Spellcasting!BS$7=\"\"),\"\",VLOOKUP(Spellcasting!BS$7,Tables!$TK:$UB,Tables!$TW$1,FALSE))","v":""},null,null,null,null,{"$f":"IF(OR(CharacterLevel=\"\",Spellcasting!BS$7=\"\"),\"\",VLOOKUP(Spellcasting!BS$7,Tables!$TK:$UB,Tables!$TZ$1,FALSE))","v":""},null,null,null,null,{"$f":"IF(OR(CharacterLevel=\"\",Spellcasting!BS$7=\"\"),\"\",VLOOKUP(Spellcasting!BS$7,Tables!$TK:$UB,Tables!$UB$1,FALSE))","v":""}]
[null,null,null,null,null,null,null,null,null,null,null,null,null,null,null,null,null,null,null,null,null,null,null,null,null,null,null,null,null,null,null,null,null,null,null,null,null,null,null,null,null,null,null,null,null,null,null,null,null,null,null,null,null,null,null,null,null,null,null,null,null,null,null,null,null,null,null,null,null,null,null,null,null,null,null,{"$f":"IF(CharacterLevel=\"\",'Character Sheet III'!$CF$202,IF(Spellcasting!BQ38=\"•\",'Character Sheet III'!$BX$202,'Character Sheet III'!$CF$202))","v":"□"},null,null,{"$f":"IF(OR(CharacterLevel=\"\",Spellcasting!BS$38=\"\"),\"\",VLOOKUP(Spellcasting!BS$38,Tables!$TK:$UB,Tables!$TN$1,FALSE))","v":""},null,null,null,null,null,null,null,null,null,null,null,null,null,null,null,null,{"$f":"IF(OR(CharacterLevel=\"\",Spellcasting!BS$38=\"\"),\"\",VLOOKUP(Spellcasting!BS$38,Tables!$TK:$UB,Tables!$TT$1,FALSE))","v":""},null,null,null,null,null,{"$f":"IF(OR(CharacterLevel=\"\",Spellcasting!BS$38=\"\"),\"\",VLOOKUP(Spellcasting!BS$38,Tables!$TK:$UB,Tables!$TU$1,FALSE))","v":""},null,null,null,null,{"$f":"IF(OR(CharacterLevel=\"\",Spellcasting!BS$38=\"\"),\"\",VLOOKUP(Spellcasting!BS$38,Tables!$TK:$UB,Tables!$TV$1,FALSE))","v":""},null,null,null,null,null,null,{"$f":"IF(OR(CharacterLevel=\"\",Spellcasting!BS$38=\"\"),\"\",VLOOKUP(Spellcasting!BS$38,Tables!$TK:$UB,Tables!$TW$1,FALSE))","v":""},null,null,null,null,{"$f":"IF(OR(CharacterLevel=\"\",Spellcasting!BS$38=\"\"),\"\",VLOOKUP(Spellcasting!BS$38,Tables!$TK:$UB,Tables!$TZ$1,FALSE))","v":""},null,null,null,null,{"$f":"IF(OR(CharacterLevel=\"\",Spellcasting!BS$38=\"\"),\"\",VLOOKUP(Spellcasting!BS$38,Tables!$TK:$UB,Tables!$UB$1,FALSE))","v":""}]
[null,{"$f":"IF(CharacterLevel=\"\",'Character Sheet III'!$CF$202,IF(Spellcasting!BQ8=\"•\",'Character Sheet III'!$BX$202,'Character Sheet III'!$CF$202))","v":"□"},null,null,{"$f":"IF(OR(CharacterLevel=\"\",Spellcasting!BS$8=\"\"),\"\",VLOOKUP(Spellcasting!BS$8,Tables!$TK:$UB,Tables!$TN$1,FALSE))","v":""},null,null,null,null,null,null,null,null,null,null,null,null,null,null,null,null,{"$f":"IF(OR(CharacterLevel=\"\",Spellcasting!BS$8=\"\"),\"\",VLOOKUP(Spellcasting!BS$8,Tables!$TK:$UB,Tables!$TT$1,FALSE))","v":""},null,null,null,null,null,{"$f":"IF(OR(CharacterLevel=\"\",Spellcasting!BS$8=\"\"),\"\",VLOOKUP(Spellcasting!BS$8,Tables!$TK:$UB,Tables!$TU$1,FALSE))","v":""},null,null,null,null,{"$f":"IF(OR(CharacterLevel=\"\",Spellcasting!BS$8=\"\"),\"\",VLOOKUP(Spellcasting!BS$8,Tables!$TK:$UB,Tables!$TV$1,FALSE))","v":""},null,null,null,null,null,null,{"$f":"IF(OR(CharacterLevel=\"\",Spellcasting!BS$8=\"\"),\"\",VLOOKUP(Spellcasting!BS$8,Tables!$TK:$UB,Tables!$TW$1,FALSE))","v":""},null,null,null,null,{"$f":"IF(OR(CharacterLevel=\"\",Spellcasting!BS$8=\"\"),\"\",VLOOKUP(Spellcasting!BS$8,Tables!$TK:$UB,Tables!$TZ$1,FALSE))","v":""},null,null,null,null,{"$f":"IF(OR(CharacterLevel=\"\",Spellcasting!BS$8=\"\"),\"\",VLOOKUP(Spellcasting!BS$8,Tables!$TK:$UB,Tables!$UB$1,FALSE))","v":""}]
[null,null,null,null,null,null,null,null,null,null,null,null,null,null,null,null,null,null,null,null,null,null,null,null,null,null,null,null,null,null,null,null,null,null,null,null,null,null,null,null,null,null,null,null,null,null,null,null,null,null,null,null,null,null,null,null,null,null,null,null,null,null,null,null,null,null,null,null,null,null,null,null,null,null,null,{"$f":"IF(CharacterLevel=\"\",'Character Sheet III'!$CF$202,IF(Spellcasting!BQ39=\"•\",'Character Sheet III'!$BX$202,'Character Sheet III'!$CF$202))","v":"□"},null,null,{"$f":"IF(OR(CharacterLevel=\"\",Spellcasting!BS$39=\"\"),\"\",VLOOKUP(Spellcasting!BS$39,Tables!$TK:$UB,Tables!$TN$1,FALSE))","v":""},null,null,null,null,null,null,null,null,null,null,null,null,null,null,null,null,{"$f":"IF(OR(CharacterLevel=\"\",Spellcasting!BS$39=\"\"),\"\",VLOOKUP(Spellcasting!BS$39,Tables!$TK:$UB,Tables!$TT$1,FALSE))","v":""},null,null,null,null,null,{"$f":"IF(OR(CharacterLevel=\"\",Spellcasting!BS$39=\"\"),\"\",VLOOKUP(Spellcasting!BS$39,Tables!$TK:$UB,Tables!$TU$1,FALSE))","v":""},null,null,null,null,{"$f":"IF(OR(CharacterLevel=\"\",Spellcasting!BS$39=\"\"),\"\",VLOOKUP(Spellcasting!BS$39,Tables!$TK:$UB,Tables!$TV$1,FALSE))","v":""},null,null,null,null,null,null,{"$f":"IF(OR(CharacterLevel=\"\",Spellcasting!BS$39=\"\"),\"\",VLOOKUP(Spellcasting!BS$39,Tables!$TK:$UB,Tables!$TW$1,FALSE))","v":""},null,null,null,null,{"$f":"IF(OR(CharacterLevel=\"\",Spellcasting!BS$39=\"\"),\"\",VLOOKUP(Spellcasting!BS$39,Tables!$TK:$UB,Tables!$TZ$1,FALSE))","v":""},null,null,null,null,{"$f":"IF(OR(CharacterLevel=\"\",Spellcasting!BS$39=\"\"),\"\",VLOOKUP(Spellcasting!BS$39,Tables!$TK:$UB,Tables!$UB$1,FALSE))","v":""}]
[null,{"$f":"IF(CharacterLevel=\"\",'Character Sheet III'!$CF$202,IF(Spellcasting!BQ9=\"•\",'Character Sheet III'!$BX$202,'Character Sheet III'!$CF$202))","v":"□"},null,null,{"$f":"IF(OR(CharacterLevel=\"\",Spellcasting!BS$9=\"\"),\"\",VLOOKUP(Spellcasting!BS$9,Tables!$TK:$UB,Tables!$TN$1,FALSE))","v":""},null,null,null,null,null,null,null,null,null,null,null,null,null,null,null,null,{"$f":"IF(OR(CharacterLevel=\"\",Spellcasting!BS$9=\"\"),\"\",VLOOKUP(Spellcasting!BS$9,Tables!$TK:$UB,Tables!$TT$1,FALSE))","v":""},null,null,null,null,null,{"$f":"IF(OR(CharacterLevel=\"\",Spellcasting!BS$9=\"\"),\"\",VLOOKUP(Spellcasting!BS$9,Tables!$TK:$UB,Tables!$TU$1,FALSE))","v":""},null,null,null,null,{"$f":"IF(OR(CharacterLevel=\"\",Spellcasting!BS$9=\"\"),\"\",VLOOKUP(Spellcasting!BS$9,Tables!$TK:$UB,Tables!$TV$1,FALSE))","v":""},null,null,null,null,null,null,{"$f":"IF(OR(CharacterLevel=\"\",Spellcasting!BS$9=\"\"),\"\",VLOOKUP(Spellcasting!BS$9,Tables!$TK:$UB,Tables!$TW$1,FALSE))","v":""},null,null,null,null,{"$f":"IF(OR(CharacterLevel=\"\",Spellcasting!BS$9=\"\"),\"\",VLOOKUP(Spellcasting!BS$9,Tables!$TK:$UB,Tables!$TZ$1,FALSE))","v":""},null,null,null,null,{"$f":"IF(OR(CharacterLevel=\"\",Spellcasting!BS$9=\"\"),\"\",VLOOKUP(Spellcasting!BS$9,Tables!$TK:$UB,Tables!$UB$1,FALSE))","v":""}]
[null,null,null,null,null,null,null,null,null,null,null,null,null,null,null,null,null,null,null,null,null,null,null,null,null,null,null,null,null,null,null,null,null,null,null,null,null,null,null,null,null,null,null,null,null,null,null,null,null,null,null,null,null,null,null,null,null,null,null,null,null,null,null,null,null,null,null,null,null,null,null,null,null,null,null,{"$f":"IF(CharacterLevel=\"\",'Character Sheet III'!$CF$202,IF(Spellcasting!BQ40=\"•\",'Character Sheet III'!$BX$202,'Character Sheet III'!$CF$202))","v":"□"},null,null,{"$f":"IF(OR(CharacterLevel=\"\",Spellcasting!BS$40=\"\"),\"\",VLOOKUP(Spellcasting!BS$40,Tables!$TK:$UB,Tables!$TN$1,FALSE))","v":""},null,null,null,null,null,null,null,null,null,null,null,null,null,null,null,null,{"$f":"IF(OR(CharacterLevel=\"\",Spellcasting!BS$40=\"\"),\"\",VLOOKUP(Spellcasting!BS$40,Tables!$TK:$UB,Tables!$TT$1,FALSE))","v":""},null,null,null,null,null,{"$f":"IF(OR(CharacterLevel=\"\",Spellcasting!BS$40=\"\"),\"\",VLOOKUP(Spellcasting!BS$40,Tables!$TK:$UB,Tables!$TU$1,FALSE))","v":""},null,null,null,null,{"$f":"IF(OR(CharacterLevel=\"\",Spellcasting!BS$40=\"\"),\"\",VLOOKUP(Spellcasting!BS$40,Tables!$TK:$UB,Tables!$TV$1,FALSE))","v":""},null,null,null,null,null,null,{"$f":"IF(OR(CharacterLevel=\"\",Spellcasting!BS$40=\"\"),\"\",VLOOKUP(Spellcasting!BS$40,Tables!$TK:$UB,Tables!$TW$1,FALSE))","v":""},null,null,null,null,{"$f":"IF(OR(CharacterLevel=\"\",Spellcasting!BS$40=\"\"),\"\",VLOOKUP(Spellcasting!BS$40,Tables!$TK:$UB,Tables!$TZ$1,FALSE))","v":""},null,null,null,null,{"$f":"IF(OR(CharacterLevel=\"\",Spellcasting!BS$40=\"\"),\"\",VLOOKUP(Spellcasting!BS$40,Tables!$TK:$UB,Tables!$UB$1,FALSE))","v":""}]
[null,{"$f":"IF(CharacterLevel=\"\",'Character Sheet III'!$CF$202,IF(Spellcasting!BQ10=\"•\",'Character Sheet III'!$BX$202,'Character Sheet III'!$CF$202))","v":"□"},null,null,{"$f":"IF(OR(CharacterLevel=\"\",Spellcasting!BS$10=\"\"),\"\",VLOOKUP(Spellcasting!BS$10,Tables!$TK:$UB,Tables!$TN$1,FALSE))","v":""},null,null,null,null,null,null,null,null,null,null,null,null,null,null,null,null,{"$f":"IF(OR(CharacterLevel=\"\",Spellcasting!BS$10=\"\"),\"\",VLOOKUP(Spellcasting!BS$10,Tables!$TK:$UB,Tables!$TT$1,FALSE))","v":""},null,null,null,null,null,{"$f":"IF(OR(CharacterLevel=\"\",Spellcasting!BS$10=\"\"),\"\",VLOOKUP(Spellcasting!BS$10,Tables!$TK:$UB,Tables!$TU$1,FALSE))","v":""},null,null,null,null,{"$f":"IF(OR(CharacterLevel=\"\",Spellcasting!BS$10=\"\"),\"\",VLOOKUP(Spellcasting!BS$10,Tables!$TK:$UB,Tables!$TV$1,FALSE))","v":""},null,null,null,null,null,null,{"$f":"IF(OR(CharacterLevel=\"\",Spellcasting!BS$10=\"\"),\"\",VLOOKUP(Spellcasting!BS$10,Tables!$TK:$UB,Tables!$TW$1,FALSE))","v":""},null,null,null,null,{"$f":"IF(OR(CharacterLevel=\"\",Spellcasting!BS$10=\"\"),\"\",VLOOKUP(Spellcasting!BS$10,Tables!$TK:$UB,Tables!$TZ$1,FALSE))","v":""},null,null,null,null,{"$f":"IF(OR(CharacterLevel=\"\",Spellcasting!BS$10=\"\"),\"\",VLOOKUP(Spellcasting!BS$10,Tables!$TK:$UB,Tables!$UB$1,FALSE))","v":""}]
[null,null,null,null,null,null,null,null,null,null,null,null,null,null,null,null,null,null,null,null,null,null,null,null,null,null,null,null,null,null,null,null,null,null,null,null,null,null,null,null,null,null,null,null,null,null,null,null,null,null,null,null,null,null,null,null,null,null,null,null,null,null,null,null,null,null,null,null,null,null,null,null,null,null,null,{"$f":"IF(CharacterLevel=\"\",'Character Sheet III'!$CF$202,IF(Spellcasting!BQ41=\"•\",'Character Sheet III'!$BX$202,'Character Sheet III'!$CF$202))","v":"□"},null,null,{"$f":"IF(OR(CharacterLevel=\"\",Spellcasting!BS$41=\"\"),\"\",VLOOKUP(Spellcasting!BS$41,Tables!$TK:$UB,Tables!$TN$1,FALSE))","v":""},null,null,null,null,null,null,null,null,null,null,null,null,null,null,null,null,{"$f":"IF(OR(CharacterLevel=\"\",Spellcasting!BS$41=\"\"),\"\",VLOOKUP(Spellcasting!BS$41,Tables!$TK:$UB,Tables!$TT$1,FALSE))","v":""},null,null,null,null,null,{"$f":"IF(OR(CharacterLevel=\"\",Spellcasting!BS$41=\"\"),\"\",VLOOKUP(Spellcasting!BS$41,Tables!$TK:$UB,Tables!$TU$1,FALSE))","v":""},null,null,null,null,{"$f":"IF(OR(CharacterLevel=\"\",Spellcasting!BS$41=\"\"),\"\",VLOOKUP(Spellcasting!BS$41,Tables!$TK:$UB,Tables!$TV$1,FALSE))","v":""},null,null,null,null,null,null,{"$f":"IF(OR(CharacterLevel=\"\",Spellcasting!BS$41=\"\"),\"\",VLOOKUP(Spellcasting!BS$41,Tables!$TK:$UB,Tables!$TW$1,FALSE))","v":""},null,null,null,null,{"$f":"IF(OR(CharacterLevel=\"\",Spellcasting!BS$41=\"\"),\"\",VLOOKUP(Spellcasting!BS$41,Tables!$TK:$UB,Tables!$TZ$1,FALSE))","v":""},null,null,null,null,{"$f":"IF(OR(CharacterLevel=\"\",Spellcasting!BS$41=\"\"),\"\",VLOOKUP(Spellcasting!BS$41,Tables!$TK:$UB,Tables!$UB$1,FALSE))","v":""}]
[null,{"$f":"IF(CharacterLevel=\"\",'Character Sheet III'!$CF$202,IF(Spellcasting!BQ11=\"•\",'Character Sheet III'!$BX$202,'Character Sheet III'!$CF$202))","v":"□"},null,null,{"$f":"IF(OR(CharacterLevel=\"\",Spellcasting!BS$11=\"\"),\"\",VLOOKUP(Spellcasting!BS$11,Tables!$TK:$UB,Tables!$TN$1,FALSE))","v":""},null,null,null,null,null,null,null,null,null,null,null,null,null,null,null,null,{"$f":"IF(OR(CharacterLevel=\"\",Spellcasting!BS$11=\"\"),\"\",VLOOKUP(Spellcasting!BS$11,Tables!$TK:$UB,Tables!$TT$1,FALSE))","v":""},null,null,null,null,null,{"$f":"IF(OR(CharacterLevel=\"\",Spellcasting!BS$11=\"\"),\"\",VLOOKUP(Spellcasting!BS$11,Tables!$TK:$UB,Tables!$TU$1,FALSE))","v":""},null,null,null,null,{"$f":"IF(OR(CharacterLevel=\"\",Spellcasting!BS$11=\"\"),\"\",VLOOKUP(Spellcasting!BS$11,Tables!$TK:$UB,Tables!$TV$1,FALSE))","v":""},null,null,null,null,null,null,{"$f":"IF(OR(CharacterLevel=\"\",Spellcasting!BS$11=\"\"),\"\",VLOOKUP(Spellcasting!BS$11,Tables!$TK:$UB,Tables!$TW$1,FALSE))","v":""},null,null,null,null,{"$f":"IF(OR(CharacterLevel=\"\",Spellcasting!BS$11=\"\"),\"\",VLOOKUP(Spellcasting!BS$11,Tables!$TK:$UB,Tables!$TZ$1,FALSE))","v":""},null,null,null,null,{"$f":"IF(OR(CharacterLevel=\"\",Spellcasting!BS$11=\"\"),\"\",VLOOKUP(Spellcasting!BS$11,Tables!$TK:$UB,Tables!$UB$1,FALSE))","v":""}]
[null,null,null,null,null,null,null,null,null,null,null,null,null,null,null,null,null,null,null,null,null,null,null,null,null,null,null,null,null,null,null,null,null,null,null,null,null,null,null,null,null,null,null,null,null,null,null,null,null,null,null,null,null,null,null,null,null,null,null,null,null,null,null,null,null,null,null,null,null,null,null,null,null,null,null,{"$f":"IF(CharacterLevel=\"\",'Character Sheet III'!$CF$202,IF(Spellcasting!BQ42=\"•\",'Character Sheet III'!$BX$202,'Character Sheet III'!$CF$202))","v":"□"},null,null,{"$f":"IF(OR(CharacterLevel=\"\",Spellcasting!BS$42=\"\"),\"\",VLOOKUP(Spellcasting!BS$42,Tables!$TK:$UB,Tables!$TN$1,FALSE))","v":""},null,null,null,null,null,null,null,null,null,null,null,null,null,null,null,null,{"$f":"IF(OR(CharacterLevel=\"\",Spellcasting!BS$42=\"\"),\"\",VLOOKUP(Spellcasting!BS$42,Tables!$TK:$UB,Tables!$TT$1,FALSE))","v":""},null,null,null,null,null,{"$f":"IF(OR(CharacterLevel=\"\",Spellcasting!BS$42=\"\"),\"\",VLOOKUP(Spellcasting!BS$42,Tables!$TK:$UB,Tables!$TU$1,FALSE))","v":""},null,null,null,null,{"$f":"IF(OR(CharacterLevel=\"\",Spellcasting!BS$42=\"\"),\"\",VLOOKUP(Spellcasting!BS$42,Tables!$TK:$UB,Tables!$TV$1,FALSE))","v":""},null,null,null,null,null,null,{"$f":"IF(OR(CharacterLevel=\"\",Spellcasting!BS$42=\"\"),\"\",VLOOKUP(Spellcasting!BS$42,Tables!$TK:$UB,Tables!$TW$1,FALSE))","v":""},null,null,null,null,{"$f":"IF(OR(CharacterLevel=\"\",Spellcasting!BS$42=\"\"),\"\",VLOOKUP(Spellcasting!BS$42,Tables!$TK:$UB,Tables!$TZ$1,FALSE))","v":""},null,null,null,null,{"$f":"IF(OR(CharacterLevel=\"\",Spellcasting!BS$42=\"\"),\"\",VLOOKUP(Spellcasting!BS$42,Tables!$TK:$UB,Tables!$UB$1,FALSE))","v":""}]
[null,{"$f":"IF(CharacterLevel=\"\",'Character Sheet III'!$CF$202,IF(Spellcasting!BQ12=\"•\",'Character Sheet III'!$BX$202,'Character Sheet III'!$CF$202))","v":"□"},null,null,{"$f":"IF(OR(CharacterLevel=\"\",Spellcasting!BS$12=\"\"),\"\",VLOOKUP(Spellcasting!BS$12,Tables!$TK:$UB,Tables!$TN$1,FALSE))","v":""},null,null,null,null,null,null,null,null,null,null,null,null,null,null,null,null,{"$f":"IF(OR(CharacterLevel=\"\",Spellcasting!BS$12=\"\"),\"\",VLOOKUP(Spellcasting!BS$12,Tables!$TK:$UB,Tables!$TT$1,FALSE))","v":""},null,null,null,null,null,{"$f":"IF(OR(CharacterLevel=\"\",Spellcasting!BS$12=\"\"),\"\",VLOOKUP(Spellcasting!BS$12,Tables!$TK:$UB,Tables!$TU$1,FALSE))","v":""},null,null,null,null,{"$f":"IF(OR(CharacterLevel=\"\",Spellcasting!BS$12=\"\"),\"\",VLOOKUP(Spellcasting!BS$12,Tables!$TK:$UB,Tables!$TV$1,FALSE))","v":""},null,null,null,null,null,null,{"$f":"IF(OR(CharacterLevel=\"\",Spellcasting!BS$12=\"\"),\"\",VLOOKUP(Spellcasting!BS$12,Tables!$TK:$UB,Tables!$TW$1,FALSE))","v":""},null,null,null,null,{"$f":"IF(OR(CharacterLevel=\"\",Spellcasting!BS$12=\"\"),\"\",VLOOKUP(Spellcasting!BS$12,Tables!$TK:$UB,Tables!$TZ$1,FALSE))","v":""},null,null,null,null,{"$f":"IF(OR(CharacterLevel=\"\",Spellcasting!BS$12=\"\"),\"\",VLOOKUP(Spellcasting!BS$12,Tables!$TK:$UB,Tables!$UB$1,FALSE))","v":""}]
[null,null,null,null,null,null,null,null,null,null,null,null,null,null,null,null,null,null,null,null,null,null,null,null,null,null,null,null,null,null,null,null,null,null,null,null,null,null,null,null,null,null,null,null,null,null,null,null,null,null,null,null,null,null,null,null,null,null,null,null,null,null,null,null,null,null,null,null,null,null,null,null,null,null,null,"LEVEL 9"]
[null,{"$f":"IF(CharacterLevel=\"\",'Character Sheet III'!$CF$202,IF(Spellcasting!BQ13=\"•\",'Character Sheet III'!$BX$202,'Character Sheet III'!$CF$202))","v":"□"},null,null,{"$f":"IF(OR(CharacterLevel=\"\",Spellcasting!BS$13=\"\"),\"\",VLOOKUP(Spellcasting!BS$13,Tables!$TK:$UB,Tables!$TN$1,FALSE))","v":""},null,null,null,null,null,null,null,null,null,null,null,null,null,null,null,null,{"$f":"IF(OR(CharacterLevel=\"\",Spellcasting!BS$13=\"\"),\"\",VLOOKUP(Spellcasting!BS$13,Tables!$TK:$UB,Tables!$TT$1,FALSE))","v":""},null,null,null,null,null,{"$f":"IF(OR(CharacterLevel=\"\",Spellcasting!BS$13=\"\"),\"\",VLOOKUP(Spellcasting!BS$13,Tables!$TK:$UB,Tables!$TU$1,FALSE))","v":""},null,null,null,null,{"$f":"IF(OR(CharacterLevel=\"\",Spellcasting!BS$13=\"\"),\"\",VLOOKUP(Spellcasting!BS$13,Tables!$TK:$UB,Tables!$TV$1,FALSE))","v":""},null,null,null,null,null,null,{"$f":"IF(OR(CharacterLevel=\"\",Spellcasting!BS$13=\"\"),\"\",VLOOKUP(Spellcasting!BS$13,Tables!$TK:$UB,Tables!$TW$1,FALSE))","v":""},null,null,null,null,{"$f":"IF(OR(CharacterLevel=\"\",Spellcasting!BS$13=\"\"),\"\",VLOOKUP(Spellcasting!BS$13,Tables!$TK:$UB,Tables!$TZ$1,FALSE))","v":""},null,null,null,null,{"$f":"IF(OR(CharacterLevel=\"\",Spellcasting!BS$13=\"\"),\"\",VLOOKUP(Spellcasting!BS$13,Tables!$TK:$UB,Tables!$UB$1,FALSE))","v":""}]
[null,null,null,null,null,null,null,null,null,null,null,null,null,null,null,null,null,null,null,null,null,null,null,null,null,null,null,null,null,null,null,null,null,null,null,null,null,null,null,null,null,null,null,null,null,null,null,null,null,null,null,null,null,null,null,null,null,null,null,null,null,null,null,null,null,null,null,null,null,null,null,null,null,null,null,"PREP",null,null,"SPELL NAME",null,null,null,null,null,null,null,null,null,null,null,null,null,null,null,null,"CASTING TIME",null,null,null,null,null,"RANGE",null,null,null,null,"DURATION",null,null,null,null,null,"COMPONENTS",null,null,null,null,null,"TYPE",null,null,null,null,"DETAILS"]
[null,{"$f":"IF(CharacterLevel=\"\",'Character Sheet III'!$CF$202,IF(Spellcasting!BQ14=\"•\",'Character Sheet III'!$BX$202,'Character Sheet III'!$CF$202))","v":"□"},null,null,{"$f":"IF(OR(CharacterLevel=\"\",Spellcasting!BS$14=\"\"),\"\",VLOOKUP(Spellcasting!BS$14,Tables!$TK:$UB,Tables!$TN$1,FALSE))","v":""},null,null,null,null,null,null,null,null,null,null,null,null,null,null,null,null,{"$f":"IF(OR(CharacterLevel=\"\",Spellcasting!BS$14=\"\"),\"\",VLOOKUP(Spellcasting!BS$14,Tables!$TK:$UB,Tables!$TT$1,FALSE))","v":""},null,null,null,null,null,{"$f":"IF(OR(CharacterLevel=\"\",Spellcasting!BS$14=\"\"),\"\",VLOOKUP(Spellcasting!BS$14,Tables!$TK:$UB,Tables!$TU$1,FALSE))","v":""},null,null,null,null,{"$f":"IF(OR(CharacterLevel=\"\",Spellcasting!BS$14=\"\"),\"\",VLOOKUP(Spellcasting!BS$14,Tables!$TK:$UB,Tables!$TV$1,FALSE))","v":""},null,null,null,null,null,null,{"$f":"IF(OR(CharacterLevel=\"\",Spellcasting!BS$14=\"\"),\"\",VLOOKUP(Spellcasting!BS$14,Tables!$TK:$UB,Tables!$TW$1,FALSE))","v":""},null,null,null,null,{"$f":"IF(OR(CharacterLevel=\"\",Spellcasting!BS$14=\"\"),\"\",VLOOKUP(Spellcasting!BS$14,Tables!$TK:$UB,Tables!$TZ$1,FALSE))","v":""},null,null,null,null,{"$f":"IF(OR(CharacterLevel=\"\",Spellcasting!BS$14=\"\"),\"\",VLOOKUP(Spellcasting!BS$14,Tables!$TK:$UB,Tables!$UB$1,FALSE))","v":""}]
[null,null,null,null,null,null,null,null,null,null,null,null,null,null,null,null,null,null,null,null,null,null,null,null,null,null,null,null,null,null,null,null,null,null,null,null,null,null,null,null,null,null,null,null,null,null,null,null,null,null,null,null,null,null,null,null,null,null,null,null,null,null,null,null,null,null,null,null,null,null,null,null,null,null,null,{"$f":"IF(CharacterLevel=\"\",'Character Sheet III'!$CF$202,IF(Spellcasting!CE33=\"•\",'Character Sheet III'!$BX$202,'Character Sheet III'!$CF$202))","v":"□"},null,null,{"$f":"IF(OR(CharacterLevel=\"\",Spellcasting!CG$33=\"\"),\"\",VLOOKUP(Spellcasting!CG$33,Tables!$TK:$UB,Tables!$TN$1,FALSE))","v":""},null,null,null,null,null,null,null,null,null,null,null,null,null,null,null,null,{"$f":"IF(OR(CharacterLevel=\"\",Spellcasting!CG$33=\"\"),\"\",VLOOKUP(Spellcasting!CG$33,Tables!$TK:$UB,Tables!$TT$1,FALSE))","v":""},null,null,null,null,null,{"$f":"IF(OR(CharacterLevel=\"\",Spellcasting!CG$33=\"\"),\"\",VLOOKUP(Spellcasting!CG$33,Tables!$TK:$UB,Tables!$TU$1,FALSE))","v":""},null,null,null,null,{"$f":"IF(OR(CharacterLevel=\"\",Spellcasting!CG$33=\"\"),\"\",VLOOKUP(Spellcasting!CG$33,Tables!$TK:$UB,Tables!$TV$1,FALSE))","v":""},null,null,null,null,null,null,{"$f":"IF(OR(CharacterLevel=\"\",Spellcasting!CG$33=\"\"),\"\",VLOOKUP(Spellcasting!CG$33,Tables!$TK:$UB,Tables!$TW$1,FALSE))","v":""},null,null,null,null,{"$f":"IF(OR(CharacterLevel=\"\",Spellcasting!CG$33=\"\"),\"\",VLOOKUP(Spellcasting!CG$33,Tables!$TK:$UB,Tables!$TZ$1,FALSE))","v":""},null,null,null,null,{"$f":"IF(OR(CharacterLevel=\"\",Spellcasting!CG$33=\"\"),\"\",VLOOKUP(Spellcasting!CG$33,Tables!$TK:$UB,Tables!$UB$1,FALSE))","v":""}]
[null,{"$f":"IF(CharacterLevel=\"\",'Character Sheet III'!$CF$202,IF(Spellcasting!BQ15=\"•\",'Character Sheet III'!$BX$202,'Character Sheet III'!$CF$202))","v":"□"},null,null,{"$f":"IF(OR(CharacterLevel=\"\",Spellcasting!BS$15=\"\"),\"\",VLOOKUP(Spellcasting!BS$15,Tables!$TK:$UB,Tables!$TN$1,FALSE))","v":""},null,null,null,null,null,null,null,null,null,null,null,null,null,null,null,null,{"$f":"IF(OR(CharacterLevel=\"\",Spellcasting!BS$15=\"\"),\"\",VLOOKUP(Spellcasting!BS$15,Tables!$TK:$UB,Tables!$TT$1,FALSE))","v":""},null,null,null,null,null,{"$f":"IF(OR(CharacterLevel=\"\",Spellcasting!BS$15=\"\"),\"\",VLOOKUP(Spellcasting!BS$15,Tables!$TK:$UB,Tables!$TU$1,FALSE))","v":""},null,null,null,null,{"$f":"IF(OR(CharacterLevel=\"\",Spellcasting!BS$15=\"\"),\"\",VLOOKUP(Spellcasting!BS$15,Tables!$TK:$UB,Tables!$TV$1,FALSE))","v":""},null,null,null,null,null,null,{"$f":"IF(OR(CharacterLevel=\"\",Spellcasting!BS$15=\"\"),\"\",VLOOKUP(Spellcasting!BS$15,Tables!$TK:$UB,Tables!$TW$1,FALSE))","v":""},null,null,null,null,{"$f":"IF(OR(CharacterLevel=\"\",Spellcasting!BS$15=\"\"),\"\",VLOOKUP(Spellcasting!BS$15,Tables!$TK:$UB,Tables!$TZ$1,FALSE))","v":""},null,null,null,null,{"$f":"IF(OR(CharacterLevel=\"\",Spellcasting!BS$15=\"\"),\"\",VLOOKUP(Spellcasting!BS$15,Tables!$TK:$UB,Tables!$UB$1,FALSE))","v":""}]
[null,null,null,null,null,null,null,null,null,null,null,null,null,null,null,null,null,null,null,null,null,null,null,null,null,null,null,null,null,null,null,null,null,null,null,null,null,null,null,null,null,null,null,null,null,null,null,null,null,null,null,null,null,null,null,null,null,null,null,null,null,null,null,null,null,null,null,null,null,null,null,null,null,null,null,{"$f":"IF(CharacterLevel=\"\",'Character Sheet III'!$CF$202,IF(Spellcasting!CE34=\"•\",'Character Sheet III'!$BX$202,'Character Sheet III'!$CF$202))","v":"□"},null,null,{"$f":"IF(OR(CharacterLevel=\"\",Spellcasting!CG$34=\"\"),\"\",VLOOKUP(Spellcasting!CG$34,Tables!$TK:$UB,Tables!$TN$1,FALSE))","v":""},null,null,null,null,null,null,null,null,null,null,null,null,null,null,null,null,{"$f":"IF(OR(CharacterLevel=\"\",Spellcasting!CG$34=\"\"),\"\",VLOOKUP(Spellcasting!CG$34,Tables!$TK:$UB,Tables!$TT$1,FALSE))","v":""},null,null,null,null,null,{"$f":"IF(OR(CharacterLevel=\"\",Spellcasting!CG$34=\"\"),\"\",VLOOKUP(Spellcasting!CG$34,Tables!$TK:$UB,Tables!$TU$1,FALSE))","v":""},null,null,null,null,{"$f":"IF(OR(CharacterLevel=\"\",Spellcasting!CG$34=\"\"),\"\",VLOOKUP(Spellcasting!CG$34,Tables!$TK:$UB,Tables!$TV$1,FALSE))","v":""},null,null,null,null,null,null,{"$f":"IF(OR(CharacterLevel=\"\",Spellcasting!CG$34=\"\"),\"\",VLOOKUP(Spellcasting!CG$34,Tables!$TK:$UB,Tables!$TW$1,FALSE))","v":""},null,null,null,null,{"$f":"IF(OR(CharacterLevel=\"\",Spellcasting!CG$34=\"\"),\"\",VLOOKUP(Spellcasting!CG$34,Tables!$TK:$UB,Tables!$TZ$1,FALSE))","v":""},null,null,null,null,{"$f":"IF(OR(CharacterLevel=\"\",Spellcasting!CG$34=\"\"),\"\",VLOOKUP(Spellcasting!CG$34,Tables!$TK:$UB,Tables!$UB$1,FALSE))","v":""}]
[null,{"$f":"IF(CharacterLevel=\"\",'Character Sheet III'!$CF$202,IF(Spellcasting!BQ16=\"•\",'Character Sheet III'!$BX$202,'Character Sheet III'!$CF$202))","v":"□"},null,null,{"$f":"IF(OR(CharacterLevel=\"\",Spellcasting!BS$16=\"\"),\"\",VLOOKUP(Spellcasting!BS$16,Tables!$TK:$UB,Tables!$TN$1,FALSE))","v":""},null,null,null,null,null,null,null,null,null,null,null,null,null,null,null,null,{"$f":"IF(OR(CharacterLevel=\"\",Spellcasting!BS$16=\"\"),\"\",VLOOKUP(Spellcasting!BS$16,Tables!$TK:$UB,Tables!$TT$1,FALSE))","v":""},null,null,null,null,null,{"$f":"IF(OR(CharacterLevel=\"\",Spellcasting!BS$16=\"\"),\"\",VLOOKUP(Spellcasting!BS$16,Tables!$TK:$UB,Tables!$TU$1,FALSE))","v":""},null,null,null,null,{"$f":"IF(OR(CharacterLevel=\"\",Spellcasting!BS$16=\"\"),\"\",VLOOKUP(Spellcasting!BS$16,Tables!$TK:$UB,Tables!$TV$1,FALSE))","v":""},null,null,null,null,null,null,{"$f":"IF(OR(CharacterLevel=\"\",Spellcasting!BS$16=\"\"),\"\",VLOOKUP(Spellcasting!BS$16,Tables!$TK:$UB,Tables!$TW$1,FALSE))","v":""},null,null,null,null,{"$f":"IF(OR(CharacterLevel=\"\",Spellcasting!BS$16=\"\"),\"\",VLOOKUP(Spellcasting!BS$16,Tables!$TK:$UB,Tables!$TZ$1,FALSE))","v":""},null,null,null,null,{"$f":"IF(OR(CharacterLevel=\"\",Spellcasting!BS$16=\"\"),\"\",VLOOKUP(Spellcasting!BS$16,Tables!$TK:$UB,Tables!$UB$1,FALSE))","v":""}]
[null,null,null,null,{"$f":"IF(OR(CharacterLevel=\"\",Spellcasting!#REF!=\"\"),\"\",VLOOKUP(Spellcasting!#REF!,Tables!TK:UB,Tables!$TN$1,FALSE))","v":{"$error":"#REF!"}},null,null,null,null,null,null,null,null,null,null,null,null,null,null,null,null,null,null,null,null,null,null,null,null,null,null,null,null,null,null,null,null,null,null,null,null,null,null,null,null,null,null,null,null,null,null,null,null,null,null,null,null,null,null,null,null,null,null,null,null,null,null,null,null,null,null,null,null,null,null,{"$f":"IF(CharacterLevel=\"\",'Character Sheet III'!$CF$202,IF(Spellcasting!CE35=\"•\",'Character Sheet III'!$BX$202,'Character Sheet III'!$CF$202))","v":"□"},null,null,{"$f":"IF(OR(CharacterLevel=\"\",Spellcasting!CG$35=\"\"),\"\",VLOOKUP(Spellcasting!CG$35,Tables!$TK:$UB,Tables!$TN$1,FALSE))","v":""},null,null,null,null,null,null,null,null,null,null,null,null,null,null,null,null,{"$f":"IF(OR(CharacterLevel=\"\",Spellcasting!CG$35=\"\"),\"\",VLOOKUP(Spellcasting!CG$35,Tables!$TK:$UB,Tables!$TT$1,FALSE))","v":""},null,null,null,null,null,{"$f":"IF(OR(CharacterLevel=\"\",Spellcasting!CG$35=\"\"),\"\",VLOOKUP(Spellcasting!CG$35,Tables!$TK:$UB,Tables!$TU$1,FALSE))","v":""},null,null,null,null,{"$f":"IF(OR(CharacterLevel=\"\",Spellcasting!CG$35=\"\"),\"\",VLOOKUP(Spellcasting!CG$35,Tables!$TK:$UB,Tables!$TV$1,FALSE))","v":""},null,null,null,null,null,null,{"$f":"IF(OR(CharacterLevel=\"\",Spellcasting!CG$35=\"\"),\"\",VLOOKUP(Spellcasting!CG$35,Tables!$TK:$UB,Tables!$TW$1,FALSE))","v":""},null,null,null,null,{"$f":"IF(OR(CharacterLevel=\"\",Spellcasting!CG$35=\"\"),\"\",VLOOKUP(Spellcasting!CG$35,Tables!$TK:$UB,Tables!$TZ$1,FALSE))","v":""},null,null,null,null,{"$f":"IF(OR(CharacterLevel=\"\",Spellcasting!CG$35=\"\"),\"\",VLOOKUP(Spellcasting!CG$35,Tables!$TK:$UB,Tables!$UB$1,FALSE))","v":""}]
[null,{"$f":"IF(CharacterLevel=\"\",'Character Sheet III'!$CF$202,IF(Spellcasting!BQ17=\"•\",'Character Sheet III'!$BX$202,'Character Sheet III'!$CF$202))","v":"□"},null,null,{"$f":"IF(OR(CharacterLevel=\"\",Spellcasting!BS$17=\"\"),\"\",VLOOKUP(Spellcasting!BS$17,Tables!$TK:$UB,Tables!$TN$1,FALSE))","v":""},null,null,null,null,null,null,null,null,null,null,null,null,null,null,null,null,{"$f":"IF(OR(CharacterLevel=\"\",Spellcasting!BS$17=\"\"),\"\",VLOOKUP(Spellcasting!BS$17,Tables!$TK:$UB,Tables!$TT$1,FALSE))","v":""},null,null,null,null,null,{"$f":"IF(OR(CharacterLevel=\"\",Spellcasting!BS$17=\"\"),\"\",VLOOKUP(Spellcasting!BS$17,Tables!$TK:$UB,Tables!$TU$1,FALSE))","v":""},null,null,null,null,{"$f":"IF(OR(CharacterLevel=\"\",Spellcasting!BS$17=\"\"),\"\",VLOOKUP(Spellcasting!BS$17,Tables!$TK:$UB,Tables!$TV$1,FALSE))","v":""},null,null,null,null,null,null,{"$f":"IF(OR(CharacterLevel=\"\",Spellcasting!BS$17=\"\"),\"\",VLOOKUP(Spellcasting!BS$17,Tables!$TK:$UB,Tables!$TW$1,FALSE))","v":""},null,null,null,null,{"$f":"IF(OR(CharacterLevel=\"\",Spellcasting!BS$17=\"\"),\"\",VLOOKUP(Spellcasting!BS$17,Tables!$TK:$UB,Tables!$TZ$1,FALSE))","v":""},null,null,null,null,{"$f":"IF(OR(CharacterLevel=\"\",Spellcasting!BS$17=\"\"),\"\",VLOOKUP(Spellcasting!BS$17,Tables!$TK:$UB,Tables!$UB$1,FALSE))","v":""}]
[null,null,null,null,{"$f":"IF(OR(CharacterLevel=\"\",Spellcasting!#REF!=\"\"),\"\",VLOOKUP(Spellcasting!#REF!,Tables!TK:UB,Tables!$TN$1,FALSE))","v":{"$error":"#REF!"}},null,null,null,null,null,null,null,null,null,null,null,null,null,null,null,null,null,null,null,null,null,null,null,null,null,null,null,null,null,null,null,null,null,null,null,null,null,null,null,null,null,null,null,null,null,null,null,null,null,null,null,null,null,null,null,null,null,null,null,null,null,null,null,null,null,null,null,null,null,null,{"$f":"IF(CharacterLevel=\"\",'Character Sheet III'!$CF$202,IF(Spellcasting!CE36=\"•\",'Character Sheet III'!$BX$202,'Character Sheet III'!$CF$202))","v":"□"},null,null,{"$f":"IF(OR(CharacterLevel=\"\",Spellcasting!CG$36=\"\"),\"\",VLOOKUP(Spellcasting!CG$36,Tables!$TK:$UB,Tables!$TN$1,FALSE))","v":""},null,null,null,null,null,null,null,null,null,null,null,null,null,null,null,null,{"$f":"IF(OR(CharacterLevel=\"\",Spellcasting!CG$36=\"\"),\"\",VLOOKUP(Spellcasting!CG$36,Tables!$TK:$UB,Tables!$TT$1,FALSE))","v":""},null,null,null,null,null,{"$f":"IF(OR(CharacterLevel=\"\",Spellcasting!CG$36=\"\"),\"\",VLOOKUP(Spellcasting!CG$36,Tables!$TK:$UB,Tables!$TU$1,FALSE))","v":""},null,null,null,null,{"$f":"IF(OR(CharacterLevel=\"\",Spellcasting!CG$36=\"\"),\"\",VLOOKUP(Spellcasting!CG$36,Tables!$TK:$UB,Tables!$TV$1,FALSE))","v":""},null,null,null,null,null,null,{"$f":"IF(OR(CharacterLevel=\"\",Spellcasting!CG$36=\"\"),\"\",VLOOKUP(Spellcasting!CG$36,Tables!$TK:$UB,Tables!$TW$1,FALSE))","v":""},null,null,null,null,{"$f":"IF(OR(CharacterLevel=\"\",Spellcasting!CG$36=\"\"),\"\",VLOOKUP(Spellcasting!CG$36,Tables!$TK:$UB,Tables!$TZ$1,FALSE))","v":""},null,null,null,null,{"$f":"IF(OR(CharacterLevel=\"\",Spellcasting!CG$36=\"\"),\"\",VLOOKUP(Spellcasting!CG$36,Tables!$TK:$UB,Tables!$UB$1,FALSE))","v":""}]
[null,{"$f":"IF(CharacterLevel=\"\",'Character Sheet III'!$CF$202,IF(Spellcasting!BQ18=\"•\",'Character Sheet III'!$BX$202,'Character Sheet III'!$CF$202))","v":"□"},null,null,{"$f":"IF(OR(CharacterLevel=\"\",Spellcasting!BS$18=\"\"),\"\",VLOOKUP(Spellcasting!BS$18,Tables!$TK:$UB,Tables!$TN$1,FALSE))","v":""},null,null,null,null,null,null,null,null,null,null,null,null,null,null,null,null,{"$f":"IF(OR(CharacterLevel=\"\",Spellcasting!BS$18=\"\"),\"\",VLOOKUP(Spellcasting!BS$18,Tables!$TK:$UB,Tables!$TT$1,FALSE))","v":""},null,null,null,null,null,{"$f":"IF(OR(CharacterLevel=\"\",Spellcasting!BS$18=\"\"),\"\",VLOOKUP(Spellcasting!BS$18,Tables!$TK:$UB,Tables!$TU$1,FALSE))","v":""},null,null,null,null,{"$f":"IF(OR(CharacterLevel=\"\",Spellcasting!BS$18=\"\"),\"\",VLOOKUP(Spellcasting!BS$18,Tables!$TK:$UB,Tables!$TV$1,FALSE))","v":""},null,null,null,null,null,null,{"$f":"IF(OR(CharacterLevel=\"\",Spellcasting!BS$18=\"\"),\"\",VLOOKUP(Spellcasting!BS$18,Tables!$TK:$UB,Tables!$TW$1,FALSE))","v":""},null,null,null,null,{"$f":"IF(OR(CharacterLevel=\"\",Spellcasting!BS$18=\"\"),\"\",VLOOKUP(Spellcasting!BS$18,Tables!$TK:$UB,Tables!$TZ$1,FALSE))","v":""},null,null,null,null,{"$f":"IF(OR(CharacterLevel=\"\",Spellcasting!BS$18=\"\"),\"\",VLOOKUP(Spellcasting!BS$18,Tables!$TK:$UB,Tables!$UB$1,FALSE))","v":""}]
[null,null,null,null,{"$f":"IF(OR(CharacterLevel=\"\",Spellcasting!AQ121=\"\"),\"\",VLOOKUP(Spellcasting!AQ121,Tables!TK:UB,Tables!$TN$1,FALSE))","v":""},null,null,null,null,null,null,null,null,null,null,null,null,null,null,null,null,null,null,null,null,null,null,null,null,null,null,null,null,null,null,null,null,null,null,null,null,null,null,null,null,null,null,null,null,null,null,null,null,null,null,null,null,null,null,null,null,null,null,null,null,null,null,null,null,null,null,null,null,null,null,{"$f":"IF(CharacterLevel=\"\",'Character Sheet III'!$CF$202,IF(Spellcasting!CE37=\"•\",'Character Sheet III'!$BX$202,'Character Sheet III'!$CF$202))","v":"□"},null,null,{"$f":"IF(OR(CharacterLevel=\"\",Spellcasting!CG$37=\"\"),\"\",VLOOKUP(Spellcasting!CG$37,Tables!$TK:$UB,Tables!$TN$1,FALSE))","v":""},null,null,null,null,null,null,null,null,null,null,null,null,null,null,null,null,{"$f":"IF(OR(CharacterLevel=\"\",Spellcasting!CG$37=\"\"),\"\",VLOOKUP(Spellcasting!CG$37,Tables!$TK:$UB,Tables!$TT$1,FALSE))","v":""},null,null,null,null,null,{"$f":"IF(OR(CharacterLevel=\"\",Spellcasting!CG$37=\"\"),\"\",VLOOKUP(Spellcasting!CG$37,Tables!$TK:$UB,Tables!$TU$1,FALSE))","v":""},null,null,null,null,{"$f":"IF(OR(CharacterLevel=\"\",Spellcasting!CG$37=\"\"),\"\",VLOOKUP(Spellcasting!CG$37,Tables!$TK:$UB,Tables!$TV$1,FALSE))","v":""},null,null,null,null,null,null,{"$f":"IF(OR(CharacterLevel=\"\",Spellcasting!CG$37=\"\"),\"\",VLOOKUP(Spellcasting!CG$37,Tables!$TK:$UB,Tables!$TW$1,FALSE))","v":""},null,null,null,null,{"$f":"IF(OR(CharacterLevel=\"\",Spellcasting!CG$37=\"\"),\"\",VLOOKUP(Spellcasting!CG$37,Tables!$TK:$UB,Tables!$TZ$1,FALSE))","v":""},null,null,null,null,{"$f":"IF(OR(CharacterLevel=\"\",Spellcasting!CG$37=\"\"),\"\",VLOOKUP(Spellcasting!CG$37,Tables!$TK:$UB,Tables!$UB$1,FALSE))","v":""}]
[null,{"$f":"IF(CharacterLevel=\"\",'Character Sheet III'!$CF$202,IF(Spellcasting!BQ19=\"•\",'Character Sheet III'!$BX$202,'Character Sheet III'!$CF$202))","v":"□"},null,null,{"$f":"IF(OR(CharacterLevel=\"\",Spellcasting!BS$19=\"\"),\"\",VLOOKUP(Spellcasting!BS$19,Tables!$TK:$UB,Tables!$TN$1,FALSE))","v":""},null,null,null,null,null,null,null,null,null,null,null,null,null,null,null,null,{"$f":"IF(OR(CharacterLevel=\"\",Spellcasting!BS$19=\"\"),\"\",VLOOKUP(Spellcasting!BS$19,Tables!$TK:$UB,Tables!$TT$1,FALSE))","v":""},null,null,null,null,null,{"$f":"IF(OR(CharacterLevel=\"\",Spellcasting!BS$19=\"\"),\"\",VLOOKUP(Spellcasting!BS$19,Tables!$TK:$UB,Tables!$TU$1,FALSE))","v":""},null,null,null,null,{"$f":"IF(OR(CharacterLevel=\"\",Spellcasting!BS$19=\"\"),\"\",VLOOKUP(Spellcasting!BS$19,Tables!$TK:$UB,Tables!$TV$1,FALSE))","v":""},null,null,null,null,null,null,{"$f":"IF(OR(CharacterLevel=\"\",Spellcasting!BS$19=\"\"),\"\",VLOOKUP(Spellcasting!BS$19,Tables!$TK:$UB,Tables!$TW$1,FALSE))","v":""},null,null,null,null,{"$f":"IF(OR(CharacterLevel=\"\",Spellcasting!BS$19=\"\"),\"\",VLOOKUP(Spellcasting!BS$19,Tables!$TK:$UB,Tables!$TZ$1,FALSE))","v":""},null,null,null,null,{"$f":"IF(OR(CharacterLevel=\"\",Spellcasting!BS$19=\"\"),\"\",VLOOKUP(Spellcasting!BS$19,Tables!$TK:$UB,Tables!$UB$1,FALSE))","v":""}]
[null,null,null,null,{"$f":"IF(OR(CharacterLevel=\"\",Spellcasting!AQ123=\"\"),\"\",VLOOKUP(Spellcasting!AQ123,Tables!TK:UB,Tables!$TN$1,FALSE))","v":""},null,null,null,null,null,null,null,null,null,null,null,null,null,null,null,null,null,null,null,null,null,null,null,null,null,null,null,null,null,null,null,null,null,null,null,null,null,null,null,null,null,null,null,null,null,null,null,null,null,null,null,null,null,null,null,null,null,null,null,null,null,null,null,null,null,null,null,null,null,null,{"$f":"IF(CharacterLevel=\"\",'Character Sheet III'!$CF$202,IF(Spellcasting!CE38=\"•\",'Character Sheet III'!$BX$202,'Character Sheet III'!$CF$202))","v":"□"},null,null,{"$f":"IF(OR(CharacterLevel=\"\",Spellcasting!CG$38=\"\"),\"\",VLOOKUP(Spellcasting!CG$38,Tables!$TK:$UB,Tables!$TN$1,FALSE))","v":""},null,null,null,null,null,null,null,null,null,null,null,null,null,null,null,null,{"$f":"IF(OR(CharacterLevel=\"\",Spellcasting!CG$38=\"\"),\"\",VLOOKUP(Spellcasting!CG$38,Tables!$TK:$UB,Tables!$TT$1,FALSE))","v":""},null,null,null,null,null,{"$f":"IF(OR(CharacterLevel=\"\",Spellcasting!CG$38=\"\"),\"\",VLOOKUP(Spellcasting!CG$38,Tables!$TK:$UB,Tables!$TU$1,FALSE))","v":""},null,null,null,null,{"$f":"IF(OR(CharacterLevel=\"\",Spellcasting!CG$38=\"\"),\"\",VLOOKUP(Spellcasting!CG$38,Tables!$TK:$UB,Tables!$TV$1,FALSE))","v":""},null,null,null,null,null,null,{"$f":"IF(OR(CharacterLevel=\"\",Spellcasting!CG$38=\"\"),\"\",VLOOKUP(Spellcasting!CG$38,Tables!$TK:$UB,Tables!$TW$1,FALSE))","v":""},null,null,null,null,{"$f":"IF(OR(CharacterLevel=\"\",Spellcasting!CG$38=\"\"),\"\",VLOOKUP(Spellcasting!CG$38,Tables!$TK:$UB,Tables!$TZ$1,FALSE))","v":""},null,null,null,null,{"$f":"IF(OR(CharacterLevel=\"\",Spellcasting!CG$38=\"\"),\"\",VLOOKUP(Spellcasting!CG$38,Tables!$TK:$UB,Tables!$UB$1,FALSE))","v":""}]
[null,{"$f":"IF(CharacterLevel=\"\",'Character Sheet III'!$CF$202,IF(Spellcasting!BQ20=\"•\",'Character Sheet III'!$BX$202,'Character Sheet III'!$CF$202))","v":"□"},null,null,{"$f":"IF(OR(CharacterLevel=\"\",Spellcasting!BS$20=\"\"),\"\",VLOOKUP(Spellcasting!BS$20,Tables!$TK:$UB,Tables!$TN$1,FALSE))","v":""},null,null,null,null,null,null,null,null,null,null,null,null,null,null,null,null,{"$f":"IF(OR(CharacterLevel=\"\",Spellcasting!BS$20=\"\"),\"\",VLOOKUP(Spellcasting!BS$20,Tables!$TK:$UB,Tables!$TT$1,FALSE))","v":""},null,null,null,null,null,{"$f":"IF(OR(CharacterLevel=\"\",Spellcasting!BS$20=\"\"),\"\",VLOOKUP(Spellcasting!BS$20,Tables!$TK:$UB,Tables!$TU$1,FALSE))","v":""},null,null,null,null,{"$f":"IF(OR(CharacterLevel=\"\",Spellcasting!BS$20=\"\"),\"\",VLOOKUP(Spellcasting!BS$20,Tables!$TK:$UB,Tables!$TV$1,FALSE))","v":""},null,null,null,null,null,null,{"$f":"IF(OR(CharacterLevel=\"\",Spellcasting!BS$20=\"\"),\"\",VLOOKUP(Spellcasting!BS$20,Tables!$TK:$UB,Tables!$TW$1,FALSE))","v":""},null,null,null,null,{"$f":"IF(OR(CharacterLevel=\"\",Spellcasting!BS$20=\"\"),\"\",VLOOKUP(Spellcasting!BS$20,Tables!$TK:$UB,Tables!$TZ$1,FALSE))","v":""},null,null,null,null,{"$f":"IF(OR(CharacterLevel=\"\",Spellcasting!BS$20=\"\"),\"\",VLOOKUP(Spellcasting!BS$20,Tables!$TK:$UB,Tables!$UB$1,FALSE))","v":""}]
[null,null,null,null,{"$f":"IF(OR(CharacterLevel=\"\",Spellcasting!AQ125=\"\"),\"\",VLOOKUP(Spellcasting!AQ125,Tables!TK:UB,Tables!$TN$1,FALSE))","v":""},null,null,null,null,null,null,null,null,null,null,null,null,null,null,null,null,null,null,null,null,null,null,null,null,null,null,null,null,null,null,null,null,null,null,null,null,null,null,null,null,null,null,null,null,null,null,null,null,null,null,null,null,null,null,null,null,null,null,null,null,null,null,null,null,null,null,null,null,null,null,{"$f":"IF(CharacterLevel=\"\",'Character Sheet III'!$CF$202,IF(Spellcasting!CE39=\"•\",'Character Sheet III'!$BX$202,'Character Sheet III'!$CF$202))","v":"□"},null,null,{"$f":"IF(OR(CharacterLevel=\"\",Spellcasting!CG$39=\"\"),\"\",VLOOKUP(Spellcasting!CG$39,Tables!$TK:$UB,Tables!$TN$1,FALSE))","v":""},null,null,null,null,null,null,null,null,null,null,null,null,null,null,null,null,{"$f":"IF(OR(CharacterLevel=\"\",Spellcasting!CG$39=\"\"),\"\",VLOOKUP(Spellcasting!CG$39,Tables!$TK:$UB,Tables!$TT$1,FALSE))","v":""},null,null,null,null,null,{"$f":"IF(OR(CharacterLevel=\"\",Spellcasting!CG$39=\"\"),\"\",VLOOKUP(Spellcasting!CG$39,Tables!$TK:$UB,Tables!$TU$1,FALSE))","v":""},null,null,null,null,{"$f":"IF(OR(CharacterLevel=\"\",Spellcasting!CG$39=\"\"),\"\",VLOOKUP(Spellcasting!CG$39,Tables!$TK:$UB,Tables!$TV$1,FALSE))","v":""},null,null,null,null,null,null,{"$f":"IF(OR(CharacterLevel=\"\",Spellcasting!CG$39=\"\"),\"\",VLOOKUP(Spellcasting!CG$39,Tables!$TK:$UB,Tables!$TW$1,FALSE))","v":""},null,null,null,null,{"$f":"IF(OR(CharacterLevel=\"\",Spellcasting!CG$39=\"\"),\"\",VLOOKUP(Spellcasting!CG$39,Tables!$TK:$UB,Tables!$TZ$1,FALSE))","v":""},null,null,null,null,{"$f":"IF(OR(CharacterLevel=\"\",Spellcasting!CG$39=\"\"),\"\",VLOOKUP(Spellcasting!CG$39,Tables!$TK:$UB,Tables!$UB$1,FALSE))","v":""}]
[null,{"$f":"IF(CharacterLevel=\"\",'Character Sheet III'!$CF$202,IF(Spellcasting!BQ21=\"•\",'Character Sheet III'!$BX$202,'Character Sheet III'!$CF$202))","v":"□"},null,null,{"$f":"IF(OR(CharacterLevel=\"\",Spellcasting!BS$21=\"\"),\"\",VLOOKUP(Spellcasting!BS$21,Tables!$TK:$UB,Tables!$TN$1,FALSE))","v":""},null,null,null,null,null,null,null,null,null,null,null,null,null,null,null,null,{"$f":"IF(OR(CharacterLevel=\"\",Spellcasting!BS$21=\"\"),\"\",VLOOKUP(Spellcasting!BS$21,Tables!$TK:$UB,Tables!$TT$1,FALSE))","v":""},null,null,null,null,null,{"$f":"IF(OR(CharacterLevel=\"\",Spellcasting!BS$21=\"\"),\"\",VLOOKUP(Spellcasting!BS$21,Tables!$TK:$UB,Tables!$TU$1,FALSE))","v":""},null,null,null,null,{"$f":"IF(OR(CharacterLevel=\"\",Spellcasting!BS$21=\"\"),\"\",VLOOKUP(Spellcasting!BS$21,Tables!$TK:$UB,Tables!$TV$1,FALSE))","v":""},null,null,null,null,null,null,{"$f":"IF(OR(CharacterLevel=\"\",Spellcasting!BS$21=\"\"),\"\",VLOOKUP(Spellcasting!BS$21,Tables!$TK:$UB,Tables!$TW$1,FALSE))","v":""},null,null,null,null,{"$f":"IF(OR(CharacterLevel=\"\",Spellcasting!BS$21=\"\"),\"\",VLOOKUP(Spellcasting!BS$21,Tables!$TK:$UB,Tables!$TZ$1,FALSE))","v":""},null,null,null,null,{"$f":"IF(OR(CharacterLevel=\"\",Spellcasting!BS$21=\"\"),\"\",VLOOKUP(Spellcasting!BS$21,Tables!$TK:$UB,Tables!$UB$1,FALSE))","v":""}]
[null,null,null,null,{"$f":"IF(OR(CharacterLevel=\"\",Spellcasting!AQ127=\"\"),\"\",VLOOKUP(Spellcasting!AQ127,Tables!TK:UB,Tables!$TN$1,FALSE))","v":""},null,null,null,null,null,null,null,null,null,null,null,null,null,null,null,null,null,null,null,null,null,null,null,null,null,null,null,null,null,null,null,null,null,null,null,null,null,null,null,null,null,null,null,null,null,null,null,null,null,null,null,null,null,null,null,null,null,null,null,null,null,null,null,null,null,null,null,null,null,null,{"$f":"IF(CharacterLevel=\"\",'Character Sheet III'!$CF$202,IF(Spellcasting!CE40=\"•\",'Character Sheet III'!$BX$202,'Character Sheet III'!$CF$202))","v":"□"},null,null,{"$f":"IF(OR(CharacterLevel=\"\",Spellcasting!CG$40=\"\"),\"\",VLOOKUP(Spellcasting!CG$40,Tables!$TK:$UB,Tables!$TN$1,FALSE))","v":""},null,null,null,null,null,null,null,null,null,null,null,null,null,null,null,null,{"$f":"IF(OR(CharacterLevel=\"\",Spellcasting!CG$40=\"\"),\"\",VLOOKUP(Spellcasting!CG$40,Tables!$TK:$UB,Tables!$TT$1,FALSE))","v":""},null,null,null,null,null,{"$f":"IF(OR(CharacterLevel=\"\",Spellcasting!CG$40=\"\"),\"\",VLOOKUP(Spellcasting!CG$40,Tables!$TK:$UB,Tables!$TU$1,FALSE))","v":""},null,null,null,null,{"$f":"IF(OR(CharacterLevel=\"\",Spellcasting!CG$40=\"\"),\"\",VLOOKUP(Spellcasting!CG$40,Tables!$TK:$UB,Tables!$TV$1,FALSE))","v":""},null,null,null,null,null,null,{"$f":"IF(OR(CharacterLevel=\"\",Spellcasting!CG$40=\"\"),\"\",VLOOKUP(Spellcasting!CG$40,Tables!$TK:$UB,Tables!$TW$1,FALSE))","v":""},null,null,null,null,{"$f":"IF(OR(CharacterLevel=\"\",Spellcasting!CG$40=\"\"),\"\",VLOOKUP(Spellcasting!CG$40,Tables!$TK:$UB,Tables!$TZ$1,FALSE))","v":""},null,null,null,null,{"$f":"IF(OR(CharacterLevel=\"\",Spellcasting!CG$40=\"\"),\"\",VLOOKUP(Spellcasting!CG$40,Tables!$TK:$UB,Tables!$UB$1,FALSE))","v":""}]
[null,{"$f":"IF(CharacterLevel=\"\",'Character Sheet III'!$CF$202,IF(Spellcasting!BQ22=\"•\",'Character Sheet III'!$BX$202,'Character Sheet III'!$CF$202))","v":"□"},null,null,{"$f":"IF(OR(CharacterLevel=\"\",Spellcasting!BS$22=\"\"),\"\",VLOOKUP(Spellcasting!BS$22,Tables!$TK:$UB,Tables!$TN$1,FALSE))","v":""},null,null,null,null,null,null,null,null,null,null,null,null,null,null,null,null,{"$f":"IF(OR(CharacterLevel=\"\",Spellcasting!BS$22=\"\"),\"\",VLOOKUP(Spellcasting!BS$22,Tables!$TK:$UB,Tables!$TT$1,FALSE))","v":""},null,null,null,null,null,{"$f":"IF(OR(CharacterLevel=\"\",Spellcasting!BS$22=\"\"),\"\",VLOOKUP(Spellcasting!BS$22,Tables!$TK:$UB,Tables!$TU$1,FALSE))","v":""},null,null,null,null,{"$f":"IF(OR(CharacterLevel=\"\",Spellcasting!BS$22=\"\"),\"\",VLOOKUP(Spellcasting!BS$22,Tables!$TK:$UB,Tables!$TV$1,FALSE))","v":""},null,null,null,null,null,null,{"$f":"IF(OR(CharacterLevel=\"\",Spellcasting!BS$22=\"\"),\"\",VLOOKUP(Spellcasting!BS$22,Tables!$TK:$UB,Tables!$TW$1,FALSE))","v":""},null,null,null,null,{"$f":"IF(OR(CharacterLevel=\"\",Spellcasting!BS$22=\"\"),\"\",VLOOKUP(Spellcasting!BS$22,Tables!$TK:$UB,Tables!$TZ$1,FALSE))","v":""},null,null,null,null,{"$f":"IF(OR(CharacterLevel=\"\",Spellcasting!BS$22=\"\"),\"\",VLOOKUP(Spellcasting!BS$22,Tables!$TK:$UB,Tables!$UB$1,FALSE))","v":""}]
[null,null,null,null,{"$f":"IF(OR(CharacterLevel=\"\",Spellcasting!AQ129=\"\"),\"\",VLOOKUP(Spellcasting!AQ129,Tables!TK:UB,Tables!$TN$1,FALSE))","v":""},null,null,null,null,null,null,null,null,null,null,null,null,null,null,null,null,null,null,null,null,null,null,null,null,null,null,null,null,null,null,null,null,null,null,null,null,null,null,null,null,null,null,null,null,null,null,null,null,null,null,null,null,null,null,null,null,null,null,null,null,null,null,null,null,null,null,null,null,null,null,{"$f":"IF(CharacterLevel=\"\",'Character Sheet III'!$CF$202,IF(Spellcasting!CE41=\"•\",'Character Sheet III'!$BX$202,'Character Sheet III'!$CF$202))","v":"□"},null,null,{"$f":"IF(OR(CharacterLevel=\"\",Spellcasting!CG$41=\"\"),\"\",VLOOKUP(Spellcasting!CG$41,Tables!$TK:$UB,Tables!$TN$1,FALSE))","v":""},null,null,null,null,null,null,null,null,null,null,null,null,null,null,null,null,{"$f":"IF(OR(CharacterLevel=\"\",Spellcasting!CG$41=\"\"),\"\",VLOOKUP(Spellcasting!CG$41,Tables!$TK:$UB,Tables!$TT$1,FALSE))","v":""},null,null,null,null,null,{"$f":"IF(OR(CharacterLevel=\"\",Spellcasting!CG$41=\"\"),\"\",VLOOKUP(Spellcasting!CG$41,Tables!$TK:$UB,Tables!$TU$1,FALSE))","v":""},null,null,null,null,{"$f":"IF(OR(CharacterLevel=\"\",Spellcasting!CG$41=\"\"),\"\",VLOOKUP(Spellcasting!CG$41,Tables!$TK:$UB,Tables!$TV$1,FALSE))","v":""},null,null,null,null,null,null,{"$f":"IF(OR(CharacterLevel=\"\",Spellcasting!CG$41=\"\"),\"\",VLOOKUP(Spellcasting!CG$41,Tables!$TK:$UB,Tables!$TW$1,FALSE))","v":""},null,null,null,null,{"$f":"IF(OR(CharacterLevel=\"\",Spellcasting!CG$41=\"\"),\"\",VLOOKUP(Spellcasting!CG$41,Tables!$TK:$UB,Tables!$TZ$1,FALSE))","v":""},null,null,null,null,{"$f":"IF(OR(CharacterLevel=\"\",Spellcasting!CG$41=\"\"),\"\",VLOOKUP(Spellcasting!CG$41,Tables!$TK:$UB,Tables!$UB$1,FALSE))","v":""}]
[null,{"$f":"IF(CharacterLevel=\"\",'Character Sheet III'!$CF$202,IF(Spellcasting!BQ23=\"•\",'Character Sheet III'!$BX$202,'Character Sheet III'!$CF$202))","v":"□"},null,null,{"$f":"IF(OR(CharacterLevel=\"\",Spellcasting!BS$23=\"\"),\"\",VLOOKUP(Spellcasting!BS$23,Tables!$TK:$UB,Tables!$TN$1,FALSE))","v":""},null,null,null,null,null,null,null,null,null,null,null,null,null,null,null,null,{"$f":"IF(OR(CharacterLevel=\"\",Spellcasting!BS$23=\"\"),\"\",VLOOKUP(Spellcasting!BS$23,Tables!$TK:$UB,Tables!$TT$1,FALSE))","v":""},null,null,null,null,null,{"$f":"IF(OR(CharacterLevel=\"\",Spellcasting!BS$23=\"\"),\"\",VLOOKUP(Spellcasting!BS$23,Tables!$TK:$UB,Tables!$TU$1,FALSE))","v":""},null,null,null,null,{"$f":"IF(OR(CharacterLevel=\"\",Spellcasting!BS$23=\"\"),\"\",VLOOKUP(Spellcasting!BS$23,Tables!$TK:$UB,Tables!$TV$1,FALSE))","v":""},null,null,null,null,null,null,{"$f":"IF(OR(CharacterLevel=\"\",Spellcasting!BS$23=\"\"),\"\",VLOOKUP(Spellcasting!BS$23,Tables!$TK:$UB,Tables!$TW$1,FALSE))","v":""},null,null,null,null,{"$f":"IF(OR(CharacterLevel=\"\",Spellcasting!BS$23=\"\"),\"\",VLOOKUP(Spellcasting!BS$23,Tables!$TK:$UB,Tables!$TZ$1,FALSE))","v":""},null,null,null,null,{"$f":"IF(OR(CharacterLevel=\"\",Spellcasting!BS$23=\"\"),\"\",VLOOKUP(Spellcasting!BS$23,Tables!$TK:$UB,Tables!$UB$1,FALSE))","v":""}]
[null,null,null,null,{"$f":"IF(OR(CharacterLevel=\"\",Spellcasting!AQ131=\"\"),\"\",VLOOKUP(Spellcasting!AQ131,Tables!TK:UB,Tables!$TN$1,FALSE))","v":""},null,null,null,null,null,null,null,null,null,null,null,null,null,null,null,null,null,null,null,null,null,null,null,null,null,null,null,null,null,null,null,null,null,null,null,null,null,null,null,null,null,null,null,null,null,null,null,null,null,null,null,null,null,null,null,null,null,null,null,null,null,null,null,null,null,null,null,null,null,null,{"$f":"IF(CharacterLevel=\"\",'Character Sheet III'!$CF$202,IF(Spellcasting!CE42=\"•\",'Character Sheet III'!$BX$202,'Character Sheet III'!$CF$202))","v":"□"},null,null,{"$f":"IF(OR(CharacterLevel=\"\",Spellcasting!CG$42=\"\"),\"\",VLOOKUP(Spellcasting!CG$42,Tables!$TK:$UB,Tables!$TN$1,FALSE))","v":""},null,null,null,null,null,null,null,null,null,null,null,null,null,null,null,null,{"$f":"IF(OR(CharacterLevel=\"\",Spellcasting!CG$42=\"\"),\"\",VLOOKUP(Spellcasting!CG$42,Tables!$TK:$UB,Tables!$TT$1,FALSE))","v":""},null,null,null,null,null,{"$f":"IF(OR(CharacterLevel=\"\",Spellcasting!CG$42=\"\"),\"\",VLOOKUP(Spellcasting!CG$42,Tables!$TK:$UB,Tables!$TU$1,FALSE))","v":""},null,null,null,null,{"$f":"IF(OR(CharacterLevel=\"\",Spellcasting!CG$42=\"\"),\"\",VLOOKUP(Spellcasting!CG$42,Tables!$TK:$UB,Tables!$TV$1,FALSE))","v":""},null,null,null,null,null,null,{"$f":"IF(OR(CharacterLevel=\"\",Spellcasting!CG$42=\"\"),\"\",VLOOKUP(Spellcasting!CG$42,Tables!$TK:$UB,Tables!$TW$1,FALSE))","v":""},null,null,null,null,{"$f":"IF(OR(CharacterLevel=\"\",Spellcasting!CG$42=\"\"),\"\",VLOOKUP(Spellcasting!CG$42,Tables!$TK:$UB,Tables!$TZ$1,FALSE))","v":""},null,null,null,null,{"$f":"IF(OR(CharacterLevel=\"\",Spellcasting!CG$42=\"\"),\"\",VLOOKUP(Spellcasting!CG$42,Tables!$TK:$UB,Tables!$UB$1,FALSE))","v":""}]
[null,{"$f":"IF(CharacterLevel=\"\",'Character Sheet III'!$CF$202,IF(Spellcasting!BQ24=\"•\",'Character Sheet III'!$BX$202,'Character Sheet III'!$CF$202))","v":"□"},null,null,{"$f":"IF(OR(CharacterLevel=\"\",Spellcasting!BS$24=\"\"),\"\",VLOOKUP(Spellcasting!BS$24,Tables!$TK:$UB,Tables!$TN$1,FALSE))","v":""},null,null,null,null,null,null,null,null,null,null,null,null,null,null,null,null,{"$f":"IF(OR(CharacterLevel=\"\",Spellcasting!BS$24=\"\"),\"\",VLOOKUP(Spellcasting!BS$24,Tables!$TK:$UB,Tables!$TT$1,FALSE))","v":""},null,null,null,null,null,{"$f":"IF(OR(CharacterLevel=\"\",Spellcasting!BS$24=\"\"),\"\",VLOOKUP(Spellcasting!BS$24,Tables!$TK:$UB,Tables!$TU$1,FALSE))","v":""},null,null,null,null,{"$f":"IF(OR(CharacterLevel=\"\",Spellcasting!BS$24=\"\"),\"\",VLOOKUP(Spellcasting!BS$24,Tables!$TK:$UB,Tables!$TV$1,FALSE))","v":""},null,null,null,null,null,null,{"$f":"IF(OR(CharacterLevel=\"\",Spellcasting!BS$24=\"\"),\"\",VLOOKUP(Spellcasting!BS$24,Tables!$TK:$UB,Tables!$TW$1,FALSE))","v":""},null,null,null,null,{"$f":"IF(OR(CharacterLevel=\"\",Spellcasting!BS$24=\"\"),\"\",VLOOKUP(Spellcasting!BS$24,Tables!$TK:$UB,Tables!$TZ$1,FALSE))","v":""},null,null,null,null,{"$f":"IF(OR(CharacterLevel=\"\",Spellcasting!BS$24=\"\"),\"\",VLOOKUP(Spellcasting!BS$24,Tables!$TK:$UB,Tables!$UB$1,FALSE))","v":""}]
[null,null,null,null,{"$f":"IF(OR(CharacterLevel=\"\",Spellcasting!#REF!=\"\"),\"\",VLOOKUP(Spellcasting!#REF!,Tables!TK:UB,Tables!$TN$1,FALSE))","v":{"$error":"#REF!"}}]
[null,{"$f":"IF(CharacterLevel=\"\",'Character Sheet III'!$CF$202,IF(Spellcasting!BQ25=\"•\",'Character Sheet III'!$BX$202,'Character Sheet III'!$CF$202))","v":"□"},null,null,{"$f":"IF(OR(CharacterLevel=\"\",Spellcasting!BS$25=\"\"),\"\",VLOOKUP(Spellcasting!BS$25,Tables!$TK:$UB,Tables!$TN$1,FALSE))","v":""},null,null,null,null,null,null,null,null,null,null,null,null,null,null,null,null,{"$f":"IF(OR(CharacterLevel=\"\",Spellcasting!BS$25=\"\"),\"\",VLOOKUP(Spellcasting!BS$25,Tables!$TK:$UB,Tables!$TT$1,FALSE))","v":""},null,null,null,null,null,{"$f":"IF(OR(CharacterLevel=\"\",Spellcasting!BS$25=\"\"),\"\",VLOOKUP(Spellcasting!BS$25,Tables!$TK:$UB,Tables!$TU$1,FALSE))","v":""},null,null,null,null,{"$f":"IF(OR(CharacterLevel=\"\",Spellcasting!BS$25=\"\"),\"\",VLOOKUP(Spellcasting!BS$25,Tables!$TK:$UB,Tables!$TV$1,FALSE))","v":""},null,null,null,null,null,null,{"$f":"IF(OR(CharacterLevel=\"\",Spellcasting!BS$25=\"\"),\"\",VLOOKUP(Spellcasting!BS$25,Tables!$TK:$UB,Tables!$TW$1,FALSE))","v":""},null,null,null,null,{"$f":"IF(OR(CharacterLevel=\"\",Spellcasting!BS$25=\"\"),\"\",VLOOKUP(Spellcasting!BS$25,Tables!$TK:$UB,Tables!$TZ$1,FALSE))","v":""},null,null,null,null,{"$f":"IF(OR(CharacterLevel=\"\",Spellcasting!BS$25=\"\"),\"\",VLOOKUP(Spellcasting!BS$25,Tables!$TK:$UB,Tables!$UB$1,FALSE))","v":""},null,null,null,null,null,null,null,null,null,null,null,null,null,null,null,null,null,null,null,null,null,null,null,null,null,"■",null,null,"PREPARED",null,null,null,null,"□",null,"NOT PREPARED",null,null,null,null,null,null,"ᴿ","RITUAL",null,null,null,"ᶜᵒᶰ",null,"CONCENTRATION",null,null,null,null,null,null,null,"ᴴ","HIGHER LEVEL",null,null,null,null,null,"ᵈ","DOMAIN SPELL",null,null,null,null,null,"ᵒ","OATH SPELL",null,null,null,null,"ᶜ","CIRCLE SPELL",null,null,null,null,null,"ᵐ","MASTERY",null,null,null,"ˢ","SIGNATURE"]

{"sheet":"Character Sheet IV","index":6,"n_rows":143,"n_cols":116,"rows_kept":143,"cut":false,"hidden":false,"merged":[[7,67,8,98],[3,34,4,65],[3,67,4,98],[5,34,6,65],[5,67,6,98],[3,33,4,33],[3,66,4,66],[5,33,6,33],[5,66,6,66],[7,33,8,33],[7,66,8,66],[13,33,14,33],[13,66,14,66],[15,33,16,33],[15,66,16,66],[17,33,18,33],[17,66,18,66],[72,1,156,32],[3,1,47,32],[7,34,8,65],[9,33,10,33],[9,66,10,66],[11,33,12,33],[17,34,18,65],[19,34,20,65],[19,33,20,33],[9,34,10,65],[21,33,22,33],[23,33,24,33],[25,33,26,33],[70,1,71,32],[45,34,46,65],[47,66,48,66],[49,33,50,33],[49,66,50,66],[9,67,10,98],[11,34,12,65],[11,67,12,98],[13,34,14,65],[21,67,22,98],[23,34,24,65],[23,67,24,98],[25,34,26,65],[25,67,26,98],[19,66,20,66],[15,34,16,65],[11,66,12,66],[13,67,14,98],[15,67,16,98],[17,67,18,98],[19,67,20,98],[21,66,22,66],[21,34,22,65],[23,66,24,66],[25,66,26,66],[27,67,28,98],[29,34,30,65],[29,67,30,98],[31,34,32,65],[31,67,32,98],[31,33,32,33],[31,66,32,66],[27,34,28,65],[27,33,28,33],[27,66,28,66],[29,33,30,33],[29,66,30,66],[33,67,34,98],[35,34,36,65],[35,67,36,98],[37,34,38,65],[37,67,38,98],[33,33,34,33],[33,66,34,66],[35,33,36,33],[33,34,34,65],[35,66,36,66],[37,33,38,33],[37,66,38,66],[39,67,40,98],[41,34,42,65],[41,67,42,98],[43,34,44,65],[43,67,44,98],[43,33,44,33],[43,66,44,66],[39,34,40,65],[39,33,40,33],[39,66,40,66],[41,33,42,33],[41,66,42,66],[51,66,52,66],[53,33,54,33],[53,66,54,66],[45,67,46,98],[47,34,48,65],[47,67,48,98],[49,34,50,65],[49,67,50,98],[45,33,46,33],[45,66,46,66],[47,33,48,33],[53,67,54,98],[61,34,62,65],[61,67,62,98],[57,33,58,33],[57,66,58,66],[59,33,60,33],[57,34,58,65],[59,66,60,66],[61,33,62,33],[61,66,62,66],[63,67,64,98],[65,34,66,65],[65,67,66,98],[67,34,68,65],[67,67,68,98],[67,33,68,33],[67,66,68,66],[63,34,64,65],[63,33,64,33],[63,66,64,66],[65,33,66,33],[65,66,66,66],[69,67,70,98],[71,34,72,65],[71,67,72,98],[73,34,74,65],[73,67,74,98],[69,33,70,33],[69,66,70,66],[71,33,72,33],[69,34,70,65],[71,66,72,66],[73,33,74,33],[73,66,74,66],[75,67,76,98],[77,34,78,65],[77,67,78,98],[79,34,80,65],[79,67,80,98],[79,33,80,33],[79,66,80,66],[75,34,76,65],[75,33,76,33],[75,66,76,66],[77,33,78,33],[77,66,78,66],[81,67,82,98],[83,34,84,65],[83,67,84,98],[85,34,86,65],[85,67,86,98],[81,33,82,33],[81,66,82,66],[83,33,84,33],[81,34,82,65],[83,66,84,66],[85,33,86,33],[85,66,86,66],[87,67,88,98],[89,34,90,65],[89,67,90,98],[91,34,92,65],[91,67,92,98],[91,33,92,33],[91,66,92,66],[87,33,88,33],[87,66,88,66],[89,33,90,33],[89,66,90,66],[87,34,88,65],[93,67,94,98],[95,34,96,65],[95,67,96,98],[97,34,98,65],[97,67,98,98],[93,33,94,33],[93,66,94,66],[95,33,96,33],[95,66,96,66],[97,33,98,33],[97,66,98,66],[93,34,94,65],[105,34,106,65],[99,34,100,65],[109,34,110,65],[109,67,110,98],[105,33,106,33],[105,66,106,66],[107,33,108,33],[107,66,108,66],[109,33,110,33],[109,66,110,66],[99,67,100,98],[101,34,102,65],[101,67,102,98],[103,34,104,65],[103,67,104,98],[103,33,104,33],[103,66,104,66],[99,33,100,33],[99,66,100,66],[101,33,102,33],[101,66,102,66],[105,67,106,98],[107,34,108,65],[107,67,108,98],[111,66,112,66],[119,34,120,65],[119,67,120,98],[121,34,122,65],[121,67,122,98],[119,33,120,33],[119,66,120,66],[121,33,122,33],[121,66,122,66],[113,33,114,33],[113,66,114,66],[111,33,112,33],[115,34,116,65],[115,67,116,98],[117,34,118,65],[117,67,118,98],[115,33,116,33],[115,66,116,66],[117,33,118,33],[117,66,118,66],[111,34,112,65],[111,67,112,98],[113,34,114,65],[113,67,114,98],[123,67,124,98],[125,34,126,65],[125,67,126,98],[127,34,128,65],[127,67,128,98],[123,33,124,33],[123,66,124,66],[125,33,126,33],[125,66,126,66],[127,33,128,33],[127,66,128,66],[123,34,124,65],[135,33,136,33],[135,66,136,66],[137,33,138,33],[129,67,130,98],[131,34,132,65],[131,67,132,98],[133,34,134,65],[133,67,134,98],[133,33,134,33],[133,66,134,66],[135,67,136,98],[137,34,138,65],[137,67,138,98],[129,33,130,33],[129,66,130,66],[131,33,132,33],[131,66,132,66],[137,66,138,66],[135,34,136,65],[129,34,130,65],[151,33,152,33],[151,66,152,66],[153,33,154,33],[139,67,140,98],[139,34,140,65],[143,34,144,65],[143,67,144,98],[145,34,146,65],[145,67,146,98],[145,33,146,33],[145,66,146,66],[139,33,140,33],[139,66,140,66],[141,33,142,33],[141,66,142,66],[143,33,144,33],[143,66,144,66],[141,67,142,98],[141,34,142,65],[55,67,56,98],[55,33,56,33],[55,66,56,66],[51,34,52,65],[51,33,52,33],[61,5,62,32],[155,34,156,65],[155,67,156,98],[155,33,156,33],[155,66,156,66],[147,34,148,65],[147,67,148,98],[149,34,150,65],[149,67,150,98],[151,34,152,65],[151,67,152,98],[147,33,148,33],[147,66,148,66],[153,66,154,66],[153,34,154,65],[153,67,154,98],[149,33,150,33],[63,5,64,32],[149,66,150,66],[65,1,68,32],[53,5,54,20],[55,5,56,20],[51,5,52,20],[51,25,52,31],[53,25,55,31],[1,1,2,32],[1,34,2,98],[51,1,52,4],[53,1,54,4],[55,1,56,4],[57,1,58,4],[59,1,60,4],[61,1,62,4],[63,1,64,4],[57,5,58,32],[59,5,60,32],[49,1,50,32],[57,67,58,98],[59,34,60,65],[59,67,60,98],[51,67,52,98],[53,34,54,65],[55,34,56,65]]}
[]
[null,"CHARACTER PORTRAIT",null,null,null,null,null,null,null,null,null,null,null,null,null,null,null,null,null,null,null,null,null,null,null,null,null,null,null,null,null,null,null,null,"ADVENTURE NOTES"]
[]
[]
[]
[]
[]
[]
[]
[]
[]
[]
[]
[]
[]
[]
[]
[null,null,null,null,null,null,null,null,null,null,null,null,null,null,null,null,null,null,null,null,null,null,null,null,null,null,null,null,null,null,null,null,null,null,null,null,null,null,null,null,null,null,null,null,null,null,null,null,null,null,null,null,null,null,null,null,null,null,null,null,null,null,null,null,null,null,null,null,null,null,null,null,null,null,null,null,null,null,null,null,null,null,null,null,null,null,null,null,null,null,null,null,null,null,null,null,null,null,null,null,null,null,null,null,null,null,null,null,{"$f":"#REF!","v":{"$error":"#REF!"}},{"$f":"#REF!","v":{"$error":"#REF!"}},{"$f":"#REF!","v":{"$error":"#REF!"}},{"$f":"#REF!","v":{"$error":"#REF!"}},{"$f":"NaturalArmor","v":{"$error":"#NAME?"}},{"$f":"VALUE(#REF!)","v":{"$error":"#REF!"}},{"$f":"VALUE(ACMisc)","v":{"$error":"#NAME?"}}]
[null,null,null,null,null,null,null,null,null,null,null,null,null,null,null,null,null,null,null,null,null,null,null,null,null,null,null,null,null,null,null,null,null,null,null,null,null,null,null,null,null,null,null,null,null,null,null,null,null,null,null,null,null,null,null,null,null,null,null,null,null,null,null,null,null,null,null,null,null,null,null,null,null,null,null,null,null,null,null,null,null,null,null,null,null,null,null,null,null,null,null,null,null,null,null,null,null,null,null,null,null,null,null,null,null,null,null,null,{"$f":"IF(DE18,TEXT(DE18,\"+0;-0\")&\" armor\",\"\")","v":{"$error":"#REF!"}},{"$f":"IF(DF18,TEXT(DF18,\"+0;-0\")&\" shield\",\"\")","v":{"$error":"#REF!"}},{"$f":"IF(DG18,TEXT(DG18,\"+0;-0\")&\" dex\",\"\")","v":{"$error":"#REF!"}},{"$f":"IF(DH18,TEXT(DH18,\"+0;-0\")&\" size\",\"\")","v":{"$error":"#REF!"}},{"$f":"IF(DI18,TEXT(DI18,\"+0;-0\")&\" natural\",\"\")","v":{"$error":"#NAME?"}},{"$f":"IF(DJ18,TEXT(DJ18,\"+0;-0\")&\" deflection\",\"\")","v":{"$error":"#REF!"}},{"$f":"IF(DK18,TEXT(DK18,\"+0;-0\")&\" misc\",\"\")","v":{"$error":"#NAME?"}}]
[null,null,null,null,null,null,null,null,null,null,null,null,null,null,null,null,null,null,null,null,null,null,null,null,null,null,null,null,null,null,null,null,null,null,null,null,null,null,null,null,null,null,null,null,null,null,null,null,null,null,null,null,null,null,null,null,null,null,null,null,null,null,null,null,null,null,null,null,null,null,null,null,null,null,null,null,null,null,null,null,null,null,null,null,null,null,null,null,null,null,null,null,null,null,null,null,null,null,null,null,null,null,null,null,null,null,null,null,{"$f":"DE19","v":{"$error":"#REF!"}},{"$f":"IF(AND(DE20<>\"\",DF19<>\"\"),DE20&\", \"&DF19,DE20&DF19)","v":{"$error":"#REF!"}},{"$error":"#REF!"},{"$error":"#REF!"},{"$error":"#REF!"},{"$error":"#REF!"},{"$error":"#REF!"},{"$f":"IF(DK20<>\"\",\"(\"&DK20&\"), \",\"\")&\"touch \"&TouchAC&\", flat-footed \"&FlatFootedAC","v":{"$error":"#REF!"}}]
[]
[]
[]
[]
[]
[]
[]
[]
[]
[]
[null,null,null,null,null,null,null,null,null,null,null,null,null,null,null,null,null,null,null,null,null,null,null,null,null,null,null,null,null,null,null,null,null,null,null,null,null,null,null,null,null,null,null,null,null,null,null,null,null,null,null,null,null,null,null,null,null,null,null,null,null,null,null,null,null,null,null,null,null,null,null,null,null,null,null,null,null,null,null,null,null,null,null,null,null,null,null,null,null,null,null,null,null,null,null,null,null,null,null,null,null,null,{"$f":"1","v":1}]
[]
[null,null,null,null,null,null,null,null,null,null,null,null,null,null,null,null,null,null,null,null,null,null,null,null,null,null,null,null,null,null,null,null,null,null,null,null,null,null,null,null,null,null,null,null,null,null,null,null,null,null,null,null,null,null,null,null,null,null,null,null,null,null,null,null,null,null,null,null,null,null,null,null,null,null,null,null,null,null,null,null,null,null,null,null,null,null,null,null,null,null,null,null,null,null,null,null,null,null,null,null,null,null,{"$f":"CY31+1","v":2}]
[]
[null,null,null,null,null,null,null,null,null,null,null,null,null,null,null,null,null,null,null,null,null,null,null,null,null,null,null,null,null,null,null,null,null,null,null,null,null,null,null,null,null,null,null,null,null,null,null,null,null,null,null,null,null,null,null,null,null,null,null,null,null,null,null,null,null,null,null,null,null,null,null,null,null,null,null,null,null,null,null,null,null,null,null,null,null,null,null,null,null,null,null,null,null,null,null,null,null,null,null,null,null,null,{"$f":"CY33+1","v":3}]
[]
[null,null,null,null,null,null,null,null,null,null,null,null,null,null,null,null,null,null,null,null,null,null,null,null,null,null,null,null,null,null,null,null,null,null,null,null,null,null,null,null,null,null,null,null,null,null,null,null,null,null,null,null,null,null,null,null,null,null,null,null,null,null,null,null,null,null,null,null,null,null,null,null,null,null,null,null,null,null,null,null,null,null,null,null,null,null,null,null,null,null,null,null,null,null,null,null,null,null,null,null,null,null,{"$f":"CY35+1","v":4}]
[]
[null,null,null,null,null,null,null,null,null,null,null,null,null,null,null,null,null,null,null,null,null,null,null,null,null,null,null,null,null,null,null,null,null,null,null,null,null,null,null,null,null,null,null,null,null,null,null,null,null,null,null,null,null,null,null,null,null,null,null,null,null,null,null,null,null,null,null,null,null,null,null,null,null,null,null,null,null,null,null,null,null,null,null,null,null,null,null,null,null,null,null,null,null,null,null,null,null,null,null,null,null,null,{"$f":"CY37+1","v":5}]
[]
[null,null,null,null,null,null,null,null,null,null,null,null,null,null,null,null,null,null,null,null,null,null,null,null,null,null,null,null,null,null,null,null,null,null,null,null,null,null,null,null,null,null,null,null,null,null,null,null,null,null,null,null,null,null,null,null,null,null,null,null,null,null,null,null,null,null,null,null,null,null,null,null,null,null,null,null,null,null,null,null,null,null,null,null,null,null,null,null,null,null,null,null,null,null,null,null,null,null,null,null,null,null,{"$f":"CY39+1","v":6}]
[]
[null,null,null,null,null,null,null,null,null,null,null,null,null,null,null,null,null,null,null,null,null,null,null,null,null,null,null,null,null,null,null,null,null,null,null,null,null,null,null,null,null,null,null,null,null,null,null,null,null,null,null,null,null,null,null,null,null,null,null,null,null,null,null,null,null,null,null,null,null,null,null,null,null,null,null,null,null,null,null,null,null,null,null,null,null,null,null,null,null,null,null,null,null,null,null,null,null,null,null,null,null,null,{"$f":"CY41+1","v":7}]
[]
[null,null,null,null,null,null,null,null,null,null,null,null,null,null,null,null,null,null,null,null,null,null,null,null,null,null,null,null,null,null,null,null,null,null,null,null,null,null,null,null,null,null,null,null,null,null,null,null,null,null,null,null,null,null,null,null,null,null,null,null,null,null,null,null,null,null,null,null,null,null,null,null,null,null,null,null,null,null,null,null,null,null,null,null,null,null,null,null,null,null,null,null,null,null,null,null,null,null,null,null,null,null,{"$f":"CY43+1","v":8}]
[]
[null,null,null,null,null,null,null,null,null,null,null,null,null,null,null,null,null,null,null,null,null,null,null,null,null,null,null,null,null,null,null,null,null,null,null,null,null,null,null,null,null,null,null,null,null,null,null,null,null,null,null,null,null,null,null,null,null,null,null,null,null,null,null,null,null,null,null,null,null,null,null,null,null,null,null,null,null,null,null,null,null,null,null,null,null,null,null,null,null,null,null,null,null,null,null,null,null,null,null,null,null,null,{"$f":"CY45+1","v":9}]
[]
[null,null,null,null,null,null,null,null,null,null,null,null,null,null,null,null,null,null,null,null,null,null,null,null,null,null,null,null,null,null,null,null,null,null,null,null,null,null,null,null,null,null,null,null,null,null,null,null,null,null,null,null,null,null,null,null,null,null,null,null,null,null,null,null,null,null,null,null,null,null,null,null,null,null,null,null,null,null,null,null,null,null,null,null,null,null,null,null,null,null,null,null,null,null,null,null,null,null,null,null,null,null,{"$f":"CY47+1","v":10}]
[null,"EXHAUSTION"]
[null,null,null,null,null,null,null,null,null,null,null,null,null,null,null,null,null,null,null,null,null,null,null,null,null,null,null,null,null,null,null,null,null,null,null,null,null,null,null,null,null,null,null,null,null,null,null,null,null,null,null,null,null,null,null,null,null,null,null,null,null,null,null,null,null,null,null,null,null,null,null,null,null,null,null,null,null,null,null,null,null,null,null,null,null,null,null,null,null,null,null,null,null,null,null,null,null,null,null,null,null,null,{"$f":"CY49+1","v":11}]
[null,"Level",null,null,null,"Effect (Cumulative)",null,null,null,null,null,null,null,null,null,null,null,null,null,null,null,null,null,null,null,"Current Level"]
[null,null,null,null,null,null,null,null,null,null,null,null,null,null,null,null,null,null,null,null,null,null,null,null,null,null,null,null,null,null,null,null,null,null,null,null,null,null,null,null,null,null,null,null,null,null,null,null,null,null,null,null,null,null,null,null,null,null,null,null,null,null,null,null,null,null,null,null,null,null,null,null,null,null,null,null,null,null,null,null,null,null,null,null,null,null,null,null,null,null,null,null,null,null,null,null,null,null,null,null,null,null,{"$f":"CY51+1","v":12}]
[null,1,null,null,null,"Disadvantage on ability checks"]
[null,null,null,null,null,null,null,null,null,null,null,null,null,null,null,null,null,null,null,null,null,null,null,null,null,null,null,null,null,null,null,null,null,null,null,null,null,null,null,null,null,null,null,null,null,null,null,null,null,null,null,null,null,null,null,null,null,null,null,null,null,null,null,null,null,null,null,null,null,null,null,null,null,null,null,null,null,null,null,null,null,null,null,null,null,null,null,null,null,null,null,null,null,null,null,null,null,null,null,null,null,null,{"$f":"CY53+1","v":13}]
[null,{"$f":"B54+1","v":2},null,null,null,"Speed halved"]
[null,null,null,null,null,null,null,null,null,null,null,null,null,null,null,null,null,null,null,null,null,null,null,null,null,null,null,null,null,null,null,null,null,null,null,null,null,null,null,null,null,null,null,null,null,null,null,null,null,null,null,null,null,null,null,null,null,null,null,null,null,null,null,null,null,null,null,null,null,null,null,null,null,null,null,null,null,null,null,null,null,null,null,null,null,null,null,null,null,null,null,null,null,null,null,null,null,null,null,null,null,null,{"$f":"CY55+1","v":14}]
[null,{"$f":"B56+1","v":3},null,null,null,"Disadvantage on attack rolls and saving throws"]
[null,null,null,null,null,null,null,null,null,null,null,null,null,null,null,null,null,null,null,null,null,null,null,null,null,null,null,null,null,null,null,null,null,null,null,null,null,null,null,null,null,null,null,null,null,null,null,null,null,null,null,null,null,null,null,null,null,null,null,null,null,null,null,null,null,null,null,null,null,null,null,null,null,null,null,null,null,null,null,null,null,null,null,null,null,null,null,null,null,null,null,null,null,null,null,null,null,null,null,null,null,null,{"$f":"CY57+1","v":15}]
[null,{"$f":"B58+1","v":4},null,null,null,"Hit point maximum halved"]
[null,null,null,null,null,null,null,null,null,null,null,null,null,null,null,null,null,null,null,null,null,null,null,null,null,null,null,null,null,null,null,null,null,null,null,null,null,null,null,null,null,null,null,null,null,null,null,null,null,null,null,null,null,null,null,null,null,null,null,null,null,null,null,null,null,null,null,null,null,null,null,null,null,null,null,null,null,null,null,null,null,null,null,null,null,null,null,null,null,null,null,null,null,null,null,null,null,null,null,null,null,null,{"$f":"CY59+1","v":16}]
[null,{"$f":"B60+1","v":5},null,null,null,"Speed reduced to 0"]
[null,null,null,null,null,null,null,null,null,null,null,null,null,null,null,null,null,null,null,null,null,null,null,null,null,null,null,null,null,null,null,null,null,null,null,null,null,null,null,null,null,null,null,null,null,null,null,null,null,null,null,null,null,null,null,null,null,null,null,null,null,null,null,null,null,null,null,null,null,null,null,null,null,null,null,null,null,null,null,null,null,null,null,null,null,null,null,null,null,null,null,null,null,null,null,null,null,null,null,null,null,null,{"$f":"CY61+1","v":17}]
[null,{"$f":"B62+1","v":6},null,null,null,"Death"]
[null,null,null,null,null,null,null,null,null,null,null,null,null,null,null,null,null,null,null,null,null,null,null,null,null,null,null,null,null,null,null,null,null,null,null,null,null,null,null,null,null,null,null,null,null,null,null,null,null,null,null,null,null,null,null,null,null,null,null,null,null,null,null,null,null,null,null,null,null,null,null,null,null,null,null,null,null,null,null,null,null,null,null,null,null,null,null,null,null,null,null,null,null,null,null,null,null,null,null,null,null,null,{"$f":"CY63+1","v":18}]
[null,"Finishing a long rest reduces a creature's exhaustion level by 1, provided that the creature has also ingested some food and drink."]
[null,null,null,null,null,null,null,null,null,null,null,null,null,null,null,null,null,null,null,null,null,null,null,null,null,null,null,null,null,null,null,null,null,null,null,null,null,null,null,null,null,null,null,null,null,null,null,null,null,null,null,null,null,null,null,null,null,null,null,null,null,null,null,null,null,null,null,null,null,null,null,null,null,null,null,null,null,null,null,null,null,null,null,null,null,null,null,null,null,null,null,null,null,null,null,null,null,null,null,null,null,null,{"$f":"CY65+1","v":19}]
[]
[null,null,null,null,null,null,null,null,null,null,null,null,null,null,null,null,null,null,null,null,null,null,null,null,null,null,null,null,null,null,null,null,null,null,null,null,null,null,null,null,null,null,null,null,null,null,null,null,null,null,null,null,null,null,null,null,null,null,null,null,null,null,null,null,null,null,null,null,null,null,null,null,null,null,null,null,null,null,null,null,null,null,null,null,null,null,null,null,null,null,null,null,null,null,null,null,null,null,null,null,null,null,{"$f":"CY67+1","v":20}]
[]
[null,"CONDITIONS",null,null,null,null,null,null,null,null,null,null,null,null,null,null,null,null,null,null,null,null,null,null,null,null,null,null,null,null,null,null,null,null,null,null,null,null,null,null,null,null,null,null,null,null,null,null,null,null,null,null,null,null,null,null,null,null,null,null,null,null,null,null,null,null,null,null,null,null,null,null,null,null,null,null,null,null,null,null,null,null,null,null,null,null,null,null,null,null,null,null,null,null,null,null,null,null,null,null,null,null,{"$f":"CY69+1","v":21}]
[]
[null,"BLINDED\n• A blinded creature can’t see and automatically fails any ability\n  check that requires sight.\n• Attack rolls against the creature have advantage, and the\n  creature’s attack rolls have disadvantage.\n\nCHARMED\n• The charmer has advantage on any ability check to interact\n  socially with the creature.\n• A charmed creature can't attack the charmer or target the\n  charmer with harmful abilities or magical effects.\n\nDEAFENED \n• A deafened creature can’t hear and automatically fails any ability\n  check that requires hearing.\n\nFRIGHTENED\n• A frightened creature has disadvantage on ability checks & attack\n  rolls while the source of its fear is within line of sight.\n• The creature can’t willingly move closer to the source of its fear.\n\nGRAPPLED \n• A grappled creature’s speed becomes 0, and it can't benefit from\n  any bonus to its speed.\n• The condition ends if the grappler is incapacitated.\n• The condition ends if an effect removes the grappled creature\n  from the reach of the grappler or grappling effect, such as when\n  a creature is hurled away by the thunderwave spell.\n\nINCAPACITATED\n• An incapacitated creature can’t take actions or reactions.\n\nINVISIBLE\n• An invisible creature is impossible to see without the aid of magic\n  or a special sense. For the purpose of hiding, the creature is\n  heavily obscured. The creature’s location can be detected by any\n  noise it makes or any tracks it leaves.\n• Attack rolls against the creature have disadvantage, and the\n  creature’s attack rolls have advantage.\n\nPARALYZED\n• A paralyzed creature is incapacitated and can’t move or speak.\n• The creature automatically fails Strength & Dexterity saving throws.\n• Attack rolls against the creature have advantage.\n• Any attack that hits the creature is a critical hit if the attacker is\n  within 5 feet of the creature.\n\nPETRIFIED\n• A petrified creature is transformed, along with any nonmagical\n  object it is wearing or carrying, into a solid inanimate substance\n  (usually stone). Its weight increases by a factor of ten, and it\n  ceases aging.\n• The creature is incapacitated, can’t move or speak, and is\n  unaware of its surroundings.\n• Attack rolls against the creature have advantage.\n• The creature automatically fails Strength & Dexterity saving throws.\n• The creature has resistance to all damage.\n• The creature is immune to poison and disease, although a poison\n  or disease already in its system is suspended, not neutralized.",null,null,null,null,null,null,null,null,null,null,null,null,null,null,null,null,null,null,null,null,null,null,null,null,null,null,null,null,null,null,null,null,null,null,null,null,null,null,null,null,null,null,null,null,null,null,null,null,null,null,null,null,null,null,null,null,null,null,null,null,null,null,null,null,null,null,null,null,null,null,null,null,null,null,null,null,null,null,null,null,null,null,null,null,null,null,null,null,null,null,null,null,null,null,null,null,null,null,null,null,{"$f":"CY71+1","v":22}]
[]
[null,null,null,null,null,null,null,null,null,null,null,null,null,null,null,null,null,null,null,null,null,null,null,null,null,null,null,null,null,null,null,null,null,null,null,null,null,null,null,null,null,null,null,null,null,null,null,null,null,null,null,null,null,null,null,null,null,null,null,null,null,null,null,null,null,null,null,null,null,null,null,null,null,null,null,null,null,null,null,null,null,null,null,null,null,null,null,null,null,null,null,null,null,null,null,null,null,null,null,null,null,null,{"$f":"CY73+1","v":23}]
[]
[null,null,null,null,null,null,null,null,null,null,null,null,null,null,null,null,null,null,null,null,null,null,null,null,null,null,null,null,null,null,null,null,null,null,null,null,null,null,null,null,null,null,null,null,null,null,null,null,null,null,null,null,null,null,null,null,null,null,null,null,null,null,null,null,null,null,null,null,null,null,null,null,null,null,null,null,null,null,null,null,null,null,null,null,null,null,null,null,null,null,null,null,null,null,null,null,null,null,null,null,null,null,{"$f":"CY75+1","v":24}]
[]
[null,null,null,null,null,null,null,null,null,null,null,null,null,null,null,null,null,null,null,null,null,null,null,null,null,null,null,null,null,null,null,null,null,null,null,null,null,null,null,null,null,null,null,null,null,null,null,null,null,null,null,null,null,null,null,null,null,null,null,null,null,null,null,null,null,null,null,null,null,null,null,null,null,null,null,null,null,null,null,null,null,null,null,null,null,null,null,null,null,null,null,null,null,null,null,null,null,null,null,null,null,null,{"$f":"CY77+1","v":25}]
[]
[null,null,null,null,null,null,null,null,null,null,null,null,null,null,null,null,null,null,null,null,null,null,null,null,null,null,null,null,null,null,null,null,null,null,null,null,null,null,null,null,null,null,null,null,null,null,null,null,null,null,null,null,null,null,null,null,null,null,null,null,null,null,null,null,null,null,null,null,null,null,null,null,null,null,null,null,null,null,null,null,null,null,null,null,null,null,null,null,null,null,null,null,null,null,null,null,null,null,null,null,null,null,{"$f":"CY79+1","v":26}]
[]
[null,null,null,null,null,null,null,null,null,null,null,null,null,null,null,null,null,null,null,null,null,null,null,null,null,null,null,null,null,null,null,null,null,null,null,null,null,null,null,null,null,null,null,null,null,null,null,null,null,null,null,null,null,null,null,null,null,null,null,null,null,null,null,null,null,null,null,null,null,null,null,null,null,null,null,null,null,null,null,null,null,null,null,null,null,null,null,null,null,null,null,null,null,null,null,null,null,null,null,null,null,null,{"$f":"CY81+1","v":27}]
[]
[null,null,null,null,null,null,null,null,null,null,null,null,null,null,null,null,null,null,null,null,null,null,null,null,null,null,null,null,null,null,null,null,null,null,null,null,null,null,null,null,null,null,null,null,null,null,null,null,null,null,null,null,null,null,null,null,null,null,null,null,null,null,null,null,null,null,null,null,null,null,null,null,null,null,null,null,null,null,null,null,null,null,null,null,null,null,null,null,null,null,null,null,null,null,null,null,null,null,null,null,null,null,{"$f":"CY83+1","v":28}]
[]
[null,null,null,null,null,null,null,null,null,null,null,null,null,null,null,null,null,null,null,null,null,null,null,null,null,null,null,null,null,null,null,null,null,null,null,null,null,null,null,null,null,null,null,null,null,null,null,null,null,null,null,null,null,null,null,null,null,null,null,null,null,null,null,null,null,null,null,null,null,null,null,null,null,null,null,null,null,null,null,null,null,null,null,null,null,null,null,null,null,null,null,null,null,null,null,null,null,null,null,null,null,null,{"$f":"CY85+1","v":29}]
[]
[null,null,null,null,null,null,null,null,null,null,null,null,null,null,null,null,null,null,null,null,null,null,null,null,null,null,null,null,null,null,null,null,null,null,null,null,null,null,null,null,null,null,null,null,null,null,null,null,null,null,null,null,null,null,null,null,null,null,null,null,null,null,null,null,null,null,null,null,null,null,null,null,null,null,null,null,null,null,null,null,null,null,null,null,null,null,null,null,null,null,null,null,null,null,null,null,null,null,null,null,null,null,{"$f":"CY87+1","v":30}]
[]
[null,null,null,null,null,null,null,null,null,null,null,null,null,null,null,null,null,null,null,null,null,null,null,null,null,null,null,null,null,null,null,null,null,null,null,null,null,null,null,null,null,null,null,null,null,null,null,null,null,null,null,null,null,null,null,null,null,null,null,null,null,null,null,null,null,null,null,null,null,null,null,null,null,null,null,null,null,null,null,null,null,null,null,null,null,null,null,null,null,null,null,null,null,null,null,null,null,null,null,null,null,null,{"$f":"CY89+1","v":31}]
[]
[null,null,null,null,null,null,null,null,null,null,null,null,null,null,null,null,null,null,null,null,null,null,null,null,null,null,null,null,null,null,null,null,null,null,null,null,null,null,null,null,null,null,null,null,null,null,null,null,null,null,null,null,null,null,null,null,null,null,null,null,null,null,null,null,null,null,null,null,null,null,null,null,null,null,null,null,null,null,null,null,null,null,null,null,null,null,null,null,null,null,null,null,null,null,null,null,null,null,null,null,null,null,{"$f":"CY91+1","v":32}]
[]
[null,null,null,null,null,null,null,null,null,null,null,null,null,null,null,null,null,null,null,null,null,null,null,null,null,null,null,null,null,null,null,null,null,null,null,null,null,null,null,null,null,null,null,null,null,null,null,null,null,null,null,null,null,null,null,null,null,null,null,null,null,null,null,null,null,null,null,null,null,null,null,null,null,null,null,null,null,null,null,null,null,null,null,null,null,null,null,null,null,null,null,null,null,null,null,null,null,null,null,null,null,null,{"$f":"CY93+1","v":33}]
[]
[null,null,null,null,null,null,null,null,null,null,null,null,null,null,null,null,null,null,null,null,null,null,null,null,null,null,null,null,null,null,null,null,null,null,null,null,null,null,null,null,null,null,null,null,null,null,null,null,null,null,null,null,null,null,null,null,null,null,null,null,null,null,null,null,null,null,null,null,null,null,null,null,null,null,null,null,null,null,null,null,null,null,null,null,null,null,null,null,null,null,null,null,null,null,null,null,null,null,null,null,null,null,{"$f":"CY95+1","v":34}]
[]
[null,null,null,null,null,null,null,null,null,null,null,null,null,null,null,null,null,null,null,null,null,null,null,null,null,null,null,null,null,null,null,null,null,null,null,null,null,null,null,null,null,null,null,null,null,null,null,null,null,null,null,null,null,null,null,null,null,null,null,null,null,null,null,null,null,null,null,null,null,null,null,null,null,null,null,null,null,null,null,null,null,null,null,null,null,null,null,null,null,null,null,null,null,null,null,null,null,null,null,null,null,null,{"$f":"CY97+1","v":35}]
[]
[null,null,null,null,null,null,null,null,null,null,null,null,null,null,null,null,null,null,null,null,null,null,null,null,null,null,null,null,null,null,null,null,null,null,null,null,null,null,null,null,null,null,null,null,null,null,null,null,null,null,null,null,null,null,null,null,null,null,null,null,null,null,null,null,null,null,null,null,null,null,null,null,null,null,null,null,null,null,null,null,null,null,null,null,null,null,null,null,null,null,null,null,null,null,null,null,null,null,null,null,null,null,{"$f":"CY99+1","v":36}]
[]
[null,null,null,null,null,null,null,null,null,null,null,null,null,null,null,null,null,null,null,null,null,null,null,null,null,null,null,null,null,null,null,null,null,null,null,null,null,null,null,null,null,null,null,null,null,null,null,null,null,null,null,null,null,null,null,null,null,null,null,null,null,null,null,null,null,null,null,null,null,null,null,null,null,null,null,null,null,null,null,null,null,null,null,null,null,null,null,null,null,null,null,null,null,null,null,null,null,null,null,null,null,null,{"$f":"CY101+1","v":37}]
[]
[null,null,null,null,null,null,null,null,null,null,null,null,null,null,null,null,null,null,null,null,null,null,null,null,null,null,null,null,null,null,null,null,null,null,null,null,null,null,null,null,null,null,null,null,null,null,null,null,null,null,null,null,null,null,null,null,null,null,null,null,null,null,null,null,null,null,null,null,null,null,null,null,null,null,null,null,null,null,null,null,null,null,null,null,null,null,null,null,null,null,null,null,null,null,null,null,null,null,null,null,null,null,{"$f":"CY103+1","v":38}]
[]
[null,null,null,null,null,null,null,null,null,null,null,null,null,null,null,null,null,null,null,null,null,null,null,null,null,null,null,null,null,null,null,null,null,null,null,null,null,null,null,null,null,null,null,null,null,null,null,null,null,null,null,null,null,null,null,null,null,null,null,null,null,null,null,null,null,null,null,null,null,null,null,null,null,null,null,null,null,null,null,null,null,null,null,null,null,null,null,null,null,null,null,null,null,null,null,null,null,null,null,null,null,null,{"$f":"CY105+1","v":39}]
[]
[null,null,null,null,null,null,null,null,null,null,null,null,null,null,null,null,null,null,null,null,null,null,null,null,null,null,null,null,null,null,null,null,null,null,null,null,null,null,null,null,null,null,null,null,null,null,null,null,null,null,null,null,null,null,null,null,null,null,null,null,null,null,null,null,null,null,null,null,null,null,null,null,null,null,null,null,null,null,null,null,null,null,null,null,null,null,null,null,null,null,null,null,null,null,null,null,null,null,null,null,null,null,{"$f":"CY107+1","v":40}]
[]
[null,null,null,null,null,null,null,null,null,null,null,null,null,null,null,null,null,null,null,null,null,null,null,null,null,null,null,null,null,null,null,null,null,null,null,null,null,null,null,null,null,null,null,null,null,null,null,null,null,null,null,null,null,null,null,null,null,null,null,null,null,null,null,null,null,null,null,null,null,null,null,null,null,null,null,null,null,null,null,null,null,null,null,null,null,null,null,null,null,null,null,null,null,null,null,null,null,null,null,null,null,null,{"$f":"CY109+1","v":41}]
[]
[null,null,null,null,null,null,null,null,null,null,null,null,null,null,null,null,null,null,null,null,null,null,null,null,null,null,null,null,null,null,null,null,null,null,null,null,null,null,null,null,null,null,null,null,null,null,null,null,null,null,null,null,null,null,null,null,null,null,null,null,null,null,null,null,null,null,null,null,null,null,null,null,null,null,null,null,null,null,null,null,null,null,null,null,null,null,null,null,null,null,null,null,null,null,null,null,null,null,null,null,null,null,{"$f":"CY111+1","v":42}]
[]
[null,null,null,null,null,null,null,null,null,null,null,null,null,null,null,null,null,null,null,null,null,null,null,null,null,null,null,null,null,null,null,null,null,null,null,null,null,null,null,null,null,null,null,null,null,null,null,null,null,null,null,null,null,null,null,null,null,null,null,null,null,null,null,null,null,null,null,null,null,null,null,null,null,null,null,null,null,null,null,null,null,null,null,null,null,null,null,null,null,null,null,null,null,null,null,null,null,null,null,null,null,null,{"$f":"CY113+1","v":43}]
[]
[null,null,null,null,null,null,null,null,null,null,null,null,null,null,null,null,null,null,null,null,null,null,null,null,null,null,null,null,null,null,null,null,null,null,null,null,null,null,null,null,null,null,null,null,null,null,null,null,null,null,null,null,null,null,null,null,null,null,null,null,null,null,null,null,null,null,null,null,null,null,null,null,null,null,null,null,null,null,null,null,null,null,null,null,null,null,null,null,null,null,null,null,null,null,null,null,null,null,null,null,null,null,{"$f":"CY115+1","v":44}]
[]
[null,null,null,null,null,null,null,null,null,null,null,null,null,null,null,null,null,null,null,null,null,null,null,null,null,null,null,null,null,null,null,null,null,null,null,null,null,null,null,null,null,null,null,null,null,null,null,null,null,null,null,null,null,null,null,null,null,null,null,null,null,null,null,null,null,null,null,null,null,null,null,null,null,null,null,null,null,null,null,null,null,null,null,null,null,null,null,null,null,null,null,null,null,null,null,null,null,null,null,null,null,null,{"$f":"CY117+1","v":45}]
[]
[null,null,null,null,null,null,null,null,null,null,null,null,null,null,null,null,null,null,null,null,null,null,null,null,null,null,null,null,null,null,null,null,null,null,null,null,null,null,null,null,null,null,null,null,null,null,null,null,null,null,null,null,null,null,null,null,null,null,null,null,null,null,null,null,null,null,null,null,null,null,null,null,null,null,null,null,null,null,null,null,null,null,null,null,null,null,null,null,null,null,null,null,null,null,null,null,null,null,null,null,null,null,{"$f":"CY119+1","v":46}]
[]
[null,null,null,null,null,null,null,null,null,null,null,null,null,null,null,null,null,null,null,null,null,null,null,null,null,null,null,null,null,null,null,null,null,null,null,null,null,null,null,null,null,null,null,null,null,null,null,null,null,null,null,null,null,null,null,null,null,null,null,null,null,null,null,null,null,null,null,null,null,null,null,null,null,null,null,null,null,null,null,null,null,null,null,null,null,null,null,null,null,null,null,null,null,null,null,null,null,null,null,null,null,null,{"$f":"CY121+1","v":47}]
[]
[null,null,null,null,null,null,null,null,null,null,null,null,null,null,null,null,null,null,null,null,null,null,null,null,null,null,null,null,null,null,null,null,null,null,null,null,null,null,null,null,null,null,null,null,null,null,null,null,null,null,null,null,null,null,null,null,null,null,null,null,null,null,null,null,null,null,null,null,null,null,null,null,null,null,null,null,null,null,null,null,null,null,null,null,null,null,null,null,null,null,null,null,null,null,null,null,null,null,null,null,null,null,{"$f":"CY123+1","v":48}]
[]
[null,null,null,null,null,null,null,null,null,null,null,null,null,null,null,null,null,null,null,null,null,null,null,null,null,null,null,null,null,null,null,null,null,null,null,null,null,null,null,null,null,null,null,null,null,null,null,null,null,null,null,null,null,null,null,null,null,null,null,null,null,null,null,null,null,null,null,null,null,null,null,null,null,null,null,null,null,null,null,null,null,null,null,null,null,null,null,null,null,null,null,null,null,null,null,null,null,null,null,null,null,null,{"$f":"CY125+1","v":49}]
[]
[null,null,null,null,null,null,null,null,null,null,null,null,null,null,null,null,null,null,null,null,null,null,null,null,null,null,null,null,null,null,null,null,null,null,null,null,null,null,null,null,null,null,null,null,null,null,null,null,null,null,null,null,null,null,null,null,null,null,null,null,null,null,null,null,null,null,null,null,null,null,null,null,null,null,null,null,null,null,null,null,null,null,null,null,null,null,null,null,null,null,null,null,null,null,null,null,null,null,null,null,null,null,{"$f":"CY127+1","v":50}]
[]
[null,null,null,null,null,null,null,null,null,null,null,null,null,null,null,null,null,null,null,null,null,null,null,null,null,null,null,null,null,null,null,null,null,null,null,null,null,null,null,null,null,null,null,null,null,null,null,null,null,null,null,null,null,null,null,null,null,null,null,null,null,null,null,null,null,null,null,null,null,null,null,null,null,null,null,null,null,null,null,null,null,null,null,null,null,null,null,null,null,null,null,null,null,null,null,null,null,null,null,null,null,null,{"$f":"CY129+1","v":51}]
[]
[null,null,null,null,null,null,null,null,null,null,null,null,null,null,null,null,null,null,null,null,null,null,null,null,null,null,null,null,null,null,null,null,null,null,null,null,null,null,null,null,null,null,null,null,null,null,null,null,null,null,null,null,null,null,null,null,null,null,null,null,null,null,null,null,null,null,null,null,null,null,null,null,null,null,null,null,null,null,null,null,null,null,null,null,null,null,null,null,null,null,null,null,null,null,null,null,null,null,null,null,null,null,{"$f":"CY131+1","v":52}]
[]
[null,null,null,null,null,null,null,null,null,null,null,null,null,null,null,null,null,null,null,null,null,null,null,null,null,null,null,null,null,null,null,null,null,null,null,null,null,null,null,null,null,null,null,null,null,null,null,null,null,null,null,null,null,null,null,null,null,null,null,null,null,null,null,null,null,null,null,null,null,null,null,null,null,null,null,null,null,null,null,null,null,null,null,null,null,null,null,null,null,null,null,null,null,null,null,null,null,null,null,null,null,null,{"$f":"CY133+1","v":53}]
[]
[null,null,null,null,null,null,null,null,null,null,null,null,null,null,null,null,null,null,null,null,null,null,null,null,null,null,null,null,null,null,null,null,null,null,null,null,null,null,null,null,null,null,null,null,null,null,null,null,null,null,null,null,null,null,null,null,null,null,null,null,null,null,null,null,null,null,null,null,null,null,null,null,null,null,null,null,null,null,null,null,null,null,null,null,null,null,null,null,null,null,null,null,null,null,null,null,null,null,null,null,null,null,{"$f":"CY135+1","v":54}]
[]
[null,null,null,null,null,null,null,null,null,null,null,null,null,null,null,null,null,null,null,null,null,null,null,null,null,null,null,null,null,null,null,null,null,null,null,null,null,null,null,null,null,null,null,null,null,null,null,null,null,null,null,null,null,null,null,null,null,null,null,null,null,null,null,null,null,null,null,null,null,null,null,null,null,null,null,null,null,null,null,null,null,null,null,null,null,null,null,null,null,null,null,null,null,null,null,null,null,null,null,null,null,null,{"$f":"CY137+1","v":55}]
[]
[null,null,null,null,null,null,null,null,null,null,null,null,null,null,null,null,null,null,null,null,null,null,null,null,null,null,null,null,null,null,null,null,null,null,null,null,null,null,null,null,null,null,null,null,null,null,null,null,null,null,null,null,null,null,null,null,null,null,null,null,null,null,null,null,null,null,null,null,null,null,null,null,null,null,null,null,null,null,null,null,null,null,null,null,null,null,null,null,null,null,null,null,null,null,null,null,null,null,null,null,null,null,{"$f":"CY139+1","v":56}]
[]
[null,null,null,null,null,null,null,null,null,null,null,null,null,null,null,null,null,null,null,null,null,null,null,null,null,null,null,null,null,null,null,null,null,null,null,null,null,null,null,null,null,null,null,null,null,null,null,null,null,null,null,null,null,null,null,null,null,null,null,null,null,null,null,null,null,null,null,null,null,null,null,null,null,null,null,null,null,null,null,null,null,null,null,null,null,null,null,null,null,null,null,null,null,null,null,null,null,null,null,null,null,null,{"$f":"CY141+1","v":57}]